{"text_format":"3","workbook":"xlsx","n_sheets":9,"sheets":["Deckblatt","A-Allgemeine Angaben","B-Bestandsanalyse","C-Potenzialanalyse","D-Zielszenario","E-Maßnahmen","Export","Bevölkerung","EM-Faktoren"],"not_rendered":{"images":3},"read":"whole","date_system":"1900"}

{"sheet":"Deckblatt","index":0,"n_rows":18,"n_cols":7,"rows_kept":18}
[]
[]
[]
[]
[]
[]
[null,null,"Template für Gemeinden zur Datenerfassung der Kommunalen Wärmeplanung"]
[]
[null,null,"Basierend auf den Vorlagen des LANUK (NRW) und des Kompetenzzentrums Kommunale Wärmewende"]
[]
[]
[]
[null,null,"Version","V1 | Juni 2026"]
[]
[]
[null,null,"Support"]
[]
[null,null,"Bei Problemen der Anwendung kontaktieren Sie:",{"$nulls":3},"support-waermeplattform@disy.net"]

{"sheet":"A-Allgemeine Angaben","index":1,"n_rows":44,"n_cols":24,"rows_kept":44}
[]
[]
[null,"Template für die Datenerfassung durch Kommunen zur KWP"]
[]
[]
[null,"Datenerfassung KWP"]
[null,"Legende Eingabefelder:"]
[null,null,"Dropdown-Menü"]
[null,null,"Numerische Angaben "]
[null,null,"Kurze textliche Angaben"]
[null,null,"Optionale Angaben"]
[]
[null,"#","Inhalte"]
[null,null,"A - Allgemeine Angaben zur KWP"]
[]
[null,null,"Allgemeine Daten"]
[{"$nulls":3},"Eingabefeld(er)"]
[{"$nulls":4},"Gemeindeschlüssel","Einwohner 2024"]
[null,"A.1","Kommune",null,{"$f":"IFERROR(_xlfn.XLOOKUP(D19,Bevölkerung!$B$2:$B$1102,Bevölkerung!$A$2:$A$1102),\"\")","v":""},{"$f":"IFERROR(_xlfn.XLOOKUP(D19,Bevölkerung!$B$2:$B$1102,Bevölkerung!$F$2:$F$1102),\"\")","v":""},null,{"$f":"IF(D19=\"\",\"Kommune auswählen!\",\"\")","v":"Kommune auswählen!"},{"$nulls":15},"Einwohner"]
[null,"A.2","In welchem Jahr wurde der Wärmeplan erstellt?",null,{"$f":"IF(D20=\"\",\"Jahr auswählen!\",\"\")","v":"Jahr auswählen!"},{"$nulls":18},"WP Erstellungsjahr"]
[null,"A.3","Wurde eine gemeinsame Wärmeplanung (Konvoiplanung) durchgeführt?",{"$nulls":20},"Konvoiplanung"]
[null,"A.4","Basisjahr der Datenerfassung",null,{"$f":"IF(D22=\"\",\"Jahr auswählen!\",\"\")","v":"Jahr auswählen!"},{"$nulls":18},"Basisjahr"]
[null,"A.5","Zugrundeliegendes Zieljahr der Wärmeplanung der Kommune",null," ",{"$nulls":18},"Zieljahr"]
[null,"A.6","Wurde ein vereinfachtes Verfahren durchgeführt?",{"$nulls":20},"vereinfachtes Verfahren"]
[null,"A.7","Wurde eine verkürzte Wärmeplanung durchgeführt?",{"$nulls":20},"verkürzte WP"]
[null,"A.8","Wurden Teilgebiete mit erhöhtem Energieeinsparpotenzial entsprechend § 18 Absatz 5 WPG ausgewiesen?",{"$nulls":20},"Erhöhtes Einsparpotenzial"]
[null,"A.9","Wurden (Teil-)Gebiete gemäß § 14 Absatz 6 WPG ausgewiesen, in denen die Wärmeversorgung vollständig oder nahezu vollständig auf erneuerbaren Energien, unvermeidbarer Abwärme oder einer Kombination hieraus beruht?",{"$nulls":20},"EE Gebiet"]
[null,"A.10","Handelt es sich um die Fortschreibung eines Wärmeplans?",{"$nulls":20},"Fortschreibung WP"]
[]
[null,null,"Kontaktperson in der Kommune"]
[{"$nulls":3},"Eingabefeld(er)"]
[null,"A.11","Anrede"]
[null,"A.12","Vorname",{"$nulls":20},"Kontaktperson"]
[null,"A.13","Nachname"]
[null,"A.14","Abteilung"]
[null,"A.15","E-Mail"]
[null,"A.16","Telefon"]
[null,"A.17","Umsetzende Stelle (z.B. Planungsbüro)",{"$nulls":20},"umsetzende Stelle"]
[]
[null,null,"Stand der KWP"]
[{"$nulls":3},"Eingabefeld(er)"]
[null,"A.18","Auf welcher gesetzlichen Grundlage wurde der Wärmeplan angefertigt?",{"$nulls":20},"WP gesetzliche Grundlage"]
[null,"A.19","Der Endbericht zur KWP ist veröffentlicht unter",null,"geben Sie bitte eine gültige URL an, wo ihr erstellter Wärmeplan veröffentlicht wurde und abrufbar ist",{"$nulls":18},"URL Endbericht"]
[null,"A.20","Beschlussdatum",null,"Datum (TT.MM.JJJJ)",{"$nulls":18},"Beschlussdatum"]

{"sheet":"B-Bestandsanalyse","index":2,"n_rows":213,"n_cols":25,"rows_kept":213,"merged":[[35,2,35,6],[36,2,37,6],[41,2,41,6],[42,2,42,6],[44,3,45,6],[44,7,45,7],[44,8,45,8],[44,9,45,9],[131,3,133,3],[131,4,133,4],[170,2,170,6],[172,3,173,6],[172,7,173,7],[172,8,173,8]]}
[]
[]
[null,"Template für die Datenerfassung durch Kommunen zur KWP"]
[]
[]
[null,"Datenerfassung KWP"]
[null,"Legende Eingabefelder:"]
[null,null,"Dropdown-Menü"]
[null,null,"Numerische Angaben "]
[null,null,"Kurze textliche Angaben"]
[null,null,"Optionale Angaben"]
[null,null,"Rechenergebnisse (keine Eingabefelder)"]
[]
[null,"#","Inhalte"]
[null,null,"B - Angaben zu den Ergebnissen der KWP - Bestandsanalyse"]
[]
[null,null,"Gebäudestruktur"]
[]
[{"$nulls":4},"Eingabefeld(er)","Einheit"]
[null,"B.1","Anzahl der Gebäude",null,null,"Anzahl",{"$nulls":17},"Anzahl Wohngebäude"]
[null,"B.2","Anzahl der beheizten Wohngebäude",null,null,"Anzahl",{"$nulls":17},"Anzahl beheizter Wohngebäude"]
[null,"B.3","Anzahl der beheizten Nichtwohngebäude",null,null,"Anzahl",{"$nulls":17},"Anzahl beheizter Nichtwohngebäude"]
[]
[]
[null,null,"Wärmenetze","Verweis WPG"]
[]
[{"$nulls":4},"Eingabefeld(er)","Einheit","Hinweise"]
[null,"B.4","Anzahl der bereits bestehenden Wärmenetze","Anlage 2 Abschnitt I Nr. 2.8.a)",null,"Anzahl",{"$nulls":17},"Anzahl bestehender W-Netze"]
[null,"B.5","Anzahl der konkret geplanten oder bereits genehmigten Wärmenetze","Anlage 2 Absschnitt I Nr. 2.8.a)",null,"Anzahl",{"$nulls":17},"Anzahl geplanter-genehmigter W-Netze"]
[null,"B.6","Gesamte Trassenlänge der bereits bestehenden Wärmenetze","Anlage 2 Abschnitt I Nr. 2.8.a)ee)",null,"km",{"$nulls":17},"Trassenlänge bestehender W-Netze"]
[null,"B.7","Gesamte Trassenlänge der konkret geplanten oder bereits genehmigten Wärmenetze","Anlage 2 Abschnitt I Nr. 2.8.a)ee)",null,"km",{"$nulls":17},"Trassenlänge geplanter-genehmigter W-Netze"]
[]
[]
[null,null,"Wärmeerzeugung nach Energieträgern"]
[]
[null,null,"Hinweis zu Wärmepumpen und Umweltwärme"]
[null,null,"Wärmepumpen haben die Besonderheit, dass sie zwei der im Template gelisteten Energieträger nutzen, um Wärme zu erzeugen. Daher müssen die jeweiligen Energiemengen beiden Energieträgern zugeordnet werden. Eine Luft-Wärmepumpe wird folglich im Energieträger Umweltwärme Luft und dem Energieträger Strom Wärmepumpe berücksichtigt."]
[]
[]
[null,"B.8","Jährlicher Endenergieverbrauch gesamte Wärmeversorgung nach Energieträgern und Sektoren nach Anlage 2 Abschnitt I Nr. 1.1"]
[]
[null,null,"Hinweis zu leitungsgebundener Wärme (Wärmenetze)"]
[null,null,"Der Endenergieverbrauch für die Wärmenetze muss in dieser Tabelle berücksichtigt werden, inkl. Umwandlungs- und Leitungsverlusten"]
[]
[null,null,"Endenergieverbrauch Wärme","Sektoren optional",{"$nulls":4},"Sektoren insgesamt"]
[null,null,"Basisjahr"]
[null,null,"MWh/a","Haushalte","GHD","öffentliche Liegenschaften","Industrie","Gesamtsumme ohne Differenzierung nach Sektoren","Summe  (der Spalten D bis G oder H)","Hinweise"]
[null,null,"Braunkohle",{"$nulls":5},{"$f":"_xlfn.IFS(Q48=\"-\",\"-\",H48>SUM(D48:G48),H48,O48=\"OK\",SUM(D48:G48),P48=\"OK\",H48)","v":"-"},null,null,{"$f":"IF(SUM(D48:G48)>0,IF(H48>0,\"Fehler: entweder Aufteilug nach Sektoren ODER Gesammtsumme\",\"\"),\"\")","v":""},null,null,{"$f":"IFERROR(_xlfn.IFS(D48=\"\",\"-\",E48=\"\",\"-\",F48=\"\",\"-\",G48=\"\",\"-\"),\"OK\")","v":"-"},{"$f":"IFERROR(_xlfn.IFS(H48=\"\",\"-\"),\"OK\")","v":"-"},{"$f":"IFERROR(_xlfn.IFS(O48&P48=\"--\",\"-\"),\"OK\")","v":"-"},{"$nulls":6},"Braunkohle"]
[null,null,"Steinkohle",{"$nulls":5},{"$f":"_xlfn.IFS(Q49=\"-\",\"-\",O49=\"OK\",SUM(D49:G49),P49=\"OK\",H49)","v":"-"},null,null,{"$f":"IF(SUM(D49:G49)>0,IF(H49>0,\"Fehler: entweder Aufteilug nach Sektoren ODER Gesammtsumme\",\"\"),\"\")","v":""},null,null,{"$f":"IFERROR(_xlfn.IFS(D49=\"\",\"-\",E49=\"\",\"-\",F49=\"\",\"-\",G49=\"\",\"-\"),\"OK\")","v":"-"},{"$f":"IFERROR(_xlfn.IFS(H49=\"\",\"-\"),\"OK\")","v":"-"},{"$f":"IFERROR(_xlfn.IFS(O49&P49=\"--\",\"-\"),\"OK\")","v":"-"},{"$nulls":6},"Steinkohle"]
[null,null,"Erdgas",{"$nulls":5},{"$f":"_xlfn.IFS(Q50=\"-\",\"-\",O50=\"OK\",SUM(D50:G50),P50=\"OK\",H50)","v":"-"},null,null,{"$f":"IF(SUM(D50:G50)>0,IF(H50>0,\"Fehler: entweder Aufteilug nach Sektoren ODER Gesammtsumme\",\"\"),\"\")","v":""},null,null,{"$f":"IFERROR(_xlfn.IFS(D50=\"\",\"-\",E50=\"\",\"-\",F50=\"\",\"-\",G50=\"\",\"-\"),\"OK\")","v":"-"},{"$f":"IFERROR(_xlfn.IFS(H50=\"\",\"-\"),\"OK\")","v":"-"},{"$f":"IFERROR(_xlfn.IFS(O50&P50=\"--\",\"-\"),\"OK\")","v":"-"},{"$nulls":6},"Erdgas"]
[null,null,"Flüssiggas",{"$nulls":5},{"$f":"_xlfn.IFS(Q51=\"-\",\"-\",O51=\"OK\",SUM(D51:G51),P51=\"OK\",H51)","v":"-"},null,null,"",null,null,{"$f":"IFERROR(_xlfn.IFS(D51=\"\",\"-\",E51=\"\",\"-\",F51=\"\",\"-\",G51=\"\",\"-\"),\"OK\")","v":"-"},{"$f":"IFERROR(_xlfn.IFS(H51=\"\",\"-\"),\"OK\")","v":"-"},{"$f":"IFERROR(_xlfn.IFS(O51&P51=\"--\",\"-\"),\"OK\")","v":"-"},{"$nulls":6},"Flüssiggas"]
[null,null,"Heizöl",{"$nulls":5},{"$f":"_xlfn.IFS(Q52=\"-\",\"-\",O52=\"OK\",SUM(D52:G52),P52=\"OK\",H52)","v":"-"},null,null,"",null,null,{"$f":"IFERROR(_xlfn.IFS(D52=\"\",\"-\",E52=\"\",\"-\",F52=\"\",\"-\",G52=\"\",\"-\"),\"OK\")","v":"-"},{"$f":"IFERROR(_xlfn.IFS(H52=\"\",\"-\"),\"OK\")","v":"-"},{"$f":"IFERROR(_xlfn.IFS(O52&P52=\"--\",\"-\"),\"OK\")","v":"-"},{"$nulls":6},"Heizöl"]
[null,null,"Wasserstoff",{"$nulls":5},{"$f":"_xlfn.IFS(Q53=\"-\",\"-\",O53=\"OK\",SUM(D53:G53),P53=\"OK\",H53)","v":"-"},null,null,"",null,null,{"$f":"IFERROR(_xlfn.IFS(D53=\"\",\"-\",E53=\"\",\"-\",F53=\"\",\"-\",G53=\"\",\"-\"),\"OK\")","v":"-"},{"$f":"IFERROR(_xlfn.IFS(H53=\"\",\"-\"),\"OK\")","v":"-"},{"$f":"IFERROR(_xlfn.IFS(O53&P53=\"--\",\"-\"),\"OK\")","v":"-"},{"$nulls":6},"Wasserstoff"]
[null,null,"Wasserstoffderivate",{"$nulls":5},{"$f":"_xlfn.IFS(Q54=\"-\",\"-\",O54=\"OK\",SUM(D54:G54),P54=\"OK\",H54)","v":"-"},null,null,"",null,null,{"$f":"IFERROR(_xlfn.IFS(D54=\"\",\"-\",E54=\"\",\"-\",F54=\"\",\"-\",G54=\"\",\"-\"),\"OK\")","v":"-"},{"$f":"IFERROR(_xlfn.IFS(H54=\"\",\"-\"),\"OK\")","v":"-"},{"$f":"IFERROR(_xlfn.IFS(O54&P54=\"--\",\"-\"),\"OK\")","v":"-"},{"$nulls":6},"Wasserstoffderivate"]
[null,null,"Grubengas",{"$nulls":5},{"$f":"_xlfn.IFS(Q55=\"-\",\"-\",O55=\"OK\",SUM(D55:G55),P55=\"OK\",H55)","v":"-"},null,null,"",null,null,{"$f":"IFERROR(_xlfn.IFS(D55=\"\",\"-\",E55=\"\",\"-\",F55=\"\",\"-\",G55=\"\",\"-\"),\"OK\")","v":"-"},{"$f":"IFERROR(_xlfn.IFS(H55=\"\",\"-\"),\"OK\")","v":"-"},{"$f":"IFERROR(_xlfn.IFS(O55&P55=\"--\",\"-\"),\"OK\")","v":"-"},{"$nulls":6},"Grubengas"]
[null,null,"nichtbiogener Abfall",{"$nulls":5},{"$f":"_xlfn.IFS(Q56=\"-\",\"-\",O56=\"OK\",SUM(D56:G56),P56=\"OK\",H56)","v":"-"},null,null,"",null,null,{"$f":"IFERROR(_xlfn.IFS(D56=\"\",\"-\",E56=\"\",\"-\",F56=\"\",\"-\",G56=\"\",\"-\"),\"OK\")","v":"-"},{"$f":"IFERROR(_xlfn.IFS(H56=\"\",\"-\"),\"OK\")","v":"-"},{"$f":"IFERROR(_xlfn.IFS(O56&P56=\"--\",\"-\"),\"OK\")","v":"-"},{"$nulls":6},"Nicht biogener Abfall"]
[null,null,"biogener Abfall",{"$nulls":5},{"$f":"_xlfn.IFS(Q57=\"-\",\"-\",O57=\"OK\",SUM(D57:G57),P57=\"OK\",H57)","v":"-"},null,null,"",null,null,{"$f":"IFERROR(_xlfn.IFS(D57=\"\",\"-\",E57=\"\",\"-\",F57=\"\",\"-\",G57=\"\",\"-\"),\"OK\")","v":"-"},{"$f":"IFERROR(_xlfn.IFS(H57=\"\",\"-\"),\"OK\")","v":"-"},{"$f":"IFERROR(_xlfn.IFS(O57&P57=\"--\",\"-\"),\"OK\")","v":"-"},{"$nulls":6},"Biogener Abfall"]
[null,null,"Abwärme < 60 °C",{"$nulls":5},{"$f":"_xlfn.IFS(Q58=\"-\",\"-\",O58=\"OK\",SUM(D58:G58),P58=\"OK\",H58)","v":"-"},"Aufteilung nach Temperatur ggf. schätzen",null,"",null,null,{"$f":"IFERROR(_xlfn.IFS(D58=\"\",\"-\",E58=\"\",\"-\",F58=\"\",\"-\",G58=\"\",\"-\"),\"OK\")","v":"-"},{"$f":"IFERROR(_xlfn.IFS(H58=\"\",\"-\"),\"OK\")","v":"-"},{"$f":"IFERROR(_xlfn.IFS(O58&P58=\"--\",\"-\"),\"OK\")","v":"-"},{"$nulls":6},"Abwärme < 60 °C","nicht in Objektkatalog (unvermeidbare Abwärme)"]
[null,null,"Abwärme 60 bis 110 °C",{"$nulls":5},{"$f":"_xlfn.IFS(Q59=\"-\",\"-\",O59=\"OK\",SUM(D59:G59),P59=\"OK\",H59)","v":"-"},"Aufteilung nach Temperatur ggf. schätzen",null,"",null,null,{"$f":"IFERROR(_xlfn.IFS(D59=\"\",\"-\",E59=\"\",\"-\",F59=\"\",\"-\",G59=\"\",\"-\"),\"OK\")","v":"-"},{"$f":"IFERROR(_xlfn.IFS(H59=\"\",\"-\"),\"OK\")","v":"-"},{"$f":"IFERROR(_xlfn.IFS(O59&P59=\"--\",\"-\"),\"OK\")","v":"-"},{"$nulls":6},"Abwärme 60 bis 110 °C","nicht in Objektkatalog (unvermeidbare Abwärme)"]
[null,null,"Abwärme >= 110 °C",{"$nulls":5},{"$f":"_xlfn.IFS(Q60=\"-\",\"-\",O60=\"OK\",SUM(D60:G60),P60=\"OK\",H60)","v":"-"},"Aufteilung nach Temperatur ggf. schätzen",null,"",null,null,{"$f":"IFERROR(_xlfn.IFS(D60=\"\",\"-\",E60=\"\",\"-\",F60=\"\",\"-\",G60=\"\",\"-\"),\"OK\")","v":"-"},{"$f":"IFERROR(_xlfn.IFS(H60=\"\",\"-\"),\"OK\")","v":"-"},{"$f":"IFERROR(_xlfn.IFS(O60&P60=\"--\",\"-\"),\"OK\")","v":"-"},{"$nulls":6},"Abwärme >= 110 °C"]
[null,null,"feste Biomasse (ohne Altholz)",{"$nulls":5},{"$f":"_xlfn.IFS(Q61=\"-\",\"-\",O61=\"OK\",SUM(D61:G61),P61=\"OK\",H61)","v":"-"},null,null,"",null,null,{"$f":"IFERROR(_xlfn.IFS(D61=\"\",\"-\",E61=\"\",\"-\",F61=\"\",\"-\",G61=\"\",\"-\"),\"OK\")","v":"-"},{"$f":"IFERROR(_xlfn.IFS(H61=\"\",\"-\"),\"OK\")","v":"-"},{"$f":"IFERROR(_xlfn.IFS(O61&P61=\"--\",\"-\"),\"OK\")","v":"-"},{"$nulls":6},"feste Biomasse (ohne Altholz)","nicht in Objektkatalog (feste Biomasse)"]
[null,null,"Altholz",{"$nulls":5},{"$f":"_xlfn.IFS(Q62=\"-\",\"-\",O62=\"OK\",SUM(D62:G62),P62=\"OK\",H62)","v":"-"},null,null,"",null,null,{"$f":"IFERROR(_xlfn.IFS(D62=\"\",\"-\",E62=\"\",\"-\",F62=\"\",\"-\",G62=\"\",\"-\"),\"OK\")","v":"-"},{"$f":"IFERROR(_xlfn.IFS(H62=\"\",\"-\"),\"OK\")","v":"-"},{"$f":"IFERROR(_xlfn.IFS(O62&P62=\"--\",\"-\"),\"OK\")","v":"-"},{"$nulls":6},"Altholz","nicht in Objektkatalog"]
[null,null,"Biogas",{"$nulls":5},{"$f":"_xlfn.IFS(Q63=\"-\",\"-\",O63=\"OK\",SUM(D63:G63),P63=\"OK\",H63)","v":"-"},null,null,"",null,null,{"$f":"IFERROR(_xlfn.IFS(D63=\"\",\"-\",E63=\"\",\"-\",F63=\"\",\"-\",G63=\"\",\"-\"),\"OK\")","v":"-"},{"$f":"IFERROR(_xlfn.IFS(H63=\"\",\"-\"),\"OK\")","v":"-"},{"$f":"IFERROR(_xlfn.IFS(O63&P63=\"--\",\"-\"),\"OK\")","v":"-"},{"$nulls":6},"Biogas"]
[null,null,"Biomethan",{"$nulls":5},{"$f":"_xlfn.IFS(Q64=\"-\",\"-\",O64=\"OK\",SUM(D64:G64),P64=\"OK\",H64)","v":"-"},null,null,"",null,null,{"$f":"IFERROR(_xlfn.IFS(D64=\"\",\"-\",E64=\"\",\"-\",F64=\"\",\"-\",G64=\"\",\"-\"),\"OK\")","v":"-"},{"$f":"IFERROR(_xlfn.IFS(H64=\"\",\"-\"),\"OK\")","v":"-"},{"$f":"IFERROR(_xlfn.IFS(O64&P64=\"--\",\"-\"),\"OK\")","v":"-"},{"$nulls":6},"Biomethan"]
[null,null,"Deponiegas",{"$nulls":5},{"$f":"_xlfn.IFS(Q65=\"-\",\"-\",O65=\"OK\",SUM(D65:G65),P65=\"OK\",H65)","v":"-"},null,null,"",null,null,{"$f":"IFERROR(_xlfn.IFS(D65=\"\",\"-\",E65=\"\",\"-\",F65=\"\",\"-\",G65=\"\",\"-\"),\"OK\")","v":"-"},{"$f":"IFERROR(_xlfn.IFS(H65=\"\",\"-\"),\"OK\")","v":"-"},{"$f":"IFERROR(_xlfn.IFS(O65&P65=\"--\",\"-\"),\"OK\")","v":"-"},{"$nulls":6},"Deponiegas"]
[null,null,"Klärgas",{"$nulls":5},{"$f":"_xlfn.IFS(Q66=\"-\",\"-\",O66=\"OK\",SUM(D66:G66),P66=\"OK\",H66)","v":"-"},null,null,"",null,null,{"$f":"IFERROR(_xlfn.IFS(D66=\"\",\"-\",E66=\"\",\"-\",F66=\"\",\"-\",G66=\"\",\"-\"),\"OK\")","v":"-"},{"$f":"IFERROR(_xlfn.IFS(H66=\"\",\"-\"),\"OK\")","v":"-"},{"$f":"IFERROR(_xlfn.IFS(O66&P66=\"--\",\"-\"),\"OK\")","v":"-"},{"$nulls":6},"Klärgas"]
[null,null,"flüssige Biomasse",{"$nulls":5},{"$f":"_xlfn.IFS(Q67=\"-\",\"-\",O67=\"OK\",SUM(D67:G67),P67=\"OK\",H67)","v":"-"},null,null,"",null,null,{"$f":"IFERROR(_xlfn.IFS(D67=\"\",\"-\",E67=\"\",\"-\",F67=\"\",\"-\",G67=\"\",\"-\"),\"OK\")","v":"-"},{"$f":"IFERROR(_xlfn.IFS(H67=\"\",\"-\"),\"OK\")","v":"-"},{"$f":"IFERROR(_xlfn.IFS(O67&P67=\"--\",\"-\"),\"OK\")","v":"-"},{"$nulls":6},"Flüssige Biomasse"]
[null,null,"Strom Wärmepumpe",{"$nulls":5},{"$f":"_xlfn.IFS(Q68=\"-\",\"-\",O68=\"OK\",SUM(D68:G68),P68=\"OK\",H68)","v":"-"},null,null,"",null,null,{"$f":"IFERROR(_xlfn.IFS(D68=\"\",\"-\",E68=\"\",\"-\",F68=\"\",\"-\",G68=\"\",\"-\"),\"OK\")","v":"-"},{"$f":"IFERROR(_xlfn.IFS(H68=\"\",\"-\"),\"OK\")","v":"-"},{"$f":"IFERROR(_xlfn.IFS(O68&P68=\"--\",\"-\"),\"OK\")","v":"-"},{"$nulls":6},"Strom Wärmepumpe","nicht in Objektkatalog (Strom)"]
[null,null,"Strom Direktheizung",{"$nulls":5},{"$f":"_xlfn.IFS(Q69=\"-\",\"-\",O69=\"OK\",SUM(D69:G69),P69=\"OK\",H69)","v":"-"},null,null,"",null,null,{"$f":"IFERROR(_xlfn.IFS(D69=\"\",\"-\",E69=\"\",\"-\",F69=\"\",\"-\",G69=\"\",\"-\"),\"OK\")","v":"-"},{"$f":"IFERROR(_xlfn.IFS(H69=\"\",\"-\"),\"OK\")","v":"-"},{"$f":"IFERROR(_xlfn.IFS(O69&P69=\"--\",\"-\"),\"OK\")","v":"-"},{"$nulls":6},"Strom Direktheizung","nicht in Objektkatalog (Strom)"]
[null,null,"Solarthermie Dach-Anlagen",{"$nulls":5},{"$f":"_xlfn.IFS(Q70=\"-\",\"-\",O70=\"OK\",SUM(D70:G70),P70=\"OK\",H70)","v":"-"},null,null,"",null,null,{"$f":"IFERROR(_xlfn.IFS(D70=\"\",\"-\",E70=\"\",\"-\",F70=\"\",\"-\",G70=\"\",\"-\"),\"OK\")","v":"-"},{"$f":"IFERROR(_xlfn.IFS(H70=\"\",\"-\"),\"OK\")","v":"-"},{"$f":"IFERROR(_xlfn.IFS(O70&P70=\"--\",\"-\"),\"OK\")","v":"-"},{"$nulls":6},"Solarthermie Dach-Anlagen","nicht in Objektkatalog (Solarthrmie)"]
[null,null,"Solarthermie Freiflächenanlagen",{"$nulls":5},{"$f":"_xlfn.IFS(Q71=\"-\",\"-\",O71=\"OK\",SUM(D71:G71),P71=\"OK\",H71)","v":"-"},null,null,"",null,null,{"$f":"IFERROR(_xlfn.IFS(D71=\"\",\"-\",E71=\"\",\"-\",F71=\"\",\"-\",G71=\"\",\"-\"),\"OK\")","v":"-"},{"$f":"IFERROR(_xlfn.IFS(H71=\"\",\"-\"),\"OK\")","v":"-"},{"$f":"IFERROR(_xlfn.IFS(O71&P71=\"--\",\"-\"),\"OK\")","v":"-"},{"$nulls":6},"Solarthermie Freiflächenanlagen","nicht in Objektkatalog (Solarthrmie)"]
[null,null,"oberflächennahe Geothermie",{"$nulls":5},{"$f":"_xlfn.IFS(Q72=\"-\",\"-\",O72=\"OK\",SUM(D72:G72),P72=\"OK\",H72)","v":"-"},null,null,"",null,null,{"$f":"IFERROR(_xlfn.IFS(D72=\"\",\"-\",E72=\"\",\"-\",F72=\"\",\"-\",G72=\"\",\"-\"),\"OK\")","v":"-"},{"$f":"IFERROR(_xlfn.IFS(H72=\"\",\"-\"),\"OK\")","v":"-"},{"$f":"IFERROR(_xlfn.IFS(O72&P72=\"--\",\"-\"),\"OK\")","v":"-"},{"$nulls":6},"Oberflächennahe Geothermie"]
[null,null,"tiefe Geothermie",{"$nulls":5},{"$f":"_xlfn.IFS(Q73=\"-\",\"-\",O73=\"OK\",SUM(D73:G73),P73=\"OK\",H73)","v":"-"},null,null,"",null,null,{"$f":"IFERROR(_xlfn.IFS(D73=\"\",\"-\",E73=\"\",\"-\",F73=\"\",\"-\",G73=\"\",\"-\"),\"OK\")","v":"-"},{"$f":"IFERROR(_xlfn.IFS(H73=\"\",\"-\"),\"OK\")","v":"-"},{"$f":"IFERROR(_xlfn.IFS(O73&P73=\"--\",\"-\"),\"OK\")","v":"-"},{"$nulls":6},"Tiefe Geothermie"]
[null,null,"Umweltwärme aus Oberflächengewässern",{"$nulls":5},{"$f":"_xlfn.IFS(Q74=\"-\",\"-\",O74=\"OK\",SUM(D74:G74),P74=\"OK\",H74)","v":"-"},null,null,"",null,null,{"$f":"IFERROR(_xlfn.IFS(D74=\"\",\"-\",E74=\"\",\"-\",F74=\"\",\"-\",G74=\"\",\"-\"),\"OK\")","v":"-"},{"$f":"IFERROR(_xlfn.IFS(H74=\"\",\"-\"),\"OK\")","v":"-"},{"$f":"IFERROR(_xlfn.IFS(O74&P74=\"--\",\"-\"),\"OK\")","v":"-"},{"$nulls":6},"Oberflächengewässern"]
[null,null,"Umweltwärme aus Grubenwasser",{"$nulls":5},{"$f":"_xlfn.IFS(Q75=\"-\",\"-\",O75=\"OK\",SUM(D75:G75),P75=\"OK\",H75)","v":"-"},null,null,"",null,null,{"$f":"IFERROR(_xlfn.IFS(D75=\"\",\"-\",E75=\"\",\"-\",F75=\"\",\"-\",G75=\"\",\"-\"),\"OK\")","v":"-"},{"$f":"IFERROR(_xlfn.IFS(H75=\"\",\"-\"),\"OK\")","v":"-"},{"$f":"IFERROR(_xlfn.IFS(O75&P75=\"--\",\"-\"),\"OK\")","v":"-"},{"$nulls":6},"Grubenwasser"]
[null,null,"Umweltwärme aus Luft",{"$nulls":5},{"$f":"_xlfn.IFS(Q76=\"-\",\"-\",O76=\"OK\",SUM(D76:G76),P76=\"OK\",H76)","v":"-"},null,null,"",null,null,{"$f":"IFERROR(_xlfn.IFS(D76=\"\",\"-\",E76=\"\",\"-\",F76=\"\",\"-\",G76=\"\",\"-\"),\"OK\")","v":"-"},{"$f":"IFERROR(_xlfn.IFS(H76=\"\",\"-\"),\"OK\")","v":"-"},{"$f":"IFERROR(_xlfn.IFS(O76&P76=\"--\",\"-\"),\"OK\")","v":"-"},{"$nulls":6},"Luft"]
[null,null,"Umweltwärme aus Abwasser",{"$nulls":5},{"$f":"_xlfn.IFS(Q77=\"-\",\"-\",O77=\"OK\",SUM(D77:G77),P77=\"OK\",H77)","v":"-"},null,null,"",null,null,{"$f":"IFERROR(_xlfn.IFS(D77=\"\",\"-\",E77=\"\",\"-\",F77=\"\",\"-\",G77=\"\",\"-\"),\"OK\")","v":"-"},{"$f":"IFERROR(_xlfn.IFS(H77=\"\",\"-\"),\"OK\")","v":"-"},{"$f":"IFERROR(_xlfn.IFS(O77&P77=\"--\",\"-\"),\"OK\")","v":"-"},{"$nulls":6},"Abwasser"]
[null,null,"Sonstige fossile Brennstoffe",{"$nulls":5},{"$f":"_xlfn.IFS(Q78=\"-\",\"-\",O78=\"OK\",SUM(D78:G78),P78=\"OK\",H78)","v":"-"},null,null,"",null,null,{"$f":"IFERROR(_xlfn.IFS(D78=\"\",\"-\",E78=\"\",\"-\",F78=\"\",\"-\",G78=\"\",\"-\"),\"OK\")","v":"-"},{"$f":"IFERROR(_xlfn.IFS(H78=\"\",\"-\"),\"OK\")","v":"-"},{"$f":"IFERROR(_xlfn.IFS(O78&P78=\"--\",\"-\"),\"OK\")","v":"-"},{"$nulls":6},"Sonstige fossile Brennstoffe","nicht in Objektkatalog (Sonstiges)"]
[null,null,"Sonstige erneuerbare Energien",{"$nulls":5},{"$f":"_xlfn.IFS(Q79=\"-\",\"-\",O79=\"OK\",SUM(D79:G79),P79=\"OK\",H79)","v":"-"},null,null,"",null,null,{"$f":"IFERROR(_xlfn.IFS(D79=\"\",\"-\",E79=\"\",\"-\",F79=\"\",\"-\",G79=\"\",\"-\"),\"OK\")","v":"-"},{"$f":"IFERROR(_xlfn.IFS(H79=\"\",\"-\"),\"OK\")","v":"-"},{"$f":"IFERROR(_xlfn.IFS(O79&P79=\"--\",\"-\"),\"OK\")","v":"-"},{"$nulls":6},"Sonstige erneuerbare Energien","nicht in Objektkatalog (Sonstiges)"]
[null,null,"Summe",{"$f":"SUM(D48:D79)","v":0},0,0,0,{"$f":"SUM(H48:H79)","v":0},0,{"$nulls":15},"nicht in Objektkatalog"]
[{"$nulls":8},{"$f":"IF(SUM(D80:G80)>0,IF(H80>0,\"Fehler: entweder Aufteilug nach Sektoren ODER Gesammtsumme\",\"\"),\"\")","v":""}]
[]
[null,"B.9","Gesamtendenergieverbrauch nach Gebäuden und Prozessen"]
[]
[null,null,"Endenergieverbrauch Gebäudewärme",null,"MWh/a",{"$nulls":18},"Endenergieverbrauch Gebäudewärme","Ist hier nur Gebäudewärme gemeint?"]
[null,null,"Endenergieverbrauch Prozesswärme",null,"MWh/a",{"$nulls":18},"Endenergieverbrauch Prozesswärme","Ist hier nur Prozesswärme gemeint?"]
[]
[]
[null,"B.10","Jährlicher Endenergieverbrauch leitungsgebundener Wärme nach Energieträgern nach Anlage 2 Abschnitt I Nr. 1.3",{"$nulls":4}," "]
[]
[{"$nulls":10},{"$f":"+'A-Allgemeine Angaben'!D22","v":0}]
[null,null,"Endenergieverbrauch leitungsgebundene Wärme","Umwandlungseinsatz","Hinweise",{"$nulls":5},"Emissionsfaktor zum Basisjahr \n(Feld A3)","Zeile","Energieträger","THG-Emissionen"]
[null,null,"Basisjahr"]
[null,null,"in MWh/a",{"$nulls":10},"kt"]
[null,null,"Braunkohle",{"$nulls":7},{"$f":"OFFSET('EM-Faktoren'!$C$1,L95-1,$K$173-2020+1)","v":{"$error":"#REF!"}},10,{"$f":"OFFSET('EM-Faktoren'!$B$4,'B-Bestandsanalyse'!L95-4,)","v":"Braunkohle"},{"$f":"+D95*K95/1000","v":{"$error":"#REF!"}}]
[null,null,"Steinkohle",{"$nulls":7},{"$f":"OFFSET('EM-Faktoren'!$C$1,L96-1,$K$173-2020+1)","v":{"$error":"#REF!"}},9,{"$f":"OFFSET('EM-Faktoren'!$B$4,'B-Bestandsanalyse'!L96-4,)","v":"Kohlen (Steinkohle)"},{"$f":"+D96*K96/1000","v":{"$error":"#REF!"}}]
[null,null,"Erdgas",{"$nulls":7},{"$f":"OFFSET('EM-Faktoren'!$C$1,L97-1,$K$173-2020+1)","v":{"$error":"#REF!"}},5,{"$f":"OFFSET('EM-Faktoren'!$B$4,'B-Bestandsanalyse'!L97-4,)","v":"Erdgas"},{"$error":"#REF!"}]
[null,null,"Flüssiggas",{"$nulls":7},{"$f":"OFFSET('EM-Faktoren'!$C$1,L98-1,$K$173-2020+1)","v":{"$error":"#REF!"}},7,{"$f":"OFFSET('EM-Faktoren'!$B$4,'B-Bestandsanalyse'!L98-4,)","v":"Flüssiggas"},{"$error":"#REF!"}]
[null,null,"Heizöl",{"$nulls":7},{"$f":"OFFSET('EM-Faktoren'!$C$1,L99-1,$K$173-2020+1)","v":{"$error":"#REF!"}},6,{"$f":"OFFSET('EM-Faktoren'!$B$4,'B-Bestandsanalyse'!L99-4,)","v":"Heizöl"},{"$error":"#REF!"}]
[null,null,"Wasserstoff",{"$nulls":7},{"$f":"OFFSET('EM-Faktoren'!$C$1,L100-1,$K$173-2020+1)","v":{"$error":"#REF!"}},12,{"$f":"OFFSET('EM-Faktoren'!$B$4,'B-Bestandsanalyse'!L100-4,)","v":"Wasserstoff"},{"$error":"#REF!"}]
[null,null,"Wasserstoffderivate",{"$nulls":7},{"$f":"OFFSET('EM-Faktoren'!$C$1,L101-1,$K$173-2020+1)","v":{"$error":"#REF!"}},13,{"$f":"OFFSET('EM-Faktoren'!$B$4,'B-Bestandsanalyse'!L101-4,)","v":"PtX"},{"$error":"#REF!"}]
[null,null,"Grubengas",{"$nulls":7},{"$f":"OFFSET('EM-Faktoren'!$C$1,L102-1,$K$173-2020+1)","v":{"$error":"#REF!"}},22,{"$f":"OFFSET('EM-Faktoren'!$B$4,'B-Bestandsanalyse'!L102-4,)","v":"Deponiegas/Grubengas"},{"$error":"#REF!"}]
[null,null,"nichtbiogener Abfall",{"$nulls":7},{"$f":"OFFSET('EM-Faktoren'!$C$1,L103-1,$K$173-2020+1)","v":{"$error":"#REF!"}},23,{"$f":"OFFSET('EM-Faktoren'!$B$4,'B-Bestandsanalyse'!L103-4,)","v":"Abfall"},{"$error":"#REF!"}]
[null,null,"biogener Abfall",{"$nulls":7},{"$f":"OFFSET('EM-Faktoren'!$C$1,L104-1,$K$173-2020+1)","v":{"$error":"#REF!"}},23,{"$f":"OFFSET('EM-Faktoren'!$B$4,'B-Bestandsanalyse'!L104-4,)","v":"Abfall"},{"$error":"#REF!"}]
[null,null,"Abwärme < 60 °C",null,"Aufteilung nach Temperatur ggf. schätzen",{"$nulls":5},{"$f":"OFFSET('EM-Faktoren'!$C$1,L105-1,$K$173-2020+1)","v":{"$error":"#REF!"}},27,{"$f":"OFFSET('EM-Faktoren'!$B$4,'B-Bestandsanalyse'!L105-4,)","v":"Umweltwärme"},{"$error":"#REF!"}]
[null,null,"Abwärme 60 bis 110 °C",null,"Aufteilung nach Temperatur ggf. schätzen",{"$nulls":5},{"$f":"OFFSET('EM-Faktoren'!$C$1,L106-1,$K$173-2020+1)","v":{"$error":"#REF!"}},27,{"$f":"OFFSET('EM-Faktoren'!$B$4,'B-Bestandsanalyse'!L106-4,)","v":"Umweltwärme"},{"$f":"+D106*K106/1000","v":{"$error":"#REF!"}}]
[null,null,"Abwärme >= 110 °C",null,"Aufteilung nach Temperatur ggf. schätzen",{"$nulls":5},{"$f":"OFFSET('EM-Faktoren'!$C$1,L107-1,$K$173-2020+1)","v":{"$error":"#REF!"}},27,{"$f":"OFFSET('EM-Faktoren'!$B$4,'B-Bestandsanalyse'!L107-4,)","v":"Umweltwärme"},{"$f":"+D107*K107/1000","v":{"$error":"#REF!"}}]
[null,null,"feste Biomasse (ohne Altholz)",{"$nulls":7},{"$f":"OFFSET('EM-Faktoren'!$C$1,L108-1,$K$173-2020+1)","v":{"$error":"#REF!"}},19,{"$f":"OFFSET('EM-Faktoren'!$B$4,'B-Bestandsanalyse'!L108-4,)","v":"EE-Festbrennstoffe"},{"$error":"#REF!"}]
[null,null,"Altholz",{"$nulls":7},{"$f":"OFFSET('EM-Faktoren'!$C$1,L109-1,$K$173-2020+1)","v":{"$error":"#REF!"}},19,{"$f":"OFFSET('EM-Faktoren'!$B$4,'B-Bestandsanalyse'!L109-4,)","v":"EE-Festbrennstoffe"},{"$error":"#REF!"}]
[null,null,"Biogas",{"$nulls":7},{"$f":"OFFSET('EM-Faktoren'!$C$1,L110-1,$K$173-2020+1)","v":{"$error":"#REF!"}},21,{"$f":"OFFSET('EM-Faktoren'!$B$4,'B-Bestandsanalyse'!L110-4,)","v":"Biogas"},{"$error":"#REF!"}]
[null,null,"Biomethan",{"$nulls":7},{"$f":"OFFSET('EM-Faktoren'!$C$1,L111-1,$K$173-2020+1)","v":{"$error":"#REF!"}},25,{"$f":"OFFSET('EM-Faktoren'!$B$4,'B-Bestandsanalyse'!L111-4,)","v":"Synth. Brennstoffe"},{"$error":"#REF!"}]
[null,null,"Deponiegas",{"$nulls":7},{"$f":"OFFSET('EM-Faktoren'!$C$1,L112-1,$K$173-2020+1)","v":{"$error":"#REF!"}},22,{"$f":"OFFSET('EM-Faktoren'!$B$4,'B-Bestandsanalyse'!L112-4,)","v":"Deponiegas/Grubengas"},{"$error":"#REF!"}]
[null,null,"Klärgas",{"$nulls":7},{"$f":"OFFSET('EM-Faktoren'!$C$1,L113-1,$K$173-2020+1)","v":{"$error":"#REF!"}},18,{"$f":"OFFSET('EM-Faktoren'!$B$4,'B-Bestandsanalyse'!L113-4,)","v":"Klärgas"},{"$error":"#REF!"}]
[null,null,"flüssige Biomasse",{"$nulls":7},{"$f":"OFFSET('EM-Faktoren'!$C$1,L114-1,$K$173-2020+1)","v":{"$error":"#REF!"}},20,{"$f":"OFFSET('EM-Faktoren'!$B$4,'B-Bestandsanalyse'!L114-4,)","v":"Flüssige Biomasse"},{"$error":"#REF!"}]
[null,null,"Strom Wärmepumpe",{"$nulls":7},{"$f":"OFFSET('EM-Faktoren'!$C$1,L115-1,$K$173-2020+1)","v":{"$error":"#REF!"}},4,{"$f":"OFFSET('EM-Faktoren'!$B$4,'B-Bestandsanalyse'!L115-4,)","v":"Strom"},{"$error":"#REF!"}]
[null,null,"Strom Direktheizung",{"$nulls":7},{"$f":"OFFSET('EM-Faktoren'!$C$1,L116-1,$K$173-2020+1)","v":{"$error":"#REF!"}},4,{"$f":"OFFSET('EM-Faktoren'!$B$4,'B-Bestandsanalyse'!L116-4,)","v":"Strom"},{"$error":"#REF!"}]
[null,null,"Solarthermie Dachflächenanlagen",{"$nulls":7},{"$f":"OFFSET('EM-Faktoren'!$C$1,L117-1,$K$173-2020+1)","v":{"$error":"#REF!"}},11,{"$f":"OFFSET('EM-Faktoren'!$B$4,'B-Bestandsanalyse'!L117-4,)","v":"Solarwärme"},{"$error":"#REF!"}]
[null,null,"Solathermie Freiflächenanlagen",{"$nulls":7},{"$f":"OFFSET('EM-Faktoren'!$C$1,L118-1,$K$173-2020+1)","v":{"$error":"#REF!"}},11,{"$f":"OFFSET('EM-Faktoren'!$B$4,'B-Bestandsanalyse'!L118-4,)","v":"Solarwärme"},{"$error":"#REF!"}]
[null,null,"oberflächennahe Geothermie",{"$nulls":7},{"$f":"OFFSET('EM-Faktoren'!$C$1,L119-1,$K$173-2020+1)","v":{"$error":"#REF!"}},27,{"$f":"OFFSET('EM-Faktoren'!$B$4,'B-Bestandsanalyse'!L119-4,)","v":"Umweltwärme"},{"$error":"#REF!"}]
[null,null,"tiefe Geothermie",{"$nulls":7},{"$f":"OFFSET('EM-Faktoren'!$C$1,L120-1,$K$173-2020+1)","v":{"$error":"#REF!"}},26,{"$f":"OFFSET('EM-Faktoren'!$B$4,'B-Bestandsanalyse'!L120-4,)","v":"Tiefe Geothermie"},{"$error":"#REF!"}]
[null,null,"Umweltwärme aus Oberflächengewässern",{"$nulls":7},{"$f":"OFFSET('EM-Faktoren'!$C$1,L121-1,$K$173-2020+1)","v":{"$error":"#REF!"}},27,{"$f":"OFFSET('EM-Faktoren'!$B$4,'B-Bestandsanalyse'!L121-4,)","v":"Umweltwärme"},{"$error":"#REF!"}]
[null,null,"Umweltwärme aus Grubenwasser",{"$nulls":7},{"$f":"OFFSET('EM-Faktoren'!$C$1,L122-1,$K$173-2020+1)","v":{"$error":"#REF!"}},27,{"$f":"OFFSET('EM-Faktoren'!$B$4,'B-Bestandsanalyse'!L122-4,)","v":"Umweltwärme"},{"$error":"#REF!"}]
[null,null,"Umweltwärme aus Luft",{"$nulls":7},{"$f":"OFFSET('EM-Faktoren'!$C$1,L123-1,$K$173-2020+1)","v":{"$error":"#REF!"}},27,{"$f":"OFFSET('EM-Faktoren'!$B$4,'B-Bestandsanalyse'!L123-4,)","v":"Umweltwärme"},{"$error":"#REF!"}]
[null,null,"Umweltwärme aus Abwasser",{"$nulls":7},{"$f":"OFFSET('EM-Faktoren'!$C$1,L124-1,$K$173-2020+1)","v":{"$error":"#REF!"}},27,{"$f":"OFFSET('EM-Faktoren'!$B$4,'B-Bestandsanalyse'!L124-4,)","v":"Umweltwärme"},{"$error":"#REF!"}]
[null,null,"Sonstige fossile Brennstoffe",{"$nulls":7},{"$f":"OFFSET('EM-Faktoren'!$C$1,L125-1,$K$173-2020+1)","v":{"$error":"#REF!"}},14,{"$f":"OFFSET('EM-Faktoren'!$B$4,'B-Bestandsanalyse'!L125-4,)","v":"Sonstige"},{"$error":"#REF!"}]
[null,null,"Sonstige erneuerbare Energien",{"$nulls":7},{"$f":"OFFSET('EM-Faktoren'!$C$1,L126-1,$K$173-2020+1)","v":{"$error":"#REF!"}},28,{"$f":"OFFSET('EM-Faktoren'!$B$4,'B-Bestandsanalyse'!L126-4,)","v":"sonstige Erneuerbare"},{"$error":"#REF!"}]
[null,null,"Summe",{"$f":"SUM(D95:D126)","v":0}]
[]
[]
[null,"B.11","Jährlicher Endenergieverbrauch aus Gasnetzen nach Energieträgern nach Anlage 2 Abschnitt III Nr. 6"]
[]
[null,null,"Endenergieverbrauch Gasnetze","Endenergieverbrauch","Hinweise",{"$nulls":5},{"$f":"+'A-Allgemeine Angaben'!D22","v":0}]
[null,null,"Basisjahr",{"$nulls":7},"Emissionsfaktor zum Basisjahr \n(Feld A3)","Zeile","Energieträger","THG-Emissionen"]
[null,null,"MWh/a",{"$nulls":10},"kt"]
[null,null,"Erdgas",{"$nulls":7},{"$f":"K97","v":{"$error":"#REF!"}},{"$f":"L97","v":5},"Erdgas",{"$f":"D135*K135/1000","v":{"$error":"#REF!"}}]
[null,null,"Flüssiggas",{"$nulls":7},{"$f":"K98","v":{"$error":"#REF!"}},{"$f":"L98","v":7},"Flüssiggas",{"$f":"D136*K136/1000","v":{"$error":"#REF!"}}]
[null,null,"Wasserstoff",{"$nulls":7},{"$f":"K100","v":{"$error":"#REF!"}},{"$f":"L100","v":12},"Wasserstoff",{"$error":"#REF!"}]
[null,null,"Wasserstoffderivate",{"$nulls":7},{"$f":"K101","v":{"$error":"#REF!"}},{"$f":"L101","v":13},"PtX",{"$f":"D138*K138/1000","v":{"$error":"#REF!"}}]
[null,null,"Grubengas",{"$nulls":7},{"$f":"K112","v":{"$error":"#REF!"}},{"$f":"L112","v":22},"Deponiegas/Grubengas",{"$error":"#REF!"}]
[null,null,"Biogas",{"$nulls":7},{"$f":"K110","v":{"$error":"#REF!"}},{"$f":"L110","v":21},"Biogas",{"$error":"#REF!"}]
[null,null,"Biomethan",{"$nulls":7},{"$f":"K111","v":{"$error":"#REF!"}},{"$f":"L111","v":25},"Synth. Brennstoffe",{"$error":"#REF!"}]
[null,null,"Deponiegas",{"$nulls":7},{"$f":"K112","v":{"$error":"#REF!"}},{"$f":"L112","v":22},"Deponiegas/Grubengas",{"$error":"#REF!"}]
[null,null,"Klärgas",{"$nulls":7},{"$f":"K113","v":{"$error":"#REF!"}},{"$f":"L113","v":18},"Klärgas",{"$error":"#REF!"}]
[null,null,"Summe",{"$f":"SUM(D135:D143)","v":0}]
[]
[]
[null,"B.12","Anzahl dezentraler Wärmerzeuger, einschließlich Hausübergabestationen, nach Art der Wärmeerzeuger einschließlich des eingesetzten Energieträgers nach Anlage 2 Abschnitt I Nr. 1.5"]
[]
[null,null,"Anzahl dezentraler Wärmeerzeuger","Anzahl","Hinweise"]
[null,null,"Basisjahr"]
[null,null,"Strom-Direktheizung",{"$nulls":20},"Stromdirektheizung"]
[null,null,"Kohle-Heizung",{"$nulls":20},"Kohleheizung"]
[null,null,"Erdgas-Heizung",{"$nulls":20},"Erdgasheizung"]
[null,null,"Flüssiggas-Heizung",{"$nulls":20},"Flüssiggasheizung"]
[null,null,"Heizöl-Heizung",{"$nulls":20},"Ölheizung"]
[null,null,"leitungsgebundene Wärme (Hausübergabestation)",{"$nulls":20},"Hausübergabestation"]
[null,null,"Solarthermie-Heizung",{"$nulls":20},"solarthermische Anlage"]
[null,null,"Erdgas-BHKW",{"$nulls":20},"Erdgas-BHKW"]
[null,null,"Biomasse-BHKW",{"$nulls":20},"Biomasse-BHKW"]
[null,null,"Wärmepumpe (nur ausfüllen, falls nicht wie folgt differenziert wurde)",{"$nulls":20},"Wärmepumpe (ohne Differenzierung)"]
[null,null,"Luft-Wasser-Wärmepumpe",{"$nulls":20},"Luft-Wasser-Wärmepumpe"]
[null,null,"Sole-Wasser-Wärmepumpe",{"$nulls":20},"Sole-Wasser-Wärmepumpe"]
[null,null,"Wasser-Wasser-Wärmepumpe",{"$nulls":20},"Wasser-Wasser-Wärmepumpe"]
[null,null,"Holz-Heizung",{"$nulls":20},"Holz-Heizung"]
[null,null,"Pellets-Heizung",{"$nulls":20},"Pelletheizung"]
[null,null,"Sonstige",{"$nulls":20},"sonstige dezentrale Wärmeerzeugunganlagen"]
[null,null,"Summe",{"$f":"SUM(D151:D166)","v":0},{"$nulls":19},"dezentrale Wärmeerzeugungsanlagen insgesamt","nicht in Objektkatalog"]
[]
[]
[null,"B.13","Treibhausgasemissionen (THG-Emissionen) nach Energieträgern und Sektoren nach Anlage 2 Abschnitt 1 Nr.1"]
[null,null,"Hinweis: Nicht zur Eingabe durch die Kommunen, automatische Berechnung."]
[]
[null,null,"THG-Emissionen Wärmeversorgung","Sektoren  optional",{"$nulls":6},{"$f":"+'A-Allgemeine Angaben'!D22","v":0}]
[null,null,"Basisjahr"]
[null,null,"kt/a","Haushalte","GHD","öffentliche Liegenschaften","Industrie","Gesamtsumme ohne Differenzierung nach Sektoren","Summe (der Spalten D bis G oder H)",null,"Emissionsfaktor zum Basisjahr \n(Feld A3)","Zeile","Energieträger"]
[null,null,"Braunkohle",{"$f":"IF(D48>0,D48*$K176/1000,0)","v":{"v":0,"d":"0.0"}},{"v":0,"d":"0.0"},{"v":0,"d":"0.0"},{"v":0,"d":"0.0"},{"v":0,"d":"0.0"},{"$error":"#VALUE!"},null,{"$f":"OFFSET('EM-Faktoren'!$C$1,L176-1,$K$173-2020+1)","v":{"$error":"#REF!"}},10,{"$f":"OFFSET('EM-Faktoren'!$B$4,'B-Bestandsanalyse'!L176-4,)","v":"Braunkohle"}]
[null,null,"Steinkohle",{"$f":"IF(D49>0,D49*$K177/1000,0)","v":{"v":0,"d":"0.0"}},{"v":0,"d":"0.0"},{"v":0,"d":"0.0"},{"v":0,"d":"0.0"},{"v":0,"d":"0.0"},{"$error":"#VALUE!"},null,{"$f":"OFFSET('EM-Faktoren'!$C$1,L177-1,$K$173-2020+1)","v":{"$error":"#REF!"}},9,{"$f":"OFFSET('EM-Faktoren'!$B$4,'B-Bestandsanalyse'!L177-4,)","v":"Kohlen (Steinkohle)"}]
[null,null,"Erdgas",{"$f":"IF(D50>0,D50*$K178/1000,0)","v":{"v":0,"d":"0.0"}},{"v":0,"d":"0.0"},{"v":0,"d":"0.0"},{"v":0,"d":"0.0"},{"v":0,"d":"0.0"},{"$error":"#VALUE!"},null,{"$f":"OFFSET('EM-Faktoren'!$C$1,L178-1,$K$173-2020+1)","v":{"$error":"#REF!"}},5,{"$f":"OFFSET('EM-Faktoren'!$B$4,'B-Bestandsanalyse'!L178-4,)","v":"Erdgas"}]
[null,null,"Flüssiggas",{"$f":"IF(D51>0,D51*$K179/1000,0)","v":{"v":0,"d":"0.0"}},{"v":0,"d":"0.0"},{"v":0,"d":"0.0"},{"v":0,"d":"0.0"},{"v":0,"d":"0.0"},{"$error":"#VALUE!"},null,{"$f":"OFFSET('EM-Faktoren'!$C$1,L179-1,$K$173-2020+1)","v":{"$error":"#REF!"}},7,{"$f":"OFFSET('EM-Faktoren'!$B$4,'B-Bestandsanalyse'!L179-4,)","v":"Flüssiggas"}]
[null,null,"Heizöl",{"$f":"IF(D52>0,D52*$K180/1000,0)","v":{"v":0,"d":"0.0"}},{"v":0,"d":"0.0"},{"v":0,"d":"0.0"},{"v":0,"d":"0.0"},{"v":0,"d":"0.0"},{"$error":"#VALUE!"},null,{"$f":"OFFSET('EM-Faktoren'!$C$1,L180-1,$K$173-2020+1)","v":{"$error":"#REF!"}},6,{"$f":"OFFSET('EM-Faktoren'!$B$4,'B-Bestandsanalyse'!L180-4,)","v":"Heizöl"}]
[null,null,"Wasserstoff",{"$f":"IF(D53>0,D53*$K181/1000,0)","v":{"v":0,"d":"0.0"}},{"v":0,"d":"0.0"},{"v":0,"d":"0.0"},{"v":0,"d":"0.0"},{"v":0,"d":"0.0"},{"$error":"#VALUE!"},null,{"$f":"OFFSET('EM-Faktoren'!$C$1,L181-1,$K$173-2020+1)","v":{"$error":"#REF!"}},12,{"$f":"OFFSET('EM-Faktoren'!$B$4,'B-Bestandsanalyse'!L181-4,)","v":"Wasserstoff"}]
[null,null,"Wasserstoffderivate",{"$f":"IF(D54>0,D54*$K182/1000,0)","v":{"v":0,"d":"0.0"}},{"v":0,"d":"0.0"},{"v":0,"d":"0.0"},{"v":0,"d":"0.0"},{"v":0,"d":"0.0"},{"$error":"#VALUE!"},null,{"$f":"OFFSET('EM-Faktoren'!$C$1,L182-1,$K$173-2020+1)","v":{"$error":"#REF!"}},13,{"$f":"OFFSET('EM-Faktoren'!$B$4,'B-Bestandsanalyse'!L182-4,)","v":"PtX"}]
[null,null,"Grubengas",{"$f":"IF(D55>0,D55*$K183/1000,0)","v":{"v":0,"d":"0.0"}},{"v":0,"d":"0.0"},{"v":0,"d":"0.0"},{"v":0,"d":"0.0"},{"v":0,"d":"0.0"},{"$error":"#VALUE!"},null,{"$f":"OFFSET('EM-Faktoren'!$C$1,L183-1,$K$173-2020+1)","v":{"$error":"#REF!"}},22,{"$f":"OFFSET('EM-Faktoren'!$B$4,'B-Bestandsanalyse'!L183-4,)","v":"Deponiegas/Grubengas"}]
[null,null,"nichtbiogener Abfall",{"$f":"IF(D56>0,D56*$K184/1000,0)","v":{"v":0,"d":"0.0"}},{"v":0,"d":"0.0"},{"v":0,"d":"0.0"},{"v":0,"d":"0.0"},{"v":0,"d":"0.0"},{"$error":"#VALUE!"},null,{"$f":"OFFSET('EM-Faktoren'!$C$1,L184-1,$K$173-2020+1)","v":{"$error":"#REF!"}},23,{"$f":"OFFSET('EM-Faktoren'!$B$4,'B-Bestandsanalyse'!L184-4,)","v":"Abfall"}]
[null,null,"biogener Abfall",{"$f":"IF(D57>0,D57*$K185/1000,0)","v":{"v":0,"d":"0.0"}},{"v":0,"d":"0.0"},{"v":0,"d":"0.0"},{"v":0,"d":"0.0"},{"v":0,"d":"0.0"},{"$error":"#VALUE!"},null,{"$f":"OFFSET('EM-Faktoren'!$C$1,L185-1,$K$173-2020+1)","v":{"$error":"#REF!"}},23,{"$f":"OFFSET('EM-Faktoren'!$B$4,'B-Bestandsanalyse'!L185-4,)","v":"Abfall"}]
[null,null,"Abwärme < 60 °C",{"$f":"IF(D58>0,D58*$K186/1000,0)","v":{"v":0,"d":"0.0"}},{"v":0,"d":"0.0"},{"v":0,"d":"0.0"},{"v":0,"d":"0.0"},{"v":0,"d":"0.0"},{"$error":"#VALUE!"},null,{"$f":"OFFSET('EM-Faktoren'!$C$1,L186-1,$K$173-2020+1)","v":{"$error":"#REF!"}},27,{"$f":"OFFSET('EM-Faktoren'!$B$4,'B-Bestandsanalyse'!L186-4,)","v":"Umweltwärme"}]
[null,null,"Abwärme 60 bis 110 °C",{"$f":"IF(D59>0,D59*$K187/1000,0)","v":{"v":0,"d":"0.0"}},{"v":0,"d":"0.0"},{"v":0,"d":"0.0"},{"v":0,"d":"0.0"},{"v":0,"d":"0.0"},{"$error":"#VALUE!"},null,{"$f":"OFFSET('EM-Faktoren'!$C$1,L187-1,$K$173-2020+1)","v":{"$error":"#REF!"}},27,{"$f":"OFFSET('EM-Faktoren'!$B$4,'B-Bestandsanalyse'!L187-4,)","v":"Umweltwärme"}]
[null,null,"Abwärme >= 110 °C",{"$f":"IF(D60>0,D60*$K188/1000,0)","v":{"v":0,"d":"0.0"}},{"v":0,"d":"0.0"},{"v":0,"d":"0.0"},{"v":0,"d":"0.0"},{"v":0,"d":"0.0"},{"$error":"#VALUE!"},null,{"$f":"OFFSET('EM-Faktoren'!$C$1,L188-1,$K$173-2020+1)","v":{"$error":"#REF!"}},27,{"$f":"OFFSET('EM-Faktoren'!$B$4,'B-Bestandsanalyse'!L188-4,)","v":"Umweltwärme"}]
[null,null,"feste Biomasse (ohne Altholz)",{"$f":"IF(D61>0,D61*$K189/1000,0)","v":{"v":0,"d":"0.0"}},{"v":0,"d":"0.0"},{"v":0,"d":"0.0"},{"v":0,"d":"0.0"},{"v":0,"d":"0.0"},{"$error":"#VALUE!"},null,{"$f":"OFFSET('EM-Faktoren'!$C$1,L189-1,$K$173-2020+1)","v":{"$error":"#REF!"}},19,{"$f":"OFFSET('EM-Faktoren'!$B$4,'B-Bestandsanalyse'!L189-4,)","v":"EE-Festbrennstoffe"}]
[null,null,"Altholz",{"$f":"IF(D62>0,D62*$K190/1000,0)","v":{"v":0,"d":"0.0"}},{"v":0,"d":"0.0"},{"v":0,"d":"0.0"},{"v":0,"d":"0.0"},{"v":0,"d":"0.0"},{"$error":"#VALUE!"},null,{"$f":"OFFSET('EM-Faktoren'!$C$1,L190-1,$K$173-2020+1)","v":{"$error":"#REF!"}},19,{"$f":"OFFSET('EM-Faktoren'!$B$4,'B-Bestandsanalyse'!L190-4,)","v":"EE-Festbrennstoffe"}]
[null,null,"Biogas",{"$f":"IF(D63>0,D63*$K191/1000,0)","v":{"v":0,"d":"0.0"}},{"v":0,"d":"0.0"},{"v":0,"d":"0.0"},{"v":0,"d":"0.0"},{"v":0,"d":"0.0"},{"$error":"#VALUE!"},null,{"$f":"OFFSET('EM-Faktoren'!$C$1,L191-1,$K$173-2020+1)","v":{"$error":"#REF!"}},21,{"$f":"OFFSET('EM-Faktoren'!$B$4,'B-Bestandsanalyse'!L191-4,)","v":"Biogas"}]
[null,null,"Biomethan",{"$f":"IF(D64>0,D64*$K192/1000,0)","v":{"v":0,"d":"0.0"}},{"v":0,"d":"0.0"},{"v":0,"d":"0.0"},{"v":0,"d":"0.0"},{"v":0,"d":"0.0"},{"$error":"#VALUE!"},null,{"$f":"OFFSET('EM-Faktoren'!$C$1,L192-1,$K$173-2020+1)","v":{"$error":"#REF!"}},25,{"$f":"OFFSET('EM-Faktoren'!$B$4,'B-Bestandsanalyse'!L192-4,)","v":"Synth. Brennstoffe"}]
[null,null,"Deponiegas",{"$f":"IF(D65>0,D65*$K193/1000,0)","v":{"v":0,"d":"0.0"}},{"v":0,"d":"0.0"},{"v":0,"d":"0.0"},{"v":0,"d":"0.0"},{"v":0,"d":"0.0"},{"$error":"#VALUE!"},null,{"$f":"OFFSET('EM-Faktoren'!$C$1,L193-1,$K$173-2020+1)","v":{"$error":"#REF!"}},22,{"$f":"OFFSET('EM-Faktoren'!$B$4,'B-Bestandsanalyse'!L193-4,)","v":"Deponiegas/Grubengas"}]
[null,null,"Klärgas",{"$f":"IF(D66>0,D66*$K194/1000,0)","v":{"v":0,"d":"0.0"}},{"v":0,"d":"0.0"},{"v":0,"d":"0.0"},{"v":0,"d":"0.0"},{"v":0,"d":"0.0"},{"$error":"#VALUE!"},null,{"$f":"OFFSET('EM-Faktoren'!$C$1,L194-1,$K$173-2020+1)","v":{"$error":"#REF!"}},18,{"$f":"OFFSET('EM-Faktoren'!$B$4,'B-Bestandsanalyse'!L194-4,)","v":"Klärgas"}]
[null,null,"flüssige Biomasse",{"$f":"IF(D67>0,D67*$K195/1000,0)","v":{"v":0,"d":"0.0"}},{"v":0,"d":"0.0"},{"v":0,"d":"0.0"},{"v":0,"d":"0.0"},{"v":0,"d":"0.0"},{"$error":"#VALUE!"},null,{"$f":"OFFSET('EM-Faktoren'!$C$1,L195-1,$K$173-2020+1)","v":{"$error":"#REF!"}},20,{"$f":"OFFSET('EM-Faktoren'!$B$4,'B-Bestandsanalyse'!L195-4,)","v":"Flüssige Biomasse"}]
[null,null,"Strom Wärmepumpe",{"$f":"IF(D68>0,D68*$K196/1000,0)","v":{"v":0,"d":"0.0"}},{"v":0,"d":"0.0"},{"v":0,"d":"0.0"},{"v":0,"d":"0.0"},{"v":0,"d":"0.0"},{"$error":"#VALUE!"},null,{"$f":"OFFSET('EM-Faktoren'!$C$1,L196-1,$K$173-2020+1)","v":{"$error":"#REF!"}},4,{"$f":"OFFSET('EM-Faktoren'!$B$4,'B-Bestandsanalyse'!L196-4,)","v":"Strom"}]
[null,null,"Strom Direktheizung",{"$f":"IF(D69>0,D69*$K197/1000,0)","v":{"v":0,"d":"0.0"}},{"v":0,"d":"0.0"},{"v":0,"d":"0.0"},{"v":0,"d":"0.0"},{"v":0,"d":"0.0"},{"$error":"#VALUE!"},null,{"$f":"OFFSET('EM-Faktoren'!$C$1,L197-1,$K$173-2020+1)","v":{"$error":"#REF!"}},4,{"$f":"OFFSET('EM-Faktoren'!$B$4,'B-Bestandsanalyse'!L197-4,)","v":"Strom"}]
[null,null,"Solarthermie Dachlfächen-Anlagen",{"$f":"IF(D70>0,D70*$K198/1000,0)","v":{"v":0,"d":"0.0"}},{"v":0,"d":"0.0"},{"v":0,"d":"0.0"},{"v":0,"d":"0.0"},{"v":0,"d":"0.0"},{"$error":"#VALUE!"},null,{"$f":"OFFSET('EM-Faktoren'!$C$1,L198-1,$K$173-2020+1)","v":{"$error":"#REF!"}},11,{"$f":"OFFSET('EM-Faktoren'!$B$4,'B-Bestandsanalyse'!L198-4,)","v":"Solarwärme"}]
[null,null,"Solarthermie Freiflächenanlagen",{"$f":"IF(D71>0,D71*$K199/1000,0)","v":{"v":0,"d":"0.0"}},{"v":0,"d":"0.0"},{"v":0,"d":"0.0"},{"v":0,"d":"0.0"},{"v":0,"d":"0.0"},{"$error":"#VALUE!"},null,{"$f":"OFFSET('EM-Faktoren'!$C$1,L199-1,$K$173-2020+1)","v":{"$error":"#REF!"}},11,{"$f":"OFFSET('EM-Faktoren'!$B$4,'B-Bestandsanalyse'!L199-4,)","v":"Solarwärme"}]
[null,null,"oberflächennahe Geothermie",{"$f":"IF(D72>0,D72*$K200/1000,0)","v":{"v":0,"d":"0.0"}},{"v":0,"d":"0.0"},{"v":0,"d":"0.0"},{"v":0,"d":"0.0"},{"v":0,"d":"0.0"},{"$error":"#VALUE!"},null,{"$f":"OFFSET('EM-Faktoren'!$C$1,L200-1,$K$173-2020+1)","v":{"$error":"#REF!"}},27,{"$f":"OFFSET('EM-Faktoren'!$B$4,'B-Bestandsanalyse'!L200-4,)","v":"Umweltwärme"}]
[null,null,"tiefe Geothermie",{"$f":"IF(D73>0,D73*$K201/1000,0)","v":{"v":0,"d":"0.0"}},{"v":0,"d":"0.0"},{"v":0,"d":"0.0"},{"v":0,"d":"0.0"},{"v":0,"d":"0.0"},{"$error":"#VALUE!"},null,{"$f":"OFFSET('EM-Faktoren'!$C$1,L201-1,$K$173-2020+1)","v":{"$error":"#REF!"}},26,{"$f":"OFFSET('EM-Faktoren'!$B$4,'B-Bestandsanalyse'!L201-4,)","v":"Tiefe Geothermie"}]
[null,null,"Umweltwärme aus Oberflächengewässern",{"$f":"IF(D74>0,D74*$K202/1000,0)","v":{"v":0,"d":"0.0"}},{"v":0,"d":"0.0"},{"v":0,"d":"0.0"},{"v":0,"d":"0.0"},{"v":0,"d":"0.0"},{"$error":"#VALUE!"},null,{"$f":"OFFSET('EM-Faktoren'!$C$1,L202-1,$K$173-2020+1)","v":{"$error":"#REF!"}},27,{"$f":"OFFSET('EM-Faktoren'!$B$4,'B-Bestandsanalyse'!L202-4,)","v":"Umweltwärme"}]
[null,null,"Umweltwärme aus Grubenwasser",{"$f":"IF(D75>0,D75*$K203/1000,0)","v":{"v":0,"d":"0.0"}},{"v":0,"d":"0.0"},{"v":0,"d":"0.0"},{"v":0,"d":"0.0"},{"v":0,"d":"0.0"},{"$error":"#VALUE!"},null,{"$f":"OFFSET('EM-Faktoren'!$C$1,L203-1,$K$173-2020+1)","v":{"$error":"#REF!"}},27,{"$f":"OFFSET('EM-Faktoren'!$B$4,'B-Bestandsanalyse'!L203-4,)","v":"Umweltwärme"}]
[null,null,"Umweltwärme aus Luft",{"$f":"IF(D76>0,D76*$K204/1000,0)","v":{"v":0,"d":"0.0"}},{"v":0,"d":"0.0"},{"v":0,"d":"0.0"},{"v":0,"d":"0.0"},{"v":0,"d":"0.0"},{"$error":"#VALUE!"},null,{"$f":"OFFSET('EM-Faktoren'!$C$1,L204-1,$K$173-2020+1)","v":{"$error":"#REF!"}},27,{"$f":"OFFSET('EM-Faktoren'!$B$4,'B-Bestandsanalyse'!L204-4,)","v":"Umweltwärme"}]
[null,null,"Umweltwärme aus Abwasser",{"$f":"IF(D77>0,D77*$K205/1000,0)","v":{"v":0,"d":"0.0"}},{"v":0,"d":"0.0"},{"v":0,"d":"0.0"},{"v":0,"d":"0.0"},{"v":0,"d":"0.0"},{"$error":"#VALUE!"},null,{"$f":"OFFSET('EM-Faktoren'!$C$1,L205-1,$K$173-2020+1)","v":{"$error":"#REF!"}},27,{"$f":"OFFSET('EM-Faktoren'!$B$4,'B-Bestandsanalyse'!L205-4,)","v":"Umweltwärme"}]
[null,null,"Sonstige fossile Brennstoffe",{"$f":"IF(D78>0,D78*$K206/1000,0)","v":{"v":0,"d":"0.0"}},{"v":0,"d":"0.0"},{"v":0,"d":"0.0"},{"v":0,"d":"0.0"},{"v":0,"d":"0.0"},{"$error":"#VALUE!"},null,{"$f":"OFFSET('EM-Faktoren'!$C$1,L206-1,$K$173-2020+1)","v":{"$error":"#REF!"}},14,{"$f":"OFFSET('EM-Faktoren'!$B$4,'B-Bestandsanalyse'!L206-4,)","v":"Sonstige"}]
[null,null,"Sonstige erneuerbaren Energien",{"$f":"IF(D79>0,D79*$K207/1000,0)","v":{"v":0,"d":"0.0"}},{"v":0,"d":"0.0"},{"v":0,"d":"0.0"},{"v":0,"d":"0.0"},{"v":0,"d":"0.0"},{"$error":"#VALUE!"},null,{"$f":"OFFSET('EM-Faktoren'!$C$1,L207-1,$K$173-2020+1)","v":{"$error":"#REF!"}},28,{"$f":"OFFSET('EM-Faktoren'!$B$4,'B-Bestandsanalyse'!L207-4,)","v":"sonstige Erneuerbare"}]
[null,null,"Summe",{"$f":"SUM(D176:D207)","v":{"v":0,"d":"0.0"}},{"$f":"SUM(E176:E207)","v":{"v":0,"d":"0.0"}},{"v":0,"d":"0.0"},{"v":0,"d":"0.0"},{"v":0,"d":"0.0"},{"$f":"SUM(I176:I207)","v":{"$error":"#VALUE!"}}]
[]
[]
[null,null,"davon"]
[null,null,"THG Emissionen leitungsgebundene Wärme",{"$nulls":5},{"$f":"SUM(N95:N126)","v":{"$error":"#REF!"}},{"$nulls":14},"Wärmenetze"]
[null,null,"THG Emissionen Gasnetze",{"$nulls":5},{"$f":"SUM(N135:N143)","v":{"$error":"#REF!"}}]

{"sheet":"C-Potenzialanalyse","index":3,"n_rows":78,"n_cols":25,"rows_kept":78,"merged":[[39,4,39,7],[40,6,40,7],[41,6,41,7],[48,2,48,6],[49,2,49,6],[51,5,51,8],[52,5,52,8],[53,5,53,8],[54,5,54,8],[55,5,55,8],[56,5,56,8],[57,5,57,8],[58,5,58,8],[59,5,59,8],[60,5,60,8],[62,5,62,8],[63,5,63,8],[64,5,64,8],[65,5,65,8],[66,5,66,8],[67,5,67,8],[68,5,68,8],[69,5,69,8],[70,5,70,8],[71,5,71,8],[72,5,72,8],[73,5,73,8],[74,5,74,8],[75,5,75,8],[76,5,76,8],[77,5,77,8]]}
[]
[]
[null,"Template für die Datenerfassung durch Kommunen zur KWP"]
[]
[]
[null,"Datenerfassung KWP"]
[null,"Legende Eingabefelder:"]
[null,null,"Dropdown-Menü"]
[null,null,"Numerische Angaben "]
[null,null,"Kurze textliche Angaben"]
[null,null,"Optionale Angaben"]
[]
[null,"#","Inhalte"]
[null,null,"C - Angaben zu den Ergebnissen der KWP - Potenzialanalyse"]
[]
[null,null,"Bewertung potenzieller Synergieeffekte (Pflicht bei Gemeinden >45.000 EW nach Anlage 2 Abschnitt 2 Satz 5)"]
[]
[{"$nulls":3},"Eingabefeld(er)"]
[null,"C.1","Wurden Synergieeffekte identifiziert?"]
[null,"C1.1","... technische Synergieeffekte",{"$nulls":20},"technische Synergieeffekte"]
[null,"C1.2","... organisatorische bzw. personelle Synergieeffekte",{"$nulls":20},"organisatorische-personelle Synergieeffekte"]
[null,"C1.3","... finanzielle Synergieeffekte",{"$nulls":20},"finanzielle Synergieeffekte"]
[]
[null,"C.2","Wurden Erneuerbare-Energie-Gemeinschaften berücksichtigt?",{"$nulls":20},"Erneuerbare-Energie-Gemeinschaften"]
[]
[]
[null,null,"Energetische Potenziale"]
[]
[null,"C.3","Potenziale zur Senkung des Wärmebedarfs durch Steigerung der Energieeffizienz"]
[]
[null,null,"Potenziale Endenergieeinsparung","Summe der Potenziale zur Senkung des Wärmebedarfs durch Steigerung der Energieeffizienz ","Hinweise"]
[null,null,"in MWh/a"]
[null,"C3.1","Wärmebedarfsreduktion in Gebäuden",{"$nulls":20},"Potenzial Wärmebedarfsreduktion Gebäude"]
[]
[]
[null,null,"Sanierungsrate"]
[]
[null,"C.4","Angenommene Sanierungsrate für das gesamte beplante Gebiet "]
[]
[null,null,"Angenommene Sanierungsrate",null,"für den Fall, dass eine nichtlineare Sanierungsrate angenommen wurde",{"$nulls":3},"Hinweise"]
[null,null,"in Prozent","linear","Basisjahr bis 2030","2030 bis 2035","2035 bis 2040"]
[null,null,"Angenommene Sanierungsrate",{"$nulls":20},"Sanierungsrate linear","Sanierungsrate nichtlinear"]
[]
[]
[null,null,"Energetische Potenziale"]
[]
[null,"C.5","Potenziale lokaler erneuerbarer Energien (EE) zur Strom- und Wärmeversorgung nach Energieträgern"]
[]
[null,null,"Hinweis zur erneuerbaren Stromversorgung"]
[null,null,"Erneuerbare Energien sollen überwiegend in effizienten KWK-Anlagen genutzt werden. Bitte ermitteln sie das entsprechend reduzierte Potenzial für die Wärmeerzeugung."]
[]
[null,null,"Potenzial Wärmeerzeugung","Summe der Potenziale EE ","Hinweise","Erläuterung"]
[null,null,"in MWh/a"]
[null,null,"Wasserstoff",null,null,"mittels überschüssigem EE-Strom lokal erzeugter Wasserstoff"]
[null,null,"Wasserstoffderivate",null,null,"mittels überschüssigem EE-Strom lokal erzeugter Wasserstoffderivate"]
[null,null,"Grubengas"]
[null,null,"nichtbiogener Abfall",null,null,"aus Einzugsgebiet bestehender und geplanter Anlagen in der Kommune"]
[null,null,"biogener Abfall",null,null,"aus Einzugsgebiet bestehender und geplanter Anlagen in der Kommune"]
[null,null,"Abwärme (Summe)",null,null,"Summe wenn nicht nach Temperaturniveau unterschieden werden kann",{"$nulls":17},{"$f":"C59","v":"Abwärme (Summe)"}]
[null,null,"Abwärme < 60 °C"]
[null,null,"Abwärme 60 bis 110 °C"]
[null,null,"Abwärme >= 110 °C"]
[null,null,"feste Biomasse (ohne Altholz)",null,null,"unter Berücksichtigung bestehender stofflicher Nutzung (Holzindustrie, Papier etc.)"]
[null,null,"Altholz",null,null,"aus Einzugsgebiet bestehender und geplanter Anlagen in der Kommune"]
[null,null,"Biogas",null,null,"lokal erzeugtes Biogas"]
[null,null,"Biomethan",null,null,"lokal erzeugtes Biomethan"]
[null,null,"Deponiegas",null,null,"Ausgasung der Deponien berücksichtigen"]
[null,null,"Klärgas"]
[null,null,"flüssige Biomasse",null,null,"lokal erzeugte flüssige Biomasse"]
[null,null,"Erneuerbare Stromerzeugung",null,null,"lokal erzeugter EE-Strom (Windkraft, Wasserkraft, PV) und Strom aus erneuerbarer KWK",{"$nulls":17},{"$f":"C70","v":"Erneuerbare Stromerzeugung"}]
[null,null,"Solarthermie Dach-Anlagen",null,null,"Aufteilung der Dachflächen für PV und Solarthermie berücksichtigen"]
[null,null,"Solarthermie Freiflächenanlagen",null,null,"Aufteilung der verfügbaren Freiflächen für PV und Solarthermie berücksichtigen"]
[null,null,"oberflächennahe Geothermie",null,null,"nur auf gebäudenahen Flächen oder wirtschaftliche Erschließung mit Wärmenetzen"]
[null,null,"tiefe Geothermie"]
[null,null,"Umweltwärme aus Oberflächengewässern",null,null,"unter Berücksichtigung von Restriktionen zur Entnahme von Wärme und Verfügbarkeit von Wärmenetzen"]
[null,null,"Umweltwärme aus Grubenwasser"]
[null,null,"Umweltwärme aus Abwasser"]
[null,null,"Summe",{"$f":"SUM(D54:D77)","v":0}]

{"sheet":"D-Zielszenario","index":4,"n_rows":243,"n_cols":26,"rows_kept":243,"merged":[[41,2,41,6],[42,2,43,6],[45,2,45,6],[46,2,46,6],[48,3,49,6],[48,7,49,7],[48,8,49,8],[48,9,49,9],[86,3,87,6],[86,7,87,7],[86,8,87,8],[86,9,87,9],[124,3,125,6],[124,7,125,7],[124,8,125,8],[124,9,125,9],[165,2,165,7],[168,3,168,7],[182,12,182,14],[222,12,222,14],[237,2,237,5]]}
[]
[]
[null,"Template für die Datenerfassung durch Kommunen zur KWP"]
[]
[]
[null,"Datenerfassung KWP"]
[null,"Legende Eingabefelder:"]
[null,null,"Dropdown-Menü"]
[null,null,"Numerische Angaben "]
[null,null,"Kurze textliche Angaben"]
[null,null,"Optionale Angaben"]
[null,null,"Rechenergebnisse (keine Eingabefelder)"]
[]
[null,"#","Inhalte"]
[null,null,"D - Angaben zu den Ergebnissen der KWP - Maßgebliches Zielszenario"]
[]
[null,null,"Energienetze","Verweis WPG"]
[]
[{"$nulls":4},"Eingabefeld(er)"]
[{"$nulls":4},2030,"2035",2040,"Einheit","Hinweise"]
[{"$nulls":5},"2025 optional f. vereinfachtes Verfahren"]
[null,"D.1","Anzahl Wärmenetze",{"$nulls":4},"Anzahl",{"$nulls":15},"Anzahl Wärmenetze"]
[null,"D.2","Gesamte Trassenlänge aller Wärmenetze",{"$nulls":4},"km",{"$nulls":15},"Gesamtlänge Wärmenetze"]
[null,"D.3","Kapazität Wärmespeicher",{"$nulls":4},"MWh",{"$nulls":15},"Kapazität Wärmespeicher"]
[null,"D.4","Anzahl der Gebäude mit Anschluss an ein Wärmenetz","Anlage 2 Abschnitt III Nr. 5",{"$nulls":3},"Anzahl",{"$nulls":15},"Anzahl Gebäude mit Wärmenetzanschluss"]
[null,"D.5","Anteil der Gebäude mit Wärmenetzanschluss an der Gesamtheit der Gebäude","Anlage 2 Abschnitt III Nr. 5",{"$nulls":3},"%",{"$nulls":15},"Anteil Gebäude mit Wärmenetzanschluss"]
[null,"D.6","Anzahl der Gebäude mit Anschluss an ein Gasnetz","Anlage 2 Abschnitt III Nr. 6",{"$nulls":3},"Anzahl",{"$nulls":15},"Anzahl Gebäude mit Gasnetzanschluss"]
[null,"D.7","Anteil der Gebäude mit Gasnetzanschluss an der Gesamtheit der Gebäude","Anlage 2 Abschnitt III Nr. 6",{"$nulls":3},"%",{"$nulls":15},"Anteil Gebäude mit Gasnetzanschluss"]
[]
[]
[null,null,"Endenergieverbrauch"]
[]
[null,"D.8","Bedarf an grünem Methan für das KWP Zieljahr nach § 28 Abs. 5"]
[]
[{"$nulls":3},"Eingabefeld(er)","Einheit"]
[null,null,"Endenergieverbrauch",2040]
[null,null,"grünes Methan",null,"MWh/a",{"$nulls":18},"grünes Methan"]
[]
[]
[null,"D.9","Jährlicher Endenergieverbrauch gesamte Wärmeversorgung nach Energieträgern und Sektoren nach Anlage 2 Abschnitt III Nr. 1 WPG"]
[]
[null,null,"Hinweis zu Wärmepumpen und Umweltwärme"]
[null,null,"Wärmepumpen haben die Besonderheit, dass sie zwei der im Template gelisteten Energieträger nutzen, um Wärme zu erzeugen. Daher müssen die jeweiligen Energiemengen beiden Energieträgern zugeordnet werden. Eine Luft-Wärmepumpe wird folglich im Energieträger Umweltwärme Luft und dem Energieträger Strom Wärmepumpe berücksichtigt."]
[]
[]
[null,null,"Hinweis zu leitungsgebundener Wärme (Wärmenetze)"]
[null,null,"Der Endenergieverbrauch für die Wärmenetze muss in der Tabelle berücksichtigt werden, inkl. Umwandlungs- und Leitungsverlusten"]
[]
[null,null,{"$f":"'B-Bestandsanalyse'!$C$45","v":"Endenergieverbrauch Wärme"},"Sektoren optional"]
[null,null,2030,{"$nulls":9},2030]
[null,null,"MWh/a","Haushalte","GHD","öffentliche Liegenschaften","Industrie","Gesamtsumme ohne Differenzierung nach Sektoren","Summe  (der Spalten D bis G oder H)","Hinweise",null,null,"Emissionsfaktor","Zeile","Energieträger","Tonnen THG","Haushalte","GHD","öff. Liegenschaften","Industrie"]
[null,null,"Braunkohle",{"$nulls":5},{"$f":"_xlfn.IFS(Z52=\"-\",\"-\",H52>SUM(D52:G52),H52,X52=\"OK\",SUM(D52:G52),Y52=\"OK\",H52)","v":"-"},null,{"$f":"IF(SUM(D52:G52)>0,IF(H52>0,\"Fehler: entweder Aufteilug nach Sektoren ODER Gesammtsumme\",\"\"),\"\")","v":""},null,{"$f":"OFFSET('EM-Faktoren'!$C$1,N52-1,$M$50-2020+1)","v":0.441},10,{"$f":"OFFSET('EM-Faktoren'!$B$4,N52-4,)","v":"Braunkohle"},{"$f":"+I52*M52","v":{"$error":"#VALUE!"}},{"$f":"D52*$M52","v":0},{"$f":"E52*$M52","v":0},0,0,{"$nulls":3},{"$f":"IFERROR(_xlfn.IFS(D52=\"\",\"-\",E52=\"\",\"-\",F52=\"\",\"-\",G52=\"\",\"-\"),\"OK\")","v":"-"},{"$f":"IFERROR(_xlfn.IFS(H52=\"\",\"-\"),\"OK\")","v":"-"},{"$f":"IFERROR(_xlfn.IFS(X52&Y52=\"--\",\"-\"),\"OK\")","v":"-"}]
[null,null,"Steinkohle",{"$nulls":5},{"$f":"_xlfn.IFS(Z53=\"-\",\"-\",H53>SUM(D53:G53),H53,X53=\"OK\",SUM(D53:G53),Y53=\"OK\",H53)","v":"-"},null,{"$f":"IF(SUM(D53:G53)>0,IF(H53>0,\"Fehler: entweder Aufteilug nach Sektoren ODER Gesammtsumme\",\"\"),\"\")","v":""},null,{"$f":"OFFSET('EM-Faktoren'!$C$1,N53-1,$M$50-2020+1)","v":0.433},9,{"$f":"OFFSET('EM-Faktoren'!$B$4,N53-4,)","v":"Kohlen (Steinkohle)"},{"$f":"+I53*M53","v":{"$error":"#VALUE!"}},{"$f":"D53*$M53","v":0},{"$f":"E53*$M53","v":0},{"$f":"F53*$M53","v":0},{"$f":"G53*$M53","v":0},{"$nulls":3},{"$f":"IFERROR(_xlfn.IFS(D53=\"\",\"-\",E53=\"\",\"-\",F53=\"\",\"-\",G53=\"\",\"-\"),\"OK\")","v":"-"},{"$f":"IFERROR(_xlfn.IFS(H53=\"\",\"-\"),\"OK\")","v":"-"},{"$f":"IFERROR(_xlfn.IFS(X53&Y53=\"--\",\"-\"),\"OK\")","v":"-"}]
[null,null,"Erdgas",{"$nulls":5},{"$f":"_xlfn.IFS(Z54=\"-\",\"-\",H54>SUM(D54:G54),H54,X54=\"OK\",SUM(D54:G54),Y54=\"OK\",H54)","v":"-"},null,"",null,{"$f":"OFFSET('EM-Faktoren'!$C$1,N54-1,$M$50-2020+1)","v":0.257},5,{"$f":"OFFSET('EM-Faktoren'!$B$4,N54-4,)","v":"Erdgas"},{"$error":"#VALUE!"},0,0,0,0,{"$nulls":3},{"$f":"IFERROR(_xlfn.IFS(D54=\"\",\"-\",E54=\"\",\"-\",F54=\"\",\"-\",G54=\"\",\"-\"),\"OK\")","v":"-"},{"$f":"IFERROR(_xlfn.IFS(H54=\"\",\"-\"),\"OK\")","v":"-"},{"$f":"IFERROR(_xlfn.IFS(X54&Y54=\"--\",\"-\"),\"OK\")","v":"-"}]
[null,null,"Flüssiggas",{"$nulls":5},{"$f":"_xlfn.IFS(Z55=\"-\",\"-\",H55>SUM(D55:G55),H55,X55=\"OK\",SUM(D55:G55),Y55=\"OK\",H55)","v":"-"},null,"",null,{"$f":"OFFSET('EM-Faktoren'!$C$1,N55-1,$M$50-2020+1)","v":0.295},7,{"$f":"OFFSET('EM-Faktoren'!$B$4,N55-4,)","v":"Flüssiggas"},{"$error":"#VALUE!"},0,0,0,0,{"$nulls":3},{"$f":"IFERROR(_xlfn.IFS(D55=\"\",\"-\",E55=\"\",\"-\",F55=\"\",\"-\",G55=\"\",\"-\"),\"OK\")","v":"-"},{"$f":"IFERROR(_xlfn.IFS(H55=\"\",\"-\"),\"OK\")","v":"-"},{"$f":"IFERROR(_xlfn.IFS(X55&Y55=\"--\",\"-\"),\"OK\")","v":"-"}]
[null,null,"Heizöl",{"$nulls":5},{"$f":"_xlfn.IFS(Z56=\"-\",\"-\",H56>SUM(D56:G56),H56,X56=\"OK\",SUM(D56:G56),Y56=\"OK\",H56)","v":"-"},null,"",null,{"$f":"OFFSET('EM-Faktoren'!$C$1,N56-1,$M$50-2020+1)","v":0.311},6,{"$f":"OFFSET('EM-Faktoren'!$B$4,N56-4,)","v":"Heizöl"},{"$error":"#VALUE!"},0,0,0,0,{"$nulls":3},{"$f":"IFERROR(_xlfn.IFS(D56=\"\",\"-\",E56=\"\",\"-\",F56=\"\",\"-\",G56=\"\",\"-\"),\"OK\")","v":"-"},{"$f":"IFERROR(_xlfn.IFS(H56=\"\",\"-\"),\"OK\")","v":"-"},{"$f":"IFERROR(_xlfn.IFS(X56&Y56=\"--\",\"-\"),\"OK\")","v":"-"}]
[null,null,"Wasserstoff",{"$nulls":5},{"$f":"_xlfn.IFS(Z57=\"-\",\"-\",H57>SUM(D57:G57),H57,X57=\"OK\",SUM(D57:G57),Y57=\"OK\",H57)","v":"-"},null,"",null,{"$f":"OFFSET('EM-Faktoren'!$C$1,N57-1,$M$50-2020+1)","v":{"v":0.05,"d":"0.050"}},12,{"$f":"OFFSET('EM-Faktoren'!$B$4,N57-4,)","v":"Wasserstoff"},{"$error":"#VALUE!"},0,0,0,0,{"$nulls":3},{"$f":"IFERROR(_xlfn.IFS(D57=\"\",\"-\",E57=\"\",\"-\",F57=\"\",\"-\",G57=\"\",\"-\"),\"OK\")","v":"-"},{"$f":"IFERROR(_xlfn.IFS(H57=\"\",\"-\"),\"OK\")","v":"-"},{"$f":"IFERROR(_xlfn.IFS(X57&Y57=\"--\",\"-\"),\"OK\")","v":"-"}]
[null,null,"Wasserstoffderivate",{"$nulls":5},{"$f":"_xlfn.IFS(Z58=\"-\",\"-\",H58>SUM(D58:G58),H58,X58=\"OK\",SUM(D58:G58),Y58=\"OK\",H58)","v":"-"},null,"",null,{"$f":"OFFSET('EM-Faktoren'!$C$1,N58-1,$M$50-2020+1)","v":0.041},13,{"$f":"OFFSET('EM-Faktoren'!$B$4,N58-4,)","v":"PtX"},{"$error":"#VALUE!"},0,0,0,0,{"$nulls":3},{"$f":"IFERROR(_xlfn.IFS(D58=\"\",\"-\",E58=\"\",\"-\",F58=\"\",\"-\",G58=\"\",\"-\"),\"OK\")","v":"-"},{"$f":"IFERROR(_xlfn.IFS(H58=\"\",\"-\"),\"OK\")","v":"-"},{"$f":"IFERROR(_xlfn.IFS(X58&Y58=\"--\",\"-\"),\"OK\")","v":"-"}]
[null,null,"Grubengas",{"$nulls":5},{"$f":"_xlfn.IFS(Z59=\"-\",\"-\",H59>SUM(D59:G59),H59,X59=\"OK\",SUM(D59:G59),Y59=\"OK\",H59)","v":"-"},null,"",null,{"$f":"OFFSET('EM-Faktoren'!$C$1,N59-1,$M$50-2020+1)","v":0.135},22,{"$f":"OFFSET('EM-Faktoren'!$B$4,N59-4,)","v":"Deponiegas/Grubengas"},{"$error":"#VALUE!"},0,0,0,0,{"$nulls":3},{"$f":"IFERROR(_xlfn.IFS(D59=\"\",\"-\",E59=\"\",\"-\",F59=\"\",\"-\",G59=\"\",\"-\"),\"OK\")","v":"-"},{"$f":"IFERROR(_xlfn.IFS(H59=\"\",\"-\"),\"OK\")","v":"-"},{"$f":"IFERROR(_xlfn.IFS(X59&Y59=\"--\",\"-\"),\"OK\")","v":"-"}]
[null,null,"nichtbiogener Abfall",{"$nulls":5},{"$f":"_xlfn.IFS(Z60=\"-\",\"-\",H60>SUM(D60:G60),H60,X60=\"OK\",SUM(D60:G60),Y60=\"OK\",H60)","v":"-"},null,"",null,{"$f":"OFFSET('EM-Faktoren'!$C$1,N60-1,$M$50-2020+1)","v":0.121},23,{"$f":"OFFSET('EM-Faktoren'!$B$4,N60-4,)","v":"Abfall"},{"$error":"#VALUE!"},0,0,0,0,{"$nulls":3},{"$f":"IFERROR(_xlfn.IFS(D60=\"\",\"-\",E60=\"\",\"-\",F60=\"\",\"-\",G60=\"\",\"-\"),\"OK\")","v":"-"},{"$f":"IFERROR(_xlfn.IFS(H60=\"\",\"-\"),\"OK\")","v":"-"},{"$f":"IFERROR(_xlfn.IFS(X60&Y60=\"--\",\"-\"),\"OK\")","v":"-"}]
[null,null,"biogener Abfall",{"$nulls":5},{"$f":"_xlfn.IFS(Z61=\"-\",\"-\",H61>SUM(D61:G61),H61,X61=\"OK\",SUM(D61:G61),Y61=\"OK\",H61)","v":"-"},null,"",null,{"$f":"OFFSET('EM-Faktoren'!$C$1,N61-1,$M$50-2020+1)","v":0.121},23,{"$f":"OFFSET('EM-Faktoren'!$B$4,N61-4,)","v":"Abfall"},{"$error":"#VALUE!"},0,0,0,0,{"$nulls":3},{"$f":"IFERROR(_xlfn.IFS(D61=\"\",\"-\",E61=\"\",\"-\",F61=\"\",\"-\",G61=\"\",\"-\"),\"OK\")","v":"-"},{"$f":"IFERROR(_xlfn.IFS(H61=\"\",\"-\"),\"OK\")","v":"-"},{"$f":"IFERROR(_xlfn.IFS(X61&Y61=\"--\",\"-\"),\"OK\")","v":"-"}]
[null,null,"Abwärme < 60 °C",{"$nulls":5},{"$f":"_xlfn.IFS(Z62=\"-\",\"-\",H62>SUM(D62:G62),H62,X62=\"OK\",SUM(D62:G62),Y62=\"OK\",H62)","v":"-"},null,"",null,{"$f":"OFFSET('EM-Faktoren'!$C$1,N62-1,$M$50-2020+1)","v":{"v":0.01,"d":"0.010"}},27,{"$f":"OFFSET('EM-Faktoren'!$B$4,N62-4,)","v":"Umweltwärme"},{"$error":"#VALUE!"},0,0,0,0,{"$nulls":3},{"$f":"IFERROR(_xlfn.IFS(D62=\"\",\"-\",E62=\"\",\"-\",F62=\"\",\"-\",G62=\"\",\"-\"),\"OK\")","v":"-"},{"$f":"IFERROR(_xlfn.IFS(H62=\"\",\"-\"),\"OK\")","v":"-"},{"$f":"IFERROR(_xlfn.IFS(X62&Y62=\"--\",\"-\"),\"OK\")","v":"-"}]
[null,null,"Abwärme 60 bis 110 °C",{"$nulls":5},{"$f":"_xlfn.IFS(Z63=\"-\",\"-\",H63>SUM(D63:G63),H63,X63=\"OK\",SUM(D63:G63),Y63=\"OK\",H63)","v":"-"},null,"",null,{"$f":"OFFSET('EM-Faktoren'!$C$1,N63-1,$M$50-2020+1)","v":{"v":0.01,"d":"0.010"}},27,{"$f":"OFFSET('EM-Faktoren'!$B$4,N63-4,)","v":"Umweltwärme"},{"$error":"#VALUE!"},0,0,0,0,{"$nulls":3},{"$f":"IFERROR(_xlfn.IFS(D63=\"\",\"-\",E63=\"\",\"-\",F63=\"\",\"-\",G63=\"\",\"-\"),\"OK\")","v":"-"},{"$f":"IFERROR(_xlfn.IFS(H63=\"\",\"-\"),\"OK\")","v":"-"},{"$f":"IFERROR(_xlfn.IFS(X63&Y63=\"--\",\"-\"),\"OK\")","v":"-"}]
[null,null,"Abwärme >= 110 °C",{"$nulls":5},{"$f":"_xlfn.IFS(Z64=\"-\",\"-\",H64>SUM(D64:G64),H64,X64=\"OK\",SUM(D64:G64),Y64=\"OK\",H64)","v":"-"},null,"",null,{"$f":"OFFSET('EM-Faktoren'!$C$1,N64-1,$M$50-2020+1)","v":{"v":0.01,"d":"0.010"}},27,{"$f":"OFFSET('EM-Faktoren'!$B$4,N64-4,)","v":"Umweltwärme"},{"$f":"+I64*M64","v":{"$error":"#VALUE!"}},{"$f":"D64*$M64","v":0},{"$f":"E64*$M64","v":0},{"$f":"F64*$M64","v":0},{"$f":"G64*$M64","v":0},{"$nulls":3},{"$f":"IFERROR(_xlfn.IFS(D64=\"\",\"-\",E64=\"\",\"-\",F64=\"\",\"-\",G64=\"\",\"-\"),\"OK\")","v":"-"},{"$f":"IFERROR(_xlfn.IFS(H64=\"\",\"-\"),\"OK\")","v":"-"},{"$f":"IFERROR(_xlfn.IFS(X64&Y64=\"--\",\"-\"),\"OK\")","v":"-"}]
[null,null,"feste Biomasse (ohne Altholz)",{"$nulls":5},{"$f":"_xlfn.IFS(Z65=\"-\",\"-\",H65>SUM(D65:G65),H65,X65=\"OK\",SUM(D65:G65),Y65=\"OK\",H65)","v":"-"},null,"",null,{"$f":"OFFSET('EM-Faktoren'!$C$1,N65-1,$M$50-2020+1)","v":0.064},19,{"$f":"OFFSET('EM-Faktoren'!$B$4,N65-4,)","v":"EE-Festbrennstoffe"},{"$error":"#VALUE!"},0,0,0,0,{"$nulls":3},{"$f":"IFERROR(_xlfn.IFS(D65=\"\",\"-\",E65=\"\",\"-\",F65=\"\",\"-\",G65=\"\",\"-\"),\"OK\")","v":"-"},{"$f":"IFERROR(_xlfn.IFS(H65=\"\",\"-\"),\"OK\")","v":"-"},{"$f":"IFERROR(_xlfn.IFS(X65&Y65=\"--\",\"-\"),\"OK\")","v":"-"}]
[null,null,"Altholz",{"$nulls":5},{"$f":"_xlfn.IFS(Z66=\"-\",\"-\",H66>SUM(D66:G66),H66,X66=\"OK\",SUM(D66:G66),Y66=\"OK\",H66)","v":"-"},null,"",null,{"$f":"OFFSET('EM-Faktoren'!$C$1,N66-1,$M$50-2020+1)","v":0.064},19,{"$f":"OFFSET('EM-Faktoren'!$B$4,N66-4,)","v":"EE-Festbrennstoffe"},{"$error":"#VALUE!"},0,0,0,0,{"$nulls":3},{"$f":"IFERROR(_xlfn.IFS(D66=\"\",\"-\",E66=\"\",\"-\",F66=\"\",\"-\",G66=\"\",\"-\"),\"OK\")","v":"-"},{"$f":"IFERROR(_xlfn.IFS(H66=\"\",\"-\"),\"OK\")","v":"-"},{"$f":"IFERROR(_xlfn.IFS(X66&Y66=\"--\",\"-\"),\"OK\")","v":"-"}]
[null,null,"Biogas",{"$nulls":5},{"$f":"_xlfn.IFS(Z67=\"-\",\"-\",H67>SUM(D67:G67),H67,X67=\"OK\",SUM(D67:G67),Y67=\"OK\",H67)","v":"-"},null,"",null,{"$f":"OFFSET('EM-Faktoren'!$C$1,N67-1,$M$50-2020+1)","v":0.124},21,{"$f":"OFFSET('EM-Faktoren'!$B$4,N67-4,)","v":"Biogas"},{"$error":"#VALUE!"},0,0,0,0,{"$nulls":3},{"$f":"IFERROR(_xlfn.IFS(D67=\"\",\"-\",E67=\"\",\"-\",F67=\"\",\"-\",G67=\"\",\"-\"),\"OK\")","v":"-"},{"$f":"IFERROR(_xlfn.IFS(H67=\"\",\"-\"),\"OK\")","v":"-"},{"$f":"IFERROR(_xlfn.IFS(X67&Y67=\"--\",\"-\"),\"OK\")","v":"-"}]
[null,null,"Biomethan",{"$nulls":5},{"$f":"_xlfn.IFS(Z68=\"-\",\"-\",H68>SUM(D68:G68),H68,X68=\"OK\",SUM(D68:G68),Y68=\"OK\",H68)","v":"-"},null,"",null,{"$f":"OFFSET('EM-Faktoren'!$C$1,N68-1,$M$50-2020+1)","v":0.041},25,{"$f":"OFFSET('EM-Faktoren'!$B$4,N68-4,)","v":"Synth. Brennstoffe"},{"$error":"#VALUE!"},0,0,0,0,{"$nulls":3},{"$f":"IFERROR(_xlfn.IFS(D68=\"\",\"-\",E68=\"\",\"-\",F68=\"\",\"-\",G68=\"\",\"-\"),\"OK\")","v":"-"},{"$f":"IFERROR(_xlfn.IFS(H68=\"\",\"-\"),\"OK\")","v":"-"},{"$f":"IFERROR(_xlfn.IFS(X68&Y68=\"--\",\"-\"),\"OK\")","v":"-"}]
[null,null,"Deponiegas",{"$nulls":5},{"$f":"_xlfn.IFS(Z69=\"-\",\"-\",H69>SUM(D69:G69),H69,X69=\"OK\",SUM(D69:G69),Y69=\"OK\",H69)","v":"-"},null,"",null,{"$f":"OFFSET('EM-Faktoren'!$C$1,N69-1,$M$50-2020+1)","v":0.135},22,{"$f":"OFFSET('EM-Faktoren'!$B$4,N69-4,)","v":"Deponiegas/Grubengas"},{"$error":"#VALUE!"},0,0,0,0,{"$nulls":3},{"$f":"IFERROR(_xlfn.IFS(D69=\"\",\"-\",E69=\"\",\"-\",F69=\"\",\"-\",G69=\"\",\"-\"),\"OK\")","v":"-"},{"$f":"IFERROR(_xlfn.IFS(H69=\"\",\"-\"),\"OK\")","v":"-"},{"$f":"IFERROR(_xlfn.IFS(X69&Y69=\"--\",\"-\"),\"OK\")","v":"-"}]
[null,null,"Klärgas",{"$nulls":5},{"$f":"_xlfn.IFS(Z70=\"-\",\"-\",H70>SUM(D70:G70),H70,X70=\"OK\",SUM(D70:G70),Y70=\"OK\",H70)","v":"-"},null,"",null,{"$f":"OFFSET('EM-Faktoren'!$C$1,N70-1,$M$50-2020+1)","v":{"v":0.11,"d":"0.110"}},18,{"$f":"OFFSET('EM-Faktoren'!$B$4,N70-4,)","v":"Klärgas"},{"$error":"#VALUE!"},0,0,0,0,{"$nulls":3},{"$f":"IFERROR(_xlfn.IFS(D70=\"\",\"-\",E70=\"\",\"-\",F70=\"\",\"-\",G70=\"\",\"-\"),\"OK\")","v":"-"},{"$f":"IFERROR(_xlfn.IFS(H70=\"\",\"-\"),\"OK\")","v":"-"},{"$f":"IFERROR(_xlfn.IFS(X70&Y70=\"--\",\"-\"),\"OK\")","v":"-"}]
[null,null,"flüssige Biomasse",{"$nulls":5},{"$f":"_xlfn.IFS(Z71=\"-\",\"-\",H71>SUM(D71:G71),H71,X71=\"OK\",SUM(D71:G71),Y71=\"OK\",H71)","v":"-"},null,"",null,{"$f":"OFFSET('EM-Faktoren'!$C$1,N71-1,$M$50-2020+1)","v":{"v":0.3,"d":"0.300"}},20,{"$f":"OFFSET('EM-Faktoren'!$B$4,N71-4,)","v":"Flüssige Biomasse"},{"$error":"#VALUE!"},0,0,0,0,{"$nulls":3},{"$f":"IFERROR(_xlfn.IFS(D71=\"\",\"-\",E71=\"\",\"-\",F71=\"\",\"-\",G71=\"\",\"-\"),\"OK\")","v":"-"},{"$f":"IFERROR(_xlfn.IFS(H71=\"\",\"-\"),\"OK\")","v":"-"},{"$f":"IFERROR(_xlfn.IFS(X71&Y71=\"--\",\"-\"),\"OK\")","v":"-"}]
[null,null,"Strom Wärmepumpe",{"$nulls":5},{"$f":"_xlfn.IFS(Z72=\"-\",\"-\",H72>SUM(D72:G72),H72,X72=\"OK\",SUM(D72:G72),Y72=\"OK\",H72)","v":"-"},null,"",null,{"$f":"OFFSET('EM-Faktoren'!$C$1,N72-1,$M$50-2020+1)","v":{"v":0.17,"d":"0.170"}},4,{"$f":"OFFSET('EM-Faktoren'!$B$4,N72-4,)","v":"Strom"},{"$error":"#VALUE!"},0,0,0,0,{"$nulls":3},{"$f":"IFERROR(_xlfn.IFS(D72=\"\",\"-\",E72=\"\",\"-\",F72=\"\",\"-\",G72=\"\",\"-\"),\"OK\")","v":"-"},{"$f":"IFERROR(_xlfn.IFS(H72=\"\",\"-\"),\"OK\")","v":"-"},{"$f":"IFERROR(_xlfn.IFS(X72&Y72=\"--\",\"-\"),\"OK\")","v":"-"}]
[null,null,"Strom Direktheizung",{"$nulls":5},{"$f":"_xlfn.IFS(Z73=\"-\",\"-\",H73>SUM(D73:G73),H73,X73=\"OK\",SUM(D73:G73),Y73=\"OK\",H73)","v":"-"},null,"",null,{"$f":"OFFSET('EM-Faktoren'!$C$1,N73-1,$M$50-2020+1)","v":{"v":0.17,"d":"0.170"}},4,{"$f":"OFFSET('EM-Faktoren'!$B$4,N73-4,)","v":"Strom"},{"$error":"#VALUE!"},0,0,0,0,{"$nulls":3},{"$f":"IFERROR(_xlfn.IFS(D73=\"\",\"-\",E73=\"\",\"-\",F73=\"\",\"-\",G73=\"\",\"-\"),\"OK\")","v":"-"},{"$f":"IFERROR(_xlfn.IFS(H73=\"\",\"-\"),\"OK\")","v":"-"},{"$f":"IFERROR(_xlfn.IFS(X73&Y73=\"--\",\"-\"),\"OK\")","v":"-"}]
[null,null,"Solarthermie Dachflächen-Anlagen",{"$nulls":5},{"$f":"_xlfn.IFS(Z74=\"-\",\"-\",H74>SUM(D74:G74),H74,X74=\"OK\",SUM(D74:G74),Y74=\"OK\",H74)","v":"-"},null,"",null,{"$f":"OFFSET('EM-Faktoren'!$C$1,N74-1,$M$50-2020+1)","v":0.023},11,{"$f":"OFFSET('EM-Faktoren'!$B$4,N74-4,)","v":"Solarwärme"},{"$error":"#VALUE!"},0,0,0,0,{"$nulls":3},{"$f":"IFERROR(_xlfn.IFS(D74=\"\",\"-\",E74=\"\",\"-\",F74=\"\",\"-\",G74=\"\",\"-\"),\"OK\")","v":"-"},{"$f":"IFERROR(_xlfn.IFS(H74=\"\",\"-\"),\"OK\")","v":"-"},{"$f":"IFERROR(_xlfn.IFS(X74&Y74=\"--\",\"-\"),\"OK\")","v":"-"}]
[null,null,"Solarthermie Freiflächenanlagen",{"$nulls":5},{"$f":"_xlfn.IFS(Z75=\"-\",\"-\",H75>SUM(D75:G75),H75,X75=\"OK\",SUM(D75:G75),Y75=\"OK\",H75)","v":"-"},null,"",null,{"$f":"OFFSET('EM-Faktoren'!$C$1,N75-1,$M$50-2020+1)","v":0.023},11,{"$f":"OFFSET('EM-Faktoren'!$B$4,N75-4,)","v":"Solarwärme"},{"$error":"#VALUE!"},0,0,0,0,{"$nulls":3},{"$f":"IFERROR(_xlfn.IFS(D75=\"\",\"-\",E75=\"\",\"-\",F75=\"\",\"-\",G75=\"\",\"-\"),\"OK\")","v":"-"},{"$f":"IFERROR(_xlfn.IFS(H75=\"\",\"-\"),\"OK\")","v":"-"},{"$f":"IFERROR(_xlfn.IFS(X75&Y75=\"--\",\"-\"),\"OK\")","v":"-"}]
[null,null,"oberflächennahe Geothermie",{"$nulls":5},{"$f":"_xlfn.IFS(Z76=\"-\",\"-\",H76>SUM(D76:G76),H76,X76=\"OK\",SUM(D76:G76),Y76=\"OK\",H76)","v":"-"},null,"",null,{"$f":"OFFSET('EM-Faktoren'!$C$1,N76-1,$M$50-2020+1)","v":{"v":0.01,"d":"0.010"}},27,{"$f":"OFFSET('EM-Faktoren'!$B$4,N76-4,)","v":"Umweltwärme"},{"$error":"#VALUE!"},0,0,0,0,{"$nulls":3},{"$f":"IFERROR(_xlfn.IFS(D76=\"\",\"-\",E76=\"\",\"-\",F76=\"\",\"-\",G76=\"\",\"-\"),\"OK\")","v":"-"},{"$f":"IFERROR(_xlfn.IFS(H76=\"\",\"-\"),\"OK\")","v":"-"},{"$f":"IFERROR(_xlfn.IFS(X76&Y76=\"--\",\"-\"),\"OK\")","v":"-"}]
[null,null,"tiefe Geothermie",{"$nulls":5},{"$f":"_xlfn.IFS(Z77=\"-\",\"-\",H77>SUM(D77:G77),H77,X77=\"OK\",SUM(D77:G77),Y77=\"OK\",H77)","v":"-"},null,"",null,{"$f":"OFFSET('EM-Faktoren'!$C$1,N77-1,$M$50-2020+1)","v":0.149},26,{"$f":"OFFSET('EM-Faktoren'!$B$4,N77-4,)","v":"Tiefe Geothermie"},{"$error":"#VALUE!"},0,0,0,0,{"$nulls":3},{"$f":"IFERROR(_xlfn.IFS(D77=\"\",\"-\",E77=\"\",\"-\",F77=\"\",\"-\",G77=\"\",\"-\"),\"OK\")","v":"-"},{"$f":"IFERROR(_xlfn.IFS(H77=\"\",\"-\"),\"OK\")","v":"-"},{"$f":"IFERROR(_xlfn.IFS(X77&Y77=\"--\",\"-\"),\"OK\")","v":"-"}]
[null,null,"Umweltwärme aus Oberflächengewässern",{"$nulls":5},{"$f":"_xlfn.IFS(Z78=\"-\",\"-\",H78>SUM(D78:G78),H78,X78=\"OK\",SUM(D78:G78),Y78=\"OK\",H78)","v":"-"},null,"",null,{"$f":"OFFSET('EM-Faktoren'!$C$1,N78-1,$M$50-2020+1)","v":{"v":0.01,"d":"0.010"}},27,{"$f":"OFFSET('EM-Faktoren'!$B$4,N78-4,)","v":"Umweltwärme"},{"$error":"#VALUE!"},0,0,0,0,{"$nulls":3},{"$f":"IFERROR(_xlfn.IFS(D78=\"\",\"-\",E78=\"\",\"-\",F78=\"\",\"-\",G78=\"\",\"-\"),\"OK\")","v":"-"},{"$f":"IFERROR(_xlfn.IFS(H78=\"\",\"-\"),\"OK\")","v":"-"},{"$f":"IFERROR(_xlfn.IFS(X78&Y78=\"--\",\"-\"),\"OK\")","v":"-"}]
[null,null,"Umweltwärme aus Grubenwasser",{"$nulls":5},{"$f":"_xlfn.IFS(Z79=\"-\",\"-\",H79>SUM(D79:G79),H79,X79=\"OK\",SUM(D79:G79),Y79=\"OK\",H79)","v":"-"},null,"",null,{"$f":"OFFSET('EM-Faktoren'!$C$1,N79-1,$M$50-2020+1)","v":{"v":0.01,"d":"0.010"}},27,{"$f":"OFFSET('EM-Faktoren'!$B$4,N79-4,)","v":"Umweltwärme"},{"$error":"#VALUE!"},0,0,0,0,{"$nulls":3},{"$f":"IFERROR(_xlfn.IFS(D79=\"\",\"-\",E79=\"\",\"-\",F79=\"\",\"-\",G79=\"\",\"-\"),\"OK\")","v":"-"},{"$f":"IFERROR(_xlfn.IFS(H79=\"\",\"-\"),\"OK\")","v":"-"},{"$f":"IFERROR(_xlfn.IFS(X79&Y79=\"--\",\"-\"),\"OK\")","v":"-"}]
[null,null,"Umweltwärme aus Luft",{"$nulls":5},{"$f":"_xlfn.IFS(Z80=\"-\",\"-\",H80>SUM(D80:G80),H80,X80=\"OK\",SUM(D80:G80),Y80=\"OK\",H80)","v":"-"},null,"",null,{"$f":"OFFSET('EM-Faktoren'!$C$1,N80-1,$M$50-2020+1)","v":{"v":0.01,"d":"0.010"}},27,{"$f":"OFFSET('EM-Faktoren'!$B$4,N80-4,)","v":"Umweltwärme"},{"$error":"#VALUE!"},0,0,0,0,{"$nulls":3},{"$f":"IFERROR(_xlfn.IFS(D80=\"\",\"-\",E80=\"\",\"-\",F80=\"\",\"-\",G80=\"\",\"-\"),\"OK\")","v":"-"},{"$f":"IFERROR(_xlfn.IFS(H80=\"\",\"-\"),\"OK\")","v":"-"},{"$f":"IFERROR(_xlfn.IFS(X80&Y80=\"--\",\"-\"),\"OK\")","v":"-"}]
[null,null,"Umweltwärme aus Abwasser",{"$nulls":5},{"$f":"_xlfn.IFS(Z81=\"-\",\"-\",H81>SUM(D81:G81),H81,X81=\"OK\",SUM(D81:G81),Y81=\"OK\",H81)","v":"-"},null,"",null,{"$f":"OFFSET('EM-Faktoren'!$C$1,N81-1,$M$50-2020+1)","v":{"v":0.01,"d":"0.010"}},27,{"$f":"OFFSET('EM-Faktoren'!$B$4,N81-4,)","v":"Umweltwärme"},{"$error":"#VALUE!"},0,0,0,0,{"$nulls":3},{"$f":"IFERROR(_xlfn.IFS(D81=\"\",\"-\",E81=\"\",\"-\",F81=\"\",\"-\",G81=\"\",\"-\"),\"OK\")","v":"-"},{"$f":"IFERROR(_xlfn.IFS(H81=\"\",\"-\"),\"OK\")","v":"-"},{"$f":"IFERROR(_xlfn.IFS(X81&Y81=\"--\",\"-\"),\"OK\")","v":"-"}]
[null,null,"Sonstige fossile Brennstoffe",{"$nulls":5},{"$f":"_xlfn.IFS(Z82=\"-\",\"-\",H82>SUM(D82:G82),H82,X82=\"OK\",SUM(D82:G82),Y82=\"OK\",H82)","v":"-"},null,"",null,{"$f":"OFFSET('EM-Faktoren'!$C$1,N82-1,$M$50-2020+1)","v":{"v":0.2,"d":"0.200"}},14,{"$f":"OFFSET('EM-Faktoren'!$B$4,N82-4,)","v":"Sonstige"},{"$error":"#VALUE!"},0,0,0,0,{"$nulls":3},{"$f":"IFERROR(_xlfn.IFS(D82=\"\",\"-\",E82=\"\",\"-\",F82=\"\",\"-\",G82=\"\",\"-\"),\"OK\")","v":"-"},{"$f":"IFERROR(_xlfn.IFS(H82=\"\",\"-\"),\"OK\")","v":"-"},{"$f":"IFERROR(_xlfn.IFS(X82&Y82=\"--\",\"-\"),\"OK\")","v":"-"}]
[null,null,"Sonstige erneuerbaren Energien",{"$nulls":5},{"$f":"_xlfn.IFS(Z83=\"-\",\"-\",H83>SUM(D83:G83),H83,X83=\"OK\",SUM(D83:G83),Y83=\"OK\",H83)","v":"-"},null,"",null,{"$f":"OFFSET('EM-Faktoren'!$C$1,N83-1,$M$50-2020+1)","v":{"v":0.05,"d":"0.050"}},28,{"$f":"OFFSET('EM-Faktoren'!$B$4,N83-4,)","v":"sonstige Erneuerbare"},{"$error":"#VALUE!"},0,0,0,0,{"$nulls":3},{"$f":"IFERROR(_xlfn.IFS(D83=\"\",\"-\",E83=\"\",\"-\",F83=\"\",\"-\",G83=\"\",\"-\"),\"OK\")","v":"-"},{"$f":"IFERROR(_xlfn.IFS(H83=\"\",\"-\"),\"OK\")","v":"-"},{"$f":"IFERROR(_xlfn.IFS(X83&Y83=\"--\",\"-\"),\"OK\")","v":"-"}]
[null,null,"Summe",{"$f":"SUM(D52:D83)","v":0},{"$f":"SUM(E52:E83)","v":0},{"$f":"SUM(F52:F83)","v":0},{"$f":"SUM(G52:G83)","v":0},{"$f":"SUM(H52:H83)","v":0},{"$f":"IF(SUM(D84:G84)>0,SUM(D84:G84),H84)","v":0},{"$nulls":6},{"$f":"SUM(P52:P83)","v":{"$error":"#VALUE!"}},{"$f":"SUM(Q52:Q83)","v":0},{"$f":"SUM(R52:R83)","v":0},{"$f":"SUM(S52:S83)","v":0},{"$f":"SUM(T52:T83)","v":0}]
[{"$nulls":8},{"$f":"IF(SUM(D84:G84)>0,IF(H84>0,\"Fehler: entweder Aufteilug nach Sektoren ODER Gesammtsumme\",\"\"),\"\")","v":""}]
[null,null,"2035 (optional für vereinfachtes Verfahren)"]
[null,null,{"$f":"'B-Bestandsanalyse'!$C$45","v":"Endenergieverbrauch Wärme"},"Sektoren optional"]
[null,null,2035,{"$nulls":9},2035]
[null,null,"in MWh/a","Haushalte","GHD","öffentliche Liegenschaften","Industrie","Gesamtsumme ohne Differenzierung nach Sektoren","Summe  (der Spalten D bis G oder H)","Hinweise",null,null,"Emissionsfaktor","Zeile","Energieträger","Tonnen THG","Haushalte","GHD","öff. Liegenschaften","Industrie"]
[null,null,"Braunkohle",{"$nulls":5},{"$f":"_xlfn.IFS(Z90=\"-\",\"-\",H90>SUM(D90:G90),H90,X90=\"OK\",SUM(D90:G90),Y90=\"OK\",H90)","v":"-"},null,{"$f":"IF(SUM(D90:G90)>0,IF(H90>0,\"Fehler: entweder Aufteilug nach Sektoren ODER Gesammtsumme\",\"\"),\"\")","v":""},null,{"$f":"OFFSET('EM-Faktoren'!$C$1,N90-1,$M$88-2020-3)","v":0.441},10,{"$f":"OFFSET('EM-Faktoren'!$B$4,N90-4,)","v":"Braunkohle"},{"$f":"+I90*M90","v":{"$error":"#VALUE!"}},{"$f":"D90*$M90","v":0},{"$f":"E90*$M90","v":0},0,0,{"$nulls":3},{"$f":"IFERROR(_xlfn.IFS(D90=\"\",\"-\",E90=\"\",\"-\",F90=\"\",\"-\",G90=\"\",\"-\"),\"OK\")","v":"-"},{"$f":"IFERROR(_xlfn.IFS(H90=\"\",\"-\"),\"OK\")","v":"-"},{"$f":"IFERROR(_xlfn.IFS(X90&Y90=\"--\",\"-\"),\"OK\")","v":"-"}]
[null,null,"Steinkohle",{"$nulls":5},{"$f":"_xlfn.IFS(Z91=\"-\",\"-\",H91>SUM(D91:G91),H91,X91=\"OK\",SUM(D91:G91),Y91=\"OK\",H91)","v":"-"},null,{"$f":"IF(SUM(D91:G91)>0,IF(H91>0,\"Fehler: entweder Aufteilug nach Sektoren ODER Gesammtsumme\",\"\"),\"\")","v":""},null,{"$f":"OFFSET('EM-Faktoren'!$C$1,N91-1,$M$88-2020-3)","v":0.433},9,{"$f":"OFFSET('EM-Faktoren'!$B$4,N91-4,)","v":"Kohlen (Steinkohle)"},{"$f":"+I91*M91","v":{"$error":"#VALUE!"}},{"$f":"D91*$M91","v":0},{"$f":"E91*$M91","v":0},{"$f":"F91*$M91","v":0},{"$f":"G91*$M91","v":0},{"$nulls":3},{"$f":"IFERROR(_xlfn.IFS(D91=\"\",\"-\",E91=\"\",\"-\",F91=\"\",\"-\",G91=\"\",\"-\"),\"OK\")","v":"-"},{"$f":"IFERROR(_xlfn.IFS(H91=\"\",\"-\"),\"OK\")","v":"-"},{"$f":"IFERROR(_xlfn.IFS(X91&Y91=\"--\",\"-\"),\"OK\")","v":"-"}]
[null,null,"Erdgas",{"$nulls":5},{"$f":"_xlfn.IFS(Z92=\"-\",\"-\",H92>SUM(D92:G92),H92,X92=\"OK\",SUM(D92:G92),Y92=\"OK\",H92)","v":"-"},null,"",null,{"$f":"OFFSET('EM-Faktoren'!$C$1,N92-1,$M$88-2020-3)","v":0.257},5,{"$f":"OFFSET('EM-Faktoren'!$B$4,N92-4,)","v":"Erdgas"},{"$error":"#VALUE!"},0,0,0,0,{"$nulls":3},{"$f":"IFERROR(_xlfn.IFS(D92=\"\",\"-\",E92=\"\",\"-\",F92=\"\",\"-\",G92=\"\",\"-\"),\"OK\")","v":"-"},{"$f":"IFERROR(_xlfn.IFS(H92=\"\",\"-\"),\"OK\")","v":"-"},{"$f":"IFERROR(_xlfn.IFS(X92&Y92=\"--\",\"-\"),\"OK\")","v":"-"}]
[null,null,"Flüssiggas",{"$nulls":5},{"$f":"_xlfn.IFS(Z93=\"-\",\"-\",H93>SUM(D93:G93),H93,X93=\"OK\",SUM(D93:G93),Y93=\"OK\",H93)","v":"-"},null,"",null,{"$f":"OFFSET('EM-Faktoren'!$C$1,N93-1,$M$88-2020-3)","v":0.295},7,{"$f":"OFFSET('EM-Faktoren'!$B$4,N93-4,)","v":"Flüssiggas"},{"$error":"#VALUE!"},0,0,0,0,{"$nulls":3},{"$f":"IFERROR(_xlfn.IFS(D93=\"\",\"-\",E93=\"\",\"-\",F93=\"\",\"-\",G93=\"\",\"-\"),\"OK\")","v":"-"},{"$f":"IFERROR(_xlfn.IFS(H93=\"\",\"-\"),\"OK\")","v":"-"},{"$f":"IFERROR(_xlfn.IFS(X93&Y93=\"--\",\"-\"),\"OK\")","v":"-"}]
[null,null,"Heizöl",{"$nulls":5},{"$f":"_xlfn.IFS(Z94=\"-\",\"-\",H94>SUM(D94:G94),H94,X94=\"OK\",SUM(D94:G94),Y94=\"OK\",H94)","v":"-"},null,"",null,{"$f":"OFFSET('EM-Faktoren'!$C$1,N94-1,$M$88-2020-3)","v":0.311},6,{"$f":"OFFSET('EM-Faktoren'!$B$4,N94-4,)","v":"Heizöl"},{"$error":"#VALUE!"},0,0,0,0,{"$nulls":3},{"$f":"IFERROR(_xlfn.IFS(D94=\"\",\"-\",E94=\"\",\"-\",F94=\"\",\"-\",G94=\"\",\"-\"),\"OK\")","v":"-"},{"$f":"IFERROR(_xlfn.IFS(H94=\"\",\"-\"),\"OK\")","v":"-"},{"$f":"IFERROR(_xlfn.IFS(X94&Y94=\"--\",\"-\"),\"OK\")","v":"-"}]
[null,null,"Wasserstoff",{"$nulls":5},{"$f":"_xlfn.IFS(Z95=\"-\",\"-\",H95>SUM(D95:G95),H95,X95=\"OK\",SUM(D95:G95),Y95=\"OK\",H95)","v":"-"},null,"",null,{"$f":"OFFSET('EM-Faktoren'!$C$1,N95-1,$M$88-2020-3)","v":{"v":0.05,"d":"0.050"}},12,{"$f":"OFFSET('EM-Faktoren'!$B$4,N95-4,)","v":"Wasserstoff"},{"$error":"#VALUE!"},0,0,0,0,{"$nulls":3},{"$f":"IFERROR(_xlfn.IFS(D95=\"\",\"-\",E95=\"\",\"-\",F95=\"\",\"-\",G95=\"\",\"-\"),\"OK\")","v":"-"},{"$f":"IFERROR(_xlfn.IFS(H95=\"\",\"-\"),\"OK\")","v":"-"},{"$f":"IFERROR(_xlfn.IFS(X95&Y95=\"--\",\"-\"),\"OK\")","v":"-"}]
[null,null,"Wasserstoffderivate",{"$nulls":5},{"$f":"_xlfn.IFS(Z96=\"-\",\"-\",H96>SUM(D96:G96),H96,X96=\"OK\",SUM(D96:G96),Y96=\"OK\",H96)","v":"-"},null,"",null,{"$f":"OFFSET('EM-Faktoren'!$C$1,N96-1,$M$88-2020-3)","v":0.041},13,{"$f":"OFFSET('EM-Faktoren'!$B$4,N96-4,)","v":"PtX"},{"$error":"#VALUE!"},0,0,0,0,{"$nulls":3},{"$f":"IFERROR(_xlfn.IFS(D96=\"\",\"-\",E96=\"\",\"-\",F96=\"\",\"-\",G96=\"\",\"-\"),\"OK\")","v":"-"},{"$f":"IFERROR(_xlfn.IFS(H96=\"\",\"-\"),\"OK\")","v":"-"},{"$f":"IFERROR(_xlfn.IFS(X96&Y96=\"--\",\"-\"),\"OK\")","v":"-"}]
[null,null,"Grubengas",{"$nulls":5},{"$f":"_xlfn.IFS(Z97=\"-\",\"-\",H97>SUM(D97:G97),H97,X97=\"OK\",SUM(D97:G97),Y97=\"OK\",H97)","v":"-"},null,"",null,{"$f":"OFFSET('EM-Faktoren'!$C$1,N97-1,$M$88-2020-3)","v":0.135},22,{"$f":"OFFSET('EM-Faktoren'!$B$4,N97-4,)","v":"Deponiegas/Grubengas"},{"$error":"#VALUE!"},0,0,0,0,{"$nulls":3},{"$f":"IFERROR(_xlfn.IFS(D97=\"\",\"-\",E97=\"\",\"-\",F97=\"\",\"-\",G97=\"\",\"-\"),\"OK\")","v":"-"},{"$f":"IFERROR(_xlfn.IFS(H97=\"\",\"-\"),\"OK\")","v":"-"},{"$f":"IFERROR(_xlfn.IFS(X97&Y97=\"--\",\"-\"),\"OK\")","v":"-"}]
[null,null,"nichtbiogener Abfall",{"$nulls":5},{"$f":"_xlfn.IFS(Z98=\"-\",\"-\",H98>SUM(D98:G98),H98,X98=\"OK\",SUM(D98:G98),Y98=\"OK\",H98)","v":"-"},null,"",null,{"$f":"OFFSET('EM-Faktoren'!$C$1,N98-1,$M$88-2020-3)","v":0.121},23,{"$f":"OFFSET('EM-Faktoren'!$B$4,N98-4,)","v":"Abfall"},{"$error":"#VALUE!"},0,0,0,0,{"$nulls":3},{"$f":"IFERROR(_xlfn.IFS(D98=\"\",\"-\",E98=\"\",\"-\",F98=\"\",\"-\",G98=\"\",\"-\"),\"OK\")","v":"-"},{"$f":"IFERROR(_xlfn.IFS(H98=\"\",\"-\"),\"OK\")","v":"-"},{"$f":"IFERROR(_xlfn.IFS(X98&Y98=\"--\",\"-\"),\"OK\")","v":"-"}]
[null,null,"biogener Abfall",{"$nulls":5},{"$f":"_xlfn.IFS(Z99=\"-\",\"-\",H99>SUM(D99:G99),H99,X99=\"OK\",SUM(D99:G99),Y99=\"OK\",H99)","v":"-"},null,"",null,{"$f":"OFFSET('EM-Faktoren'!$C$1,N99-1,$M$88-2020-3)","v":0.121},23,{"$f":"OFFSET('EM-Faktoren'!$B$4,N99-4,)","v":"Abfall"},{"$error":"#VALUE!"},0,0,0,0,{"$nulls":3},{"$f":"IFERROR(_xlfn.IFS(D99=\"\",\"-\",E99=\"\",\"-\",F99=\"\",\"-\",G99=\"\",\"-\"),\"OK\")","v":"-"},{"$f":"IFERROR(_xlfn.IFS(H99=\"\",\"-\"),\"OK\")","v":"-"},{"$f":"IFERROR(_xlfn.IFS(X99&Y99=\"--\",\"-\"),\"OK\")","v":"-"}]
[null,null,"Abwärme < 60 °C",{"$nulls":5},{"$f":"_xlfn.IFS(Z100=\"-\",\"-\",H100>SUM(D100:G100),H100,X100=\"OK\",SUM(D100:G100),Y100=\"OK\",H100)","v":"-"},null,"",null,{"$f":"OFFSET('EM-Faktoren'!$C$1,N100-1,$M$88-2020-3)","v":{"v":0.01,"d":"0.010"}},27,{"$f":"OFFSET('EM-Faktoren'!$B$4,N100-4,)","v":"Umweltwärme"},{"$error":"#VALUE!"},0,0,0,0,{"$nulls":3},{"$f":"IFERROR(_xlfn.IFS(D100=\"\",\"-\",E100=\"\",\"-\",F100=\"\",\"-\",G100=\"\",\"-\"),\"OK\")","v":"-"},{"$f":"IFERROR(_xlfn.IFS(H100=\"\",\"-\"),\"OK\")","v":"-"},{"$f":"IFERROR(_xlfn.IFS(X100&Y100=\"--\",\"-\"),\"OK\")","v":"-"}]
[null,null,"Abwärme 60 bis 110 °C",{"$nulls":5},{"$f":"_xlfn.IFS(Z101=\"-\",\"-\",H101>SUM(D101:G101),H101,X101=\"OK\",SUM(D101:G101),Y101=\"OK\",H101)","v":"-"},null,"",null,{"$f":"OFFSET('EM-Faktoren'!$C$1,N101-1,$M$88-2020-3)","v":{"v":0.01,"d":"0.010"}},27,{"$f":"OFFSET('EM-Faktoren'!$B$4,N101-4,)","v":"Umweltwärme"},{"$error":"#VALUE!"},0,0,0,0,{"$nulls":3},{"$f":"IFERROR(_xlfn.IFS(D101=\"\",\"-\",E101=\"\",\"-\",F101=\"\",\"-\",G101=\"\",\"-\"),\"OK\")","v":"-"},{"$f":"IFERROR(_xlfn.IFS(H101=\"\",\"-\"),\"OK\")","v":"-"},{"$f":"IFERROR(_xlfn.IFS(X101&Y101=\"--\",\"-\"),\"OK\")","v":"-"}]
[null,null,"Abwärme >= 110 °C",{"$nulls":5},{"$f":"_xlfn.IFS(Z102=\"-\",\"-\",H102>SUM(D102:G102),H102,X102=\"OK\",SUM(D102:G102),Y102=\"OK\",H102)","v":"-"},null,"",null,{"$f":"OFFSET('EM-Faktoren'!$C$1,N102-1,$M$88-2020-3)","v":{"v":0.01,"d":"0.010"}},27,{"$f":"OFFSET('EM-Faktoren'!$B$4,N102-4,)","v":"Umweltwärme"},{"$f":"+I102*M102","v":{"$error":"#VALUE!"}},{"$f":"D102*$M102","v":0},{"$f":"E102*$M102","v":0},{"$f":"F102*$M102","v":0},{"$f":"G102*$M102","v":0},{"$nulls":3},{"$f":"IFERROR(_xlfn.IFS(D102=\"\",\"-\",E102=\"\",\"-\",F102=\"\",\"-\",G102=\"\",\"-\"),\"OK\")","v":"-"},{"$f":"IFERROR(_xlfn.IFS(H102=\"\",\"-\"),\"OK\")","v":"-"},{"$f":"IFERROR(_xlfn.IFS(X102&Y102=\"--\",\"-\"),\"OK\")","v":"-"}]
[null,null,"feste Biomasse (ohne Altholz)",{"$nulls":5},{"$f":"_xlfn.IFS(Z103=\"-\",\"-\",H103>SUM(D103:G103),H103,X103=\"OK\",SUM(D103:G103),Y103=\"OK\",H103)","v":"-"},null,"",null,{"$f":"OFFSET('EM-Faktoren'!$C$1,N103-1,$M$88-2020-3)","v":0.064},19,{"$f":"OFFSET('EM-Faktoren'!$B$4,N103-4,)","v":"EE-Festbrennstoffe"},{"$error":"#VALUE!"},0,0,0,0,{"$nulls":3},{"$f":"IFERROR(_xlfn.IFS(D103=\"\",\"-\",E103=\"\",\"-\",F103=\"\",\"-\",G103=\"\",\"-\"),\"OK\")","v":"-"},{"$f":"IFERROR(_xlfn.IFS(H103=\"\",\"-\"),\"OK\")","v":"-"},{"$f":"IFERROR(_xlfn.IFS(X103&Y103=\"--\",\"-\"),\"OK\")","v":"-"}]
[null,null,"Altholz",{"$nulls":5},{"$f":"_xlfn.IFS(Z104=\"-\",\"-\",H104>SUM(D104:G104),H104,X104=\"OK\",SUM(D104:G104),Y104=\"OK\",H104)","v":"-"},null,"",null,{"$f":"OFFSET('EM-Faktoren'!$C$1,N104-1,$M$88-2020-3)","v":0.064},19,{"$f":"OFFSET('EM-Faktoren'!$B$4,N104-4,)","v":"EE-Festbrennstoffe"},{"$error":"#VALUE!"},0,0,0,0,{"$nulls":3},{"$f":"IFERROR(_xlfn.IFS(D104=\"\",\"-\",E104=\"\",\"-\",F104=\"\",\"-\",G104=\"\",\"-\"),\"OK\")","v":"-"},{"$f":"IFERROR(_xlfn.IFS(H104=\"\",\"-\"),\"OK\")","v":"-"},{"$f":"IFERROR(_xlfn.IFS(X104&Y104=\"--\",\"-\"),\"OK\")","v":"-"}]
[null,null,"Biogas",{"$nulls":5},{"$f":"_xlfn.IFS(Z105=\"-\",\"-\",H105>SUM(D105:G105),H105,X105=\"OK\",SUM(D105:G105),Y105=\"OK\",H105)","v":"-"},null,"",null,{"$f":"OFFSET('EM-Faktoren'!$C$1,N105-1,$M$88-2020-3)","v":0.124},21,{"$f":"OFFSET('EM-Faktoren'!$B$4,N105-4,)","v":"Biogas"},{"$error":"#VALUE!"},0,0,0,0,{"$nulls":3},{"$f":"IFERROR(_xlfn.IFS(D105=\"\",\"-\",E105=\"\",\"-\",F105=\"\",\"-\",G105=\"\",\"-\"),\"OK\")","v":"-"},{"$f":"IFERROR(_xlfn.IFS(H105=\"\",\"-\"),\"OK\")","v":"-"},{"$f":"IFERROR(_xlfn.IFS(X105&Y105=\"--\",\"-\"),\"OK\")","v":"-"}]
[null,null,"Biomethan",{"$nulls":5},{"$f":"_xlfn.IFS(Z106=\"-\",\"-\",H106>SUM(D106:G106),H106,X106=\"OK\",SUM(D106:G106),Y106=\"OK\",H106)","v":"-"},null,"",null,{"$f":"OFFSET('EM-Faktoren'!$C$1,N106-1,$M$88-2020-3)","v":0.041},25,{"$f":"OFFSET('EM-Faktoren'!$B$4,N106-4,)","v":"Synth. Brennstoffe"},{"$error":"#VALUE!"},0,0,0,0,{"$nulls":3},{"$f":"IFERROR(_xlfn.IFS(D106=\"\",\"-\",E106=\"\",\"-\",F106=\"\",\"-\",G106=\"\",\"-\"),\"OK\")","v":"-"},{"$f":"IFERROR(_xlfn.IFS(H106=\"\",\"-\"),\"OK\")","v":"-"},{"$f":"IFERROR(_xlfn.IFS(X106&Y106=\"--\",\"-\"),\"OK\")","v":"-"}]
[null,null,"Deponiegas",{"$nulls":5},{"$f":"_xlfn.IFS(Z107=\"-\",\"-\",H107>SUM(D107:G107),H107,X107=\"OK\",SUM(D107:G107),Y107=\"OK\",H107)","v":"-"},null,"",null,{"$f":"OFFSET('EM-Faktoren'!$C$1,N107-1,$M$88-2020-3)","v":0.135},22,{"$f":"OFFSET('EM-Faktoren'!$B$4,N107-4,)","v":"Deponiegas/Grubengas"},{"$error":"#VALUE!"},0,0,0,0,{"$nulls":3},{"$f":"IFERROR(_xlfn.IFS(D107=\"\",\"-\",E107=\"\",\"-\",F107=\"\",\"-\",G107=\"\",\"-\"),\"OK\")","v":"-"},{"$f":"IFERROR(_xlfn.IFS(H107=\"\",\"-\"),\"OK\")","v":"-"},{"$f":"IFERROR(_xlfn.IFS(X107&Y107=\"--\",\"-\"),\"OK\")","v":"-"}]
[null,null,"Klärgas",{"$nulls":5},{"$f":"_xlfn.IFS(Z108=\"-\",\"-\",H108>SUM(D108:G108),H108,X108=\"OK\",SUM(D108:G108),Y108=\"OK\",H108)","v":"-"},null,"",null,{"$f":"OFFSET('EM-Faktoren'!$C$1,N108-1,$M$88-2020-3)","v":{"v":0.11,"d":"0.110"}},18,{"$f":"OFFSET('EM-Faktoren'!$B$4,N108-4,)","v":"Klärgas"},{"$error":"#VALUE!"},0,0,0,0,{"$nulls":3},{"$f":"IFERROR(_xlfn.IFS(D108=\"\",\"-\",E108=\"\",\"-\",F108=\"\",\"-\",G108=\"\",\"-\"),\"OK\")","v":"-"},{"$f":"IFERROR(_xlfn.IFS(H108=\"\",\"-\"),\"OK\")","v":"-"},{"$f":"IFERROR(_xlfn.IFS(X108&Y108=\"--\",\"-\"),\"OK\")","v":"-"}]
[null,null,"flüssige Biomasse",{"$nulls":5},{"$f":"_xlfn.IFS(Z109=\"-\",\"-\",H109>SUM(D109:G109),H109,X109=\"OK\",SUM(D109:G109),Y109=\"OK\",H109)","v":"-"},null,"",null,{"$f":"OFFSET('EM-Faktoren'!$C$1,N109-1,$M$88-2020-3)","v":{"v":0.3,"d":"0.300"}},20,{"$f":"OFFSET('EM-Faktoren'!$B$4,N109-4,)","v":"Flüssige Biomasse"},{"$error":"#VALUE!"},0,0,0,0,{"$nulls":3},{"$f":"IFERROR(_xlfn.IFS(D109=\"\",\"-\",E109=\"\",\"-\",F109=\"\",\"-\",G109=\"\",\"-\"),\"OK\")","v":"-"},{"$f":"IFERROR(_xlfn.IFS(H109=\"\",\"-\"),\"OK\")","v":"-"},{"$f":"IFERROR(_xlfn.IFS(X109&Y109=\"--\",\"-\"),\"OK\")","v":"-"}]
[null,null,"Strom Wärmepumpe",{"$nulls":5},{"$f":"_xlfn.IFS(Z110=\"-\",\"-\",H110>SUM(D110:G110),H110,X110=\"OK\",SUM(D110:G110),Y110=\"OK\",H110)","v":"-"},null,"",null,{"$f":"OFFSET('EM-Faktoren'!$C$1,N110-1,$M$88-2020-3)","v":0.108},4,{"$f":"OFFSET('EM-Faktoren'!$B$4,N110-4,)","v":"Strom"},{"$error":"#VALUE!"},0,0,0,0,{"$nulls":3},{"$f":"IFERROR(_xlfn.IFS(D110=\"\",\"-\",E110=\"\",\"-\",F110=\"\",\"-\",G110=\"\",\"-\"),\"OK\")","v":"-"},{"$f":"IFERROR(_xlfn.IFS(H110=\"\",\"-\"),\"OK\")","v":"-"},{"$f":"IFERROR(_xlfn.IFS(X110&Y110=\"--\",\"-\"),\"OK\")","v":"-"}]
[null,null,"Strom Direktheizung",{"$nulls":5},{"$f":"_xlfn.IFS(Z111=\"-\",\"-\",H111>SUM(D111:G111),H111,X111=\"OK\",SUM(D111:G111),Y111=\"OK\",H111)","v":"-"},null,"",null,{"$f":"OFFSET('EM-Faktoren'!$C$1,N111-1,$M$88-2020-3)","v":0.108},4,{"$f":"OFFSET('EM-Faktoren'!$B$4,N111-4,)","v":"Strom"},{"$error":"#VALUE!"},0,0,0,0,{"$nulls":3},{"$f":"IFERROR(_xlfn.IFS(D111=\"\",\"-\",E111=\"\",\"-\",F111=\"\",\"-\",G111=\"\",\"-\"),\"OK\")","v":"-"},{"$f":"IFERROR(_xlfn.IFS(H111=\"\",\"-\"),\"OK\")","v":"-"},{"$f":"IFERROR(_xlfn.IFS(X111&Y111=\"--\",\"-\"),\"OK\")","v":"-"}]
[null,null,"Solarthermie Dachflächen-Anlagen",{"$nulls":5},{"$f":"_xlfn.IFS(Z112=\"-\",\"-\",H112>SUM(D112:G112),H112,X112=\"OK\",SUM(D112:G112),Y112=\"OK\",H112)","v":"-"},null,"",null,{"$f":"OFFSET('EM-Faktoren'!$C$1,N112-1,$M$88-2020-3)","v":0.023},11,{"$f":"OFFSET('EM-Faktoren'!$B$4,N112-4,)","v":"Solarwärme"},{"$error":"#VALUE!"},0,0,0,0,{"$nulls":3},{"$f":"IFERROR(_xlfn.IFS(D112=\"\",\"-\",E112=\"\",\"-\",F112=\"\",\"-\",G112=\"\",\"-\"),\"OK\")","v":"-"},{"$f":"IFERROR(_xlfn.IFS(H112=\"\",\"-\"),\"OK\")","v":"-"},{"$f":"IFERROR(_xlfn.IFS(X112&Y112=\"--\",\"-\"),\"OK\")","v":"-"}]
[null,null,"Solarthermie Freiflächenanlagen",{"$nulls":5},{"$f":"_xlfn.IFS(Z113=\"-\",\"-\",H113>SUM(D113:G113),H113,X113=\"OK\",SUM(D113:G113),Y113=\"OK\",H113)","v":"-"},null,"",null,{"$f":"OFFSET('EM-Faktoren'!$C$1,N113-1,$M$88-2020-3)","v":0.023},11,{"$f":"OFFSET('EM-Faktoren'!$B$4,N113-4,)","v":"Solarwärme"},{"$error":"#VALUE!"},0,0,0,0,{"$nulls":3},{"$f":"IFERROR(_xlfn.IFS(D113=\"\",\"-\",E113=\"\",\"-\",F113=\"\",\"-\",G113=\"\",\"-\"),\"OK\")","v":"-"},{"$f":"IFERROR(_xlfn.IFS(H113=\"\",\"-\"),\"OK\")","v":"-"},{"$f":"IFERROR(_xlfn.IFS(X113&Y113=\"--\",\"-\"),\"OK\")","v":"-"}]
[null,null,"oberflächennahe Geothermie",{"$nulls":5},{"$f":"_xlfn.IFS(Z114=\"-\",\"-\",H114>SUM(D114:G114),H114,X114=\"OK\",SUM(D114:G114),Y114=\"OK\",H114)","v":"-"},null,"",null,{"$f":"OFFSET('EM-Faktoren'!$C$1,N114-1,$M$88-2020-3)","v":{"v":0.01,"d":"0.010"}},27,{"$f":"OFFSET('EM-Faktoren'!$B$4,N114-4,)","v":"Umweltwärme"},{"$error":"#VALUE!"},0,0,0,0,{"$nulls":3},{"$f":"IFERROR(_xlfn.IFS(D114=\"\",\"-\",E114=\"\",\"-\",F114=\"\",\"-\",G114=\"\",\"-\"),\"OK\")","v":"-"},{"$f":"IFERROR(_xlfn.IFS(H114=\"\",\"-\"),\"OK\")","v":"-"},{"$f":"IFERROR(_xlfn.IFS(X114&Y114=\"--\",\"-\"),\"OK\")","v":"-"}]
[null,null,"tiefe Geothermie",{"$nulls":5},{"$f":"_xlfn.IFS(Z115=\"-\",\"-\",H115>SUM(D115:G115),H115,X115=\"OK\",SUM(D115:G115),Y115=\"OK\",H115)","v":"-"},null,"",null,{"$f":"OFFSET('EM-Faktoren'!$C$1,N115-1,$M$88-2020-3)","v":0.149},26,{"$f":"OFFSET('EM-Faktoren'!$B$4,N115-4,)","v":"Tiefe Geothermie"},{"$error":"#VALUE!"},0,0,0,0,{"$nulls":3},{"$f":"IFERROR(_xlfn.IFS(D115=\"\",\"-\",E115=\"\",\"-\",F115=\"\",\"-\",G115=\"\",\"-\"),\"OK\")","v":"-"},{"$f":"IFERROR(_xlfn.IFS(H115=\"\",\"-\"),\"OK\")","v":"-"},{"$f":"IFERROR(_xlfn.IFS(X115&Y115=\"--\",\"-\"),\"OK\")","v":"-"}]
[null,null,"Umweltwärme aus Oberflächengewässern",{"$nulls":5},{"$f":"_xlfn.IFS(Z116=\"-\",\"-\",H116>SUM(D116:G116),H116,X116=\"OK\",SUM(D116:G116),Y116=\"OK\",H116)","v":"-"},null,"",null,{"$f":"OFFSET('EM-Faktoren'!$C$1,N116-1,$M$88-2020-3)","v":{"v":0.01,"d":"0.010"}},27,{"$f":"OFFSET('EM-Faktoren'!$B$4,N116-4,)","v":"Umweltwärme"},{"$error":"#VALUE!"},0,0,0,0,{"$nulls":3},{"$f":"IFERROR(_xlfn.IFS(D116=\"\",\"-\",E116=\"\",\"-\",F116=\"\",\"-\",G116=\"\",\"-\"),\"OK\")","v":"-"},{"$f":"IFERROR(_xlfn.IFS(H116=\"\",\"-\"),\"OK\")","v":"-"},{"$f":"IFERROR(_xlfn.IFS(X116&Y116=\"--\",\"-\"),\"OK\")","v":"-"}]
[null,null,"Umweltwärme aus Grubenwasser",{"$nulls":5},{"$f":"_xlfn.IFS(Z117=\"-\",\"-\",H117>SUM(D117:G117),H117,X117=\"OK\",SUM(D117:G117),Y117=\"OK\",H117)","v":"-"},null,"",null,{"$f":"OFFSET('EM-Faktoren'!$C$1,N117-1,$M$88-2020-3)","v":{"v":0.01,"d":"0.010"}},27,{"$f":"OFFSET('EM-Faktoren'!$B$4,N117-4,)","v":"Umweltwärme"},{"$error":"#VALUE!"},0,0,0,0,{"$nulls":3},{"$f":"IFERROR(_xlfn.IFS(D117=\"\",\"-\",E117=\"\",\"-\",F117=\"\",\"-\",G117=\"\",\"-\"),\"OK\")","v":"-"},{"$f":"IFERROR(_xlfn.IFS(H117=\"\",\"-\"),\"OK\")","v":"-"},{"$f":"IFERROR(_xlfn.IFS(X117&Y117=\"--\",\"-\"),\"OK\")","v":"-"}]
[null,null,"Umweltwärme aus Luft",{"$nulls":5},{"$f":"_xlfn.IFS(Z118=\"-\",\"-\",H118>SUM(D118:G118),H118,X118=\"OK\",SUM(D118:G118),Y118=\"OK\",H118)","v":"-"},null,"",null,{"$f":"OFFSET('EM-Faktoren'!$C$1,N118-1,$M$88-2020-3)","v":{"v":0.01,"d":"0.010"}},27,{"$f":"OFFSET('EM-Faktoren'!$B$4,N118-4,)","v":"Umweltwärme"},{"$error":"#VALUE!"},0,0,0,0,{"$nulls":3},{"$f":"IFERROR(_xlfn.IFS(D118=\"\",\"-\",E118=\"\",\"-\",F118=\"\",\"-\",G118=\"\",\"-\"),\"OK\")","v":"-"},{"$f":"IFERROR(_xlfn.IFS(H118=\"\",\"-\"),\"OK\")","v":"-"},{"$f":"IFERROR(_xlfn.IFS(X118&Y118=\"--\",\"-\"),\"OK\")","v":"-"}]
[null,null,"Umweltwärme aus Abwasser",{"$nulls":5},{"$f":"_xlfn.IFS(Z119=\"-\",\"-\",H119>SUM(D119:G119),H119,X119=\"OK\",SUM(D119:G119),Y119=\"OK\",H119)","v":"-"},null,"",null,{"$f":"OFFSET('EM-Faktoren'!$C$1,N119-1,$M$88-2020-3)","v":{"v":0.01,"d":"0.010"}},27,{"$f":"OFFSET('EM-Faktoren'!$B$4,N119-4,)","v":"Umweltwärme"},{"$error":"#VALUE!"},0,0,0,0,{"$nulls":3},{"$f":"IFERROR(_xlfn.IFS(D119=\"\",\"-\",E119=\"\",\"-\",F119=\"\",\"-\",G119=\"\",\"-\"),\"OK\")","v":"-"},{"$f":"IFERROR(_xlfn.IFS(H119=\"\",\"-\"),\"OK\")","v":"-"},{"$f":"IFERROR(_xlfn.IFS(X119&Y119=\"--\",\"-\"),\"OK\")","v":"-"}]
[null,null,"Sonstige fossile Brennstoffe",{"$nulls":5},{"$f":"_xlfn.IFS(Z120=\"-\",\"-\",H120>SUM(D120:G120),H120,X120=\"OK\",SUM(D120:G120),Y120=\"OK\",H120)","v":"-"},null,"",null,{"$f":"OFFSET('EM-Faktoren'!$C$1,N120-1,$M$88-2020-3)","v":{"v":0.15,"d":"0.150"}},14,{"$f":"OFFSET('EM-Faktoren'!$B$4,N120-4,)","v":"Sonstige"},{"$error":"#VALUE!"},0,0,0,0,{"$nulls":3},{"$f":"IFERROR(_xlfn.IFS(D120=\"\",\"-\",E120=\"\",\"-\",F120=\"\",\"-\",G120=\"\",\"-\"),\"OK\")","v":"-"},{"$f":"IFERROR(_xlfn.IFS(H120=\"\",\"-\"),\"OK\")","v":"-"},{"$f":"IFERROR(_xlfn.IFS(X120&Y120=\"--\",\"-\"),\"OK\")","v":"-"}]
[null,null,"Sonstige erneuerbaren Energien",{"$nulls":5},{"$f":"_xlfn.IFS(Z121=\"-\",\"-\",H121>SUM(D121:G121),H121,X121=\"OK\",SUM(D121:G121),Y121=\"OK\",H121)","v":"-"},null,"",null,{"$f":"OFFSET('EM-Faktoren'!$C$1,N121-1,$M$88-2020-3)","v":{"v":0.05,"d":"0.050"}},28,{"$f":"OFFSET('EM-Faktoren'!$B$4,N121-4,)","v":"sonstige Erneuerbare"},{"$error":"#VALUE!"},0,0,0,0,{"$nulls":3},{"$f":"IFERROR(_xlfn.IFS(D121=\"\",\"-\",E121=\"\",\"-\",F121=\"\",\"-\",G121=\"\",\"-\"),\"OK\")","v":"-"},{"$f":"IFERROR(_xlfn.IFS(H121=\"\",\"-\"),\"OK\")","v":"-"},{"$f":"IFERROR(_xlfn.IFS(X121&Y121=\"--\",\"-\"),\"OK\")","v":"-"}]
[null,null,"Summe",{"$f":"SUM(D90:D121)","v":0},{"$f":"SUM(E90:E121)","v":0},{"$f":"SUM(F90:F121)","v":0},{"$f":"SUM(G90:G121)","v":0},{"$f":"SUM(H90:H121)","v":0},{"$f":"IF(SUM(D122:G122)>0,SUM(D122:G122),H122)","v":0},{"$nulls":6},{"$f":"SUM(P90:P121)","v":{"$error":"#VALUE!"}},{"$f":"SUM(Q90:Q121)","v":0},{"$f":"SUM(R90:R121)","v":0},{"$f":"SUM(S90:S121)","v":0},{"$f":"SUM(T90:T121)","v":0}]
[{"$nulls":8},{"$f":"IF(SUM(D122:G122)>0,IF(H122>0,\"Fehler: entweder Aufteilug nach Sektoren ODER Gesammtsumme\",\"\"),\"\")","v":""}]
[]
[null,null,{"$f":"'B-Bestandsanalyse'!$C$45","v":"Endenergieverbrauch Wärme"},"Sektoren optional"]
[null,null,2040,{"$nulls":9},2040]
[null,null,"in MWh/a","Haushalte","GHD","öffentliche Liegenschaften","Industrie","Gesamtsumme ohne Differenzierung nach Sektoren","Summe  (der Spalten D bis G oder H)","Hinweise",null,null,"Emissionsfaktor","Zeile","Energieträger","Tonnen THG","Haushalte","GHD","öff. Liegenschaften","Industrie"]
[null,null,"Braunkohle",{"$nulls":5},{"$f":"_xlfn.IFS(Z128=\"-\",\"-\",H128>SUM(D128:G128),H128,X128=\"OK\",SUM(D128:G128),Y128=\"OK\",H128)","v":"-"},null,{"$f":"IF(SUM(D128:G128)>0,IF(H128>0,\"Fehler: entweder Aufteilug nach Sektoren ODER Gesammtsumme\",\"\"),\"\")","v":""},null,{"$f":"OFFSET('EM-Faktoren'!$C$1,N128-1,$M$126-2020-7)","v":0.441},10,{"$f":"OFFSET('EM-Faktoren'!$B$4,N128-4,)","v":"Braunkohle"},{"$f":"+I128*M128","v":{"$error":"#VALUE!"}},{"$f":"D128*$M128","v":0},{"$f":"E128*$M128","v":0},0,0,{"$nulls":3},{"$f":"IFERROR(_xlfn.IFS(D128=\"\",\"-\",E128=\"\",\"-\",F128=\"\",\"-\",G128=\"\",\"-\"),\"OK\")","v":"-"},{"$f":"IFERROR(_xlfn.IFS(H128=\"\",\"-\"),\"OK\")","v":"-"},{"$f":"IFERROR(_xlfn.IFS(X128&Y128=\"--\",\"-\"),\"OK\")","v":"-"}]
[null,null,"Steinkohle",{"$nulls":5},{"$f":"_xlfn.IFS(Z129=\"-\",\"-\",H129>SUM(D129:G129),H129,X129=\"OK\",SUM(D129:G129),Y129=\"OK\",H129)","v":"-"},null,{"$f":"IF(SUM(D129:G129)>0,IF(H129>0,\"Fehler: entweder Aufteilug nach Sektoren ODER Gesammtsumme\",\"\"),\"\")","v":""},null,{"$f":"OFFSET('EM-Faktoren'!$C$1,N129-1,$M$126-2020-7)","v":0.433},9,{"$f":"OFFSET('EM-Faktoren'!$B$4,N129-4,)","v":"Kohlen (Steinkohle)"},{"$f":"+I129*M129","v":{"$error":"#VALUE!"}},{"$f":"D129*$M129","v":0},{"$f":"E129*$M129","v":0},{"$f":"F129*$M129","v":0},{"$f":"G129*$M129","v":0},{"$nulls":3},{"$f":"IFERROR(_xlfn.IFS(D129=\"\",\"-\",E129=\"\",\"-\",F129=\"\",\"-\",G129=\"\",\"-\"),\"OK\")","v":"-"},{"$f":"IFERROR(_xlfn.IFS(H129=\"\",\"-\"),\"OK\")","v":"-"},{"$f":"IFERROR(_xlfn.IFS(X129&Y129=\"--\",\"-\"),\"OK\")","v":"-"}]
[null,null,"Erdgas",{"$nulls":5},{"$f":"_xlfn.IFS(Z130=\"-\",\"-\",H130>SUM(D130:G130),H130,X130=\"OK\",SUM(D130:G130),Y130=\"OK\",H130)","v":"-"},null,"",null,{"$f":"OFFSET('EM-Faktoren'!$C$1,N130-1,$M$126-2020-7)","v":0.257},5,{"$f":"OFFSET('EM-Faktoren'!$B$4,N130-4,)","v":"Erdgas"},{"$error":"#VALUE!"},0,0,0,0,{"$nulls":3},{"$f":"IFERROR(_xlfn.IFS(D130=\"\",\"-\",E130=\"\",\"-\",F130=\"\",\"-\",G130=\"\",\"-\"),\"OK\")","v":"-"},{"$f":"IFERROR(_xlfn.IFS(H130=\"\",\"-\"),\"OK\")","v":"-"},{"$f":"IFERROR(_xlfn.IFS(X130&Y130=\"--\",\"-\"),\"OK\")","v":"-"}]
[null,null,"Flüssiggas",{"$nulls":5},{"$f":"_xlfn.IFS(Z131=\"-\",\"-\",H131>SUM(D131:G131),H131,X131=\"OK\",SUM(D131:G131),Y131=\"OK\",H131)","v":"-"},null,"",null,{"$f":"OFFSET('EM-Faktoren'!$C$1,N131-1,$M$126-2020-7)","v":0.295},7,{"$f":"OFFSET('EM-Faktoren'!$B$4,N131-4,)","v":"Flüssiggas"},{"$error":"#VALUE!"},0,0,0,0,{"$nulls":3},{"$f":"IFERROR(_xlfn.IFS(D131=\"\",\"-\",E131=\"\",\"-\",F131=\"\",\"-\",G131=\"\",\"-\"),\"OK\")","v":"-"},{"$f":"IFERROR(_xlfn.IFS(H131=\"\",\"-\"),\"OK\")","v":"-"},{"$f":"IFERROR(_xlfn.IFS(X131&Y131=\"--\",\"-\"),\"OK\")","v":"-"}]
[null,null,"Heizöl",{"$nulls":5},{"$f":"_xlfn.IFS(Z132=\"-\",\"-\",H132>SUM(D132:G132),H132,X132=\"OK\",SUM(D132:G132),Y132=\"OK\",H132)","v":"-"},null,"",null,{"$f":"OFFSET('EM-Faktoren'!$C$1,N132-1,$M$126-2020-7)","v":0.311},6,{"$f":"OFFSET('EM-Faktoren'!$B$4,N132-4,)","v":"Heizöl"},{"$error":"#VALUE!"},0,0,0,0,{"$nulls":3},{"$f":"IFERROR(_xlfn.IFS(D132=\"\",\"-\",E132=\"\",\"-\",F132=\"\",\"-\",G132=\"\",\"-\"),\"OK\")","v":"-"},{"$f":"IFERROR(_xlfn.IFS(H132=\"\",\"-\"),\"OK\")","v":"-"},{"$f":"IFERROR(_xlfn.IFS(X132&Y132=\"--\",\"-\"),\"OK\")","v":"-"}]
[null,null,"Wasserstoff",{"$nulls":5},{"$f":"_xlfn.IFS(Z133=\"-\",\"-\",H133>SUM(D133:G133),H133,X133=\"OK\",SUM(D133:G133),Y133=\"OK\",H133)","v":"-"},null,"",null,{"$f":"OFFSET('EM-Faktoren'!$C$1,N133-1,$M$126-2020-7)","v":{"v":0.05,"d":"0.050"}},12,{"$f":"OFFSET('EM-Faktoren'!$B$4,N133-4,)","v":"Wasserstoff"},{"$error":"#VALUE!"},0,0,0,0,{"$nulls":3},{"$f":"IFERROR(_xlfn.IFS(D133=\"\",\"-\",E133=\"\",\"-\",F133=\"\",\"-\",G133=\"\",\"-\"),\"OK\")","v":"-"},{"$f":"IFERROR(_xlfn.IFS(H133=\"\",\"-\"),\"OK\")","v":"-"},{"$f":"IFERROR(_xlfn.IFS(X133&Y133=\"--\",\"-\"),\"OK\")","v":"-"}]
[null,null,"Wasserstoffderivate",{"$nulls":5},{"$f":"_xlfn.IFS(Z134=\"-\",\"-\",H134>SUM(D134:G134),H134,X134=\"OK\",SUM(D134:G134),Y134=\"OK\",H134)","v":"-"},null,"",null,{"$f":"OFFSET('EM-Faktoren'!$C$1,N134-1,$M$126-2020-7)","v":0.041},13,{"$f":"OFFSET('EM-Faktoren'!$B$4,N134-4,)","v":"PtX"},{"$error":"#VALUE!"},0,0,0,0,{"$nulls":3},{"$f":"IFERROR(_xlfn.IFS(D134=\"\",\"-\",E134=\"\",\"-\",F134=\"\",\"-\",G134=\"\",\"-\"),\"OK\")","v":"-"},{"$f":"IFERROR(_xlfn.IFS(H134=\"\",\"-\"),\"OK\")","v":"-"},{"$f":"IFERROR(_xlfn.IFS(X134&Y134=\"--\",\"-\"),\"OK\")","v":"-"}]
[null,null,"Grubengas",{"$nulls":5},{"$f":"_xlfn.IFS(Z135=\"-\",\"-\",H135>SUM(D135:G135),H135,X135=\"OK\",SUM(D135:G135),Y135=\"OK\",H135)","v":"-"},null,"",null,{"$f":"OFFSET('EM-Faktoren'!$C$1,N135-1,$M$126-2020-7)","v":0.135},22,{"$f":"OFFSET('EM-Faktoren'!$B$4,N135-4,)","v":"Deponiegas/Grubengas"},{"$error":"#VALUE!"},0,0,0,0,{"$nulls":3},{"$f":"IFERROR(_xlfn.IFS(D135=\"\",\"-\",E135=\"\",\"-\",F135=\"\",\"-\",G135=\"\",\"-\"),\"OK\")","v":"-"},{"$f":"IFERROR(_xlfn.IFS(H135=\"\",\"-\"),\"OK\")","v":"-"},{"$f":"IFERROR(_xlfn.IFS(X135&Y135=\"--\",\"-\"),\"OK\")","v":"-"}]
[null,null,"nichtbiogener Abfall",{"$nulls":5},{"$f":"_xlfn.IFS(Z136=\"-\",\"-\",H136>SUM(D136:G136),H136,X136=\"OK\",SUM(D136:G136),Y136=\"OK\",H136)","v":"-"},null,"",null,{"$f":"OFFSET('EM-Faktoren'!$C$1,N136-1,$M$126-2020-7)","v":0.121},23,{"$f":"OFFSET('EM-Faktoren'!$B$4,N136-4,)","v":"Abfall"},{"$error":"#VALUE!"},0,0,0,0,{"$nulls":3},{"$f":"IFERROR(_xlfn.IFS(D136=\"\",\"-\",E136=\"\",\"-\",F136=\"\",\"-\",G136=\"\",\"-\"),\"OK\")","v":"-"},{"$f":"IFERROR(_xlfn.IFS(H136=\"\",\"-\"),\"OK\")","v":"-"},{"$f":"IFERROR(_xlfn.IFS(X136&Y136=\"--\",\"-\"),\"OK\")","v":"-"}]
[null,null,"biogener Abfall",{"$nulls":5},{"$f":"_xlfn.IFS(Z137=\"-\",\"-\",H137>SUM(D137:G137),H137,X137=\"OK\",SUM(D137:G137),Y137=\"OK\",H137)","v":"-"},null,"",null,{"$f":"OFFSET('EM-Faktoren'!$C$1,N137-1,$M$126-2020-7)","v":0.121},23,{"$f":"OFFSET('EM-Faktoren'!$B$4,N137-4,)","v":"Abfall"},{"$error":"#VALUE!"},0,0,0,0,{"$nulls":3},{"$f":"IFERROR(_xlfn.IFS(D137=\"\",\"-\",E137=\"\",\"-\",F137=\"\",\"-\",G137=\"\",\"-\"),\"OK\")","v":"-"},{"$f":"IFERROR(_xlfn.IFS(H137=\"\",\"-\"),\"OK\")","v":"-"},{"$f":"IFERROR(_xlfn.IFS(X137&Y137=\"--\",\"-\"),\"OK\")","v":"-"}]
[null,null,"Abwärme < 60 °C",{"$nulls":5},{"$f":"_xlfn.IFS(Z138=\"-\",\"-\",H138>SUM(D138:G138),H138,X138=\"OK\",SUM(D138:G138),Y138=\"OK\",H138)","v":"-"},null,"",null,{"$f":"OFFSET('EM-Faktoren'!$C$1,N138-1,$M$126-2020-7)","v":{"v":0.01,"d":"0.010"}},27,{"$f":"OFFSET('EM-Faktoren'!$B$4,N138-4,)","v":"Umweltwärme"},{"$f":"+I138*M138","v":{"$error":"#VALUE!"}},0,0,0,0,{"$nulls":3},{"$f":"IFERROR(_xlfn.IFS(D138=\"\",\"-\",E138=\"\",\"-\",F138=\"\",\"-\",G138=\"\",\"-\"),\"OK\")","v":"-"},{"$f":"IFERROR(_xlfn.IFS(H138=\"\",\"-\"),\"OK\")","v":"-"},{"$f":"IFERROR(_xlfn.IFS(X138&Y138=\"--\",\"-\"),\"OK\")","v":"-"}]
[null,null,"Abwärme 60 bis 110 °C",{"$nulls":5},{"$f":"_xlfn.IFS(Z139=\"-\",\"-\",H139>SUM(D139:G139),H139,X139=\"OK\",SUM(D139:G139),Y139=\"OK\",H139)","v":"-"},null,"",null,{"$f":"OFFSET('EM-Faktoren'!$C$1,N139-1,$M$126-2020-7)","v":{"v":0.01,"d":"0.010"}},27,{"$f":"OFFSET('EM-Faktoren'!$B$4,N139-4,)","v":"Umweltwärme"},{"$error":"#VALUE!"},0,0,0,0,{"$nulls":3},{"$f":"IFERROR(_xlfn.IFS(D139=\"\",\"-\",E139=\"\",\"-\",F139=\"\",\"-\",G139=\"\",\"-\"),\"OK\")","v":"-"},{"$f":"IFERROR(_xlfn.IFS(H139=\"\",\"-\"),\"OK\")","v":"-"},{"$f":"IFERROR(_xlfn.IFS(X139&Y139=\"--\",\"-\"),\"OK\")","v":"-"}]
[null,null,"Abwärme >= 110 °C",{"$nulls":5},{"$f":"_xlfn.IFS(Z140=\"-\",\"-\",H140>SUM(D140:G140),H140,X140=\"OK\",SUM(D140:G140),Y140=\"OK\",H140)","v":"-"},null,"",null,{"$f":"OFFSET('EM-Faktoren'!$C$1,N140-1,$M$126-2020-7)","v":{"v":0.01,"d":"0.010"}},27,{"$f":"OFFSET('EM-Faktoren'!$B$4,N140-4,)","v":"Umweltwärme"},{"$f":"+I140*M140","v":{"$error":"#VALUE!"}},{"$f":"D140*$M140","v":0},{"$f":"E140*$M140","v":0},{"$f":"F140*$M140","v":0},{"$f":"G140*$M140","v":0},{"$nulls":3},{"$f":"IFERROR(_xlfn.IFS(D140=\"\",\"-\",E140=\"\",\"-\",F140=\"\",\"-\",G140=\"\",\"-\"),\"OK\")","v":"-"},{"$f":"IFERROR(_xlfn.IFS(H140=\"\",\"-\"),\"OK\")","v":"-"},{"$f":"IFERROR(_xlfn.IFS(X140&Y140=\"--\",\"-\"),\"OK\")","v":"-"}]
[null,null,"feste Biomasse (ohne Altholz)",{"$nulls":5},{"$f":"_xlfn.IFS(Z141=\"-\",\"-\",H141>SUM(D141:G141),H141,X141=\"OK\",SUM(D141:G141),Y141=\"OK\",H141)","v":"-"},null,"",null,{"$f":"OFFSET('EM-Faktoren'!$C$1,N141-1,$M$126-2020-7)","v":0.064},19,{"$f":"OFFSET('EM-Faktoren'!$B$4,N141-4,)","v":"EE-Festbrennstoffe"},{"$error":"#VALUE!"},0,0,0,0,{"$nulls":3},{"$f":"IFERROR(_xlfn.IFS(D141=\"\",\"-\",E141=\"\",\"-\",F141=\"\",\"-\",G141=\"\",\"-\"),\"OK\")","v":"-"},{"$f":"IFERROR(_xlfn.IFS(H141=\"\",\"-\"),\"OK\")","v":"-"},{"$f":"IFERROR(_xlfn.IFS(X141&Y141=\"--\",\"-\"),\"OK\")","v":"-"}]
[null,null,"Altholz",{"$nulls":5},{"$f":"_xlfn.IFS(Z142=\"-\",\"-\",H142>SUM(D142:G142),H142,X142=\"OK\",SUM(D142:G142),Y142=\"OK\",H142)","v":"-"},null,"",null,{"$f":"OFFSET('EM-Faktoren'!$C$1,N142-1,$M$126-2020-7)","v":0.064},19,{"$f":"OFFSET('EM-Faktoren'!$B$4,N142-4,)","v":"EE-Festbrennstoffe"},{"$error":"#VALUE!"},0,0,0,0,{"$nulls":3},{"$f":"IFERROR(_xlfn.IFS(D142=\"\",\"-\",E142=\"\",\"-\",F142=\"\",\"-\",G142=\"\",\"-\"),\"OK\")","v":"-"},{"$f":"IFERROR(_xlfn.IFS(H142=\"\",\"-\"),\"OK\")","v":"-"},{"$f":"IFERROR(_xlfn.IFS(X142&Y142=\"--\",\"-\"),\"OK\")","v":"-"}]
[null,null,"Biogas",{"$nulls":5},{"$f":"_xlfn.IFS(Z143=\"-\",\"-\",H143>SUM(D143:G143),H143,X143=\"OK\",SUM(D143:G143),Y143=\"OK\",H143)","v":"-"},null,"",null,{"$f":"OFFSET('EM-Faktoren'!$C$1,N143-1,$M$126-2020-7)","v":0.124},21,{"$f":"OFFSET('EM-Faktoren'!$B$4,N143-4,)","v":"Biogas"},{"$error":"#VALUE!"},0,0,0,0,{"$nulls":3},{"$f":"IFERROR(_xlfn.IFS(D143=\"\",\"-\",E143=\"\",\"-\",F143=\"\",\"-\",G143=\"\",\"-\"),\"OK\")","v":"-"},{"$f":"IFERROR(_xlfn.IFS(H143=\"\",\"-\"),\"OK\")","v":"-"},{"$f":"IFERROR(_xlfn.IFS(X143&Y143=\"--\",\"-\"),\"OK\")","v":"-"}]
[null,null,"Biomethan",{"$nulls":5},{"$f":"_xlfn.IFS(Z144=\"-\",\"-\",H144>SUM(D144:G144),H144,X144=\"OK\",SUM(D144:G144),Y144=\"OK\",H144)","v":"-"},null,"",null,{"$f":"OFFSET('EM-Faktoren'!$C$1,N144-1,$M$126-2020-7)","v":0.041},25,{"$f":"OFFSET('EM-Faktoren'!$B$4,N144-4,)","v":"Synth. Brennstoffe"},{"$error":"#VALUE!"},0,0,0,0,{"$nulls":3},{"$f":"IFERROR(_xlfn.IFS(D144=\"\",\"-\",E144=\"\",\"-\",F144=\"\",\"-\",G144=\"\",\"-\"),\"OK\")","v":"-"},{"$f":"IFERROR(_xlfn.IFS(H144=\"\",\"-\"),\"OK\")","v":"-"},{"$f":"IFERROR(_xlfn.IFS(X144&Y144=\"--\",\"-\"),\"OK\")","v":"-"}]
[null,null,"Deponiegas",{"$nulls":5},{"$f":"_xlfn.IFS(Z145=\"-\",\"-\",H145>SUM(D145:G145),H145,X145=\"OK\",SUM(D145:G145),Y145=\"OK\",H145)","v":"-"},null,"",null,{"$f":"OFFSET('EM-Faktoren'!$C$1,N145-1,$M$126-2020-7)","v":0.135},22,{"$f":"OFFSET('EM-Faktoren'!$B$4,N145-4,)","v":"Deponiegas/Grubengas"},{"$error":"#VALUE!"},0,0,0,0,{"$nulls":3},{"$f":"IFERROR(_xlfn.IFS(D145=\"\",\"-\",E145=\"\",\"-\",F145=\"\",\"-\",G145=\"\",\"-\"),\"OK\")","v":"-"},{"$f":"IFERROR(_xlfn.IFS(H145=\"\",\"-\"),\"OK\")","v":"-"},{"$f":"IFERROR(_xlfn.IFS(X145&Y145=\"--\",\"-\"),\"OK\")","v":"-"}]
[null,null,"Klärgas",{"$nulls":5},{"$f":"_xlfn.IFS(Z146=\"-\",\"-\",H146>SUM(D146:G146),H146,X146=\"OK\",SUM(D146:G146),Y146=\"OK\",H146)","v":"-"},null,"",null,{"$f":"OFFSET('EM-Faktoren'!$C$1,N146-1,$M$126-2020-7)","v":0.055},18,{"$f":"OFFSET('EM-Faktoren'!$B$4,N146-4,)","v":"Klärgas"},{"$error":"#VALUE!"},0,0,0,0,{"$nulls":3},{"$f":"IFERROR(_xlfn.IFS(D146=\"\",\"-\",E146=\"\",\"-\",F146=\"\",\"-\",G146=\"\",\"-\"),\"OK\")","v":"-"},{"$f":"IFERROR(_xlfn.IFS(H146=\"\",\"-\"),\"OK\")","v":"-"},{"$f":"IFERROR(_xlfn.IFS(X146&Y146=\"--\",\"-\"),\"OK\")","v":"-"}]
[null,null,"flüssige Biomasse",{"$nulls":5},{"$f":"_xlfn.IFS(Z147=\"-\",\"-\",H147>SUM(D147:G147),H147,X147=\"OK\",SUM(D147:G147),Y147=\"OK\",H147)","v":"-"},null,"",null,{"$f":"OFFSET('EM-Faktoren'!$C$1,N147-1,$M$126-2020-7)","v":{"v":0.3,"d":"0.300"}},20,{"$f":"OFFSET('EM-Faktoren'!$B$4,N147-4,)","v":"Flüssige Biomasse"},{"$error":"#VALUE!"},0,0,0,0,{"$nulls":3},{"$f":"IFERROR(_xlfn.IFS(D147=\"\",\"-\",E147=\"\",\"-\",F147=\"\",\"-\",G147=\"\",\"-\"),\"OK\")","v":"-"},{"$f":"IFERROR(_xlfn.IFS(H147=\"\",\"-\"),\"OK\")","v":"-"},{"$f":"IFERROR(_xlfn.IFS(X147&Y147=\"--\",\"-\"),\"OK\")","v":"-"}]
[null,null,"Strom Wärmepumpe",{"$nulls":5},{"$f":"_xlfn.IFS(Z148=\"-\",\"-\",H148>SUM(D148:G148),H148,X148=\"OK\",SUM(D148:G148),Y148=\"OK\",H148)","v":"-"},null,"",null,{"$f":"OFFSET('EM-Faktoren'!$C$1,N148-1,$M$126-2020-7)","v":0.081},4,{"$f":"OFFSET('EM-Faktoren'!$B$4,N148-4,)","v":"Strom"},{"$error":"#VALUE!"},0,0,0,0,{"$nulls":3},{"$f":"IFERROR(_xlfn.IFS(D148=\"\",\"-\",E148=\"\",\"-\",F148=\"\",\"-\",G148=\"\",\"-\"),\"OK\")","v":"-"},{"$f":"IFERROR(_xlfn.IFS(H148=\"\",\"-\"),\"OK\")","v":"-"},{"$f":"IFERROR(_xlfn.IFS(X148&Y148=\"--\",\"-\"),\"OK\")","v":"-"}]
[null,null,"Strom Direktheizung",{"$nulls":5},{"$f":"_xlfn.IFS(Z149=\"-\",\"-\",H149>SUM(D149:G149),H149,X149=\"OK\",SUM(D149:G149),Y149=\"OK\",H149)","v":"-"},null,"",null,{"$f":"OFFSET('EM-Faktoren'!$C$1,N149-1,$M$126-2020-7)","v":0.081},4,{"$f":"OFFSET('EM-Faktoren'!$B$4,N149-4,)","v":"Strom"},{"$error":"#VALUE!"},0,0,0,0,{"$nulls":3},{"$f":"IFERROR(_xlfn.IFS(D149=\"\",\"-\",E149=\"\",\"-\",F149=\"\",\"-\",G149=\"\",\"-\"),\"OK\")","v":"-"},{"$f":"IFERROR(_xlfn.IFS(H149=\"\",\"-\"),\"OK\")","v":"-"},{"$f":"IFERROR(_xlfn.IFS(X149&Y149=\"--\",\"-\"),\"OK\")","v":"-"}]
[null,null,"Solarthermie Dachflächen-Anlagen",{"$nulls":5},{"$f":"_xlfn.IFS(Z150=\"-\",\"-\",H150>SUM(D150:G150),H150,X150=\"OK\",SUM(D150:G150),Y150=\"OK\",H150)","v":"-"},null,"",null,{"$f":"OFFSET('EM-Faktoren'!$C$1,N150-1,$M$126-2020-7)","v":0.023},11,{"$f":"OFFSET('EM-Faktoren'!$B$4,N150-4,)","v":"Solarwärme"},{"$error":"#VALUE!"},0,0,0,0,{"$nulls":3},{"$f":"IFERROR(_xlfn.IFS(D150=\"\",\"-\",E150=\"\",\"-\",F150=\"\",\"-\",G150=\"\",\"-\"),\"OK\")","v":"-"},{"$f":"IFERROR(_xlfn.IFS(H150=\"\",\"-\"),\"OK\")","v":"-"},{"$f":"IFERROR(_xlfn.IFS(X150&Y150=\"--\",\"-\"),\"OK\")","v":"-"}]
[null,null,"Solarthermie Freiflächenanlagen",{"$nulls":5},{"$f":"_xlfn.IFS(Z151=\"-\",\"-\",H151>SUM(D151:G151),H151,X151=\"OK\",SUM(D151:G151),Y151=\"OK\",H151)","v":"-"},null,"",null,{"$f":"OFFSET('EM-Faktoren'!$C$1,N151-1,$M$126-2020-7)","v":0.023},11,{"$f":"OFFSET('EM-Faktoren'!$B$4,N151-4,)","v":"Solarwärme"},{"$error":"#VALUE!"},0,0,0,0,{"$nulls":3},{"$f":"IFERROR(_xlfn.IFS(D151=\"\",\"-\",E151=\"\",\"-\",F151=\"\",\"-\",G151=\"\",\"-\"),\"OK\")","v":"-"},{"$f":"IFERROR(_xlfn.IFS(H151=\"\",\"-\"),\"OK\")","v":"-"},{"$f":"IFERROR(_xlfn.IFS(X151&Y151=\"--\",\"-\"),\"OK\")","v":"-"}]
[null,null,"oberflächennahe Geothermie",{"$nulls":5},{"$f":"_xlfn.IFS(Z152=\"-\",\"-\",H152>SUM(D152:G152),H152,X152=\"OK\",SUM(D152:G152),Y152=\"OK\",H152)","v":"-"},null,"",null,{"$f":"OFFSET('EM-Faktoren'!$C$1,N152-1,$M$126-2020-7)","v":{"v":0.01,"d":"0.010"}},27,{"$f":"OFFSET('EM-Faktoren'!$B$4,N152-4,)","v":"Umweltwärme"},{"$error":"#VALUE!"},0,0,0,0,{"$nulls":3},{"$f":"IFERROR(_xlfn.IFS(D152=\"\",\"-\",E152=\"\",\"-\",F152=\"\",\"-\",G152=\"\",\"-\"),\"OK\")","v":"-"},{"$f":"IFERROR(_xlfn.IFS(H152=\"\",\"-\"),\"OK\")","v":"-"},{"$f":"IFERROR(_xlfn.IFS(X152&Y152=\"--\",\"-\"),\"OK\")","v":"-"}]
[null,null,"tiefe Geothermie",{"$nulls":5},{"$f":"_xlfn.IFS(Z153=\"-\",\"-\",H153>SUM(D153:G153),H153,X153=\"OK\",SUM(D153:G153),Y153=\"OK\",H153)","v":"-"},null,"",null,{"$f":"OFFSET('EM-Faktoren'!$C$1,N153-1,$M$126-2020-7)","v":0.149},26,{"$f":"OFFSET('EM-Faktoren'!$B$4,N153-4,)","v":"Tiefe Geothermie"},{"$error":"#VALUE!"},0,0,0,0,{"$nulls":3},{"$f":"IFERROR(_xlfn.IFS(D153=\"\",\"-\",E153=\"\",\"-\",F153=\"\",\"-\",G153=\"\",\"-\"),\"OK\")","v":"-"},{"$f":"IFERROR(_xlfn.IFS(H153=\"\",\"-\"),\"OK\")","v":"-"},{"$f":"IFERROR(_xlfn.IFS(X153&Y153=\"--\",\"-\"),\"OK\")","v":"-"}]
[null,null,"Umweltwärme aus Oberflächengewässern",{"$nulls":5},{"$f":"_xlfn.IFS(Z154=\"-\",\"-\",H154>SUM(D154:G154),H154,X154=\"OK\",SUM(D154:G154),Y154=\"OK\",H154)","v":"-"},null,"",null,{"$f":"OFFSET('EM-Faktoren'!$C$1,N154-1,$M$126-2020-7)","v":{"v":0.01,"d":"0.010"}},27,{"$f":"OFFSET('EM-Faktoren'!$B$4,N154-4,)","v":"Umweltwärme"},{"$error":"#VALUE!"},0,0,0,0,{"$nulls":3},{"$f":"IFERROR(_xlfn.IFS(D154=\"\",\"-\",E154=\"\",\"-\",F154=\"\",\"-\",G154=\"\",\"-\"),\"OK\")","v":"-"},{"$f":"IFERROR(_xlfn.IFS(H154=\"\",\"-\"),\"OK\")","v":"-"},{"$f":"IFERROR(_xlfn.IFS(X154&Y154=\"--\",\"-\"),\"OK\")","v":"-"}]
[null,null,"Umweltwärme aus Grubenwasser",{"$nulls":5},{"$f":"_xlfn.IFS(Z155=\"-\",\"-\",H155>SUM(D155:G155),H155,X155=\"OK\",SUM(D155:G155),Y155=\"OK\",H155)","v":"-"},null,"",null,{"$f":"OFFSET('EM-Faktoren'!$C$1,N155-1,$M$126-2020-7)","v":{"v":0.01,"d":"0.010"}},27,{"$f":"OFFSET('EM-Faktoren'!$B$4,N155-4,)","v":"Umweltwärme"},{"$error":"#VALUE!"},0,0,0,0,{"$nulls":3},{"$f":"IFERROR(_xlfn.IFS(D155=\"\",\"-\",E155=\"\",\"-\",F155=\"\",\"-\",G155=\"\",\"-\"),\"OK\")","v":"-"},{"$f":"IFERROR(_xlfn.IFS(H155=\"\",\"-\"),\"OK\")","v":"-"},{"$f":"IFERROR(_xlfn.IFS(X155&Y155=\"--\",\"-\"),\"OK\")","v":"-"}]
[null,null,"Umweltwärme aus Luft",{"$nulls":5},{"$f":"_xlfn.IFS(Z156=\"-\",\"-\",H156>SUM(D156:G156),H156,X156=\"OK\",SUM(D156:G156),Y156=\"OK\",H156)","v":"-"},null,"",null,{"$f":"OFFSET('EM-Faktoren'!$C$1,N156-1,$M$126-2020-7)","v":{"v":0.01,"d":"0.010"}},27,{"$f":"OFFSET('EM-Faktoren'!$B$4,N156-4,)","v":"Umweltwärme"},{"$error":"#VALUE!"},0,0,0,0,{"$nulls":3},{"$f":"IFERROR(_xlfn.IFS(D156=\"\",\"-\",E156=\"\",\"-\",F156=\"\",\"-\",G156=\"\",\"-\"),\"OK\")","v":"-"},{"$f":"IFERROR(_xlfn.IFS(H156=\"\",\"-\"),\"OK\")","v":"-"},{"$f":"IFERROR(_xlfn.IFS(X156&Y156=\"--\",\"-\"),\"OK\")","v":"-"}]
[null,null,"Umweltwärme aus Abwasser",{"$nulls":5},{"$f":"_xlfn.IFS(Z157=\"-\",\"-\",H157>SUM(D157:G157),H157,X157=\"OK\",SUM(D157:G157),Y157=\"OK\",H157)","v":"-"},null,"",null,{"$f":"OFFSET('EM-Faktoren'!$C$1,N157-1,$M$126-2020-7)","v":{"v":0.01,"d":"0.010"}},27,{"$f":"OFFSET('EM-Faktoren'!$B$4,N157-4,)","v":"Umweltwärme"},{"$error":"#VALUE!"},0,0,0,0,{"$nulls":3},{"$f":"IFERROR(_xlfn.IFS(D157=\"\",\"-\",E157=\"\",\"-\",F157=\"\",\"-\",G157=\"\",\"-\"),\"OK\")","v":"-"},{"$f":"IFERROR(_xlfn.IFS(H157=\"\",\"-\"),\"OK\")","v":"-"},{"$f":"IFERROR(_xlfn.IFS(X157&Y157=\"--\",\"-\"),\"OK\")","v":"-"}]
[null,null,"Sonstige fossile Brennstoffe",{"$nulls":5},{"$f":"_xlfn.IFS(Z158=\"-\",\"-\",H158>SUM(D158:G158),H158,X158=\"OK\",SUM(D158:G158),Y158=\"OK\",H158)","v":"-"},null,"",null,{"$f":"OFFSET('EM-Faktoren'!$C$1,N158-1,$M$126-2020-7)","v":{"v":0.15,"d":"0.150"}},14,{"$f":"OFFSET('EM-Faktoren'!$B$4,N158-4,)","v":"Sonstige"},{"$error":"#VALUE!"},0,0,0,0,{"$nulls":3},{"$f":"IFERROR(_xlfn.IFS(D158=\"\",\"-\",E158=\"\",\"-\",F158=\"\",\"-\",G158=\"\",\"-\"),\"OK\")","v":"-"},{"$f":"IFERROR(_xlfn.IFS(H158=\"\",\"-\"),\"OK\")","v":"-"},{"$f":"IFERROR(_xlfn.IFS(X158&Y158=\"--\",\"-\"),\"OK\")","v":"-"}]
[null,null,"Sonstige erneuerbare Energien",{"$nulls":5},{"$f":"_xlfn.IFS(Z159=\"-\",\"-\",H159>SUM(D159:G159),H159,X159=\"OK\",SUM(D159:G159),Y159=\"OK\",H159)","v":"-"},null,"",null,{"$f":"OFFSET('EM-Faktoren'!$C$1,N159-1,$M$126-2020-7)","v":{"v":0.05,"d":"0.050"}},28,{"$f":"OFFSET('EM-Faktoren'!$B$4,N159-4,)","v":"sonstige Erneuerbare"},{"$error":"#VALUE!"},0,0,0,0,{"$nulls":3},{"$f":"IFERROR(_xlfn.IFS(D159=\"\",\"-\",E159=\"\",\"-\",F159=\"\",\"-\",G159=\"\",\"-\"),\"OK\")","v":"-"},{"$f":"IFERROR(_xlfn.IFS(H159=\"\",\"-\"),\"OK\")","v":"-"},{"$f":"IFERROR(_xlfn.IFS(X159&Y159=\"--\",\"-\"),\"OK\")","v":"-"}]
[null,null,"Summe",{"$f":"SUM(D128:D159)","v":0},{"$f":"SUM(E128:E159)","v":0},{"$f":"SUM(F128:F159)","v":0},{"$f":"SUM(G128:G159)","v":0},{"$f":"SUM(H128:H159)","v":0},{"$f":"IF(SUM(D160:G160)>0,SUM(D160:G160),H160)","v":0},{"$nulls":6},{"$f":"SUM(P128:P159)","v":{"$error":"#VALUE!"}},{"$f":"SUM(Q128:Q159)","v":0},{"$f":"SUM(R128:R159)","v":0},{"$f":"SUM(S128:S159)","v":0},{"$f":"SUM(T128:T159)","v":0}]
[{"$nulls":8},{"$f":"IF(SUM(D160:G160)>0,IF(H160>0,\"Fehler: entweder Aufteilug nach Sektoren ODER Gesammtsumme\",\"\"),\"\")","v":""}]
[]
[null,null,"Treibhausgasemissionen"]
[]
[null,"D.10","Treibhausgasemissionen (THG-Emissionen)  der gesamten Wärmeversorgung des beplanten Gebiets  "]
[null,null,"Hinweis: Nicht zur Eingabe durch die Kommunen, automatische Berechnung."]
[]
[null,null,"THG-Emissionen Wärmeversorgung",{"$f":"D127","v":"Haushalte"},{"$f":"E127","v":"GHD"},"öffentliche Liegenschaften","Industrie","Gesamt"]
[null,null,"kt/a"]
[null,null,"Jahr"]
[null,null,2030,{"$f":"Q84/1000","v":{"v":0,"d":"0.0"}},{"$f":"R84/1000","v":{"v":0,"d":"0.0"}},{"$f":"S84/1000","v":{"v":0,"d":"0.0"}},{"$f":"T84/1000","v":{"v":0,"d":"0.0"}},{"$f":"P84/1000","v":{"$error":"#VALUE!"}}]
[null,null,2035,{"$f":"Q122/1000","v":{"v":0,"d":"0.0"}},{"$f":"R122/1000","v":{"v":0,"d":"0.0"}},{"v":0,"d":"0.0"},{"v":0,"d":"0.0"},{"$f":"P122/1000","v":{"$error":"#VALUE!"}},"optional für vereinfachtes Verfahren"]
[null,null,2040,{"$f":"Q160/1000","v":{"v":0,"d":"0.0"}},{"$f":"R160/1000","v":{"v":0,"d":"0.0"}},{"v":0,"d":"0.0"},{"v":0,"d":"0.0"},{"$f":"P160/1000","v":{"$error":"#VALUE!"}}]
[]
[]
[]
[null,null,"Endenergieverbrauch für Energienetze"]
[]
[null,"D.11","Jährlicher Endenergieverbrauch leitungsgebundener Wärme nach Energieträgern nach Anlage 2 Abschnitt III Nr. 3 WPG"]
[]
[]
[null,null,"Endenergieverbrauch leitungsgebundene Wärme","2030","2035","2040","Hinweise",{"$nulls":5},2030,2035,2040]
[null,null,"in MWh/a",null,"2035 optional f. vereinfachtes Verfahren",{"$nulls":7},"Tonnen THG"]
[null,null,"Braunkohle",{"$nulls":9},{"$f":"+D184*M52","v":0},{"$f":"+E184*M90","v":0},{"$f":"+F184*M128","v":0}]
[null,null,"Steinkohle",{"$nulls":9},0,0,0]
[null,null,"Erdgas",{"$nulls":9},0,0,0]
[null,null,"Flüssiggas",{"$nulls":9},0,0,0]
[null,null,"Heizöl",{"$nulls":9},0,0,0]
[null,null,"Wasserstoff",{"$nulls":9},0,0,0]
[null,null,"Wasserstoffderivate",{"$nulls":9},0,0,0]
[null,null,"Grubengas",{"$nulls":9},0,0,0]
[null,null,"nichtbiogener Abfall",{"$nulls":9},0,0,0]
[null,null,"biogener Abfall",{"$nulls":9},0,0,0]
[null,null,"Abwärme < 60 °C",{"$nulls":9},0,0,0]
[null,null,"Abwärme 60 bis 110 °C",{"$nulls":9},0,0,0]
[null,null,"Abwärme >= 110 °C",{"$nulls":9},0,0,0]
[null,null,"feste Biomasse (ohne Altholz)",{"$nulls":9},0,0,0]
[null,null,"Altholz",{"$nulls":9},0,0,0]
[null,null,"Biogas",{"$nulls":9},0,0,0]
[null,null,"Biomethan",{"$nulls":9},0,0,0]
[null,null,"Deponiegas",{"$nulls":9},0,0,0]
[null,null,"Klärgas",{"$nulls":9},0,0,0]
[null,null,"flüssige Biomasse",{"$nulls":9},0,0,0]
[null,null,"Strom Wärmepumpe",{"$nulls":9},0,0,0]
[null,null,"Strom Direktheizung",{"$nulls":9},0,0,0]
[null,null,"Solarthermie Dachlächen-Anlagen",{"$nulls":9},0,0,0]
[null,null,"Solarthermie Freiflächenanlagen",{"$nulls":9},0,0,0]
[null,null,"oberflächennahe Geothermie",{"$nulls":9},0,0,0]
[null,null,"tiefe Geothermie",{"$nulls":9},0,0,0]
[null,null,"Umweltwärme aus Oberflächengewässern",{"$nulls":9},0,0,0]
[null,null,"Umweltwärme aus Grubenwasser",{"$nulls":9},0,0,0]
[null,null,"Umweltwärme aus Luft",{"$nulls":9},0,0,0]
[null,null,"Umweltwärme aus Abwasser",{"$nulls":9},0,0,0]
[null,null,"Sonstige fossile Brennstoffe",{"$nulls":9},0,0,0]
[null,null,"Sonstige erneuerbare Energien",{"$nulls":9},0,0,0]
[null,null,"Summe",{"$f":"SUM(D184:D215)","v":0},{"$f":"SUM(E184:E215)","v":0},{"$f":"SUM(F184:F215)","v":0}]
[]
[]
[]
[null,"D.12","Jährlicher Endenergieverbrauch aus Gasnetzen nach Energieträgern nach Anlage 2 Abschnitt III Nr. 6"]
[]
[null,null,"Endenergieverbrauch Gasnetze","2030","2035","2040",{"$nulls":6},2030,2035,2040]
[null,null,"MWh/a",null,"2035 optional f. vereinfachtes Verfahren",{"$nulls":7},"Tonnen THG"]
[null,null,"Erdgas",{"$nulls":9},{"$f":"D224*M54","v":0},{"$f":"+E224*M92","v":0},{"$f":"+F224*M130","v":0},{"$nulls":8},{"$f":"'B-Bestandsanalyse'!X50","v":"Erdgas"}]
[null,null,"Flüssiggas",{"$nulls":9},{"$f":"D225*M55","v":0},{"$f":"+E225*M93","v":0},{"$f":"+F225*M131","v":0},{"$nulls":8},{"$f":"'B-Bestandsanalyse'!X51","v":"Flüssiggas"}]
[null,null,"Wasserstoff",{"$nulls":9},{"$f":"D226*M57","v":0},{"$f":"+E226*M95","v":0},{"$f":"+F226*M133","v":0},{"$nulls":8},{"$f":"'B-Bestandsanalyse'!X53","v":"Wasserstoff"}]
[null,null,"Wasserstoffderivate",{"$nulls":9},{"$f":"D227*M58","v":0},{"$f":"+E227*M96","v":0},{"$f":"+F227*M134","v":0},{"$nulls":8},{"$f":"'B-Bestandsanalyse'!X54","v":"Wasserstoffderivate"}]
[null,null,"Grubengas",{"$nulls":9},{"$f":"D228*M59","v":0},{"$f":"+E228*M97","v":0},{"$f":"+F228*M135","v":0},{"$nulls":8},{"$f":"'B-Bestandsanalyse'!X55","v":"Grubengas"}]
[null,null,"Biogas",{"$nulls":9},{"$f":"D229*M67","v":0},{"$f":"+E229*M105","v":0},{"$f":"+F229*M143","v":0},{"$nulls":8},{"$f":"'B-Bestandsanalyse'!X63","v":"Biogas"}]
[null,null,"Biomethan",{"$nulls":9},{"$f":"D230*M68","v":0},{"$f":"+E230*M106","v":0},{"$f":"+F230*M144","v":0},{"$nulls":8},{"$f":"'B-Bestandsanalyse'!X64","v":"Biomethan"}]
[null,null,"Deponiegas",{"$nulls":9},{"$f":"D231*M69","v":0},{"$f":"+E231*M107","v":0},{"$f":"+F231*M145","v":0},{"$nulls":8},{"$f":"'B-Bestandsanalyse'!X65","v":"Deponiegas"}]
[null,null,"Klärgas",{"$nulls":9},{"$f":"D232*M70","v":0},{"$f":"+E232*M108","v":0},{"$f":"+F232*M146","v":0},{"$nulls":8},{"$f":"'B-Bestandsanalyse'!X66","v":"Klärgas"}]
[null,null,"Summe",{"$f":"SUM(D224:D232)","v":0},{"$f":"SUM(E224:E232)","v":0},{"$f":"SUM(F224:F232)","v":0}]
[]
[]
[null,"D.13","Treibhausgasemissionen (THG-Emissionen) leitungsgebunder Wärme und Gasnetze"]
[]
[null,null,"Hinweis: diese THG-Emissionen sind in D.10 enthalten. Nicht zur Eingabe durch die Kommunen, automatische Berechnung."]
[]
[null,null,"THG Emissionen","2030","2035","2040"]
[null,null,"kt/a",null,"2035 optional f. vereinfachtes Verfahren"]
[null,null,"THG Emissionen leitungsgebundene Wärme",{"$f":"SUM(M184:M215)/1000","v":{"v":0,"d":"0.0"}},{"$f":"+SUM(N184:N215)/1000","v":{"v":0,"d":"0.0"}},{"$f":"+SUM(O184:O215)/1000","v":{"v":0,"d":"0.0"}}]
[null,null,"THG Emissionen Gasnetze",{"$f":"SUM(M224:M232)/1000","v":{"v":0,"d":"0.0"}},{"$f":"SUM(N224:N232)/1000","v":{"v":0,"d":"0.0"}},{"v":0,"d":"0.0"}]

{"sheet":"E-Maßnahmen","index":5,"n_rows":28,"n_cols":15,"rows_kept":28,"merged":[[17,13,17,14]]}
[]
[]
[null,"Template für die Datenerfassung durch Kommunen zur KWP"]
[]
[]
[null,"Datenerfassung KWP"]
[null,"Legende Eingabefelder:"]
[null,null,"Dropdown-Menü"]
[null,null,"Numerische Angaben "]
[null,null,"Kurze textliche Angaben"]
[null,null,"Optionale Angaben"]
[]
[null,"#","Inhalte"]
[null,null,"E - Angaben zu den Ergebnissen der KWP - Umsetzungsmaßnahmen"]
[]
[null,null,"E.1","E.2","E.2.1","E.3","E.4","E.5","E.6","E.7.1","E.7.2","E.8","E.9","E.10.1","E.10.2"]
[null,null,"Kategorie","Bezeichnung der Maßnahmen","Anzahl der Maßnahmen in der Kategorie","Zeitpunkt für den Beginn der Umsetzung","Anzahl der Wiederholungen","Zeitpunkt, zu dem die Umsetzung abgeschlossen sein soll","Erwartete Kosten (Planung & Umsetzung) der Maßnahme","Kostentragender Sektor 1","Kostentragender Sektor 2","Endenergieeinsparung durch die Maßnahmen","THG-Emissionen Einsparung durch die Maßnahmen","Ermittelte Finanzierungsmechanismen 1 zur Umsetzung der Maßnahme","Ermittelte Finanzierungsmechanismen 2 zur Umsetzung der Maßnahme"]
[{"$nulls":4},"Anzahl","Datum (TT.MM.JJJJ)","Anzahl ","Datum (TT.MM.JJJJ)","EUR",null,null,"MWh/a","t/a","Pflicht bei Gemeinden >45.000 EW nach Anlage 2 Abschnitt VI Satz 5"]
[null,"M 1"]
[null,"M 2"]
[null,"M 3"]
[null,"M 4"]
[null,"M 5"]
[null,"M 6"]
[null,"M 7"]
[null,"M 8"]
[null,"M 9"]
[null,"M 10"]

{"sheet":"Export","index":6,"n_rows":1248,"n_cols":7,"rows_kept":1248,"hidden":true}
["Kommune",{"$f":"+'A-Allgemeine Angaben'!D19","v":0}]
["Gemeindeschlüssel",{"$f":"+'A-Allgemeine Angaben'!E19","v":""}]
["Version",{"$f":"Deckblatt!D13","v":"V1 | Juni 2026"}]
[]
["Attribut_nr","Attribut","Energieträger","Sektor","Einheit","Jahr","Wert"]
["A.1c",{"$f":"'A-Allgemeine Angaben'!X19","v":"Einwohner"},null,null,"Anzahl",{"$f":"'A-Allgemeine Angaben'!D20","v":0},{"$f":"+'A-Allgemeine Angaben'!F19","v":""}]
["A.2",{"$f":"'A-Allgemeine Angaben'!X20","v":"WP Erstellungsjahr"},null,null,"Textfeld",{"$f":"+'A-Allgemeine Angaben'!D20","v":0},{"$f":"+F7","v":0}]
[{"$f":"+'A-Allgemeine Angaben'!B21","v":"A.3"},{"$f":"'A-Allgemeine Angaben'!X21","v":"Konvoiplanung"},null,null,"Textfeld",{"$f":"+'A-Allgemeine Angaben'!$D$20","v":0},{"$f":"+'A-Allgemeine Angaben'!D21","v":0}]
[{"$f":"+'A-Allgemeine Angaben'!B22","v":"A.4"},{"$f":"'A-Allgemeine Angaben'!X22","v":"Basisjahr"},null,null,"Textfeld",{"$f":"+'A-Allgemeine Angaben'!$D$20","v":0},{"$f":"+'A-Allgemeine Angaben'!D22","v":0}]
[{"$f":"+'A-Allgemeine Angaben'!B23","v":"A.5"},{"$f":"'A-Allgemeine Angaben'!X23","v":"Zieljahr"},null,null,"Textfeld",{"$f":"+'A-Allgemeine Angaben'!$D$20","v":0},{"$f":"+'A-Allgemeine Angaben'!D23","v":0}]
[{"$f":"+'A-Allgemeine Angaben'!B24","v":"A.6"},{"$f":"'A-Allgemeine Angaben'!X24","v":"vereinfachtes Verfahren"},null,null,"Textfeld",{"$f":"+'A-Allgemeine Angaben'!$D$20","v":0},{"$f":"+'A-Allgemeine Angaben'!D24","v":0}]
[{"$f":"+'A-Allgemeine Angaben'!B25","v":"A.7"},{"$f":"'A-Allgemeine Angaben'!X25","v":"verkürzte WP"},null,null,"Textfeld",{"$f":"+'A-Allgemeine Angaben'!$D$20","v":0},{"$f":"+'A-Allgemeine Angaben'!D25","v":0}]
[{"$f":"+'A-Allgemeine Angaben'!B26","v":"A.8"},{"$f":"'A-Allgemeine Angaben'!X26","v":"Erhöhtes Einsparpotenzial"},null,null,"Textfeld",{"$f":"+'A-Allgemeine Angaben'!$D$20","v":0},{"$f":"+'A-Allgemeine Angaben'!D26","v":0}]
[{"$f":"+'A-Allgemeine Angaben'!B27","v":"A.9"},{"$f":"'A-Allgemeine Angaben'!X27","v":"EE Gebiet"},null,null,"Textfeld",{"$f":"+'A-Allgemeine Angaben'!$D$20","v":0},{"$f":"+'A-Allgemeine Angaben'!D27","v":0}]
[{"$f":"+'A-Allgemeine Angaben'!B28","v":"A.10"},{"$f":"'A-Allgemeine Angaben'!X28","v":"Fortschreibung WP"},null,null,"Textfeld",{"$f":"+'A-Allgemeine Angaben'!$D$20","v":0},{"$f":"+'A-Allgemeine Angaben'!D28","v":0}]
["A.13",{"$f":"'A-Allgemeine Angaben'!X33","v":"Kontaktperson"},null,null,"Textfeld",{"$f":"+'A-Allgemeine Angaben'!$D$20","v":0},{"$f":"_xlfn.CONCAT('A-Allgemeine Angaben'!D33,\" \",'A-Allgemeine Angaben'!D34)","v":" "}]
["A.17",{"$f":"'A-Allgemeine Angaben'!X38","v":"umsetzende Stelle"},null,null,"Textfeld",{"$f":"+'A-Allgemeine Angaben'!$D$20","v":0},{"$f":"'A-Allgemeine Angaben'!D38","v":0}]
[{"$f":"+'A-Allgemeine Angaben'!B42","v":"A.18"},{"$f":"'A-Allgemeine Angaben'!X42","v":"WP gesetzliche Grundlage"},null,null,"Textfeld",{"$f":"+'A-Allgemeine Angaben'!$D$20","v":0},{"$f":"+'A-Allgemeine Angaben'!D42","v":0}]
[{"$f":"+'A-Allgemeine Angaben'!B43","v":"A.19"},{"$f":"'A-Allgemeine Angaben'!X43","v":"URL Endbericht"},null,null,"Textfeld",{"$f":"+'A-Allgemeine Angaben'!$D$20","v":0},{"$f":"+'A-Allgemeine Angaben'!D43","v":0}]
[{"$f":"+'A-Allgemeine Angaben'!B44","v":"A.20"},{"$f":"'A-Allgemeine Angaben'!X44","v":"Beschlussdatum"},null,null,"Datum",{"$f":"+'A-Allgemeine Angaben'!$D$20","v":0},{"$f":"+'A-Allgemeine Angaben'!D44","v":"00:00:00"}]
[{"$f":"+'B-Bestandsanalyse'!B20","v":"B.1"},{"$f":"+'B-Bestandsanalyse'!X20","v":"Anzahl Wohngebäude"},null,null,{"$f":"'B-Bestandsanalyse'!F20","v":"Anzahl"},{"$f":"'A-Allgemeine Angaben'!$D$20","v":0},{"$f":"IF('B-Bestandsanalyse'!E20=\"\",\"-\",'B-Bestandsanalyse'!E20)","v":"-"}]
[{"$f":"+'B-Bestandsanalyse'!B21","v":"B.2"},{"$f":"+'B-Bestandsanalyse'!X21","v":"Anzahl beheizter Wohngebäude"},null,null,{"$f":"'B-Bestandsanalyse'!F21","v":"Anzahl"},{"$f":"'A-Allgemeine Angaben'!$D$20","v":0},{"$f":"IF('B-Bestandsanalyse'!E21=\"\",\"-\",'B-Bestandsanalyse'!E21)","v":"-"}]
[{"$f":"+'B-Bestandsanalyse'!B22","v":"B.3"},{"$f":"+'B-Bestandsanalyse'!X22","v":"Anzahl beheizter Nichtwohngebäude"},null,null,{"$f":"'B-Bestandsanalyse'!F22","v":"Anzahl"},{"$f":"'A-Allgemeine Angaben'!$D$20","v":0},{"$f":"IF('B-Bestandsanalyse'!E22=\"\",\"-\",'B-Bestandsanalyse'!E22)","v":"-"}]
[{"$f":"+'B-Bestandsanalyse'!B28","v":"B.4"},{"$f":"'B-Bestandsanalyse'!X28","v":"Anzahl bestehender W-Netze"},null,null,{"$f":"'B-Bestandsanalyse'!F28","v":"Anzahl"},{"$f":"'A-Allgemeine Angaben'!$D$20","v":0},{"$f":"IF('B-Bestandsanalyse'!E28=\"\",\"-\",'B-Bestandsanalyse'!E28)","v":"-"}]
[{"$f":"+'B-Bestandsanalyse'!B29","v":"B.5"},{"$f":"'B-Bestandsanalyse'!X29","v":"Anzahl geplanter-genehmigter W-Netze"},null,null,{"$f":"'B-Bestandsanalyse'!F29","v":"Anzahl"},{"$f":"'A-Allgemeine Angaben'!$D$20","v":0},{"$f":"IF('B-Bestandsanalyse'!E29=\"\",\"-\",'B-Bestandsanalyse'!E29)","v":"-"}]
[{"$f":"+'B-Bestandsanalyse'!B30","v":"B.6"},{"$f":"'B-Bestandsanalyse'!X30","v":"Trassenlänge bestehender W-Netze"},null,null,{"$f":"'B-Bestandsanalyse'!F30","v":"km"},{"$f":"'A-Allgemeine Angaben'!$D$20","v":0},{"$f":"IF('B-Bestandsanalyse'!E30=\"\",\"-\",'B-Bestandsanalyse'!E30)","v":"-"}]
[{"$f":"+'B-Bestandsanalyse'!B31","v":"B.7"},{"$f":"'B-Bestandsanalyse'!X31","v":"Trassenlänge geplanter-genehmigter W-Netze"},null,null,{"$f":"'B-Bestandsanalyse'!F31","v":"km"},{"$f":"'A-Allgemeine Angaben'!$D$20","v":0},{"$f":"IF('B-Bestandsanalyse'!E31=\"\",\"-\",'B-Bestandsanalyse'!E31)","v":"-"}]
[{"$f":"+'B-Bestandsanalyse'!$B$40","v":"B.8"},{"$f":"'B-Bestandsanalyse'!$C$45","v":"Endenergieverbrauch Wärme"},{"$f":"'B-Bestandsanalyse'!X48","v":"Braunkohle"},{"$f":"'B-Bestandsanalyse'!$D$47","v":"Haushalte"},{"$f":"'B-Bestandsanalyse'!$C$47","v":"MWh/a"},{"$f":"'A-Allgemeine Angaben'!$D$22","v":0},{"$f":"IF('B-Bestandsanalyse'!D48=\"\",\"-\",'B-Bestandsanalyse'!D48)","v":"-"}]
[{"$f":"+'B-Bestandsanalyse'!$B$40","v":"B.8"},{"$f":"'B-Bestandsanalyse'!$C$45","v":"Endenergieverbrauch Wärme"},{"$f":"'B-Bestandsanalyse'!X49","v":"Steinkohle"},{"$f":"'B-Bestandsanalyse'!$D$47","v":"Haushalte"},{"$f":"'B-Bestandsanalyse'!$C$47","v":"MWh/a"},{"$f":"'A-Allgemeine Angaben'!$D$22","v":0},{"$f":"IF('B-Bestandsanalyse'!D49=\"\",\"-\",'B-Bestandsanalyse'!D49)","v":"-"}]
[{"$f":"+'B-Bestandsanalyse'!$B$40","v":"B.8"},{"$f":"'B-Bestandsanalyse'!$C$45","v":"Endenergieverbrauch Wärme"},{"$f":"'B-Bestandsanalyse'!X50","v":"Erdgas"},{"$f":"'B-Bestandsanalyse'!$D$47","v":"Haushalte"},{"$f":"'B-Bestandsanalyse'!$C$47","v":"MWh/a"},{"$f":"'A-Allgemeine Angaben'!$D$22","v":0},{"$f":"IF('B-Bestandsanalyse'!D50=\"\",\"-\",'B-Bestandsanalyse'!D50)","v":"-"}]
[{"$f":"+'B-Bestandsanalyse'!$B$40","v":"B.8"},{"$f":"'B-Bestandsanalyse'!$C$45","v":"Endenergieverbrauch Wärme"},{"$f":"'B-Bestandsanalyse'!X51","v":"Flüssiggas"},{"$f":"'B-Bestandsanalyse'!$D$47","v":"Haushalte"},{"$f":"'B-Bestandsanalyse'!$C$47","v":"MWh/a"},{"$f":"'A-Allgemeine Angaben'!$D$22","v":0},{"$f":"IF('B-Bestandsanalyse'!D51=\"\",\"-\",'B-Bestandsanalyse'!D51)","v":"-"}]
[{"$f":"+'B-Bestandsanalyse'!$B$40","v":"B.8"},{"$f":"'B-Bestandsanalyse'!$C$45","v":"Endenergieverbrauch Wärme"},{"$f":"'B-Bestandsanalyse'!X52","v":"Heizöl"},{"$f":"'B-Bestandsanalyse'!$D$47","v":"Haushalte"},{"$f":"'B-Bestandsanalyse'!$C$47","v":"MWh/a"},{"$f":"'A-Allgemeine Angaben'!$D$22","v":0},{"$f":"IF('B-Bestandsanalyse'!D52=\"\",\"-\",'B-Bestandsanalyse'!D52)","v":"-"}]
[{"$f":"+'B-Bestandsanalyse'!$B$40","v":"B.8"},{"$f":"'B-Bestandsanalyse'!$C$45","v":"Endenergieverbrauch Wärme"},{"$f":"'B-Bestandsanalyse'!X53","v":"Wasserstoff"},{"$f":"'B-Bestandsanalyse'!$D$47","v":"Haushalte"},{"$f":"'B-Bestandsanalyse'!$C$47","v":"MWh/a"},{"$f":"'A-Allgemeine Angaben'!$D$22","v":0},{"$f":"IF('B-Bestandsanalyse'!D53=\"\",\"-\",'B-Bestandsanalyse'!D53)","v":"-"}]
[{"$f":"+'B-Bestandsanalyse'!$B$40","v":"B.8"},{"$f":"'B-Bestandsanalyse'!$C$45","v":"Endenergieverbrauch Wärme"},{"$f":"'B-Bestandsanalyse'!X54","v":"Wasserstoffderivate"},{"$f":"'B-Bestandsanalyse'!$D$47","v":"Haushalte"},{"$f":"'B-Bestandsanalyse'!$C$47","v":"MWh/a"},{"$f":"'A-Allgemeine Angaben'!$D$22","v":0},{"$f":"IF('B-Bestandsanalyse'!D54=\"\",\"-\",'B-Bestandsanalyse'!D54)","v":"-"}]
[{"$f":"+'B-Bestandsanalyse'!$B$40","v":"B.8"},{"$f":"'B-Bestandsanalyse'!$C$45","v":"Endenergieverbrauch Wärme"},{"$f":"'B-Bestandsanalyse'!X55","v":"Grubengas"},{"$f":"'B-Bestandsanalyse'!$D$47","v":"Haushalte"},{"$f":"'B-Bestandsanalyse'!$C$47","v":"MWh/a"},{"$f":"'A-Allgemeine Angaben'!$D$22","v":0},{"$f":"IF('B-Bestandsanalyse'!D55=\"\",\"-\",'B-Bestandsanalyse'!D55)","v":"-"}]
[{"$f":"+'B-Bestandsanalyse'!$B$40","v":"B.8"},{"$f":"'B-Bestandsanalyse'!$C$45","v":"Endenergieverbrauch Wärme"},{"$f":"'B-Bestandsanalyse'!X56","v":"Nicht biogener Abfall"},{"$f":"'B-Bestandsanalyse'!$D$47","v":"Haushalte"},{"$f":"'B-Bestandsanalyse'!$C$47","v":"MWh/a"},{"$f":"'A-Allgemeine Angaben'!$D$22","v":0},{"$f":"IF('B-Bestandsanalyse'!D56=\"\",\"-\",'B-Bestandsanalyse'!D56)","v":"-"}]
[{"$f":"+'B-Bestandsanalyse'!$B$40","v":"B.8"},{"$f":"'B-Bestandsanalyse'!$C$45","v":"Endenergieverbrauch Wärme"},{"$f":"'B-Bestandsanalyse'!X57","v":"Biogener Abfall"},{"$f":"'B-Bestandsanalyse'!$D$47","v":"Haushalte"},{"$f":"'B-Bestandsanalyse'!$C$47","v":"MWh/a"},{"$f":"'A-Allgemeine Angaben'!$D$22","v":0},{"$f":"IF('B-Bestandsanalyse'!D57=\"\",\"-\",'B-Bestandsanalyse'!D57)","v":"-"}]
[{"$f":"+'B-Bestandsanalyse'!$B$40","v":"B.8"},{"$f":"'B-Bestandsanalyse'!$C$45","v":"Endenergieverbrauch Wärme"},{"$f":"'B-Bestandsanalyse'!X58","v":"Abwärme < 60 °C"},{"$f":"'B-Bestandsanalyse'!$D$47","v":"Haushalte"},{"$f":"'B-Bestandsanalyse'!$C$47","v":"MWh/a"},{"$f":"'A-Allgemeine Angaben'!$D$22","v":0},{"$f":"IF('B-Bestandsanalyse'!D58=\"\",\"-\",'B-Bestandsanalyse'!D58)","v":"-"}]
[{"$f":"+'B-Bestandsanalyse'!$B$40","v":"B.8"},{"$f":"'B-Bestandsanalyse'!$C$45","v":"Endenergieverbrauch Wärme"},{"$f":"'B-Bestandsanalyse'!X59","v":"Abwärme 60 bis 110 °C"},{"$f":"'B-Bestandsanalyse'!$D$47","v":"Haushalte"},{"$f":"'B-Bestandsanalyse'!$C$47","v":"MWh/a"},{"$f":"'A-Allgemeine Angaben'!$D$22","v":0},{"$f":"IF('B-Bestandsanalyse'!D59=\"\",\"-\",'B-Bestandsanalyse'!D59)","v":"-"}]
[{"$f":"+'B-Bestandsanalyse'!$B$40","v":"B.8"},{"$f":"'B-Bestandsanalyse'!$C$45","v":"Endenergieverbrauch Wärme"},{"$f":"'B-Bestandsanalyse'!X60","v":"Abwärme >= 110 °C"},{"$f":"'B-Bestandsanalyse'!$D$47","v":"Haushalte"},{"$f":"'B-Bestandsanalyse'!$C$47","v":"MWh/a"},{"$f":"'A-Allgemeine Angaben'!$D$22","v":0},{"$f":"IF('B-Bestandsanalyse'!D60=\"\",\"-\",'B-Bestandsanalyse'!D60)","v":"-"}]
[{"$f":"+'B-Bestandsanalyse'!$B$40","v":"B.8"},{"$f":"'B-Bestandsanalyse'!$C$45","v":"Endenergieverbrauch Wärme"},{"$f":"'B-Bestandsanalyse'!X61","v":"feste Biomasse (ohne Altholz)"},{"$f":"'B-Bestandsanalyse'!$D$47","v":"Haushalte"},{"$f":"'B-Bestandsanalyse'!$C$47","v":"MWh/a"},{"$f":"'A-Allgemeine Angaben'!$D$22","v":0},{"$f":"IF('B-Bestandsanalyse'!D61=\"\",\"-\",'B-Bestandsanalyse'!D61)","v":"-"}]
[{"$f":"+'B-Bestandsanalyse'!$B$40","v":"B.8"},{"$f":"'B-Bestandsanalyse'!$C$45","v":"Endenergieverbrauch Wärme"},{"$f":"'B-Bestandsanalyse'!X62","v":"Altholz"},{"$f":"'B-Bestandsanalyse'!$D$47","v":"Haushalte"},{"$f":"'B-Bestandsanalyse'!$C$47","v":"MWh/a"},{"$f":"'A-Allgemeine Angaben'!$D$22","v":0},{"$f":"IF('B-Bestandsanalyse'!D62=\"\",\"-\",'B-Bestandsanalyse'!D62)","v":"-"}]
[{"$f":"+'B-Bestandsanalyse'!$B$40","v":"B.8"},{"$f":"'B-Bestandsanalyse'!$C$45","v":"Endenergieverbrauch Wärme"},{"$f":"'B-Bestandsanalyse'!X63","v":"Biogas"},{"$f":"'B-Bestandsanalyse'!$D$47","v":"Haushalte"},{"$f":"'B-Bestandsanalyse'!$C$47","v":"MWh/a"},{"$f":"'A-Allgemeine Angaben'!$D$22","v":0},{"$f":"IF('B-Bestandsanalyse'!D63=\"\",\"-\",'B-Bestandsanalyse'!D63)","v":"-"}]
[{"$f":"+'B-Bestandsanalyse'!$B$40","v":"B.8"},{"$f":"'B-Bestandsanalyse'!$C$45","v":"Endenergieverbrauch Wärme"},{"$f":"'B-Bestandsanalyse'!X64","v":"Biomethan"},{"$f":"'B-Bestandsanalyse'!$D$47","v":"Haushalte"},{"$f":"'B-Bestandsanalyse'!$C$47","v":"MWh/a"},{"$f":"'A-Allgemeine Angaben'!$D$22","v":0},{"$f":"IF('B-Bestandsanalyse'!D64=\"\",\"-\",'B-Bestandsanalyse'!D64)","v":"-"}]
[{"$f":"+'B-Bestandsanalyse'!$B$40","v":"B.8"},{"$f":"'B-Bestandsanalyse'!$C$45","v":"Endenergieverbrauch Wärme"},{"$f":"'B-Bestandsanalyse'!X65","v":"Deponiegas"},{"$f":"'B-Bestandsanalyse'!$D$47","v":"Haushalte"},{"$f":"'B-Bestandsanalyse'!$C$47","v":"MWh/a"},{"$f":"'A-Allgemeine Angaben'!$D$22","v":0},{"$f":"IF('B-Bestandsanalyse'!D65=\"\",\"-\",'B-Bestandsanalyse'!D65)","v":"-"}]
[{"$f":"+'B-Bestandsanalyse'!$B$40","v":"B.8"},{"$f":"'B-Bestandsanalyse'!$C$45","v":"Endenergieverbrauch Wärme"},{"$f":"'B-Bestandsanalyse'!X66","v":"Klärgas"},{"$f":"'B-Bestandsanalyse'!$D$47","v":"Haushalte"},{"$f":"'B-Bestandsanalyse'!$C$47","v":"MWh/a"},{"$f":"'A-Allgemeine Angaben'!$D$22","v":0},{"$f":"IF('B-Bestandsanalyse'!D66=\"\",\"-\",'B-Bestandsanalyse'!D66)","v":"-"}]
[{"$f":"+'B-Bestandsanalyse'!$B$40","v":"B.8"},{"$f":"'B-Bestandsanalyse'!$C$45","v":"Endenergieverbrauch Wärme"},{"$f":"'B-Bestandsanalyse'!X67","v":"Flüssige Biomasse"},{"$f":"'B-Bestandsanalyse'!$D$47","v":"Haushalte"},{"$f":"'B-Bestandsanalyse'!$C$47","v":"MWh/a"},{"$f":"'A-Allgemeine Angaben'!$D$22","v":0},{"$f":"IF('B-Bestandsanalyse'!D67=\"\",\"-\",'B-Bestandsanalyse'!D67)","v":"-"}]
[{"$f":"+'B-Bestandsanalyse'!$B$40","v":"B.8"},{"$f":"'B-Bestandsanalyse'!$C$45","v":"Endenergieverbrauch Wärme"},{"$f":"'B-Bestandsanalyse'!X68","v":"Strom Wärmepumpe"},{"$f":"'B-Bestandsanalyse'!$D$47","v":"Haushalte"},{"$f":"'B-Bestandsanalyse'!$C$47","v":"MWh/a"},{"$f":"'A-Allgemeine Angaben'!$D$22","v":0},{"$f":"IF('B-Bestandsanalyse'!D68=\"\",\"-\",'B-Bestandsanalyse'!D68)","v":"-"}]
[{"$f":"+'B-Bestandsanalyse'!$B$40","v":"B.8"},{"$f":"'B-Bestandsanalyse'!$C$45","v":"Endenergieverbrauch Wärme"},{"$f":"'B-Bestandsanalyse'!X69","v":"Strom Direktheizung"},{"$f":"'B-Bestandsanalyse'!$D$47","v":"Haushalte"},{"$f":"'B-Bestandsanalyse'!$C$47","v":"MWh/a"},{"$f":"'A-Allgemeine Angaben'!$D$22","v":0},{"$f":"IF('B-Bestandsanalyse'!D69=\"\",\"-\",'B-Bestandsanalyse'!D69)","v":"-"}]
[{"$f":"+'B-Bestandsanalyse'!$B$40","v":"B.8"},{"$f":"'B-Bestandsanalyse'!$C$45","v":"Endenergieverbrauch Wärme"},{"$f":"'B-Bestandsanalyse'!X70","v":"Solarthermie Dach-Anlagen"},{"$f":"'B-Bestandsanalyse'!$D$47","v":"Haushalte"},{"$f":"'B-Bestandsanalyse'!$C$47","v":"MWh/a"},{"$f":"'A-Allgemeine Angaben'!$D$22","v":0},{"$f":"IF('B-Bestandsanalyse'!D70=\"\",\"-\",'B-Bestandsanalyse'!D70)","v":"-"}]
[{"$f":"+'B-Bestandsanalyse'!$B$40","v":"B.8"},{"$f":"'B-Bestandsanalyse'!$C$45","v":"Endenergieverbrauch Wärme"},{"$f":"'B-Bestandsanalyse'!X71","v":"Solarthermie Freiflächenanlagen"},{"$f":"'B-Bestandsanalyse'!$D$47","v":"Haushalte"},{"$f":"'B-Bestandsanalyse'!$C$47","v":"MWh/a"},{"$f":"'A-Allgemeine Angaben'!$D$22","v":0},{"$f":"IF('B-Bestandsanalyse'!D71=\"\",\"-\",'B-Bestandsanalyse'!D71)","v":"-"}]
[{"$f":"+'B-Bestandsanalyse'!$B$40","v":"B.8"},{"$f":"'B-Bestandsanalyse'!$C$45","v":"Endenergieverbrauch Wärme"},{"$f":"'B-Bestandsanalyse'!X72","v":"Oberflächennahe Geothermie"},{"$f":"'B-Bestandsanalyse'!$D$47","v":"Haushalte"},{"$f":"'B-Bestandsanalyse'!$C$47","v":"MWh/a"},{"$f":"'A-Allgemeine Angaben'!$D$22","v":0},{"$f":"IF('B-Bestandsanalyse'!D72=\"\",\"-\",'B-Bestandsanalyse'!D72)","v":"-"}]
[{"$f":"+'B-Bestandsanalyse'!$B$40","v":"B.8"},{"$f":"'B-Bestandsanalyse'!$C$45","v":"Endenergieverbrauch Wärme"},{"$f":"'B-Bestandsanalyse'!X73","v":"Tiefe Geothermie"},{"$f":"'B-Bestandsanalyse'!$D$47","v":"Haushalte"},{"$f":"'B-Bestandsanalyse'!$C$47","v":"MWh/a"},{"$f":"'A-Allgemeine Angaben'!$D$22","v":0},{"$f":"IF('B-Bestandsanalyse'!D73=\"\",\"-\",'B-Bestandsanalyse'!D73)","v":"-"}]
[{"$f":"+'B-Bestandsanalyse'!$B$40","v":"B.8"},{"$f":"'B-Bestandsanalyse'!$C$45","v":"Endenergieverbrauch Wärme"},{"$f":"'B-Bestandsanalyse'!X74","v":"Oberflächengewässern"},{"$f":"'B-Bestandsanalyse'!$D$47","v":"Haushalte"},{"$f":"'B-Bestandsanalyse'!$C$47","v":"MWh/a"},{"$f":"'A-Allgemeine Angaben'!$D$22","v":0},{"$f":"IF('B-Bestandsanalyse'!D74=\"\",\"-\",'B-Bestandsanalyse'!D74)","v":"-"}]
[{"$f":"+'B-Bestandsanalyse'!$B$40","v":"B.8"},{"$f":"'B-Bestandsanalyse'!$C$45","v":"Endenergieverbrauch Wärme"},{"$f":"'B-Bestandsanalyse'!X75","v":"Grubenwasser"},{"$f":"'B-Bestandsanalyse'!$D$47","v":"Haushalte"},{"$f":"'B-Bestandsanalyse'!$C$47","v":"MWh/a"},{"$f":"'A-Allgemeine Angaben'!$D$22","v":0},{"$f":"IF('B-Bestandsanalyse'!D75=\"\",\"-\",'B-Bestandsanalyse'!D75)","v":"-"}]
[{"$f":"+'B-Bestandsanalyse'!$B$40","v":"B.8"},{"$f":"'B-Bestandsanalyse'!$C$45","v":"Endenergieverbrauch Wärme"},{"$f":"'B-Bestandsanalyse'!X76","v":"Luft"},{"$f":"'B-Bestandsanalyse'!$D$47","v":"Haushalte"},{"$f":"'B-Bestandsanalyse'!$C$47","v":"MWh/a"},{"$f":"'A-Allgemeine Angaben'!$D$22","v":0},{"$f":"IF('B-Bestandsanalyse'!D76=\"\",\"-\",'B-Bestandsanalyse'!D76)","v":"-"}]
[{"$f":"+'B-Bestandsanalyse'!$B$40","v":"B.8"},{"$f":"'B-Bestandsanalyse'!$C$45","v":"Endenergieverbrauch Wärme"},{"$f":"'B-Bestandsanalyse'!X77","v":"Abwasser"},{"$f":"'B-Bestandsanalyse'!$D$47","v":"Haushalte"},{"$f":"'B-Bestandsanalyse'!$C$47","v":"MWh/a"},{"$f":"'A-Allgemeine Angaben'!$D$22","v":0},{"$f":"IF('B-Bestandsanalyse'!D77=\"\",\"-\",'B-Bestandsanalyse'!D77)","v":"-"}]
[{"$f":"+'B-Bestandsanalyse'!$B$40","v":"B.8"},{"$f":"'B-Bestandsanalyse'!$C$45","v":"Endenergieverbrauch Wärme"},{"$f":"'B-Bestandsanalyse'!X78","v":"Sonstige fossile Brennstoffe"},{"$f":"'B-Bestandsanalyse'!$D$47","v":"Haushalte"},{"$f":"'B-Bestandsanalyse'!$C$47","v":"MWh/a"},{"$f":"'A-Allgemeine Angaben'!$D$22","v":0},{"$f":"IF('B-Bestandsanalyse'!D78=\"\",\"-\",'B-Bestandsanalyse'!D78)","v":"-"}]
[{"$f":"+'B-Bestandsanalyse'!$B$40","v":"B.8"},{"$f":"'B-Bestandsanalyse'!$C$45","v":"Endenergieverbrauch Wärme"},{"$f":"'B-Bestandsanalyse'!X79","v":"Sonstige erneuerbare Energien"},{"$f":"'B-Bestandsanalyse'!$D$47","v":"Haushalte"},{"$f":"'B-Bestandsanalyse'!$C$47","v":"MWh/a"},{"$f":"'A-Allgemeine Angaben'!$D$22","v":0},{"$f":"IF('B-Bestandsanalyse'!D79=\"\",\"-\",'B-Bestandsanalyse'!D79)","v":"-"}]
[{"$f":"+'B-Bestandsanalyse'!$B$40","v":"B.8"},{"$f":"'B-Bestandsanalyse'!$C$45","v":"Endenergieverbrauch Wärme"},null,{"$f":"'B-Bestandsanalyse'!$D$47","v":"Haushalte"},{"$f":"'B-Bestandsanalyse'!$C$47","v":"MWh/a"},{"$f":"'A-Allgemeine Angaben'!$D$22","v":0},{"$f":"IF('B-Bestandsanalyse'!D80=\"\",\"-\",'B-Bestandsanalyse'!D80)","v":0}]
[{"$f":"+'B-Bestandsanalyse'!$B$40","v":"B.8"},{"$f":"'B-Bestandsanalyse'!$C$45","v":"Endenergieverbrauch Wärme"},{"$f":"'B-Bestandsanalyse'!X48","v":"Braunkohle"},{"$f":"'B-Bestandsanalyse'!$E$47","v":"GHD"},{"$f":"'B-Bestandsanalyse'!$C$47","v":"MWh/a"},{"$f":"'A-Allgemeine Angaben'!$D$22","v":0},{"$f":"IF('B-Bestandsanalyse'!E48=\"\",\"-\",'B-Bestandsanalyse'!E48)","v":"-"}]
[{"$f":"+'B-Bestandsanalyse'!$B$40","v":"B.8"},{"$f":"'B-Bestandsanalyse'!$C$45","v":"Endenergieverbrauch Wärme"},{"$f":"'B-Bestandsanalyse'!X49","v":"Steinkohle"},{"$f":"'B-Bestandsanalyse'!$E$47","v":"GHD"},{"$f":"'B-Bestandsanalyse'!$C$47","v":"MWh/a"},{"$f":"'A-Allgemeine Angaben'!$D$22","v":0},{"$f":"IF('B-Bestandsanalyse'!E49=\"\",\"-\",'B-Bestandsanalyse'!E49)","v":"-"}]
[{"$f":"+'B-Bestandsanalyse'!$B$40","v":"B.8"},{"$f":"'B-Bestandsanalyse'!$C$45","v":"Endenergieverbrauch Wärme"},{"$f":"'B-Bestandsanalyse'!X50","v":"Erdgas"},{"$f":"'B-Bestandsanalyse'!$E$47","v":"GHD"},{"$f":"'B-Bestandsanalyse'!$C$47","v":"MWh/a"},{"$f":"'A-Allgemeine Angaben'!$D$22","v":0},{"$f":"IF('B-Bestandsanalyse'!E50=\"\",\"-\",'B-Bestandsanalyse'!E50)","v":"-"}]
[{"$f":"+'B-Bestandsanalyse'!$B$40","v":"B.8"},{"$f":"'B-Bestandsanalyse'!$C$45","v":"Endenergieverbrauch Wärme"},{"$f":"'B-Bestandsanalyse'!X51","v":"Flüssiggas"},{"$f":"'B-Bestandsanalyse'!$E$47","v":"GHD"},{"$f":"'B-Bestandsanalyse'!$C$47","v":"MWh/a"},{"$f":"'A-Allgemeine Angaben'!$D$22","v":0},{"$f":"IF('B-Bestandsanalyse'!E51=\"\",\"-\",'B-Bestandsanalyse'!E51)","v":"-"}]
[{"$f":"+'B-Bestandsanalyse'!$B$40","v":"B.8"},{"$f":"'B-Bestandsanalyse'!$C$45","v":"Endenergieverbrauch Wärme"},{"$f":"'B-Bestandsanalyse'!X52","v":"Heizöl"},{"$f":"'B-Bestandsanalyse'!$E$47","v":"GHD"},{"$f":"'B-Bestandsanalyse'!$C$47","v":"MWh/a"},{"$f":"'A-Allgemeine Angaben'!$D$22","v":0},{"$f":"IF('B-Bestandsanalyse'!E52=\"\",\"-\",'B-Bestandsanalyse'!E52)","v":"-"}]
[{"$f":"+'B-Bestandsanalyse'!$B$40","v":"B.8"},{"$f":"'B-Bestandsanalyse'!$C$45","v":"Endenergieverbrauch Wärme"},{"$f":"'B-Bestandsanalyse'!X53","v":"Wasserstoff"},{"$f":"'B-Bestandsanalyse'!$E$47","v":"GHD"},{"$f":"'B-Bestandsanalyse'!$C$47","v":"MWh/a"},{"$f":"'A-Allgemeine Angaben'!$D$22","v":0},{"$f":"IF('B-Bestandsanalyse'!E53=\"\",\"-\",'B-Bestandsanalyse'!E53)","v":"-"}]
[{"$f":"+'B-Bestandsanalyse'!$B$40","v":"B.8"},{"$f":"'B-Bestandsanalyse'!$C$45","v":"Endenergieverbrauch Wärme"},{"$f":"'B-Bestandsanalyse'!X54","v":"Wasserstoffderivate"},{"$f":"'B-Bestandsanalyse'!$E$47","v":"GHD"},{"$f":"'B-Bestandsanalyse'!$C$47","v":"MWh/a"},{"$f":"'A-Allgemeine Angaben'!$D$22","v":0},{"$f":"IF('B-Bestandsanalyse'!E54=\"\",\"-\",'B-Bestandsanalyse'!E54)","v":"-"}]
[{"$f":"+'B-Bestandsanalyse'!$B$40","v":"B.8"},{"$f":"'B-Bestandsanalyse'!$C$45","v":"Endenergieverbrauch Wärme"},{"$f":"'B-Bestandsanalyse'!X55","v":"Grubengas"},{"$f":"'B-Bestandsanalyse'!$E$47","v":"GHD"},{"$f":"'B-Bestandsanalyse'!$C$47","v":"MWh/a"},{"$f":"'A-Allgemeine Angaben'!$D$22","v":0},{"$f":"IF('B-Bestandsanalyse'!E55=\"\",\"-\",'B-Bestandsanalyse'!E55)","v":"-"}]
[{"$f":"+'B-Bestandsanalyse'!$B$40","v":"B.8"},{"$f":"'B-Bestandsanalyse'!$C$45","v":"Endenergieverbrauch Wärme"},{"$f":"'B-Bestandsanalyse'!X56","v":"Nicht biogener Abfall"},{"$f":"'B-Bestandsanalyse'!$E$47","v":"GHD"},{"$f":"'B-Bestandsanalyse'!$C$47","v":"MWh/a"},{"$f":"'A-Allgemeine Angaben'!$D$22","v":0},{"$f":"IF('B-Bestandsanalyse'!E56=\"\",\"-\",'B-Bestandsanalyse'!E56)","v":"-"}]
[{"$f":"+'B-Bestandsanalyse'!$B$40","v":"B.8"},{"$f":"'B-Bestandsanalyse'!$C$45","v":"Endenergieverbrauch Wärme"},{"$f":"'B-Bestandsanalyse'!X57","v":"Biogener Abfall"},{"$f":"'B-Bestandsanalyse'!$E$47","v":"GHD"},{"$f":"'B-Bestandsanalyse'!$C$47","v":"MWh/a"},{"$f":"'A-Allgemeine Angaben'!$D$22","v":0},{"$f":"IF('B-Bestandsanalyse'!E57=\"\",\"-\",'B-Bestandsanalyse'!E57)","v":"-"}]
[{"$f":"+'B-Bestandsanalyse'!$B$40","v":"B.8"},{"$f":"'B-Bestandsanalyse'!$C$45","v":"Endenergieverbrauch Wärme"},{"$f":"'B-Bestandsanalyse'!X58","v":"Abwärme < 60 °C"},{"$f":"'B-Bestandsanalyse'!$E$47","v":"GHD"},{"$f":"'B-Bestandsanalyse'!$C$47","v":"MWh/a"},{"$f":"'A-Allgemeine Angaben'!$D$22","v":0},{"$f":"IF('B-Bestandsanalyse'!E58=\"\",\"-\",'B-Bestandsanalyse'!E58)","v":"-"}]
[{"$f":"+'B-Bestandsanalyse'!$B$40","v":"B.8"},{"$f":"'B-Bestandsanalyse'!$C$45","v":"Endenergieverbrauch Wärme"},{"$f":"'B-Bestandsanalyse'!X59","v":"Abwärme 60 bis 110 °C"},{"$f":"'B-Bestandsanalyse'!$E$47","v":"GHD"},{"$f":"'B-Bestandsanalyse'!$C$47","v":"MWh/a"},{"$f":"'A-Allgemeine Angaben'!$D$22","v":0},{"$f":"IF('B-Bestandsanalyse'!E59=\"\",\"-\",'B-Bestandsanalyse'!E59)","v":"-"}]
[{"$f":"+'B-Bestandsanalyse'!$B$40","v":"B.8"},{"$f":"'B-Bestandsanalyse'!$C$45","v":"Endenergieverbrauch Wärme"},{"$f":"'B-Bestandsanalyse'!X60","v":"Abwärme >= 110 °C"},{"$f":"'B-Bestandsanalyse'!$E$47","v":"GHD"},{"$f":"'B-Bestandsanalyse'!$C$47","v":"MWh/a"},{"$f":"'A-Allgemeine Angaben'!$D$22","v":0},{"$f":"IF('B-Bestandsanalyse'!E60=\"\",\"-\",'B-Bestandsanalyse'!E60)","v":"-"}]
[{"$f":"+'B-Bestandsanalyse'!$B$40","v":"B.8"},{"$f":"'B-Bestandsanalyse'!$C$45","v":"Endenergieverbrauch Wärme"},{"$f":"'B-Bestandsanalyse'!X61","v":"feste Biomasse (ohne Altholz)"},{"$f":"'B-Bestandsanalyse'!$E$47","v":"GHD"},{"$f":"'B-Bestandsanalyse'!$C$47","v":"MWh/a"},{"$f":"'A-Allgemeine Angaben'!$D$22","v":0},{"$f":"IF('B-Bestandsanalyse'!E61=\"\",\"-\",'B-Bestandsanalyse'!E61)","v":"-"}]
[{"$f":"+'B-Bestandsanalyse'!$B$40","v":"B.8"},{"$f":"'B-Bestandsanalyse'!$C$45","v":"Endenergieverbrauch Wärme"},{"$f":"'B-Bestandsanalyse'!X62","v":"Altholz"},{"$f":"'B-Bestandsanalyse'!$E$47","v":"GHD"},{"$f":"'B-Bestandsanalyse'!$C$47","v":"MWh/a"},{"$f":"'A-Allgemeine Angaben'!$D$22","v":0},{"$f":"IF('B-Bestandsanalyse'!E62=\"\",\"-\",'B-Bestandsanalyse'!E62)","v":"-"}]
[{"$f":"+'B-Bestandsanalyse'!$B$40","v":"B.8"},{"$f":"'B-Bestandsanalyse'!$C$45","v":"Endenergieverbrauch Wärme"},{"$f":"'B-Bestandsanalyse'!X63","v":"Biogas"},{"$f":"'B-Bestandsanalyse'!$E$47","v":"GHD"},{"$f":"'B-Bestandsanalyse'!$C$47","v":"MWh/a"},{"$f":"'A-Allgemeine Angaben'!$D$22","v":0},{"$f":"IF('B-Bestandsanalyse'!E63=\"\",\"-\",'B-Bestandsanalyse'!E63)","v":"-"}]
[{"$f":"+'B-Bestandsanalyse'!$B$40","v":"B.8"},{"$f":"'B-Bestandsanalyse'!$C$45","v":"Endenergieverbrauch Wärme"},{"$f":"'B-Bestandsanalyse'!X64","v":"Biomethan"},{"$f":"'B-Bestandsanalyse'!$E$47","v":"GHD"},{"$f":"'B-Bestandsanalyse'!$C$47","v":"MWh/a"},{"$f":"'A-Allgemeine Angaben'!$D$22","v":0},{"$f":"IF('B-Bestandsanalyse'!E64=\"\",\"-\",'B-Bestandsanalyse'!E64)","v":"-"}]
[{"$f":"+'B-Bestandsanalyse'!$B$40","v":"B.8"},{"$f":"'B-Bestandsanalyse'!$C$45","v":"Endenergieverbrauch Wärme"},{"$f":"'B-Bestandsanalyse'!X65","v":"Deponiegas"},{"$f":"'B-Bestandsanalyse'!$E$47","v":"GHD"},{"$f":"'B-Bestandsanalyse'!$C$47","v":"MWh/a"},{"$f":"'A-Allgemeine Angaben'!$D$22","v":0},{"$f":"IF('B-Bestandsanalyse'!E65=\"\",\"-\",'B-Bestandsanalyse'!E65)","v":"-"}]
[{"$f":"+'B-Bestandsanalyse'!$B$40","v":"B.8"},{"$f":"'B-Bestandsanalyse'!$C$45","v":"Endenergieverbrauch Wärme"},{"$f":"'B-Bestandsanalyse'!X66","v":"Klärgas"},{"$f":"'B-Bestandsanalyse'!$E$47","v":"GHD"},{"$f":"'B-Bestandsanalyse'!$C$47","v":"MWh/a"},{"$f":"'A-Allgemeine Angaben'!$D$22","v":0},{"$f":"IF('B-Bestandsanalyse'!E66=\"\",\"-\",'B-Bestandsanalyse'!E66)","v":"-"}]
[{"$f":"+'B-Bestandsanalyse'!$B$40","v":"B.8"},{"$f":"'B-Bestandsanalyse'!$C$45","v":"Endenergieverbrauch Wärme"},{"$f":"'B-Bestandsanalyse'!X67","v":"Flüssige Biomasse"},{"$f":"'B-Bestandsanalyse'!$E$47","v":"GHD"},{"$f":"'B-Bestandsanalyse'!$C$47","v":"MWh/a"},{"$f":"'A-Allgemeine Angaben'!$D$22","v":0},{"$f":"IF('B-Bestandsanalyse'!E67=\"\",\"-\",'B-Bestandsanalyse'!E67)","v":"-"}]
[{"$f":"+'B-Bestandsanalyse'!$B$40","v":"B.8"},{"$f":"'B-Bestandsanalyse'!$C$45","v":"Endenergieverbrauch Wärme"},{"$f":"'B-Bestandsanalyse'!X68","v":"Strom Wärmepumpe"},{"$f":"'B-Bestandsanalyse'!$E$47","v":"GHD"},{"$f":"'B-Bestandsanalyse'!$C$47","v":"MWh/a"},{"$f":"'A-Allgemeine Angaben'!$D$22","v":0},{"$f":"IF('B-Bestandsanalyse'!E68=\"\",\"-\",'B-Bestandsanalyse'!E68)","v":"-"}]
[{"$f":"+'B-Bestandsanalyse'!$B$40","v":"B.8"},{"$f":"'B-Bestandsanalyse'!$C$45","v":"Endenergieverbrauch Wärme"},{"$f":"'B-Bestandsanalyse'!X69","v":"Strom Direktheizung"},{"$f":"'B-Bestandsanalyse'!$E$47","v":"GHD"},{"$f":"'B-Bestandsanalyse'!$C$47","v":"MWh/a"},{"$f":"'A-Allgemeine Angaben'!$D$22","v":0},{"$f":"IF('B-Bestandsanalyse'!E69=\"\",\"-\",'B-Bestandsanalyse'!E69)","v":"-"}]
[{"$f":"+'B-Bestandsanalyse'!$B$40","v":"B.8"},{"$f":"'B-Bestandsanalyse'!$C$45","v":"Endenergieverbrauch Wärme"},{"$f":"'B-Bestandsanalyse'!X70","v":"Solarthermie Dach-Anlagen"},{"$f":"'B-Bestandsanalyse'!$E$47","v":"GHD"},{"$f":"'B-Bestandsanalyse'!$C$47","v":"MWh/a"},{"$f":"'A-Allgemeine Angaben'!$D$22","v":0},{"$f":"IF('B-Bestandsanalyse'!E70=\"\",\"-\",'B-Bestandsanalyse'!E70)","v":"-"}]
[{"$f":"+'B-Bestandsanalyse'!$B$40","v":"B.8"},{"$f":"'B-Bestandsanalyse'!$C$45","v":"Endenergieverbrauch Wärme"},{"$f":"'B-Bestandsanalyse'!X71","v":"Solarthermie Freiflächenanlagen"},{"$f":"'B-Bestandsanalyse'!$E$47","v":"GHD"},{"$f":"'B-Bestandsanalyse'!$C$47","v":"MWh/a"},{"$f":"'A-Allgemeine Angaben'!$D$22","v":0},{"$f":"IF('B-Bestandsanalyse'!E71=\"\",\"-\",'B-Bestandsanalyse'!E71)","v":"-"}]
[{"$f":"+'B-Bestandsanalyse'!$B$40","v":"B.8"},{"$f":"'B-Bestandsanalyse'!$C$45","v":"Endenergieverbrauch Wärme"},{"$f":"'B-Bestandsanalyse'!X72","v":"Oberflächennahe Geothermie"},{"$f":"'B-Bestandsanalyse'!$E$47","v":"GHD"},{"$f":"'B-Bestandsanalyse'!$C$47","v":"MWh/a"},{"$f":"'A-Allgemeine Angaben'!$D$22","v":0},{"$f":"IF('B-Bestandsanalyse'!E72=\"\",\"-\",'B-Bestandsanalyse'!E72)","v":"-"}]
[{"$f":"+'B-Bestandsanalyse'!$B$40","v":"B.8"},{"$f":"'B-Bestandsanalyse'!$C$45","v":"Endenergieverbrauch Wärme"},{"$f":"'B-Bestandsanalyse'!X73","v":"Tiefe Geothermie"},{"$f":"'B-Bestandsanalyse'!$E$47","v":"GHD"},{"$f":"'B-Bestandsanalyse'!$C$47","v":"MWh/a"},{"$f":"'A-Allgemeine Angaben'!$D$22","v":0},{"$f":"IF('B-Bestandsanalyse'!E73=\"\",\"-\",'B-Bestandsanalyse'!E73)","v":"-"}]
[{"$f":"+'B-Bestandsanalyse'!$B$40","v":"B.8"},{"$f":"'B-Bestandsanalyse'!$C$45","v":"Endenergieverbrauch Wärme"},{"$f":"'B-Bestandsanalyse'!X74","v":"Oberflächengewässern"},{"$f":"'B-Bestandsanalyse'!$E$47","v":"GHD"},{"$f":"'B-Bestandsanalyse'!$C$47","v":"MWh/a"},{"$f":"'A-Allgemeine Angaben'!$D$22","v":0},{"$f":"IF('B-Bestandsanalyse'!E74=\"\",\"-\",'B-Bestandsanalyse'!E74)","v":"-"}]
[{"$f":"+'B-Bestandsanalyse'!$B$40","v":"B.8"},{"$f":"'B-Bestandsanalyse'!$C$45","v":"Endenergieverbrauch Wärme"},{"$f":"'B-Bestandsanalyse'!X75","v":"Grubenwasser"},{"$f":"'B-Bestandsanalyse'!$E$47","v":"GHD"},{"$f":"'B-Bestandsanalyse'!$C$47","v":"MWh/a"},{"$f":"'A-Allgemeine Angaben'!$D$22","v":0},{"$f":"IF('B-Bestandsanalyse'!E75=\"\",\"-\",'B-Bestandsanalyse'!E75)","v":"-"}]
[{"$f":"+'B-Bestandsanalyse'!$B$40","v":"B.8"},{"$f":"'B-Bestandsanalyse'!$C$45","v":"Endenergieverbrauch Wärme"},{"$f":"'B-Bestandsanalyse'!X76","v":"Luft"},{"$f":"'B-Bestandsanalyse'!$E$47","v":"GHD"},{"$f":"'B-Bestandsanalyse'!$C$47","v":"MWh/a"},{"$f":"'A-Allgemeine Angaben'!$D$22","v":0},{"$f":"IF('B-Bestandsanalyse'!E76=\"\",\"-\",'B-Bestandsanalyse'!E76)","v":"-"}]
[{"$f":"+'B-Bestandsanalyse'!$B$40","v":"B.8"},{"$f":"'B-Bestandsanalyse'!$C$45","v":"Endenergieverbrauch Wärme"},{"$f":"'B-Bestandsanalyse'!X77","v":"Abwasser"},{"$f":"'B-Bestandsanalyse'!$E$47","v":"GHD"},{"$f":"'B-Bestandsanalyse'!$C$47","v":"MWh/a"},{"$f":"'A-Allgemeine Angaben'!$D$22","v":0},{"$f":"IF('B-Bestandsanalyse'!E77=\"\",\"-\",'B-Bestandsanalyse'!E77)","v":"-"}]
[{"$f":"+'B-Bestandsanalyse'!$B$40","v":"B.8"},{"$f":"'B-Bestandsanalyse'!$C$45","v":"Endenergieverbrauch Wärme"},{"$f":"'B-Bestandsanalyse'!X78","v":"Sonstige fossile Brennstoffe"},{"$f":"'B-Bestandsanalyse'!$E$47","v":"GHD"},{"$f":"'B-Bestandsanalyse'!$C$47","v":"MWh/a"},{"$f":"'A-Allgemeine Angaben'!$D$22","v":0},{"$f":"IF('B-Bestandsanalyse'!E78=\"\",\"-\",'B-Bestandsanalyse'!E78)","v":"-"}]
[{"$f":"+'B-Bestandsanalyse'!$B$40","v":"B.8"},{"$f":"'B-Bestandsanalyse'!$C$45","v":"Endenergieverbrauch Wärme"},{"$f":"'B-Bestandsanalyse'!X79","v":"Sonstige erneuerbare Energien"},{"$f":"'B-Bestandsanalyse'!$E$47","v":"GHD"},{"$f":"'B-Bestandsanalyse'!$C$47","v":"MWh/a"},{"$f":"'A-Allgemeine Angaben'!$D$22","v":0},{"$f":"IF('B-Bestandsanalyse'!E79=\"\",\"-\",'B-Bestandsanalyse'!E79)","v":"-"}]
[{"$f":"+'B-Bestandsanalyse'!$B$40","v":"B.8"},{"$f":"'B-Bestandsanalyse'!$C$45","v":"Endenergieverbrauch Wärme"},null,{"$f":"'B-Bestandsanalyse'!$E$47","v":"GHD"},{"$f":"'B-Bestandsanalyse'!$C$47","v":"MWh/a"},{"$f":"'A-Allgemeine Angaben'!$D$22","v":0},{"$f":"IF('B-Bestandsanalyse'!E80=\"\",\"-\",'B-Bestandsanalyse'!E80)","v":0}]
[{"$f":"+'B-Bestandsanalyse'!$B$40","v":"B.8"},{"$f":"'B-Bestandsanalyse'!$C$45","v":"Endenergieverbrauch Wärme"},{"$f":"'B-Bestandsanalyse'!X48","v":"Braunkohle"},{"$f":"'B-Bestandsanalyse'!$F$47","v":"öffentliche Liegenschaften"},{"$f":"'B-Bestandsanalyse'!$C$47","v":"MWh/a"},{"$f":"'A-Allgemeine Angaben'!$D$22","v":0},{"$f":"IF('B-Bestandsanalyse'!F48=\"\",\"-\",'B-Bestandsanalyse'!F48)","v":"-"}]
[{"$f":"+'B-Bestandsanalyse'!$B$40","v":"B.8"},{"$f":"'B-Bestandsanalyse'!$C$45","v":"Endenergieverbrauch Wärme"},{"$f":"'B-Bestandsanalyse'!X49","v":"Steinkohle"},{"$f":"'B-Bestandsanalyse'!$F$47","v":"öffentliche Liegenschaften"},{"$f":"'B-Bestandsanalyse'!$C$47","v":"MWh/a"},{"$f":"'A-Allgemeine Angaben'!$D$22","v":0},{"$f":"IF('B-Bestandsanalyse'!F49=\"\",\"-\",'B-Bestandsanalyse'!F49)","v":"-"}]
[{"$f":"+'B-Bestandsanalyse'!$B$40","v":"B.8"},{"$f":"'B-Bestandsanalyse'!$C$45","v":"Endenergieverbrauch Wärme"},{"$f":"'B-Bestandsanalyse'!X50","v":"Erdgas"},{"$f":"'B-Bestandsanalyse'!$F$47","v":"öffentliche Liegenschaften"},{"$f":"'B-Bestandsanalyse'!$C$47","v":"MWh/a"},{"$f":"'A-Allgemeine Angaben'!$D$22","v":0},{"$f":"IF('B-Bestandsanalyse'!F50=\"\",\"-\",'B-Bestandsanalyse'!F50)","v":"-"}]
[{"$f":"+'B-Bestandsanalyse'!$B$40","v":"B.8"},{"$f":"'B-Bestandsanalyse'!$C$45","v":"Endenergieverbrauch Wärme"},{"$f":"'B-Bestandsanalyse'!X51","v":"Flüssiggas"},{"$f":"'B-Bestandsanalyse'!$F$47","v":"öffentliche Liegenschaften"},{"$f":"'B-Bestandsanalyse'!$C$47","v":"MWh/a"},{"$f":"'A-Allgemeine Angaben'!$D$22","v":0},{"$f":"IF('B-Bestandsanalyse'!F51=\"\",\"-\",'B-Bestandsanalyse'!F51)","v":"-"}]
[{"$f":"+'B-Bestandsanalyse'!$B$40","v":"B.8"},{"$f":"'B-Bestandsanalyse'!$C$45","v":"Endenergieverbrauch Wärme"},{"$f":"'B-Bestandsanalyse'!X52","v":"Heizöl"},{"$f":"'B-Bestandsanalyse'!$F$47","v":"öffentliche Liegenschaften"},{"$f":"'B-Bestandsanalyse'!$C$47","v":"MWh/a"},{"$f":"'A-Allgemeine Angaben'!$D$22","v":0},{"$f":"IF('B-Bestandsanalyse'!F52=\"\",\"-\",'B-Bestandsanalyse'!F52)","v":"-"}]
[{"$f":"+'B-Bestandsanalyse'!$B$40","v":"B.8"},{"$f":"'B-Bestandsanalyse'!$C$45","v":"Endenergieverbrauch Wärme"},{"$f":"'B-Bestandsanalyse'!X53","v":"Wasserstoff"},{"$f":"'B-Bestandsanalyse'!$F$47","v":"öffentliche Liegenschaften"},{"$f":"'B-Bestandsanalyse'!$C$47","v":"MWh/a"},{"$f":"'A-Allgemeine Angaben'!$D$22","v":0},{"$f":"IF('B-Bestandsanalyse'!F53=\"\",\"-\",'B-Bestandsanalyse'!F53)","v":"-"}]
[{"$f":"+'B-Bestandsanalyse'!$B$40","v":"B.8"},{"$f":"'B-Bestandsanalyse'!$C$45","v":"Endenergieverbrauch Wärme"},{"$f":"'B-Bestandsanalyse'!X54","v":"Wasserstoffderivate"},{"$f":"'B-Bestandsanalyse'!$F$47","v":"öffentliche Liegenschaften"},{"$f":"'B-Bestandsanalyse'!$C$47","v":"MWh/a"},{"$f":"'A-Allgemeine Angaben'!$D$22","v":0},{"$f":"IF('B-Bestandsanalyse'!F54=\"\",\"-\",'B-Bestandsanalyse'!F54)","v":"-"}]
[{"$f":"+'B-Bestandsanalyse'!$B$40","v":"B.8"},{"$f":"'B-Bestandsanalyse'!$C$45","v":"Endenergieverbrauch Wärme"},{"$f":"'B-Bestandsanalyse'!X55","v":"Grubengas"},{"$f":"'B-Bestandsanalyse'!$F$47","v":"öffentliche Liegenschaften"},{"$f":"'B-Bestandsanalyse'!$C$47","v":"MWh/a"},{"$f":"'A-Allgemeine Angaben'!$D$22","v":0},{"$f":"IF('B-Bestandsanalyse'!F55=\"\",\"-\",'B-Bestandsanalyse'!F55)","v":"-"}]
[{"$f":"+'B-Bestandsanalyse'!$B$40","v":"B.8"},{"$f":"'B-Bestandsanalyse'!$C$45","v":"Endenergieverbrauch Wärme"},{"$f":"'B-Bestandsanalyse'!X56","v":"Nicht biogener Abfall"},{"$f":"'B-Bestandsanalyse'!$F$47","v":"öffentliche Liegenschaften"},{"$f":"'B-Bestandsanalyse'!$C$47","v":"MWh/a"},{"$f":"'A-Allgemeine Angaben'!$D$22","v":0},{"$f":"IF('B-Bestandsanalyse'!F56=\"\",\"-\",'B-Bestandsanalyse'!F56)","v":"-"}]
[{"$f":"+'B-Bestandsanalyse'!$B$40","v":"B.8"},{"$f":"'B-Bestandsanalyse'!$C$45","v":"Endenergieverbrauch Wärme"},{"$f":"'B-Bestandsanalyse'!X57","v":"Biogener Abfall"},{"$f":"'B-Bestandsanalyse'!$F$47","v":"öffentliche Liegenschaften"},{"$f":"'B-Bestandsanalyse'!$C$47","v":"MWh/a"},{"$f":"'A-Allgemeine Angaben'!$D$22","v":0},{"$f":"IF('B-Bestandsanalyse'!F57=\"\",\"-\",'B-Bestandsanalyse'!F57)","v":"-"}]
[{"$f":"+'B-Bestandsanalyse'!$B$40","v":"B.8"},{"$f":"'B-Bestandsanalyse'!$C$45","v":"Endenergieverbrauch Wärme"},{"$f":"'B-Bestandsanalyse'!X58","v":"Abwärme < 60 °C"},{"$f":"'B-Bestandsanalyse'!$F$47","v":"öffentliche Liegenschaften"},{"$f":"'B-Bestandsanalyse'!$C$47","v":"MWh/a"},{"$f":"'A-Allgemeine Angaben'!$D$22","v":0},{"$f":"IF('B-Bestandsanalyse'!F58=\"\",\"-\",'B-Bestandsanalyse'!F58)","v":"-"}]
[{"$f":"+'B-Bestandsanalyse'!$B$40","v":"B.8"},{"$f":"'B-Bestandsanalyse'!$C$45","v":"Endenergieverbrauch Wärme"},{"$f":"'B-Bestandsanalyse'!X59","v":"Abwärme 60 bis 110 °C"},{"$f":"'B-Bestandsanalyse'!$F$47","v":"öffentliche Liegenschaften"},{"$f":"'B-Bestandsanalyse'!$C$47","v":"MWh/a"},{"$f":"'A-Allgemeine Angaben'!$D$22","v":0},{"$f":"IF('B-Bestandsanalyse'!F59=\"\",\"-\",'B-Bestandsanalyse'!F59)","v":"-"}]
[{"$f":"+'B-Bestandsanalyse'!$B$40","v":"B.8"},{"$f":"'B-Bestandsanalyse'!$C$45","v":"Endenergieverbrauch Wärme"},{"$f":"'B-Bestandsanalyse'!X60","v":"Abwärme >= 110 °C"},{"$f":"'B-Bestandsanalyse'!$F$47","v":"öffentliche Liegenschaften"},{"$f":"'B-Bestandsanalyse'!$C$47","v":"MWh/a"},{"$f":"'A-Allgemeine Angaben'!$D$22","v":0},{"$f":"IF('B-Bestandsanalyse'!F60=\"\",\"-\",'B-Bestandsanalyse'!F60)","v":"-"}]
[{"$f":"+'B-Bestandsanalyse'!$B$40","v":"B.8"},{"$f":"'B-Bestandsanalyse'!$C$45","v":"Endenergieverbrauch Wärme"},{"$f":"'B-Bestandsanalyse'!X61","v":"feste Biomasse (ohne Altholz)"},{"$f":"'B-Bestandsanalyse'!$F$47","v":"öffentliche Liegenschaften"},{"$f":"'B-Bestandsanalyse'!$C$47","v":"MWh/a"},{"$f":"'A-Allgemeine Angaben'!$D$22","v":0},{"$f":"IF('B-Bestandsanalyse'!F61=\"\",\"-\",'B-Bestandsanalyse'!F61)","v":"-"}]
[{"$f":"+'B-Bestandsanalyse'!$B$40","v":"B.8"},{"$f":"'B-Bestandsanalyse'!$C$45","v":"Endenergieverbrauch Wärme"},{"$f":"'B-Bestandsanalyse'!X62","v":"Altholz"},{"$f":"'B-Bestandsanalyse'!$F$47","v":"öffentliche Liegenschaften"},{"$f":"'B-Bestandsanalyse'!$C$47","v":"MWh/a"},{"$f":"'A-Allgemeine Angaben'!$D$22","v":0},{"$f":"IF('B-Bestandsanalyse'!F62=\"\",\"-\",'B-Bestandsanalyse'!F62)","v":"-"}]
[{"$f":"+'B-Bestandsanalyse'!$B$40","v":"B.8"},{"$f":"'B-Bestandsanalyse'!$C$45","v":"Endenergieverbrauch Wärme"},{"$f":"'B-Bestandsanalyse'!X63","v":"Biogas"},{"$f":"'B-Bestandsanalyse'!$F$47","v":"öffentliche Liegenschaften"},{"$f":"'B-Bestandsanalyse'!$C$47","v":"MWh/a"},{"$f":"'A-Allgemeine Angaben'!$D$22","v":0},{"$f":"IF('B-Bestandsanalyse'!F63=\"\",\"-\",'B-Bestandsanalyse'!F63)","v":"-"}]
[{"$f":"+'B-Bestandsanalyse'!$B$40","v":"B.8"},{"$f":"'B-Bestandsanalyse'!$C$45","v":"Endenergieverbrauch Wärme"},{"$f":"'B-Bestandsanalyse'!X64","v":"Biomethan"},{"$f":"'B-Bestandsanalyse'!$F$47","v":"öffentliche Liegenschaften"},{"$f":"'B-Bestandsanalyse'!$C$47","v":"MWh/a"},{"$f":"'A-Allgemeine Angaben'!$D$22","v":0},{"$f":"IF('B-Bestandsanalyse'!F64=\"\",\"-\",'B-Bestandsanalyse'!F64)","v":"-"}]
[{"$f":"+'B-Bestandsanalyse'!$B$40","v":"B.8"},{"$f":"'B-Bestandsanalyse'!$C$45","v":"Endenergieverbrauch Wärme"},{"$f":"'B-Bestandsanalyse'!X65","v":"Deponiegas"},{"$f":"'B-Bestandsanalyse'!$F$47","v":"öffentliche Liegenschaften"},{"$f":"'B-Bestandsanalyse'!$C$47","v":"MWh/a"},{"$f":"'A-Allgemeine Angaben'!$D$22","v":0},{"$f":"IF('B-Bestandsanalyse'!F65=\"\",\"-\",'B-Bestandsanalyse'!F65)","v":"-"}]
[{"$f":"+'B-Bestandsanalyse'!$B$40","v":"B.8"},{"$f":"'B-Bestandsanalyse'!$C$45","v":"Endenergieverbrauch Wärme"},{"$f":"'B-Bestandsanalyse'!X66","v":"Klärgas"},{"$f":"'B-Bestandsanalyse'!$F$47","v":"öffentliche Liegenschaften"},{"$f":"'B-Bestandsanalyse'!$C$47","v":"MWh/a"},{"$f":"'A-Allgemeine Angaben'!$D$22","v":0},{"$f":"IF('B-Bestandsanalyse'!F66=\"\",\"-\",'B-Bestandsanalyse'!F66)","v":"-"}]
[{"$f":"+'B-Bestandsanalyse'!$B$40","v":"B.8"},{"$f":"'B-Bestandsanalyse'!$C$45","v":"Endenergieverbrauch Wärme"},{"$f":"'B-Bestandsanalyse'!X67","v":"Flüssige Biomasse"},{"$f":"'B-Bestandsanalyse'!$F$47","v":"öffentliche Liegenschaften"},{"$f":"'B-Bestandsanalyse'!$C$47","v":"MWh/a"},{"$f":"'A-Allgemeine Angaben'!$D$22","v":0},{"$f":"IF('B-Bestandsanalyse'!F67=\"\",\"-\",'B-Bestandsanalyse'!F67)","v":"-"}]
[{"$f":"+'B-Bestandsanalyse'!$B$40","v":"B.8"},{"$f":"'B-Bestandsanalyse'!$C$45","v":"Endenergieverbrauch Wärme"},{"$f":"'B-Bestandsanalyse'!X68","v":"Strom Wärmepumpe"},{"$f":"'B-Bestandsanalyse'!$F$47","v":"öffentliche Liegenschaften"},{"$f":"'B-Bestandsanalyse'!$C$47","v":"MWh/a"},{"$f":"'A-Allgemeine Angaben'!$D$22","v":0},{"$f":"IF('B-Bestandsanalyse'!F68=\"\",\"-\",'B-Bestandsanalyse'!F68)","v":"-"}]
[{"$f":"+'B-Bestandsanalyse'!$B$40","v":"B.8"},{"$f":"'B-Bestandsanalyse'!$C$45","v":"Endenergieverbrauch Wärme"},{"$f":"'B-Bestandsanalyse'!X69","v":"Strom Direktheizung"},{"$f":"'B-Bestandsanalyse'!$F$47","v":"öffentliche Liegenschaften"},{"$f":"'B-Bestandsanalyse'!$C$47","v":"MWh/a"},{"$f":"'A-Allgemeine Angaben'!$D$22","v":0},{"$f":"IF('B-Bestandsanalyse'!F69=\"\",\"-\",'B-Bestandsanalyse'!F69)","v":"-"}]
[{"$f":"+'B-Bestandsanalyse'!$B$40","v":"B.8"},{"$f":"'B-Bestandsanalyse'!$C$45","v":"Endenergieverbrauch Wärme"},{"$f":"'B-Bestandsanalyse'!X70","v":"Solarthermie Dach-Anlagen"},{"$f":"'B-Bestandsanalyse'!$F$47","v":"öffentliche Liegenschaften"},{"$f":"'B-Bestandsanalyse'!$C$47","v":"MWh/a"},{"$f":"'A-Allgemeine Angaben'!$D$22","v":0},{"$f":"IF('B-Bestandsanalyse'!F70=\"\",\"-\",'B-Bestandsanalyse'!F70)","v":"-"}]
[{"$f":"+'B-Bestandsanalyse'!$B$40","v":"B.8"},{"$f":"'B-Bestandsanalyse'!$C$45","v":"Endenergieverbrauch Wärme"},{"$f":"'B-Bestandsanalyse'!X71","v":"Solarthermie Freiflächenanlagen"},{"$f":"'B-Bestandsanalyse'!$F$47","v":"öffentliche Liegenschaften"},{"$f":"'B-Bestandsanalyse'!$C$47","v":"MWh/a"},{"$f":"'A-Allgemeine Angaben'!$D$22","v":0},{"$f":"IF('B-Bestandsanalyse'!F71=\"\",\"-\",'B-Bestandsanalyse'!F71)","v":"-"}]
[{"$f":"+'B-Bestandsanalyse'!$B$40","v":"B.8"},{"$f":"'B-Bestandsanalyse'!$C$45","v":"Endenergieverbrauch Wärme"},{"$f":"'B-Bestandsanalyse'!X72","v":"Oberflächennahe Geothermie"},{"$f":"'B-Bestandsanalyse'!$F$47","v":"öffentliche Liegenschaften"},{"$f":"'B-Bestandsanalyse'!$C$47","v":"MWh/a"},{"$f":"'A-Allgemeine Angaben'!$D$22","v":0},{"$f":"IF('B-Bestandsanalyse'!F72=\"\",\"-\",'B-Bestandsanalyse'!F72)","v":"-"}]
[{"$f":"+'B-Bestandsanalyse'!$B$40","v":"B.8"},{"$f":"'B-Bestandsanalyse'!$C$45","v":"Endenergieverbrauch Wärme"},{"$f":"'B-Bestandsanalyse'!X73","v":"Tiefe Geothermie"},{"$f":"'B-Bestandsanalyse'!$F$47","v":"öffentliche Liegenschaften"},{"$f":"'B-Bestandsanalyse'!$C$47","v":"MWh/a"},{"$f":"'A-Allgemeine Angaben'!$D$22","v":0},{"$f":"IF('B-Bestandsanalyse'!F73=\"\",\"-\",'B-Bestandsanalyse'!F73)","v":"-"}]
[{"$f":"+'B-Bestandsanalyse'!$B$40","v":"B.8"},{"$f":"'B-Bestandsanalyse'!$C$45","v":"Endenergieverbrauch Wärme"},{"$f":"'B-Bestandsanalyse'!X74","v":"Oberflächengewässern"},{"$f":"'B-Bestandsanalyse'!$F$47","v":"öffentliche Liegenschaften"},{"$f":"'B-Bestandsanalyse'!$C$47","v":"MWh/a"},{"$f":"'A-Allgemeine Angaben'!$D$22","v":0},{"$f":"IF('B-Bestandsanalyse'!F74=\"\",\"-\",'B-Bestandsanalyse'!F74)","v":"-"}]
[{"$f":"+'B-Bestandsanalyse'!$B$40","v":"B.8"},{"$f":"'B-Bestandsanalyse'!$C$45","v":"Endenergieverbrauch Wärme"},{"$f":"'B-Bestandsanalyse'!X75","v":"Grubenwasser"},{"$f":"'B-Bestandsanalyse'!$F$47","v":"öffentliche Liegenschaften"},{"$f":"'B-Bestandsanalyse'!$C$47","v":"MWh/a"},{"$f":"'A-Allgemeine Angaben'!$D$22","v":0},{"$f":"IF('B-Bestandsanalyse'!F75=\"\",\"-\",'B-Bestandsanalyse'!F75)","v":"-"}]
[{"$f":"+'B-Bestandsanalyse'!$B$40","v":"B.8"},{"$f":"'B-Bestandsanalyse'!$C$45","v":"Endenergieverbrauch Wärme"},{"$f":"'B-Bestandsanalyse'!X76","v":"Luft"},{"$f":"'B-Bestandsanalyse'!$F$47","v":"öffentliche Liegenschaften"},{"$f":"'B-Bestandsanalyse'!$C$47","v":"MWh/a"},{"$f":"'A-Allgemeine Angaben'!$D$22","v":0},{"$f":"IF('B-Bestandsanalyse'!F76=\"\",\"-\",'B-Bestandsanalyse'!F76)","v":"-"}]
[{"$f":"+'B-Bestandsanalyse'!$B$40","v":"B.8"},{"$f":"'B-Bestandsanalyse'!$C$45","v":"Endenergieverbrauch Wärme"},{"$f":"'B-Bestandsanalyse'!X77","v":"Abwasser"},{"$f":"'B-Bestandsanalyse'!$F$47","v":"öffentliche Liegenschaften"},{"$f":"'B-Bestandsanalyse'!$C$47","v":"MWh/a"},{"$f":"'A-Allgemeine Angaben'!$D$22","v":0},{"$f":"IF('B-Bestandsanalyse'!F77=\"\",\"-\",'B-Bestandsanalyse'!F77)","v":"-"}]
[{"$f":"+'B-Bestandsanalyse'!$B$40","v":"B.8"},{"$f":"'B-Bestandsanalyse'!$C$45","v":"Endenergieverbrauch Wärme"},{"$f":"'B-Bestandsanalyse'!X78","v":"Sonstige fossile Brennstoffe"},{"$f":"'B-Bestandsanalyse'!$F$47","v":"öffentliche Liegenschaften"},{"$f":"'B-Bestandsanalyse'!$C$47","v":"MWh/a"},{"$f":"'A-Allgemeine Angaben'!$D$22","v":0},{"$f":"IF('B-Bestandsanalyse'!F78=\"\",\"-\",'B-Bestandsanalyse'!F78)","v":"-"}]
[{"$f":"+'B-Bestandsanalyse'!$B$40","v":"B.8"},{"$f":"'B-Bestandsanalyse'!$C$45","v":"Endenergieverbrauch Wärme"},{"$f":"'B-Bestandsanalyse'!X79","v":"Sonstige erneuerbare Energien"},{"$f":"'B-Bestandsanalyse'!$F$47","v":"öffentliche Liegenschaften"},{"$f":"'B-Bestandsanalyse'!$C$47","v":"MWh/a"},{"$f":"'A-Allgemeine Angaben'!$D$22","v":0},{"$f":"IF('B-Bestandsanalyse'!F79=\"\",\"-\",'B-Bestandsanalyse'!F79)","v":"-"}]
[{"$f":"+'B-Bestandsanalyse'!$B$40","v":"B.8"},{"$f":"'B-Bestandsanalyse'!$C$45","v":"Endenergieverbrauch Wärme"},null,{"$f":"'B-Bestandsanalyse'!$F$47","v":"öffentliche Liegenschaften"},{"$f":"'B-Bestandsanalyse'!$C$47","v":"MWh/a"},{"$f":"'A-Allgemeine Angaben'!$D$22","v":0},{"$f":"IF('B-Bestandsanalyse'!F80=\"\",\"-\",'B-Bestandsanalyse'!F80)","v":0}]
[{"$f":"+'B-Bestandsanalyse'!$B$40","v":"B.8"},{"$f":"'B-Bestandsanalyse'!$C$45","v":"Endenergieverbrauch Wärme"},{"$f":"+'B-Bestandsanalyse'!X48","v":"Braunkohle"},{"$f":"'B-Bestandsanalyse'!$G$47","v":"Industrie"},{"$f":"'B-Bestandsanalyse'!$C$47","v":"MWh/a"},{"$f":"'A-Allgemeine Angaben'!$D$22","v":0},{"$f":"IF('B-Bestandsanalyse'!G48=\"\",\"-\",'B-Bestandsanalyse'!G48)","v":"-"}]
[{"$f":"+'B-Bestandsanalyse'!$B$40","v":"B.8"},{"$f":"'B-Bestandsanalyse'!$C$45","v":"Endenergieverbrauch Wärme"},{"$f":"+'B-Bestandsanalyse'!X49","v":"Steinkohle"},{"$f":"'B-Bestandsanalyse'!$G$47","v":"Industrie"},{"$f":"'B-Bestandsanalyse'!$C$47","v":"MWh/a"},{"$f":"'A-Allgemeine Angaben'!$D$22","v":0},{"$f":"IF('B-Bestandsanalyse'!G49=\"\",\"-\",'B-Bestandsanalyse'!G49)","v":"-"}]
[{"$f":"+'B-Bestandsanalyse'!$B$40","v":"B.8"},{"$f":"'B-Bestandsanalyse'!$C$45","v":"Endenergieverbrauch Wärme"},{"$f":"+'B-Bestandsanalyse'!X50","v":"Erdgas"},{"$f":"'B-Bestandsanalyse'!$G$47","v":"Industrie"},{"$f":"'B-Bestandsanalyse'!$C$47","v":"MWh/a"},{"$f":"'A-Allgemeine Angaben'!$D$22","v":0},{"$f":"IF('B-Bestandsanalyse'!G50=\"\",\"-\",'B-Bestandsanalyse'!G50)","v":"-"}]
[{"$f":"+'B-Bestandsanalyse'!$B$40","v":"B.8"},{"$f":"'B-Bestandsanalyse'!$C$45","v":"Endenergieverbrauch Wärme"},{"$f":"+'B-Bestandsanalyse'!X51","v":"Flüssiggas"},{"$f":"'B-Bestandsanalyse'!$G$47","v":"Industrie"},{"$f":"'B-Bestandsanalyse'!$C$47","v":"MWh/a"},{"$f":"'A-Allgemeine Angaben'!$D$22","v":0},{"$f":"IF('B-Bestandsanalyse'!G51=\"\",\"-\",'B-Bestandsanalyse'!G51)","v":"-"}]
[{"$f":"+'B-Bestandsanalyse'!$B$40","v":"B.8"},{"$f":"'B-Bestandsanalyse'!$C$45","v":"Endenergieverbrauch Wärme"},{"$f":"+'B-Bestandsanalyse'!X52","v":"Heizöl"},{"$f":"'B-Bestandsanalyse'!$G$47","v":"Industrie"},{"$f":"'B-Bestandsanalyse'!$C$47","v":"MWh/a"},{"$f":"'A-Allgemeine Angaben'!$D$22","v":0},{"$f":"IF('B-Bestandsanalyse'!G52=\"\",\"-\",'B-Bestandsanalyse'!G52)","v":"-"}]
[{"$f":"+'B-Bestandsanalyse'!$B$40","v":"B.8"},{"$f":"'B-Bestandsanalyse'!$C$45","v":"Endenergieverbrauch Wärme"},{"$f":"+'B-Bestandsanalyse'!X53","v":"Wasserstoff"},{"$f":"'B-Bestandsanalyse'!$G$47","v":"Industrie"},{"$f":"'B-Bestandsanalyse'!$C$47","v":"MWh/a"},{"$f":"'A-Allgemeine Angaben'!$D$22","v":0},{"$f":"IF('B-Bestandsanalyse'!G53=\"\",\"-\",'B-Bestandsanalyse'!G53)","v":"-"}]
[{"$f":"+'B-Bestandsanalyse'!$B$40","v":"B.8"},{"$f":"'B-Bestandsanalyse'!$C$45","v":"Endenergieverbrauch Wärme"},{"$f":"+'B-Bestandsanalyse'!X54","v":"Wasserstoffderivate"},{"$f":"'B-Bestandsanalyse'!$G$47","v":"Industrie"},{"$f":"'B-Bestandsanalyse'!$C$47","v":"MWh/a"},{"$f":"'A-Allgemeine Angaben'!$D$22","v":0},{"$f":"IF('B-Bestandsanalyse'!G54=\"\",\"-\",'B-Bestandsanalyse'!G54)","v":"-"}]
[{"$f":"+'B-Bestandsanalyse'!$B$40","v":"B.8"},{"$f":"'B-Bestandsanalyse'!$C$45","v":"Endenergieverbrauch Wärme"},{"$f":"+'B-Bestandsanalyse'!X55","v":"Grubengas"},{"$f":"'B-Bestandsanalyse'!$G$47","v":"Industrie"},{"$f":"'B-Bestandsanalyse'!$C$47","v":"MWh/a"},{"$f":"'A-Allgemeine Angaben'!$D$22","v":0},{"$f":"IF('B-Bestandsanalyse'!G55=\"\",\"-\",'B-Bestandsanalyse'!G55)","v":"-"}]
[{"$f":"+'B-Bestandsanalyse'!$B$40","v":"B.8"},{"$f":"'B-Bestandsanalyse'!$C$45","v":"Endenergieverbrauch Wärme"},{"$f":"+'B-Bestandsanalyse'!X56","v":"Nicht biogener Abfall"},{"$f":"'B-Bestandsanalyse'!$G$47","v":"Industrie"},{"$f":"'B-Bestandsanalyse'!$C$47","v":"MWh/a"},{"$f":"'A-Allgemeine Angaben'!$D$22","v":0},{"$f":"IF('B-Bestandsanalyse'!G56=\"\",\"-\",'B-Bestandsanalyse'!G56)","v":"-"}]
[{"$f":"+'B-Bestandsanalyse'!$B$40","v":"B.8"},{"$f":"'B-Bestandsanalyse'!$C$45","v":"Endenergieverbrauch Wärme"},{"$f":"+'B-Bestandsanalyse'!X57","v":"Biogener Abfall"},{"$f":"'B-Bestandsanalyse'!$G$47","v":"Industrie"},{"$f":"'B-Bestandsanalyse'!$C$47","v":"MWh/a"},{"$f":"'A-Allgemeine Angaben'!$D$22","v":0},{"$f":"IF('B-Bestandsanalyse'!G57=\"\",\"-\",'B-Bestandsanalyse'!G57)","v":"-"}]
[{"$f":"+'B-Bestandsanalyse'!$B$40","v":"B.8"},{"$f":"'B-Bestandsanalyse'!$C$45","v":"Endenergieverbrauch Wärme"},{"$f":"+'B-Bestandsanalyse'!X58","v":"Abwärme < 60 °C"},{"$f":"'B-Bestandsanalyse'!$G$47","v":"Industrie"},{"$f":"'B-Bestandsanalyse'!$C$47","v":"MWh/a"},{"$f":"'A-Allgemeine Angaben'!$D$22","v":0},{"$f":"IF('B-Bestandsanalyse'!G58=\"\",\"-\",'B-Bestandsanalyse'!G58)","v":"-"}]
[{"$f":"+'B-Bestandsanalyse'!$B$40","v":"B.8"},{"$f":"'B-Bestandsanalyse'!$C$45","v":"Endenergieverbrauch Wärme"},{"$f":"+'B-Bestandsanalyse'!X59","v":"Abwärme 60 bis 110 °C"},{"$f":"'B-Bestandsanalyse'!$G$47","v":"Industrie"},{"$f":"'B-Bestandsanalyse'!$C$47","v":"MWh/a"},{"$f":"'A-Allgemeine Angaben'!$D$22","v":0},{"$f":"IF('B-Bestandsanalyse'!G59=\"\",\"-\",'B-Bestandsanalyse'!G59)","v":"-"}]
[{"$f":"+'B-Bestandsanalyse'!$B$40","v":"B.8"},{"$f":"'B-Bestandsanalyse'!$C$45","v":"Endenergieverbrauch Wärme"},{"$f":"+'B-Bestandsanalyse'!X60","v":"Abwärme >= 110 °C"},{"$f":"'B-Bestandsanalyse'!$G$47","v":"Industrie"},{"$f":"'B-Bestandsanalyse'!$C$47","v":"MWh/a"},{"$f":"'A-Allgemeine Angaben'!$D$22","v":0},{"$f":"IF('B-Bestandsanalyse'!G60=\"\",\"-\",'B-Bestandsanalyse'!G60)","v":"-"}]
[{"$f":"+'B-Bestandsanalyse'!$B$40","v":"B.8"},{"$f":"'B-Bestandsanalyse'!$C$45","v":"Endenergieverbrauch Wärme"},{"$f":"+'B-Bestandsanalyse'!X61","v":"feste Biomasse (ohne Altholz)"},{"$f":"'B-Bestandsanalyse'!$G$47","v":"Industrie"},{"$f":"'B-Bestandsanalyse'!$C$47","v":"MWh/a"},{"$f":"'A-Allgemeine Angaben'!$D$22","v":0},{"$f":"IF('B-Bestandsanalyse'!G61=\"\",\"-\",'B-Bestandsanalyse'!G61)","v":"-"}]
[{"$f":"+'B-Bestandsanalyse'!$B$40","v":"B.8"},{"$f":"'B-Bestandsanalyse'!$C$45","v":"Endenergieverbrauch Wärme"},{"$f":"+'B-Bestandsanalyse'!X62","v":"Altholz"},{"$f":"'B-Bestandsanalyse'!$G$47","v":"Industrie"},{"$f":"'B-Bestandsanalyse'!$C$47","v":"MWh/a"},{"$f":"'A-Allgemeine Angaben'!$D$22","v":0},{"$f":"IF('B-Bestandsanalyse'!G62=\"\",\"-\",'B-Bestandsanalyse'!G62)","v":"-"}]
[{"$f":"+'B-Bestandsanalyse'!$B$40","v":"B.8"},{"$f":"'B-Bestandsanalyse'!$C$45","v":"Endenergieverbrauch Wärme"},{"$f":"+'B-Bestandsanalyse'!X63","v":"Biogas"},{"$f":"'B-Bestandsanalyse'!$G$47","v":"Industrie"},{"$f":"'B-Bestandsanalyse'!$C$47","v":"MWh/a"},{"$f":"'A-Allgemeine Angaben'!$D$22","v":0},{"$f":"IF('B-Bestandsanalyse'!G63=\"\",\"-\",'B-Bestandsanalyse'!G63)","v":"-"}]
[{"$f":"+'B-Bestandsanalyse'!$B$40","v":"B.8"},{"$f":"'B-Bestandsanalyse'!$C$45","v":"Endenergieverbrauch Wärme"},{"$f":"+'B-Bestandsanalyse'!X64","v":"Biomethan"},{"$f":"'B-Bestandsanalyse'!$G$47","v":"Industrie"},{"$f":"'B-Bestandsanalyse'!$C$47","v":"MWh/a"},{"$f":"'A-Allgemeine Angaben'!$D$22","v":0},{"$f":"IF('B-Bestandsanalyse'!G64=\"\",\"-\",'B-Bestandsanalyse'!G64)","v":"-"}]
[{"$f":"+'B-Bestandsanalyse'!$B$40","v":"B.8"},{"$f":"'B-Bestandsanalyse'!$C$45","v":"Endenergieverbrauch Wärme"},{"$f":"+'B-Bestandsanalyse'!X65","v":"Deponiegas"},{"$f":"'B-Bestandsanalyse'!$G$47","v":"Industrie"},{"$f":"'B-Bestandsanalyse'!$C$47","v":"MWh/a"},{"$f":"'A-Allgemeine Angaben'!$D$22","v":0},{"$f":"IF('B-Bestandsanalyse'!G65=\"\",\"-\",'B-Bestandsanalyse'!G65)","v":"-"}]
[{"$f":"+'B-Bestandsanalyse'!$B$40","v":"B.8"},{"$f":"'B-Bestandsanalyse'!$C$45","v":"Endenergieverbrauch Wärme"},{"$f":"+'B-Bestandsanalyse'!X66","v":"Klärgas"},{"$f":"'B-Bestandsanalyse'!$G$47","v":"Industrie"},{"$f":"'B-Bestandsanalyse'!$C$47","v":"MWh/a"},{"$f":"'A-Allgemeine Angaben'!$D$22","v":0},{"$f":"IF('B-Bestandsanalyse'!G66=\"\",\"-\",'B-Bestandsanalyse'!G66)","v":"-"}]
[{"$f":"+'B-Bestandsanalyse'!$B$40","v":"B.8"},{"$f":"'B-Bestandsanalyse'!$C$45","v":"Endenergieverbrauch Wärme"},{"$f":"+'B-Bestandsanalyse'!X67","v":"Flüssige Biomasse"},{"$f":"'B-Bestandsanalyse'!$G$47","v":"Industrie"},{"$f":"'B-Bestandsanalyse'!$C$47","v":"MWh/a"},{"$f":"'A-Allgemeine Angaben'!$D$22","v":0},{"$f":"IF('B-Bestandsanalyse'!G67=\"\",\"-\",'B-Bestandsanalyse'!G67)","v":"-"}]
[{"$f":"+'B-Bestandsanalyse'!$B$40","v":"B.8"},{"$f":"'B-Bestandsanalyse'!$C$45","v":"Endenergieverbrauch Wärme"},{"$f":"+'B-Bestandsanalyse'!X68","v":"Strom Wärmepumpe"},{"$f":"'B-Bestandsanalyse'!$G$47","v":"Industrie"},{"$f":"'B-Bestandsanalyse'!$C$47","v":"MWh/a"},{"$f":"'A-Allgemeine Angaben'!$D$22","v":0},{"$f":"IF('B-Bestandsanalyse'!G68=\"\",\"-\",'B-Bestandsanalyse'!G68)","v":"-"}]
[{"$f":"+'B-Bestandsanalyse'!$B$40","v":"B.8"},{"$f":"'B-Bestandsanalyse'!$C$45","v":"Endenergieverbrauch Wärme"},{"$f":"+'B-Bestandsanalyse'!X69","v":"Strom Direktheizung"},{"$f":"'B-Bestandsanalyse'!$G$47","v":"Industrie"},{"$f":"'B-Bestandsanalyse'!$C$47","v":"MWh/a"},{"$f":"'A-Allgemeine Angaben'!$D$22","v":0},{"$f":"IF('B-Bestandsanalyse'!G69=\"\",\"-\",'B-Bestandsanalyse'!G69)","v":"-"}]
[{"$f":"+'B-Bestandsanalyse'!$B$40","v":"B.8"},{"$f":"'B-Bestandsanalyse'!$C$45","v":"Endenergieverbrauch Wärme"},{"$f":"+'B-Bestandsanalyse'!X70","v":"Solarthermie Dach-Anlagen"},{"$f":"'B-Bestandsanalyse'!$G$47","v":"Industrie"},{"$f":"'B-Bestandsanalyse'!$C$47","v":"MWh/a"},{"$f":"'A-Allgemeine Angaben'!$D$22","v":0},{"$f":"IF('B-Bestandsanalyse'!G70=\"\",\"-\",'B-Bestandsanalyse'!G70)","v":"-"}]
[{"$f":"+'B-Bestandsanalyse'!$B$40","v":"B.8"},{"$f":"'B-Bestandsanalyse'!$C$45","v":"Endenergieverbrauch Wärme"},{"$f":"+'B-Bestandsanalyse'!X71","v":"Solarthermie Freiflächenanlagen"},{"$f":"'B-Bestandsanalyse'!$G$47","v":"Industrie"},{"$f":"'B-Bestandsanalyse'!$C$47","v":"MWh/a"},{"$f":"'A-Allgemeine Angaben'!$D$22","v":0},{"$f":"IF('B-Bestandsanalyse'!G71=\"\",\"-\",'B-Bestandsanalyse'!G71)","v":"-"}]
[{"$f":"+'B-Bestandsanalyse'!$B$40","v":"B.8"},{"$f":"'B-Bestandsanalyse'!$C$45","v":"Endenergieverbrauch Wärme"},{"$f":"+'B-Bestandsanalyse'!X72","v":"Oberflächennahe Geothermie"},{"$f":"'B-Bestandsanalyse'!$G$47","v":"Industrie"},{"$f":"'B-Bestandsanalyse'!$C$47","v":"MWh/a"},{"$f":"'A-Allgemeine Angaben'!$D$22","v":0},{"$f":"IF('B-Bestandsanalyse'!G72=\"\",\"-\",'B-Bestandsanalyse'!G72)","v":"-"}]
[{"$f":"+'B-Bestandsanalyse'!$B$40","v":"B.8"},{"$f":"'B-Bestandsanalyse'!$C$45","v":"Endenergieverbrauch Wärme"},{"$f":"+'B-Bestandsanalyse'!X73","v":"Tiefe Geothermie"},{"$f":"'B-Bestandsanalyse'!$G$47","v":"Industrie"},{"$f":"'B-Bestandsanalyse'!$C$47","v":"MWh/a"},{"$f":"'A-Allgemeine Angaben'!$D$22","v":0},{"$f":"IF('B-Bestandsanalyse'!G73=\"\",\"-\",'B-Bestandsanalyse'!G73)","v":"-"}]
[{"$f":"+'B-Bestandsanalyse'!$B$40","v":"B.8"},{"$f":"'B-Bestandsanalyse'!$C$45","v":"Endenergieverbrauch Wärme"},{"$f":"+'B-Bestandsanalyse'!X74","v":"Oberflächengewässern"},{"$f":"'B-Bestandsanalyse'!$G$47","v":"Industrie"},{"$f":"'B-Bestandsanalyse'!$C$47","v":"MWh/a"},{"$f":"'A-Allgemeine Angaben'!$D$22","v":0},{"$f":"IF('B-Bestandsanalyse'!G74=\"\",\"-\",'B-Bestandsanalyse'!G74)","v":"-"}]
[{"$f":"+'B-Bestandsanalyse'!$B$40","v":"B.8"},{"$f":"'B-Bestandsanalyse'!$C$45","v":"Endenergieverbrauch Wärme"},{"$f":"+'B-Bestandsanalyse'!X75","v":"Grubenwasser"},{"$f":"'B-Bestandsanalyse'!$G$47","v":"Industrie"},{"$f":"'B-Bestandsanalyse'!$C$47","v":"MWh/a"},{"$f":"'A-Allgemeine Angaben'!$D$22","v":0},{"$f":"IF('B-Bestandsanalyse'!G75=\"\",\"-\",'B-Bestandsanalyse'!G75)","v":"-"}]
[{"$f":"+'B-Bestandsanalyse'!$B$40","v":"B.8"},{"$f":"'B-Bestandsanalyse'!$C$45","v":"Endenergieverbrauch Wärme"},{"$f":"+'B-Bestandsanalyse'!X76","v":"Luft"},{"$f":"'B-Bestandsanalyse'!$G$47","v":"Industrie"},{"$f":"'B-Bestandsanalyse'!$C$47","v":"MWh/a"},{"$f":"'A-Allgemeine Angaben'!$D$22","v":0},{"$f":"IF('B-Bestandsanalyse'!G76=\"\",\"-\",'B-Bestandsanalyse'!G76)","v":"-"}]
[{"$f":"+'B-Bestandsanalyse'!$B$40","v":"B.8"},{"$f":"'B-Bestandsanalyse'!$C$45","v":"Endenergieverbrauch Wärme"},{"$f":"+'B-Bestandsanalyse'!X77","v":"Abwasser"},{"$f":"'B-Bestandsanalyse'!$G$47","v":"Industrie"},{"$f":"'B-Bestandsanalyse'!$C$47","v":"MWh/a"},{"$f":"'A-Allgemeine Angaben'!$D$22","v":0},{"$f":"IF('B-Bestandsanalyse'!G77=\"\",\"-\",'B-Bestandsanalyse'!G77)","v":"-"}]
[{"$f":"+'B-Bestandsanalyse'!$B$40","v":"B.8"},{"$f":"'B-Bestandsanalyse'!$C$45","v":"Endenergieverbrauch Wärme"},{"$f":"+'B-Bestandsanalyse'!X78","v":"Sonstige fossile Brennstoffe"},{"$f":"'B-Bestandsanalyse'!$G$47","v":"Industrie"},{"$f":"'B-Bestandsanalyse'!$C$47","v":"MWh/a"},{"$f":"'A-Allgemeine Angaben'!$D$22","v":0},{"$f":"IF('B-Bestandsanalyse'!G78=\"\",\"-\",'B-Bestandsanalyse'!G78)","v":"-"}]
[{"$f":"+'B-Bestandsanalyse'!$B$40","v":"B.8"},{"$f":"'B-Bestandsanalyse'!$C$45","v":"Endenergieverbrauch Wärme"},{"$f":"+'B-Bestandsanalyse'!X79","v":"Sonstige erneuerbare Energien"},{"$f":"'B-Bestandsanalyse'!$G$47","v":"Industrie"},{"$f":"'B-Bestandsanalyse'!$C$47","v":"MWh/a"},{"$f":"'A-Allgemeine Angaben'!$D$22","v":0},{"$f":"IF('B-Bestandsanalyse'!G79=\"\",\"-\",'B-Bestandsanalyse'!G79)","v":"-"}]
[{"$f":"+'B-Bestandsanalyse'!$B$40","v":"B.8"},{"$f":"'B-Bestandsanalyse'!$C$45","v":"Endenergieverbrauch Wärme"},null,{"$f":"'B-Bestandsanalyse'!$G$47","v":"Industrie"},{"$f":"'B-Bestandsanalyse'!$C$47","v":"MWh/a"},{"$f":"'A-Allgemeine Angaben'!$D$22","v":0},{"$f":"IF('B-Bestandsanalyse'!G80=\"\",\"-\",'B-Bestandsanalyse'!G80)","v":0}]
[{"$f":"+'B-Bestandsanalyse'!$B$40","v":"B.8"},{"$f":"'B-Bestandsanalyse'!$C$45","v":"Endenergieverbrauch Wärme"},{"$f":"'B-Bestandsanalyse'!X48","v":"Braunkohle"},{"$f":"'B-Bestandsanalyse'!$I$45","v":"Sektoren insgesamt"},{"$f":"'B-Bestandsanalyse'!$C$47","v":"MWh/a"},{"$f":"'A-Allgemeine Angaben'!$D$22","v":0},{"$f":"IF('B-Bestandsanalyse'!I48=\"\",\"-\",'B-Bestandsanalyse'!I48)","v":"-"}]
[{"$f":"+'B-Bestandsanalyse'!$B$40","v":"B.8"},{"$f":"'B-Bestandsanalyse'!$C$45","v":"Endenergieverbrauch Wärme"},{"$f":"'B-Bestandsanalyse'!X49","v":"Steinkohle"},{"$f":"'B-Bestandsanalyse'!$I$45","v":"Sektoren insgesamt"},{"$f":"'B-Bestandsanalyse'!$C$47","v":"MWh/a"},{"$f":"'A-Allgemeine Angaben'!$D$22","v":0},{"$f":"IF('B-Bestandsanalyse'!I49=\"\",\"-\",'B-Bestandsanalyse'!I49)","v":"-"}]
[{"$f":"+'B-Bestandsanalyse'!$B$40","v":"B.8"},{"$f":"'B-Bestandsanalyse'!$C$45","v":"Endenergieverbrauch Wärme"},{"$f":"'B-Bestandsanalyse'!X50","v":"Erdgas"},{"$f":"'B-Bestandsanalyse'!$I$45","v":"Sektoren insgesamt"},{"$f":"'B-Bestandsanalyse'!$C$47","v":"MWh/a"},{"$f":"'A-Allgemeine Angaben'!$D$22","v":0},{"$f":"IF('B-Bestandsanalyse'!I50=\"\",\"-\",'B-Bestandsanalyse'!I50)","v":"-"}]
[{"$f":"+'B-Bestandsanalyse'!$B$40","v":"B.8"},{"$f":"'B-Bestandsanalyse'!$C$45","v":"Endenergieverbrauch Wärme"},{"$f":"'B-Bestandsanalyse'!X51","v":"Flüssiggas"},{"$f":"'B-Bestandsanalyse'!$I$45","v":"Sektoren insgesamt"},{"$f":"'B-Bestandsanalyse'!$C$47","v":"MWh/a"},{"$f":"'A-Allgemeine Angaben'!$D$22","v":0},{"$f":"IF('B-Bestandsanalyse'!I51=\"\",\"-\",'B-Bestandsanalyse'!I51)","v":"-"}]
[{"$f":"+'B-Bestandsanalyse'!$B$40","v":"B.8"},{"$f":"'B-Bestandsanalyse'!$C$45","v":"Endenergieverbrauch Wärme"},{"$f":"'B-Bestandsanalyse'!X52","v":"Heizöl"},{"$f":"'B-Bestandsanalyse'!$I$45","v":"Sektoren insgesamt"},{"$f":"'B-Bestandsanalyse'!$C$47","v":"MWh/a"},{"$f":"'A-Allgemeine Angaben'!$D$22","v":0},{"$f":"IF('B-Bestandsanalyse'!I52=\"\",\"-\",'B-Bestandsanalyse'!I52)","v":"-"}]
[{"$f":"+'B-Bestandsanalyse'!$B$40","v":"B.8"},{"$f":"'B-Bestandsanalyse'!$C$45","v":"Endenergieverbrauch Wärme"},{"$f":"'B-Bestandsanalyse'!X53","v":"Wasserstoff"},{"$f":"'B-Bestandsanalyse'!$I$45","v":"Sektoren insgesamt"},{"$f":"'B-Bestandsanalyse'!$C$47","v":"MWh/a"},{"$f":"'A-Allgemeine Angaben'!$D$22","v":0},{"$f":"IF('B-Bestandsanalyse'!I53=\"\",\"-\",'B-Bestandsanalyse'!I53)","v":"-"}]
[{"$f":"+'B-Bestandsanalyse'!$B$40","v":"B.8"},{"$f":"'B-Bestandsanalyse'!$C$45","v":"Endenergieverbrauch Wärme"},{"$f":"'B-Bestandsanalyse'!X54","v":"Wasserstoffderivate"},{"$f":"'B-Bestandsanalyse'!$I$45","v":"Sektoren insgesamt"},{"$f":"'B-Bestandsanalyse'!$C$47","v":"MWh/a"},{"$f":"'A-Allgemeine Angaben'!$D$22","v":0},{"$f":"IF('B-Bestandsanalyse'!I54=\"\",\"-\",'B-Bestandsanalyse'!I54)","v":"-"}]
[{"$f":"+'B-Bestandsanalyse'!$B$40","v":"B.8"},{"$f":"'B-Bestandsanalyse'!$C$45","v":"Endenergieverbrauch Wärme"},{"$f":"'B-Bestandsanalyse'!X55","v":"Grubengas"},{"$f":"'B-Bestandsanalyse'!$I$45","v":"Sektoren insgesamt"},{"$f":"'B-Bestandsanalyse'!$C$47","v":"MWh/a"},{"$f":"'A-Allgemeine Angaben'!$D$22","v":0},{"$f":"IF('B-Bestandsanalyse'!I55=\"\",\"-\",'B-Bestandsanalyse'!I55)","v":"-"}]
[{"$f":"+'B-Bestandsanalyse'!$B$40","v":"B.8"},{"$f":"'B-Bestandsanalyse'!$C$45","v":"Endenergieverbrauch Wärme"},{"$f":"'B-Bestandsanalyse'!X56","v":"Nicht biogener Abfall"},{"$f":"'B-Bestandsanalyse'!$I$45","v":"Sektoren insgesamt"},{"$f":"'B-Bestandsanalyse'!$C$47","v":"MWh/a"},{"$f":"'A-Allgemeine Angaben'!$D$22","v":0},{"$f":"IF('B-Bestandsanalyse'!I56=\"\",\"-\",'B-Bestandsanalyse'!I56)","v":"-"}]
[{"$f":"+'B-Bestandsanalyse'!$B$40","v":"B.8"},{"$f":"'B-Bestandsanalyse'!$C$45","v":"Endenergieverbrauch Wärme"},{"$f":"'B-Bestandsanalyse'!X57","v":"Biogener Abfall"},{"$f":"'B-Bestandsanalyse'!$I$45","v":"Sektoren insgesamt"},{"$f":"'B-Bestandsanalyse'!$C$47","v":"MWh/a"},{"$f":"'A-Allgemeine Angaben'!$D$22","v":0},{"$f":"IF('B-Bestandsanalyse'!I57=\"\",\"-\",'B-Bestandsanalyse'!I57)","v":"-"}]
[{"$f":"+'B-Bestandsanalyse'!$B$40","v":"B.8"},{"$f":"'B-Bestandsanalyse'!$C$45","v":"Endenergieverbrauch Wärme"},{"$f":"'B-Bestandsanalyse'!X58","v":"Abwärme < 60 °C"},{"$f":"'B-Bestandsanalyse'!$I$45","v":"Sektoren insgesamt"},{"$f":"'B-Bestandsanalyse'!$C$47","v":"MWh/a"},{"$f":"'A-Allgemeine Angaben'!$D$22","v":0},{"$f":"IF('B-Bestandsanalyse'!I58=\"\",\"-\",'B-Bestandsanalyse'!I58)","v":"-"}]
[{"$f":"+'B-Bestandsanalyse'!$B$40","v":"B.8"},{"$f":"'B-Bestandsanalyse'!$C$45","v":"Endenergieverbrauch Wärme"},{"$f":"'B-Bestandsanalyse'!X59","v":"Abwärme 60 bis 110 °C"},{"$f":"'B-Bestandsanalyse'!$I$45","v":"Sektoren insgesamt"},{"$f":"'B-Bestandsanalyse'!$C$47","v":"MWh/a"},{"$f":"'A-Allgemeine Angaben'!$D$22","v":0},{"$f":"IF('B-Bestandsanalyse'!I59=\"\",\"-\",'B-Bestandsanalyse'!I59)","v":"-"}]
[{"$f":"+'B-Bestandsanalyse'!$B$40","v":"B.8"},{"$f":"'B-Bestandsanalyse'!$C$45","v":"Endenergieverbrauch Wärme"},{"$f":"'B-Bestandsanalyse'!X60","v":"Abwärme >= 110 °C"},{"$f":"'B-Bestandsanalyse'!$I$45","v":"Sektoren insgesamt"},{"$f":"'B-Bestandsanalyse'!$C$47","v":"MWh/a"},{"$f":"'A-Allgemeine Angaben'!$D$22","v":0},{"$f":"IF('B-Bestandsanalyse'!I60=\"\",\"-\",'B-Bestandsanalyse'!I60)","v":"-"}]
[{"$f":"+'B-Bestandsanalyse'!$B$40","v":"B.8"},{"$f":"'B-Bestandsanalyse'!$C$45","v":"Endenergieverbrauch Wärme"},{"$f":"'B-Bestandsanalyse'!X61","v":"feste Biomasse (ohne Altholz)"},{"$f":"'B-Bestandsanalyse'!$I$45","v":"Sektoren insgesamt"},{"$f":"'B-Bestandsanalyse'!$C$47","v":"MWh/a"},{"$f":"'A-Allgemeine Angaben'!$D$22","v":0},{"$f":"IF('B-Bestandsanalyse'!I61=\"\",\"-\",'B-Bestandsanalyse'!I61)","v":"-"}]
[{"$f":"+'B-Bestandsanalyse'!$B$40","v":"B.8"},{"$f":"'B-Bestandsanalyse'!$C$45","v":"Endenergieverbrauch Wärme"},{"$f":"'B-Bestandsanalyse'!X62","v":"Altholz"},{"$f":"'B-Bestandsanalyse'!$I$45","v":"Sektoren insgesamt"},{"$f":"'B-Bestandsanalyse'!$C$47","v":"MWh/a"},{"$f":"'A-Allgemeine Angaben'!$D$22","v":0},{"$f":"IF('B-Bestandsanalyse'!I62=\"\",\"-\",'B-Bestandsanalyse'!I62)","v":"-"}]
[{"$f":"+'B-Bestandsanalyse'!$B$40","v":"B.8"},{"$f":"'B-Bestandsanalyse'!$C$45","v":"Endenergieverbrauch Wärme"},{"$f":"'B-Bestandsanalyse'!X63","v":"Biogas"},{"$f":"'B-Bestandsanalyse'!$I$45","v":"Sektoren insgesamt"},{"$f":"'B-Bestandsanalyse'!$C$47","v":"MWh/a"},{"$f":"'A-Allgemeine Angaben'!$D$22","v":0},{"$f":"IF('B-Bestandsanalyse'!I63=\"\",\"-\",'B-Bestandsanalyse'!I63)","v":"-"}]
[{"$f":"+'B-Bestandsanalyse'!$B$40","v":"B.8"},{"$f":"'B-Bestandsanalyse'!$C$45","v":"Endenergieverbrauch Wärme"},{"$f":"'B-Bestandsanalyse'!X64","v":"Biomethan"},{"$f":"'B-Bestandsanalyse'!$I$45","v":"Sektoren insgesamt"},{"$f":"'B-Bestandsanalyse'!$C$47","v":"MWh/a"},{"$f":"'A-Allgemeine Angaben'!$D$22","v":0},{"$f":"IF('B-Bestandsanalyse'!I64=\"\",\"-\",'B-Bestandsanalyse'!I64)","v":"-"}]
[{"$f":"+'B-Bestandsanalyse'!$B$40","v":"B.8"},{"$f":"'B-Bestandsanalyse'!$C$45","v":"Endenergieverbrauch Wärme"},{"$f":"'B-Bestandsanalyse'!X65","v":"Deponiegas"},{"$f":"'B-Bestandsanalyse'!$I$45","v":"Sektoren insgesamt"},{"$f":"'B-Bestandsanalyse'!$C$47","v":"MWh/a"},{"$f":"'A-Allgemeine Angaben'!$D$22","v":0},{"$f":"IF('B-Bestandsanalyse'!I65=\"\",\"-\",'B-Bestandsanalyse'!I65)","v":"-"}]
[{"$f":"+'B-Bestandsanalyse'!$B$40","v":"B.8"},{"$f":"'B-Bestandsanalyse'!$C$45","v":"Endenergieverbrauch Wärme"},{"$f":"'B-Bestandsanalyse'!X66","v":"Klärgas"},{"$f":"'B-Bestandsanalyse'!$I$45","v":"Sektoren insgesamt"},{"$f":"'B-Bestandsanalyse'!$C$47","v":"MWh/a"},{"$f":"'A-Allgemeine Angaben'!$D$22","v":0},{"$f":"IF('B-Bestandsanalyse'!I66=\"\",\"-\",'B-Bestandsanalyse'!I66)","v":"-"}]
[{"$f":"+'B-Bestandsanalyse'!$B$40","v":"B.8"},{"$f":"'B-Bestandsanalyse'!$C$45","v":"Endenergieverbrauch Wärme"},{"$f":"'B-Bestandsanalyse'!X67","v":"Flüssige Biomasse"},{"$f":"'B-Bestandsanalyse'!$I$45","v":"Sektoren insgesamt"},{"$f":"'B-Bestandsanalyse'!$C$47","v":"MWh/a"},{"$f":"'A-Allgemeine Angaben'!$D$22","v":0},{"$f":"IF('B-Bestandsanalyse'!I67=\"\",\"-\",'B-Bestandsanalyse'!I67)","v":"-"}]
[{"$f":"+'B-Bestandsanalyse'!$B$40","v":"B.8"},{"$f":"'B-Bestandsanalyse'!$C$45","v":"Endenergieverbrauch Wärme"},{"$f":"'B-Bestandsanalyse'!X68","v":"Strom Wärmepumpe"},{"$f":"'B-Bestandsanalyse'!$I$45","v":"Sektoren insgesamt"},{"$f":"'B-Bestandsanalyse'!$C$47","v":"MWh/a"},{"$f":"'A-Allgemeine Angaben'!$D$22","v":0},{"$f":"IF('B-Bestandsanalyse'!I68=\"\",\"-\",'B-Bestandsanalyse'!I68)","v":"-"}]
[{"$f":"+'B-Bestandsanalyse'!$B$40","v":"B.8"},{"$f":"'B-Bestandsanalyse'!$C$45","v":"Endenergieverbrauch Wärme"},{"$f":"'B-Bestandsanalyse'!X69","v":"Strom Direktheizung"},{"$f":"'B-Bestandsanalyse'!$I$45","v":"Sektoren insgesamt"},{"$f":"'B-Bestandsanalyse'!$C$47","v":"MWh/a"},{"$f":"'A-Allgemeine Angaben'!$D$22","v":0},{"$f":"IF('B-Bestandsanalyse'!I69=\"\",\"-\",'B-Bestandsanalyse'!I69)","v":"-"}]
[{"$f":"+'B-Bestandsanalyse'!$B$40","v":"B.8"},{"$f":"'B-Bestandsanalyse'!$C$45","v":"Endenergieverbrauch Wärme"},{"$f":"'B-Bestandsanalyse'!X70","v":"Solarthermie Dach-Anlagen"},{"$f":"'B-Bestandsanalyse'!$I$45","v":"Sektoren insgesamt"},{"$f":"'B-Bestandsanalyse'!$C$47","v":"MWh/a"},{"$f":"'A-Allgemeine Angaben'!$D$22","v":0},{"$f":"IF('B-Bestandsanalyse'!I70=\"\",\"-\",'B-Bestandsanalyse'!I70)","v":"-"}]
[{"$f":"+'B-Bestandsanalyse'!$B$40","v":"B.8"},{"$f":"'B-Bestandsanalyse'!$C$45","v":"Endenergieverbrauch Wärme"},{"$f":"'B-Bestandsanalyse'!X71","v":"Solarthermie Freiflächenanlagen"},{"$f":"'B-Bestandsanalyse'!$I$45","v":"Sektoren insgesamt"},{"$f":"'B-Bestandsanalyse'!$C$47","v":"MWh/a"},{"$f":"'A-Allgemeine Angaben'!$D$22","v":0},{"$f":"IF('B-Bestandsanalyse'!I71=\"\",\"-\",'B-Bestandsanalyse'!I71)","v":"-"}]
[{"$f":"+'B-Bestandsanalyse'!$B$40","v":"B.8"},{"$f":"'B-Bestandsanalyse'!$C$45","v":"Endenergieverbrauch Wärme"},{"$f":"'B-Bestandsanalyse'!X72","v":"Oberflächennahe Geothermie"},{"$f":"'B-Bestandsanalyse'!$I$45","v":"Sektoren insgesamt"},{"$f":"'B-Bestandsanalyse'!$C$47","v":"MWh/a"},{"$f":"'A-Allgemeine Angaben'!$D$22","v":0},{"$f":"IF('B-Bestandsanalyse'!I72=\"\",\"-\",'B-Bestandsanalyse'!I72)","v":"-"}]
[{"$f":"+'B-Bestandsanalyse'!$B$40","v":"B.8"},{"$f":"'B-Bestandsanalyse'!$C$45","v":"Endenergieverbrauch Wärme"},{"$f":"'B-Bestandsanalyse'!X73","v":"Tiefe Geothermie"},{"$f":"'B-Bestandsanalyse'!$I$45","v":"Sektoren insgesamt"},{"$f":"'B-Bestandsanalyse'!$C$47","v":"MWh/a"},{"$f":"'A-Allgemeine Angaben'!$D$22","v":0},{"$f":"IF('B-Bestandsanalyse'!I73=\"\",\"-\",'B-Bestandsanalyse'!I73)","v":"-"}]
[{"$f":"+'B-Bestandsanalyse'!$B$40","v":"B.8"},{"$f":"'B-Bestandsanalyse'!$C$45","v":"Endenergieverbrauch Wärme"},{"$f":"'B-Bestandsanalyse'!X74","v":"Oberflächengewässern"},{"$f":"'B-Bestandsanalyse'!$I$45","v":"Sektoren insgesamt"},{"$f":"'B-Bestandsanalyse'!$C$47","v":"MWh/a"},{"$f":"'A-Allgemeine Angaben'!$D$22","v":0},{"$f":"IF('B-Bestandsanalyse'!I74=\"\",\"-\",'B-Bestandsanalyse'!I74)","v":"-"}]
[{"$f":"+'B-Bestandsanalyse'!$B$40","v":"B.8"},{"$f":"'B-Bestandsanalyse'!$C$45","v":"Endenergieverbrauch Wärme"},{"$f":"'B-Bestandsanalyse'!X75","v":"Grubenwasser"},{"$f":"'B-Bestandsanalyse'!$I$45","v":"Sektoren insgesamt"},{"$f":"'B-Bestandsanalyse'!$C$47","v":"MWh/a"},{"$f":"'A-Allgemeine Angaben'!$D$22","v":0},{"$f":"IF('B-Bestandsanalyse'!I75=\"\",\"-\",'B-Bestandsanalyse'!I75)","v":"-"}]
[{"$f":"+'B-Bestandsanalyse'!$B$40","v":"B.8"},{"$f":"'B-Bestandsanalyse'!$C$45","v":"Endenergieverbrauch Wärme"},{"$f":"'B-Bestandsanalyse'!X76","v":"Luft"},{"$f":"'B-Bestandsanalyse'!$I$45","v":"Sektoren insgesamt"},{"$f":"'B-Bestandsanalyse'!$C$47","v":"MWh/a"},{"$f":"'A-Allgemeine Angaben'!$D$22","v":0},{"$f":"IF('B-Bestandsanalyse'!I76=\"\",\"-\",'B-Bestandsanalyse'!I76)","v":"-"}]
[{"$f":"+'B-Bestandsanalyse'!$B$40","v":"B.8"},{"$f":"'B-Bestandsanalyse'!$C$45","v":"Endenergieverbrauch Wärme"},{"$f":"'B-Bestandsanalyse'!X77","v":"Abwasser"},{"$f":"'B-Bestandsanalyse'!$I$45","v":"Sektoren insgesamt"},{"$f":"'B-Bestandsanalyse'!$C$47","v":"MWh/a"},{"$f":"'A-Allgemeine Angaben'!$D$22","v":0},{"$f":"IF('B-Bestandsanalyse'!I77=\"\",\"-\",'B-Bestandsanalyse'!I77)","v":"-"}]
[{"$f":"+'B-Bestandsanalyse'!$B$40","v":"B.8"},{"$f":"'B-Bestandsanalyse'!$C$45","v":"Endenergieverbrauch Wärme"},{"$f":"'B-Bestandsanalyse'!X78","v":"Sonstige fossile Brennstoffe"},{"$f":"'B-Bestandsanalyse'!$I$45","v":"Sektoren insgesamt"},{"$f":"'B-Bestandsanalyse'!$C$47","v":"MWh/a"},{"$f":"'A-Allgemeine Angaben'!$D$22","v":0},{"$f":"IF('B-Bestandsanalyse'!I78=\"\",\"-\",'B-Bestandsanalyse'!I78)","v":"-"}]
[{"$f":"+'B-Bestandsanalyse'!$B$40","v":"B.8"},{"$f":"'B-Bestandsanalyse'!$C$45","v":"Endenergieverbrauch Wärme"},{"$f":"'B-Bestandsanalyse'!X79","v":"Sonstige erneuerbare Energien"},{"$f":"'B-Bestandsanalyse'!$I$45","v":"Sektoren insgesamt"},{"$f":"'B-Bestandsanalyse'!$C$47","v":"MWh/a"},{"$f":"'A-Allgemeine Angaben'!$D$22","v":0},{"$f":"IF('B-Bestandsanalyse'!I79=\"\",\"-\",'B-Bestandsanalyse'!I79)","v":"-"}]
[{"$f":"+'B-Bestandsanalyse'!$B$40","v":"B.8"},{"$f":"'B-Bestandsanalyse'!$C$45","v":"Endenergieverbrauch Wärme"},null,{"$f":"'B-Bestandsanalyse'!$I$45","v":"Sektoren insgesamt"},{"$f":"'B-Bestandsanalyse'!$C$47","v":"MWh/a"},{"$f":"'A-Allgemeine Angaben'!$D$22","v":0},{"$f":"IF('B-Bestandsanalyse'!I80=\"\",\"-\",'B-Bestandsanalyse'!I80)","v":0}]
[{"$f":"+'B-Bestandsanalyse'!$B$83","v":"B.9"},{"$f":"'B-Bestandsanalyse'!X85","v":"Endenergieverbrauch Gebäudewärme"},null,null,{"$f":"'B-Bestandsanalyse'!E85","v":"MWh/a"},{"$f":"'A-Allgemeine Angaben'!$D$22","v":0},{"$f":"IF('B-Bestandsanalyse'!D85=\"\",\"-\",'B-Bestandsanalyse'!D85)","v":"-"}]
[{"$f":"+'B-Bestandsanalyse'!$B$83","v":"B.9"},{"$f":"'B-Bestandsanalyse'!X86","v":"Endenergieverbrauch Prozesswärme"},null,null,{"$f":"'B-Bestandsanalyse'!E86","v":"MWh/a"},{"$f":"'A-Allgemeine Angaben'!$D$22","v":0},{"$f":"IF('B-Bestandsanalyse'!D86=\"\",\"-\",'B-Bestandsanalyse'!D86)","v":"-"}]
[{"$f":"'B-Bestandsanalyse'!$B$89","v":"B.10"},{"$f":"'B-Bestandsanalyse'!$C$92","v":"Endenergieverbrauch leitungsgebundene Wärme"},{"$f":"'B-Bestandsanalyse'!X48","v":"Braunkohle"},{"$f":"'B-Bestandsanalyse'!$I$45","v":"Sektoren insgesamt"},{"$f":"'B-Bestandsanalyse'!$C$47","v":"MWh/a"},{"$f":"'A-Allgemeine Angaben'!$D$22","v":0},{"$f":"IF('B-Bestandsanalyse'!D95=\"\",\"-\",'B-Bestandsanalyse'!D95)","v":"-"}]
[{"$f":"'B-Bestandsanalyse'!$B$89","v":"B.10"},{"$f":"'B-Bestandsanalyse'!$C$92","v":"Endenergieverbrauch leitungsgebundene Wärme"},{"$f":"'B-Bestandsanalyse'!X49","v":"Steinkohle"},{"$f":"'B-Bestandsanalyse'!$I$45","v":"Sektoren insgesamt"},{"$f":"'B-Bestandsanalyse'!$C$47","v":"MWh/a"},{"$f":"'A-Allgemeine Angaben'!$D$22","v":0},{"$f":"IF('B-Bestandsanalyse'!D96=\"\",\"-\",'B-Bestandsanalyse'!D96)","v":"-"}]
[{"$f":"'B-Bestandsanalyse'!$B$89","v":"B.10"},{"$f":"'B-Bestandsanalyse'!$C$92","v":"Endenergieverbrauch leitungsgebundene Wärme"},{"$f":"'B-Bestandsanalyse'!X50","v":"Erdgas"},{"$f":"'B-Bestandsanalyse'!$I$45","v":"Sektoren insgesamt"},{"$f":"'B-Bestandsanalyse'!$C$47","v":"MWh/a"},{"$f":"'A-Allgemeine Angaben'!$D$22","v":0},{"$f":"IF('B-Bestandsanalyse'!D97=\"\",\"-\",'B-Bestandsanalyse'!D97)","v":"-"}]
[{"$f":"'B-Bestandsanalyse'!$B$89","v":"B.10"},{"$f":"'B-Bestandsanalyse'!$C$92","v":"Endenergieverbrauch leitungsgebundene Wärme"},{"$f":"'B-Bestandsanalyse'!X51","v":"Flüssiggas"},{"$f":"'B-Bestandsanalyse'!$I$45","v":"Sektoren insgesamt"},{"$f":"'B-Bestandsanalyse'!$C$47","v":"MWh/a"},{"$f":"'A-Allgemeine Angaben'!$D$22","v":0},{"$f":"IF('B-Bestandsanalyse'!D98=\"\",\"-\",'B-Bestandsanalyse'!D98)","v":"-"}]
[{"$f":"'B-Bestandsanalyse'!$B$89","v":"B.10"},{"$f":"'B-Bestandsanalyse'!$C$92","v":"Endenergieverbrauch leitungsgebundene Wärme"},{"$f":"'B-Bestandsanalyse'!X52","v":"Heizöl"},{"$f":"'B-Bestandsanalyse'!$I$45","v":"Sektoren insgesamt"},{"$f":"'B-Bestandsanalyse'!$C$47","v":"MWh/a"},{"$f":"'A-Allgemeine Angaben'!$D$22","v":0},{"$f":"IF('B-Bestandsanalyse'!D99=\"\",\"-\",'B-Bestandsanalyse'!D99)","v":"-"}]
[{"$f":"'B-Bestandsanalyse'!$B$89","v":"B.10"},{"$f":"'B-Bestandsanalyse'!$C$92","v":"Endenergieverbrauch leitungsgebundene Wärme"},{"$f":"'B-Bestandsanalyse'!X53","v":"Wasserstoff"},{"$f":"'B-Bestandsanalyse'!$I$45","v":"Sektoren insgesamt"},{"$f":"'B-Bestandsanalyse'!$C$47","v":"MWh/a"},{"$f":"'A-Allgemeine Angaben'!$D$22","v":0},{"$f":"IF('B-Bestandsanalyse'!D100=\"\",\"-\",'B-Bestandsanalyse'!D100)","v":"-"}]
[{"$f":"'B-Bestandsanalyse'!$B$89","v":"B.10"},{"$f":"'B-Bestandsanalyse'!$C$92","v":"Endenergieverbrauch leitungsgebundene Wärme"},{"$f":"'B-Bestandsanalyse'!X54","v":"Wasserstoffderivate"},{"$f":"'B-Bestandsanalyse'!$I$45","v":"Sektoren insgesamt"},{"$f":"'B-Bestandsanalyse'!$C$47","v":"MWh/a"},{"$f":"'A-Allgemeine Angaben'!$D$22","v":0},{"$f":"IF('B-Bestandsanalyse'!D101=\"\",\"-\",'B-Bestandsanalyse'!D101)","v":"-"}]
[{"$f":"'B-Bestandsanalyse'!$B$89","v":"B.10"},{"$f":"'B-Bestandsanalyse'!$C$92","v":"Endenergieverbrauch leitungsgebundene Wärme"},{"$f":"'B-Bestandsanalyse'!X55","v":"Grubengas"},{"$f":"'B-Bestandsanalyse'!$I$45","v":"Sektoren insgesamt"},{"$f":"'B-Bestandsanalyse'!$C$47","v":"MWh/a"},{"$f":"'A-Allgemeine Angaben'!$D$22","v":0},{"$f":"IF('B-Bestandsanalyse'!D102=\"\",\"-\",'B-Bestandsanalyse'!D102)","v":"-"}]
[{"$f":"'B-Bestandsanalyse'!$B$89","v":"B.10"},{"$f":"'B-Bestandsanalyse'!$C$92","v":"Endenergieverbrauch leitungsgebundene Wärme"},{"$f":"'B-Bestandsanalyse'!X56","v":"Nicht biogener Abfall"},{"$f":"'B-Bestandsanalyse'!$I$45","v":"Sektoren insgesamt"},{"$f":"'B-Bestandsanalyse'!$C$47","v":"MWh/a"},{"$f":"'A-Allgemeine Angaben'!$D$22","v":0},{"$f":"IF('B-Bestandsanalyse'!D103=\"\",\"-\",'B-Bestandsanalyse'!D103)","v":"-"}]
[{"$f":"'B-Bestandsanalyse'!$B$89","v":"B.10"},{"$f":"'B-Bestandsanalyse'!$C$92","v":"Endenergieverbrauch leitungsgebundene Wärme"},{"$f":"'B-Bestandsanalyse'!X57","v":"Biogener Abfall"},{"$f":"'B-Bestandsanalyse'!$I$45","v":"Sektoren insgesamt"},{"$f":"'B-Bestandsanalyse'!$C$47","v":"MWh/a"},{"$f":"'A-Allgemeine Angaben'!$D$22","v":0},{"$f":"IF('B-Bestandsanalyse'!D104=\"\",\"-\",'B-Bestandsanalyse'!D104)","v":"-"}]
[{"$f":"'B-Bestandsanalyse'!$B$89","v":"B.10"},{"$f":"'B-Bestandsanalyse'!$C$92","v":"Endenergieverbrauch leitungsgebundene Wärme"},{"$f":"'B-Bestandsanalyse'!X58","v":"Abwärme < 60 °C"},{"$f":"'B-Bestandsanalyse'!$I$45","v":"Sektoren insgesamt"},{"$f":"'B-Bestandsanalyse'!$C$47","v":"MWh/a"},{"$f":"'A-Allgemeine Angaben'!$D$22","v":0},{"$f":"IF('B-Bestandsanalyse'!D105=\"\",\"-\",'B-Bestandsanalyse'!D105)","v":"-"}]
[{"$f":"'B-Bestandsanalyse'!$B$89","v":"B.10"},{"$f":"'B-Bestandsanalyse'!$C$92","v":"Endenergieverbrauch leitungsgebundene Wärme"},{"$f":"'B-Bestandsanalyse'!X59","v":"Abwärme 60 bis 110 °C"},{"$f":"'B-Bestandsanalyse'!$I$45","v":"Sektoren insgesamt"},{"$f":"'B-Bestandsanalyse'!$C$47","v":"MWh/a"},{"$f":"'A-Allgemeine Angaben'!$D$22","v":0},{"$f":"IF('B-Bestandsanalyse'!D106=\"\",\"-\",'B-Bestandsanalyse'!D106)","v":"-"}]
[{"$f":"'B-Bestandsanalyse'!$B$89","v":"B.10"},{"$f":"'B-Bestandsanalyse'!$C$92","v":"Endenergieverbrauch leitungsgebundene Wärme"},{"$f":"'B-Bestandsanalyse'!X60","v":"Abwärme >= 110 °C"},{"$f":"'B-Bestandsanalyse'!$I$45","v":"Sektoren insgesamt"},{"$f":"'B-Bestandsanalyse'!$C$47","v":"MWh/a"},{"$f":"'A-Allgemeine Angaben'!$D$22","v":0},{"$f":"IF('B-Bestandsanalyse'!D107=\"\",\"-\",'B-Bestandsanalyse'!D107)","v":"-"}]
[{"$f":"'B-Bestandsanalyse'!$B$89","v":"B.10"},{"$f":"'B-Bestandsanalyse'!$C$92","v":"Endenergieverbrauch leitungsgebundene Wärme"},{"$f":"'B-Bestandsanalyse'!X61","v":"feste Biomasse (ohne Altholz)"},{"$f":"'B-Bestandsanalyse'!$I$45","v":"Sektoren insgesamt"},{"$f":"'B-Bestandsanalyse'!$C$47","v":"MWh/a"},{"$f":"'A-Allgemeine Angaben'!$D$22","v":0},{"$f":"IF('B-Bestandsanalyse'!D108=\"\",\"-\",'B-Bestandsanalyse'!D108)","v":"-"}]
[{"$f":"'B-Bestandsanalyse'!$B$89","v":"B.10"},{"$f":"'B-Bestandsanalyse'!$C$92","v":"Endenergieverbrauch leitungsgebundene Wärme"},{"$f":"'B-Bestandsanalyse'!X62","v":"Altholz"},{"$f":"'B-Bestandsanalyse'!$I$45","v":"Sektoren insgesamt"},{"$f":"'B-Bestandsanalyse'!$C$47","v":"MWh/a"},{"$f":"'A-Allgemeine Angaben'!$D$22","v":0},{"$f":"IF('B-Bestandsanalyse'!D109=\"\",\"-\",'B-Bestandsanalyse'!D109)","v":"-"}]
[{"$f":"'B-Bestandsanalyse'!$B$89","v":"B.10"},{"$f":"'B-Bestandsanalyse'!$C$92","v":"Endenergieverbrauch leitungsgebundene Wärme"},{"$f":"'B-Bestandsanalyse'!X63","v":"Biogas"},{"$f":"'B-Bestandsanalyse'!$I$45","v":"Sektoren insgesamt"},{"$f":"'B-Bestandsanalyse'!$C$47","v":"MWh/a"},{"$f":"'A-Allgemeine Angaben'!$D$22","v":0},{"$f":"IF('B-Bestandsanalyse'!D110=\"\",\"-\",'B-Bestandsanalyse'!D110)","v":"-"}]
[{"$f":"'B-Bestandsanalyse'!$B$89","v":"B.10"},{"$f":"'B-Bestandsanalyse'!$C$92","v":"Endenergieverbrauch leitungsgebundene Wärme"},{"$f":"'B-Bestandsanalyse'!X64","v":"Biomethan"},{"$f":"'B-Bestandsanalyse'!$I$45","v":"Sektoren insgesamt"},{"$f":"'B-Bestandsanalyse'!$C$47","v":"MWh/a"},{"$f":"'A-Allgemeine Angaben'!$D$22","v":0},{"$f":"IF('B-Bestandsanalyse'!D111=\"\",\"-\",'B-Bestandsanalyse'!D111)","v":"-"}]
[{"$f":"'B-Bestandsanalyse'!$B$89","v":"B.10"},{"$f":"'B-Bestandsanalyse'!$C$92","v":"Endenergieverbrauch leitungsgebundene Wärme"},{"$f":"'B-Bestandsanalyse'!X65","v":"Deponiegas"},{"$f":"'B-Bestandsanalyse'!$I$45","v":"Sektoren insgesamt"},{"$f":"'B-Bestandsanalyse'!$C$47","v":"MWh/a"},{"$f":"'A-Allgemeine Angaben'!$D$22","v":0},{"$f":"IF('B-Bestandsanalyse'!D112=\"\",\"-\",'B-Bestandsanalyse'!D112)","v":"-"}]
[{"$f":"'B-Bestandsanalyse'!$B$89","v":"B.10"},{"$f":"'B-Bestandsanalyse'!$C$92","v":"Endenergieverbrauch leitungsgebundene Wärme"},{"$f":"'B-Bestandsanalyse'!X66","v":"Klärgas"},{"$f":"'B-Bestandsanalyse'!$I$45","v":"Sektoren insgesamt"},{"$f":"'B-Bestandsanalyse'!$C$47","v":"MWh/a"},{"$f":"'A-Allgemeine Angaben'!$D$22","v":0},{"$f":"IF('B-Bestandsanalyse'!D113=\"\",\"-\",'B-Bestandsanalyse'!D113)","v":"-"}]
[{"$f":"'B-Bestandsanalyse'!$B$89","v":"B.10"},{"$f":"'B-Bestandsanalyse'!$C$92","v":"Endenergieverbrauch leitungsgebundene Wärme"},{"$f":"'B-Bestandsanalyse'!X67","v":"Flüssige Biomasse"},{"$f":"'B-Bestandsanalyse'!$I$45","v":"Sektoren insgesamt"},{"$f":"'B-Bestandsanalyse'!$C$47","v":"MWh/a"},{"$f":"'A-Allgemeine Angaben'!$D$22","v":0},{"$f":"IF('B-Bestandsanalyse'!D114=\"\",\"-\",'B-Bestandsanalyse'!D114)","v":"-"}]
[{"$f":"'B-Bestandsanalyse'!$B$89","v":"B.10"},{"$f":"'B-Bestandsanalyse'!$C$92","v":"Endenergieverbrauch leitungsgebundene Wärme"},{"$f":"'B-Bestandsanalyse'!X68","v":"Strom Wärmepumpe"},{"$f":"'B-Bestandsanalyse'!$I$45","v":"Sektoren insgesamt"},{"$f":"'B-Bestandsanalyse'!$C$47","v":"MWh/a"},{"$f":"'A-Allgemeine Angaben'!$D$22","v":0},{"$f":"IF('B-Bestandsanalyse'!D115=\"\",\"-\",'B-Bestandsanalyse'!D115)","v":"-"}]
[{"$f":"'B-Bestandsanalyse'!$B$89","v":"B.10"},{"$f":"'B-Bestandsanalyse'!$C$92","v":"Endenergieverbrauch leitungsgebundene Wärme"},{"$f":"'B-Bestandsanalyse'!X69","v":"Strom Direktheizung"},{"$f":"'B-Bestandsanalyse'!$I$45","v":"Sektoren insgesamt"},{"$f":"'B-Bestandsanalyse'!$C$47","v":"MWh/a"},{"$f":"'A-Allgemeine Angaben'!$D$22","v":0},{"$f":"IF('B-Bestandsanalyse'!D116=\"\",\"-\",'B-Bestandsanalyse'!D116)","v":"-"}]
[{"$f":"'B-Bestandsanalyse'!$B$89","v":"B.10"},{"$f":"'B-Bestandsanalyse'!$C$92","v":"Endenergieverbrauch leitungsgebundene Wärme"},{"$f":"'B-Bestandsanalyse'!X70","v":"Solarthermie Dach-Anlagen"},{"$f":"'B-Bestandsanalyse'!$I$45","v":"Sektoren insgesamt"},{"$f":"'B-Bestandsanalyse'!$C$47","v":"MWh/a"},{"$f":"'A-Allgemeine Angaben'!$D$22","v":0},{"$f":"IF('B-Bestandsanalyse'!D117=\"\",\"-\",'B-Bestandsanalyse'!D117)","v":"-"}]
[{"$f":"'B-Bestandsanalyse'!$B$89","v":"B.10"},{"$f":"'B-Bestandsanalyse'!$C$92","v":"Endenergieverbrauch leitungsgebundene Wärme"},{"$f":"'B-Bestandsanalyse'!X71","v":"Solarthermie Freiflächenanlagen"},{"$f":"'B-Bestandsanalyse'!$I$45","v":"Sektoren insgesamt"},{"$f":"'B-Bestandsanalyse'!$C$47","v":"MWh/a"},{"$f":"'A-Allgemeine Angaben'!$D$22","v":0},{"$f":"IF('B-Bestandsanalyse'!D118=\"\",\"-\",'B-Bestandsanalyse'!D118)","v":"-"}]
[{"$f":"'B-Bestandsanalyse'!$B$89","v":"B.10"},{"$f":"'B-Bestandsanalyse'!$C$92","v":"Endenergieverbrauch leitungsgebundene Wärme"},{"$f":"'B-Bestandsanalyse'!X72","v":"Oberflächennahe Geothermie"},{"$f":"'B-Bestandsanalyse'!$I$45","v":"Sektoren insgesamt"},{"$f":"'B-Bestandsanalyse'!$C$47","v":"MWh/a"},{"$f":"'A-Allgemeine Angaben'!$D$22","v":0},{"$f":"IF('B-Bestandsanalyse'!D119=\"\",\"-\",'B-Bestandsanalyse'!D119)","v":"-"}]
[{"$f":"'B-Bestandsanalyse'!$B$89","v":"B.10"},{"$f":"'B-Bestandsanalyse'!$C$92","v":"Endenergieverbrauch leitungsgebundene Wärme"},{"$f":"'B-Bestandsanalyse'!X73","v":"Tiefe Geothermie"},{"$f":"'B-Bestandsanalyse'!$I$45","v":"Sektoren insgesamt"},{"$f":"'B-Bestandsanalyse'!$C$47","v":"MWh/a"},{"$f":"'A-Allgemeine Angaben'!$D$22","v":0},{"$f":"IF('B-Bestandsanalyse'!D120=\"\",\"-\",'B-Bestandsanalyse'!D120)","v":"-"}]
[{"$f":"'B-Bestandsanalyse'!$B$89","v":"B.10"},{"$f":"'B-Bestandsanalyse'!$C$92","v":"Endenergieverbrauch leitungsgebundene Wärme"},{"$f":"'B-Bestandsanalyse'!X74","v":"Oberflächengewässern"},{"$f":"'B-Bestandsanalyse'!$I$45","v":"Sektoren insgesamt"},{"$f":"'B-Bestandsanalyse'!$C$47","v":"MWh/a"},{"$f":"'A-Allgemeine Angaben'!$D$22","v":0},{"$f":"IF('B-Bestandsanalyse'!D121=\"\",\"-\",'B-Bestandsanalyse'!D121)","v":"-"}]
[{"$f":"'B-Bestandsanalyse'!$B$89","v":"B.10"},{"$f":"'B-Bestandsanalyse'!$C$92","v":"Endenergieverbrauch leitungsgebundene Wärme"},{"$f":"'B-Bestandsanalyse'!X75","v":"Grubenwasser"},{"$f":"'B-Bestandsanalyse'!$I$45","v":"Sektoren insgesamt"},{"$f":"'B-Bestandsanalyse'!$C$47","v":"MWh/a"},{"$f":"'A-Allgemeine Angaben'!$D$22","v":0},{"$f":"IF('B-Bestandsanalyse'!D122=\"\",\"-\",'B-Bestandsanalyse'!D122)","v":"-"}]
[{"$f":"'B-Bestandsanalyse'!$B$89","v":"B.10"},{"$f":"'B-Bestandsanalyse'!$C$92","v":"Endenergieverbrauch leitungsgebundene Wärme"},{"$f":"'B-Bestandsanalyse'!X76","v":"Luft"},{"$f":"'B-Bestandsanalyse'!$I$45","v":"Sektoren insgesamt"},{"$f":"'B-Bestandsanalyse'!$C$47","v":"MWh/a"},{"$f":"'A-Allgemeine Angaben'!$D$22","v":0},{"$f":"IF('B-Bestandsanalyse'!D123=\"\",\"-\",'B-Bestandsanalyse'!D123)","v":"-"}]
[{"$f":"'B-Bestandsanalyse'!$B$89","v":"B.10"},{"$f":"'B-Bestandsanalyse'!$C$92","v":"Endenergieverbrauch leitungsgebundene Wärme"},{"$f":"'B-Bestandsanalyse'!X77","v":"Abwasser"},{"$f":"'B-Bestandsanalyse'!$I$45","v":"Sektoren insgesamt"},{"$f":"'B-Bestandsanalyse'!$C$47","v":"MWh/a"},{"$f":"'A-Allgemeine Angaben'!$D$22","v":0},{"$f":"IF('B-Bestandsanalyse'!D124=\"\",\"-\",'B-Bestandsanalyse'!D124)","v":"-"}]
[{"$f":"'B-Bestandsanalyse'!$B$89","v":"B.10"},{"$f":"'B-Bestandsanalyse'!$C$92","v":"Endenergieverbrauch leitungsgebundene Wärme"},{"$f":"'B-Bestandsanalyse'!X78","v":"Sonstige fossile Brennstoffe"},{"$f":"'B-Bestandsanalyse'!$I$45","v":"Sektoren insgesamt"},{"$f":"'B-Bestandsanalyse'!$C$47","v":"MWh/a"},{"$f":"'A-Allgemeine Angaben'!$D$22","v":0},{"$f":"IF('B-Bestandsanalyse'!D125=\"\",\"-\",'B-Bestandsanalyse'!D125)","v":"-"}]
[{"$f":"'B-Bestandsanalyse'!$B$89","v":"B.10"},{"$f":"'B-Bestandsanalyse'!$C$92","v":"Endenergieverbrauch leitungsgebundene Wärme"},{"$f":"'B-Bestandsanalyse'!X79","v":"Sonstige erneuerbare Energien"},{"$f":"'B-Bestandsanalyse'!$I$45","v":"Sektoren insgesamt"},{"$f":"'B-Bestandsanalyse'!$C$47","v":"MWh/a"},{"$f":"'A-Allgemeine Angaben'!$D$22","v":0},{"$f":"IF('B-Bestandsanalyse'!D126=\"\",\"-\",'B-Bestandsanalyse'!D126)","v":"-"}]
[{"$f":"'B-Bestandsanalyse'!$B$89","v":"B.10"},{"$f":"'B-Bestandsanalyse'!$C$92","v":"Endenergieverbrauch leitungsgebundene Wärme"},null,{"$f":"'B-Bestandsanalyse'!$I$45","v":"Sektoren insgesamt"},{"$f":"'B-Bestandsanalyse'!$C$47","v":"MWh/a"},{"$f":"'A-Allgemeine Angaben'!$D$22","v":0},{"$f":"IF('B-Bestandsanalyse'!D127=\"\",\"-\",'B-Bestandsanalyse'!D127)","v":0}]
[{"$f":"'B-Bestandsanalyse'!$B$130","v":"B.11"},{"$f":"'B-Bestandsanalyse'!$C$132","v":"Endenergieverbrauch Gasnetze"},{"$f":"'B-Bestandsanalyse'!C135","v":"Erdgas"},{"$f":"'B-Bestandsanalyse'!$I$45","v":"Sektoren insgesamt"},{"$f":"'B-Bestandsanalyse'!$C$134","v":"MWh/a"},{"$f":"'A-Allgemeine Angaben'!$D$22","v":0},{"$f":"IF('B-Bestandsanalyse'!D135=\"\",\"-\",'B-Bestandsanalyse'!D135)","v":"-"}]
[{"$f":"'B-Bestandsanalyse'!$B$130","v":"B.11"},{"$f":"'B-Bestandsanalyse'!$C$132","v":"Endenergieverbrauch Gasnetze"},{"$f":"'B-Bestandsanalyse'!C136","v":"Flüssiggas"},{"$f":"'B-Bestandsanalyse'!$I$45","v":"Sektoren insgesamt"},{"$f":"'B-Bestandsanalyse'!$C$134","v":"MWh/a"},{"$f":"'A-Allgemeine Angaben'!$D$22","v":0},{"$f":"IF('B-Bestandsanalyse'!D136=\"\",\"-\",'B-Bestandsanalyse'!D136)","v":"-"}]
[{"$f":"'B-Bestandsanalyse'!$B$130","v":"B.11"},{"$f":"'B-Bestandsanalyse'!$C$132","v":"Endenergieverbrauch Gasnetze"},{"$f":"'B-Bestandsanalyse'!C137","v":"Wasserstoff"},{"$f":"'B-Bestandsanalyse'!$I$45","v":"Sektoren insgesamt"},{"$f":"'B-Bestandsanalyse'!$C$134","v":"MWh/a"},{"$f":"'A-Allgemeine Angaben'!$D$22","v":0},{"$f":"IF('B-Bestandsanalyse'!D137=\"\",\"-\",'B-Bestandsanalyse'!D137)","v":"-"}]
[{"$f":"'B-Bestandsanalyse'!$B$130","v":"B.11"},{"$f":"'B-Bestandsanalyse'!$C$132","v":"Endenergieverbrauch Gasnetze"},{"$f":"'B-Bestandsanalyse'!C138","v":"Wasserstoffderivate"},{"$f":"'B-Bestandsanalyse'!$I$45","v":"Sektoren insgesamt"},{"$f":"'B-Bestandsanalyse'!$C$134","v":"MWh/a"},{"$f":"'A-Allgemeine Angaben'!$D$22","v":0},{"$f":"IF('B-Bestandsanalyse'!D138=\"\",\"-\",'B-Bestandsanalyse'!D138)","v":"-"}]
[{"$f":"'B-Bestandsanalyse'!$B$130","v":"B.11"},{"$f":"'B-Bestandsanalyse'!$C$132","v":"Endenergieverbrauch Gasnetze"},{"$f":"'B-Bestandsanalyse'!C139","v":"Grubengas"},{"$f":"'B-Bestandsanalyse'!$I$45","v":"Sektoren insgesamt"},{"$f":"'B-Bestandsanalyse'!$C$134","v":"MWh/a"},{"$f":"'A-Allgemeine Angaben'!$D$22","v":0},{"$f":"IF('B-Bestandsanalyse'!D139=\"\",\"-\",'B-Bestandsanalyse'!D139)","v":"-"}]
[{"$f":"'B-Bestandsanalyse'!$B$130","v":"B.11"},{"$f":"'B-Bestandsanalyse'!$C$132","v":"Endenergieverbrauch Gasnetze"},{"$f":"'B-Bestandsanalyse'!C140","v":"Biogas"},{"$f":"'B-Bestandsanalyse'!$I$45","v":"Sektoren insgesamt"},{"$f":"'B-Bestandsanalyse'!$C$134","v":"MWh/a"},{"$f":"'A-Allgemeine Angaben'!$D$22","v":0},{"$f":"IF('B-Bestandsanalyse'!D140=\"\",\"-\",'B-Bestandsanalyse'!D140)","v":"-"}]
[{"$f":"'B-Bestandsanalyse'!$B$130","v":"B.11"},{"$f":"'B-Bestandsanalyse'!$C$132","v":"Endenergieverbrauch Gasnetze"},{"$f":"'B-Bestandsanalyse'!C141","v":"Biomethan"},{"$f":"'B-Bestandsanalyse'!$I$45","v":"Sektoren insgesamt"},{"$f":"'B-Bestandsanalyse'!$C$134","v":"MWh/a"},{"$f":"'A-Allgemeine Angaben'!$D$22","v":0},{"$f":"IF('B-Bestandsanalyse'!D141=\"\",\"-\",'B-Bestandsanalyse'!D141)","v":"-"}]
[{"$f":"'B-Bestandsanalyse'!$B$130","v":"B.11"},{"$f":"'B-Bestandsanalyse'!$C$132","v":"Endenergieverbrauch Gasnetze"},{"$f":"'B-Bestandsanalyse'!C142","v":"Deponiegas"},{"$f":"'B-Bestandsanalyse'!$I$45","v":"Sektoren insgesamt"},{"$f":"'B-Bestandsanalyse'!$C$134","v":"MWh/a"},{"$f":"'A-Allgemeine Angaben'!$D$22","v":0},{"$f":"IF('B-Bestandsanalyse'!D142=\"\",\"-\",'B-Bestandsanalyse'!D142)","v":"-"}]
[{"$f":"'B-Bestandsanalyse'!$B$130","v":"B.11"},{"$f":"'B-Bestandsanalyse'!$C$132","v":"Endenergieverbrauch Gasnetze"},{"$f":"'B-Bestandsanalyse'!C143","v":"Klärgas"},{"$f":"'B-Bestandsanalyse'!$I$45","v":"Sektoren insgesamt"},{"$f":"'B-Bestandsanalyse'!$C$134","v":"MWh/a"},{"$f":"'A-Allgemeine Angaben'!$D$22","v":0},{"$f":"IF('B-Bestandsanalyse'!D143=\"\",\"-\",'B-Bestandsanalyse'!D143)","v":"-"}]
[{"$f":"'B-Bestandsanalyse'!$B$130","v":"B.11"},{"$f":"'B-Bestandsanalyse'!$C$132","v":"Endenergieverbrauch Gasnetze"},null,{"$f":"'B-Bestandsanalyse'!$I$45","v":"Sektoren insgesamt"},{"$f":"'B-Bestandsanalyse'!$C$134","v":"MWh/a"},{"$f":"'A-Allgemeine Angaben'!$D$22","v":0},{"$f":"IF('B-Bestandsanalyse'!D144=\"\",\"-\",'B-Bestandsanalyse'!D144)","v":0}]
[{"$f":"'B-Bestandsanalyse'!$B$147","v":"B.12"},{"$f":"'B-Bestandsanalyse'!$C$149","v":"Anzahl dezentraler Wärmeerzeuger"},{"$f":"'B-Bestandsanalyse'!X151","v":"Stromdirektheizung"},null,{"$f":"'B-Bestandsanalyse'!$D$149","v":"Anzahl"},{"$f":"'A-Allgemeine Angaben'!$D$22","v":0},{"$f":"IF('B-Bestandsanalyse'!D151=\"\",\"-\",'B-Bestandsanalyse'!D151)","v":"-"}]
[{"$f":"'B-Bestandsanalyse'!$B$147","v":"B.12"},{"$f":"'B-Bestandsanalyse'!$C$149","v":"Anzahl dezentraler Wärmeerzeuger"},{"$f":"'B-Bestandsanalyse'!X152","v":"Kohleheizung"},null,{"$f":"'B-Bestandsanalyse'!$D$149","v":"Anzahl"},{"$f":"'A-Allgemeine Angaben'!$D$22","v":0},{"$f":"IF('B-Bestandsanalyse'!D152=\"\",\"-\",'B-Bestandsanalyse'!D152)","v":"-"}]
[{"$f":"'B-Bestandsanalyse'!$B$147","v":"B.12"},{"$f":"'B-Bestandsanalyse'!$C$149","v":"Anzahl dezentraler Wärmeerzeuger"},{"$f":"'B-Bestandsanalyse'!X153","v":"Erdgasheizung"},null,{"$f":"'B-Bestandsanalyse'!$D$149","v":"Anzahl"},{"$f":"'A-Allgemeine Angaben'!$D$22","v":0},{"$f":"IF('B-Bestandsanalyse'!D153=\"\",\"-\",'B-Bestandsanalyse'!D153)","v":"-"}]
[{"$f":"'B-Bestandsanalyse'!$B$147","v":"B.12"},{"$f":"'B-Bestandsanalyse'!$C$149","v":"Anzahl dezentraler Wärmeerzeuger"},{"$f":"'B-Bestandsanalyse'!X154","v":"Flüssiggasheizung"},null,{"$f":"'B-Bestandsanalyse'!$D$149","v":"Anzahl"},{"$f":"'A-Allgemeine Angaben'!$D$22","v":0},{"$f":"IF('B-Bestandsanalyse'!D154=\"\",\"-\",'B-Bestandsanalyse'!D154)","v":"-"}]
[{"$f":"'B-Bestandsanalyse'!$B$147","v":"B.12"},{"$f":"'B-Bestandsanalyse'!$C$149","v":"Anzahl dezentraler Wärmeerzeuger"},{"$f":"'B-Bestandsanalyse'!X155","v":"Ölheizung"},null,{"$f":"'B-Bestandsanalyse'!$D$149","v":"Anzahl"},{"$f":"'A-Allgemeine Angaben'!$D$22","v":0},{"$f":"IF('B-Bestandsanalyse'!D155=\"\",\"-\",'B-Bestandsanalyse'!D155)","v":"-"}]
[{"$f":"'B-Bestandsanalyse'!$B$147","v":"B.12"},{"$f":"'B-Bestandsanalyse'!$C$149","v":"Anzahl dezentraler Wärmeerzeuger"},{"$f":"'B-Bestandsanalyse'!X156","v":"Hausübergabestation"},null,{"$f":"'B-Bestandsanalyse'!$D$149","v":"Anzahl"},{"$f":"'A-Allgemeine Angaben'!$D$22","v":0},{"$f":"IF('B-Bestandsanalyse'!D156=\"\",\"-\",'B-Bestandsanalyse'!D156)","v":"-"}]
[{"$f":"'B-Bestandsanalyse'!$B$147","v":"B.12"},{"$f":"'B-Bestandsanalyse'!$C$149","v":"Anzahl dezentraler Wärmeerzeuger"},{"$f":"'B-Bestandsanalyse'!X157","v":"solarthermische Anlage"},null,{"$f":"'B-Bestandsanalyse'!$D$149","v":"Anzahl"},{"$f":"'A-Allgemeine Angaben'!$D$22","v":0},{"$f":"IF('B-Bestandsanalyse'!D157=\"\",\"-\",'B-Bestandsanalyse'!D157)","v":"-"}]
[{"$f":"'B-Bestandsanalyse'!$B$147","v":"B.12"},{"$f":"'B-Bestandsanalyse'!$C$149","v":"Anzahl dezentraler Wärmeerzeuger"},{"$f":"'B-Bestandsanalyse'!X158","v":"Erdgas-BHKW"},null,{"$f":"'B-Bestandsanalyse'!$D$149","v":"Anzahl"},{"$f":"'A-Allgemeine Angaben'!$D$22","v":0},{"$f":"IF('B-Bestandsanalyse'!D158=\"\",\"-\",'B-Bestandsanalyse'!D158)","v":"-"}]
[{"$f":"'B-Bestandsanalyse'!$B$147","v":"B.12"},{"$f":"'B-Bestandsanalyse'!$C$149","v":"Anzahl dezentraler Wärmeerzeuger"},{"$f":"'B-Bestandsanalyse'!X159","v":"Biomasse-BHKW"},null,{"$f":"'B-Bestandsanalyse'!$D$149","v":"Anzahl"},{"$f":"'A-Allgemeine Angaben'!$D$22","v":0},{"$f":"IF('B-Bestandsanalyse'!D159=\"\",\"-\",'B-Bestandsanalyse'!D159)","v":"-"}]
[{"$f":"'B-Bestandsanalyse'!$B$147","v":"B.12"},{"$f":"'B-Bestandsanalyse'!$C$149","v":"Anzahl dezentraler Wärmeerzeuger"},{"$f":"'B-Bestandsanalyse'!X160","v":"Wärmepumpe (ohne Differenzierung)"},null,{"$f":"'B-Bestandsanalyse'!$D$149","v":"Anzahl"},{"$f":"'A-Allgemeine Angaben'!$D$22","v":0},{"$f":"IF('B-Bestandsanalyse'!D160=\"\",\"-\",'B-Bestandsanalyse'!D160)","v":"-"}]
[{"$f":"'B-Bestandsanalyse'!$B$147","v":"B.12"},{"$f":"'B-Bestandsanalyse'!$C$149","v":"Anzahl dezentraler Wärmeerzeuger"},{"$f":"'B-Bestandsanalyse'!X161","v":"Luft-Wasser-Wärmepumpe"},null,{"$f":"'B-Bestandsanalyse'!$D$149","v":"Anzahl"},{"$f":"'A-Allgemeine Angaben'!$D$22","v":0},{"$f":"IF('B-Bestandsanalyse'!D161=\"\",\"-\",'B-Bestandsanalyse'!D161)","v":"-"}]
[{"$f":"'B-Bestandsanalyse'!$B$147","v":"B.12"},{"$f":"'B-Bestandsanalyse'!$C$149","v":"Anzahl dezentraler Wärmeerzeuger"},{"$f":"'B-Bestandsanalyse'!X162","v":"Sole-Wasser-Wärmepumpe"},null,{"$f":"'B-Bestandsanalyse'!$D$149","v":"Anzahl"},{"$f":"'A-Allgemeine Angaben'!$D$22","v":0},{"$f":"IF('B-Bestandsanalyse'!D162=\"\",\"-\",'B-Bestandsanalyse'!D162)","v":"-"}]
[{"$f":"'B-Bestandsanalyse'!$B$147","v":"B.12"},{"$f":"'B-Bestandsanalyse'!$C$149","v":"Anzahl dezentraler Wärmeerzeuger"},{"$f":"'B-Bestandsanalyse'!X163","v":"Wasser-Wasser-Wärmepumpe"},null,{"$f":"'B-Bestandsanalyse'!$D$149","v":"Anzahl"},{"$f":"'A-Allgemeine Angaben'!$D$22","v":0},{"$f":"IF('B-Bestandsanalyse'!D163=\"\",\"-\",'B-Bestandsanalyse'!D163)","v":"-"}]
[{"$f":"'B-Bestandsanalyse'!$B$147","v":"B.12"},{"$f":"'B-Bestandsanalyse'!$C$149","v":"Anzahl dezentraler Wärmeerzeuger"},{"$f":"'B-Bestandsanalyse'!X164","v":"Holz-Heizung"},null,{"$f":"'B-Bestandsanalyse'!$D$149","v":"Anzahl"},{"$f":"'A-Allgemeine Angaben'!$D$22","v":0},{"$f":"IF('B-Bestandsanalyse'!D164=\"\",\"-\",'B-Bestandsanalyse'!D164)","v":"-"}]
[{"$f":"'B-Bestandsanalyse'!$B$147","v":"B.12"},{"$f":"'B-Bestandsanalyse'!$C$149","v":"Anzahl dezentraler Wärmeerzeuger"},{"$f":"'B-Bestandsanalyse'!X165","v":"Pelletheizung"},null,{"$f":"'B-Bestandsanalyse'!$D$149","v":"Anzahl"},{"$f":"'A-Allgemeine Angaben'!$D$22","v":0},{"$f":"IF('B-Bestandsanalyse'!D165=\"\",\"-\",'B-Bestandsanalyse'!D165)","v":"-"}]
[{"$f":"'B-Bestandsanalyse'!$B$147","v":"B.12"},{"$f":"'B-Bestandsanalyse'!$C$149","v":"Anzahl dezentraler Wärmeerzeuger"},{"$f":"'B-Bestandsanalyse'!X166","v":"sonstige dezentrale Wärmeerzeugunganlagen"},null,{"$f":"'B-Bestandsanalyse'!$D$149","v":"Anzahl"},{"$f":"'A-Allgemeine Angaben'!$D$22","v":0},{"$f":"IF('B-Bestandsanalyse'!D166=\"\",\"-\",'B-Bestandsanalyse'!D166)","v":"-"}]
[{"$f":"'B-Bestandsanalyse'!$B$147","v":"B.12"},{"$f":"'B-Bestandsanalyse'!$C$149","v":"Anzahl dezentraler Wärmeerzeuger"},{"$f":"'B-Bestandsanalyse'!X167","v":"dezentrale Wärmeerzeugungsanlagen insgesamt"},null,{"$f":"'B-Bestandsanalyse'!$D$149","v":"Anzahl"},{"$f":"'A-Allgemeine Angaben'!$D$22","v":0},{"$f":"IF('B-Bestandsanalyse'!D167=\"\",\"-\",'B-Bestandsanalyse'!D167)","v":0}]
[{"$f":"'B-Bestandsanalyse'!$B$170","v":"B.13"},{"$f":"'B-Bestandsanalyse'!$C$173","v":"THG-Emissionen Wärmeversorgung"},{"$f":"'B-Bestandsanalyse'!X48","v":"Braunkohle"},{"$f":"'B-Bestandsanalyse'!$D$47","v":"Haushalte"},{"$f":"'B-Bestandsanalyse'!$C$175","v":"kt/a"},{"$f":"'A-Allgemeine Angaben'!$D$22","v":0},{"$f":"'B-Bestandsanalyse'!D176","v":{"v":0,"d":"0.0"}}]
[{"$f":"'B-Bestandsanalyse'!$B$170","v":"B.13"},{"$f":"'B-Bestandsanalyse'!$C$173","v":"THG-Emissionen Wärmeversorgung"},{"$f":"'B-Bestandsanalyse'!X49","v":"Steinkohle"},{"$f":"'B-Bestandsanalyse'!$D$47","v":"Haushalte"},{"$f":"'B-Bestandsanalyse'!$C$175","v":"kt/a"},{"$f":"'A-Allgemeine Angaben'!$D$22","v":0},{"$f":"'B-Bestandsanalyse'!D177","v":{"v":0,"d":"0.0"}}]
[{"$f":"'B-Bestandsanalyse'!$B$170","v":"B.13"},{"$f":"'B-Bestandsanalyse'!$C$173","v":"THG-Emissionen Wärmeversorgung"},{"$f":"'B-Bestandsanalyse'!X50","v":"Erdgas"},{"$f":"'B-Bestandsanalyse'!$D$47","v":"Haushalte"},{"$f":"'B-Bestandsanalyse'!$C$175","v":"kt/a"},{"$f":"'A-Allgemeine Angaben'!$D$22","v":0},{"$f":"'B-Bestandsanalyse'!D178","v":{"v":0,"d":"0.0"}}]
[{"$f":"'B-Bestandsanalyse'!$B$170","v":"B.13"},{"$f":"'B-Bestandsanalyse'!$C$173","v":"THG-Emissionen Wärmeversorgung"},{"$f":"'B-Bestandsanalyse'!X51","v":"Flüssiggas"},{"$f":"'B-Bestandsanalyse'!$D$47","v":"Haushalte"},{"$f":"'B-Bestandsanalyse'!$C$175","v":"kt/a"},{"$f":"'A-Allgemeine Angaben'!$D$22","v":0},{"$f":"'B-Bestandsanalyse'!D179","v":{"v":0,"d":"0.0"}}]
[{"$f":"'B-Bestandsanalyse'!$B$170","v":"B.13"},{"$f":"'B-Bestandsanalyse'!$C$173","v":"THG-Emissionen Wärmeversorgung"},{"$f":"'B-Bestandsanalyse'!X52","v":"Heizöl"},{"$f":"'B-Bestandsanalyse'!$D$47","v":"Haushalte"},{"$f":"'B-Bestandsanalyse'!$C$175","v":"kt/a"},{"$f":"'A-Allgemeine Angaben'!$D$22","v":0},{"$f":"'B-Bestandsanalyse'!D180","v":{"v":0,"d":"0.0"}}]
[{"$f":"'B-Bestandsanalyse'!$B$170","v":"B.13"},{"$f":"'B-Bestandsanalyse'!$C$173","v":"THG-Emissionen Wärmeversorgung"},{"$f":"'B-Bestandsanalyse'!X53","v":"Wasserstoff"},{"$f":"'B-Bestandsanalyse'!$D$47","v":"Haushalte"},{"$f":"'B-Bestandsanalyse'!$C$175","v":"kt/a"},{"$f":"'A-Allgemeine Angaben'!$D$22","v":0},{"$f":"'B-Bestandsanalyse'!D181","v":{"v":0,"d":"0.0"}}]
[{"$f":"'B-Bestandsanalyse'!$B$170","v":"B.13"},{"$f":"'B-Bestandsanalyse'!$C$173","v":"THG-Emissionen Wärmeversorgung"},{"$f":"'B-Bestandsanalyse'!X54","v":"Wasserstoffderivate"},{"$f":"'B-Bestandsanalyse'!$D$47","v":"Haushalte"},{"$f":"'B-Bestandsanalyse'!$C$175","v":"kt/a"},{"$f":"'A-Allgemeine Angaben'!$D$22","v":0},{"$f":"'B-Bestandsanalyse'!D182","v":{"v":0,"d":"0.0"}}]
[{"$f":"'B-Bestandsanalyse'!$B$170","v":"B.13"},{"$f":"'B-Bestandsanalyse'!$C$173","v":"THG-Emissionen Wärmeversorgung"},{"$f":"'B-Bestandsanalyse'!X55","v":"Grubengas"},{"$f":"'B-Bestandsanalyse'!$D$47","v":"Haushalte"},{"$f":"'B-Bestandsanalyse'!$C$175","v":"kt/a"},{"$f":"'A-Allgemeine Angaben'!$D$22","v":0},{"$f":"'B-Bestandsanalyse'!D183","v":{"v":0,"d":"0.0"}}]
[{"$f":"'B-Bestandsanalyse'!$B$170","v":"B.13"},{"$f":"'B-Bestandsanalyse'!$C$173","v":"THG-Emissionen Wärmeversorgung"},{"$f":"'B-Bestandsanalyse'!X56","v":"Nicht biogener Abfall"},{"$f":"'B-Bestandsanalyse'!$D$47","v":"Haushalte"},{"$f":"'B-Bestandsanalyse'!$C$175","v":"kt/a"},{"$f":"'A-Allgemeine Angaben'!$D$22","v":0},{"$f":"'B-Bestandsanalyse'!D184","v":{"v":0,"d":"0.0"}}]
[{"$f":"'B-Bestandsanalyse'!$B$170","v":"B.13"},{"$f":"'B-Bestandsanalyse'!$C$173","v":"THG-Emissionen Wärmeversorgung"},{"$f":"'B-Bestandsanalyse'!X57","v":"Biogener Abfall"},{"$f":"'B-Bestandsanalyse'!$D$47","v":"Haushalte"},{"$f":"'B-Bestandsanalyse'!$C$175","v":"kt/a"},{"$f":"'A-Allgemeine Angaben'!$D$22","v":0},{"$f":"'B-Bestandsanalyse'!D185","v":{"v":0,"d":"0.0"}}]
[{"$f":"'B-Bestandsanalyse'!$B$170","v":"B.13"},{"$f":"'B-Bestandsanalyse'!$C$173","v":"THG-Emissionen Wärmeversorgung"},{"$f":"'B-Bestandsanalyse'!X58","v":"Abwärme < 60 °C"},{"$f":"'B-Bestandsanalyse'!$D$47","v":"Haushalte"},{"$f":"'B-Bestandsanalyse'!$C$175","v":"kt/a"},{"$f":"'A-Allgemeine Angaben'!$D$22","v":0},{"$f":"'B-Bestandsanalyse'!D186","v":{"v":0,"d":"0.0"}}]
[{"$f":"'B-Bestandsanalyse'!$B$170","v":"B.13"},{"$f":"'B-Bestandsanalyse'!$C$173","v":"THG-Emissionen Wärmeversorgung"},{"$f":"'B-Bestandsanalyse'!X59","v":"Abwärme 60 bis 110 °C"},{"$f":"'B-Bestandsanalyse'!$D$47","v":"Haushalte"},{"$f":"'B-Bestandsanalyse'!$C$175","v":"kt/a"},{"$f":"'A-Allgemeine Angaben'!$D$22","v":0},{"$f":"'B-Bestandsanalyse'!D187","v":{"v":0,"d":"0.0"}}]
[{"$f":"'B-Bestandsanalyse'!$B$170","v":"B.13"},{"$f":"'B-Bestandsanalyse'!$C$173","v":"THG-Emissionen Wärmeversorgung"},{"$f":"'B-Bestandsanalyse'!X60","v":"Abwärme >= 110 °C"},{"$f":"'B-Bestandsanalyse'!$D$47","v":"Haushalte"},{"$f":"'B-Bestandsanalyse'!$C$175","v":"kt/a"},{"$f":"'A-Allgemeine Angaben'!$D$22","v":0},{"$f":"'B-Bestandsanalyse'!D188","v":{"v":0,"d":"0.0"}}]
[{"$f":"'B-Bestandsanalyse'!$B$170","v":"B.13"},{"$f":"'B-Bestandsanalyse'!$C$173","v":"THG-Emissionen Wärmeversorgung"},{"$f":"'B-Bestandsanalyse'!X61","v":"feste Biomasse (ohne Altholz)"},{"$f":"'B-Bestandsanalyse'!$D$47","v":"Haushalte"},{"$f":"'B-Bestandsanalyse'!$C$175","v":"kt/a"},{"$f":"'A-Allgemeine Angaben'!$D$22","v":0},{"$f":"'B-Bestandsanalyse'!D189","v":{"v":0,"d":"0.0"}}]
[{"$f":"'B-Bestandsanalyse'!$B$170","v":"B.13"},{"$f":"'B-Bestandsanalyse'!$C$173","v":"THG-Emissionen Wärmeversorgung"},{"$f":"'B-Bestandsanalyse'!X62","v":"Altholz"},{"$f":"'B-Bestandsanalyse'!$D$47","v":"Haushalte"},{"$f":"'B-Bestandsanalyse'!$C$175","v":"kt/a"},{"$f":"'A-Allgemeine Angaben'!$D$22","v":0},{"$f":"'B-Bestandsanalyse'!D190","v":{"v":0,"d":"0.0"}}]
[{"$f":"'B-Bestandsanalyse'!$B$170","v":"B.13"},{"$f":"'B-Bestandsanalyse'!$C$173","v":"THG-Emissionen Wärmeversorgung"},{"$f":"'B-Bestandsanalyse'!X63","v":"Biogas"},{"$f":"'B-Bestandsanalyse'!$D$47","v":"Haushalte"},{"$f":"'B-Bestandsanalyse'!$C$175","v":"kt/a"},{"$f":"'A-Allgemeine Angaben'!$D$22","v":0},{"$f":"'B-Bestandsanalyse'!D191","v":{"v":0,"d":"0.0"}}]
[{"$f":"'B-Bestandsanalyse'!$B$170","v":"B.13"},{"$f":"'B-Bestandsanalyse'!$C$173","v":"THG-Emissionen Wärmeversorgung"},{"$f":"'B-Bestandsanalyse'!X64","v":"Biomethan"},{"$f":"'B-Bestandsanalyse'!$D$47","v":"Haushalte"},{"$f":"'B-Bestandsanalyse'!$C$175","v":"kt/a"},{"$f":"'A-Allgemeine Angaben'!$D$22","v":0},{"$f":"'B-Bestandsanalyse'!D192","v":{"v":0,"d":"0.0"}}]
[{"$f":"'B-Bestandsanalyse'!$B$170","v":"B.13"},{"$f":"'B-Bestandsanalyse'!$C$173","v":"THG-Emissionen Wärmeversorgung"},{"$f":"'B-Bestandsanalyse'!X65","v":"Deponiegas"},{"$f":"'B-Bestandsanalyse'!$D$47","v":"Haushalte"},{"$f":"'B-Bestandsanalyse'!$C$175","v":"kt/a"},{"$f":"'A-Allgemeine Angaben'!$D$22","v":0},{"$f":"'B-Bestandsanalyse'!D193","v":{"v":0,"d":"0.0"}}]
[{"$f":"'B-Bestandsanalyse'!$B$170","v":"B.13"},{"$f":"'B-Bestandsanalyse'!$C$173","v":"THG-Emissionen Wärmeversorgung"},{"$f":"'B-Bestandsanalyse'!X66","v":"Klärgas"},{"$f":"'B-Bestandsanalyse'!$D$47","v":"Haushalte"},{"$f":"'B-Bestandsanalyse'!$C$175","v":"kt/a"},{"$f":"'A-Allgemeine Angaben'!$D$22","v":0},{"$f":"'B-Bestandsanalyse'!D194","v":{"v":0,"d":"0.0"}}]
[{"$f":"'B-Bestandsanalyse'!$B$170","v":"B.13"},{"$f":"'B-Bestandsanalyse'!$C$173","v":"THG-Emissionen Wärmeversorgung"},{"$f":"'B-Bestandsanalyse'!X67","v":"Flüssige Biomasse"},{"$f":"'B-Bestandsanalyse'!$D$47","v":"Haushalte"},{"$f":"'B-Bestandsanalyse'!$C$175","v":"kt/a"},{"$f":"'A-Allgemeine Angaben'!$D$22","v":0},{"$f":"'B-Bestandsanalyse'!D195","v":{"v":0,"d":"0.0"}}]
[{"$f":"'B-Bestandsanalyse'!$B$170","v":"B.13"},{"$f":"'B-Bestandsanalyse'!$C$173","v":"THG-Emissionen Wärmeversorgung"},{"$f":"'B-Bestandsanalyse'!X68","v":"Strom Wärmepumpe"},{"$f":"'B-Bestandsanalyse'!$D$47","v":"Haushalte"},{"$f":"'B-Bestandsanalyse'!$C$175","v":"kt/a"},{"$f":"'A-Allgemeine Angaben'!$D$22","v":0},{"$f":"'B-Bestandsanalyse'!D196","v":{"v":0,"d":"0.0"}}]
[{"$f":"'B-Bestandsanalyse'!$B$170","v":"B.13"},{"$f":"'B-Bestandsanalyse'!$C$173","v":"THG-Emissionen Wärmeversorgung"},{"$f":"'B-Bestandsanalyse'!X69","v":"Strom Direktheizung"},{"$f":"'B-Bestandsanalyse'!$D$47","v":"Haushalte"},{"$f":"'B-Bestandsanalyse'!$C$175","v":"kt/a"},{"$f":"'A-Allgemeine Angaben'!$D$22","v":0},{"$f":"'B-Bestandsanalyse'!D197","v":{"v":0,"d":"0.0"}}]
[{"$f":"'B-Bestandsanalyse'!$B$170","v":"B.13"},{"$f":"'B-Bestandsanalyse'!$C$173","v":"THG-Emissionen Wärmeversorgung"},{"$f":"'B-Bestandsanalyse'!X70","v":"Solarthermie Dach-Anlagen"},{"$f":"'B-Bestandsanalyse'!$D$47","v":"Haushalte"},{"$f":"'B-Bestandsanalyse'!$C$175","v":"kt/a"},{"$f":"'A-Allgemeine Angaben'!$D$22","v":0},{"$f":"'B-Bestandsanalyse'!D198","v":{"v":0,"d":"0.0"}}]
[{"$f":"'B-Bestandsanalyse'!$B$170","v":"B.13"},{"$f":"'B-Bestandsanalyse'!$C$173","v":"THG-Emissionen Wärmeversorgung"},{"$f":"'B-Bestandsanalyse'!X71","v":"Solarthermie Freiflächenanlagen"},{"$f":"'B-Bestandsanalyse'!$D$47","v":"Haushalte"},{"$f":"'B-Bestandsanalyse'!$C$175","v":"kt/a"},{"$f":"'A-Allgemeine Angaben'!$D$22","v":0},{"$f":"'B-Bestandsanalyse'!D199","v":{"v":0,"d":"0.0"}}]
[{"$f":"'B-Bestandsanalyse'!$B$170","v":"B.13"},{"$f":"'B-Bestandsanalyse'!$C$173","v":"THG-Emissionen Wärmeversorgung"},{"$f":"'B-Bestandsanalyse'!X72","v":"Oberflächennahe Geothermie"},{"$f":"'B-Bestandsanalyse'!$D$47","v":"Haushalte"},{"$f":"'B-Bestandsanalyse'!$C$175","v":"kt/a"},{"$f":"'A-Allgemeine Angaben'!$D$22","v":0},{"$f":"'B-Bestandsanalyse'!D200","v":{"v":0,"d":"0.0"}}]
[{"$f":"'B-Bestandsanalyse'!$B$170","v":"B.13"},{"$f":"'B-Bestandsanalyse'!$C$173","v":"THG-Emissionen Wärmeversorgung"},{"$f":"'B-Bestandsanalyse'!X73","v":"Tiefe Geothermie"},{"$f":"'B-Bestandsanalyse'!$D$47","v":"Haushalte"},{"$f":"'B-Bestandsanalyse'!$C$175","v":"kt/a"},{"$f":"'A-Allgemeine Angaben'!$D$22","v":0},{"$f":"'B-Bestandsanalyse'!D201","v":{"v":0,"d":"0.0"}}]
[{"$f":"'B-Bestandsanalyse'!$B$170","v":"B.13"},{"$f":"'B-Bestandsanalyse'!$C$173","v":"THG-Emissionen Wärmeversorgung"},{"$f":"'B-Bestandsanalyse'!X74","v":"Oberflächengewässern"},{"$f":"'B-Bestandsanalyse'!$D$47","v":"Haushalte"},{"$f":"'B-Bestandsanalyse'!$C$175","v":"kt/a"},{"$f":"'A-Allgemeine Angaben'!$D$22","v":0},{"$f":"'B-Bestandsanalyse'!D202","v":{"v":0,"d":"0.0"}}]
[{"$f":"'B-Bestandsanalyse'!$B$170","v":"B.13"},{"$f":"'B-Bestandsanalyse'!$C$173","v":"THG-Emissionen Wärmeversorgung"},{"$f":"'B-Bestandsanalyse'!X75","v":"Grubenwasser"},{"$f":"'B-Bestandsanalyse'!$D$47","v":"Haushalte"},{"$f":"'B-Bestandsanalyse'!$C$175","v":"kt/a"},{"$f":"'A-Allgemeine Angaben'!$D$22","v":0},{"$f":"'B-Bestandsanalyse'!D203","v":{"v":0,"d":"0.0"}}]
[{"$f":"'B-Bestandsanalyse'!$B$170","v":"B.13"},{"$f":"'B-Bestandsanalyse'!$C$173","v":"THG-Emissionen Wärmeversorgung"},{"$f":"'B-Bestandsanalyse'!X76","v":"Luft"},{"$f":"'B-Bestandsanalyse'!$D$47","v":"Haushalte"},{"$f":"'B-Bestandsanalyse'!$C$175","v":"kt/a"},{"$f":"'A-Allgemeine Angaben'!$D$22","v":0},{"$f":"'B-Bestandsanalyse'!D204","v":{"v":0,"d":"0.0"}}]
[{"$f":"'B-Bestandsanalyse'!$B$170","v":"B.13"},{"$f":"'B-Bestandsanalyse'!$C$173","v":"THG-Emissionen Wärmeversorgung"},{"$f":"'B-Bestandsanalyse'!X77","v":"Abwasser"},{"$f":"'B-Bestandsanalyse'!$D$47","v":"Haushalte"},{"$f":"'B-Bestandsanalyse'!$C$175","v":"kt/a"},{"$f":"'A-Allgemeine Angaben'!$D$22","v":0},{"$f":"'B-Bestandsanalyse'!D205","v":{"v":0,"d":"0.0"}}]
[{"$f":"'B-Bestandsanalyse'!$B$170","v":"B.13"},{"$f":"'B-Bestandsanalyse'!$C$173","v":"THG-Emissionen Wärmeversorgung"},{"$f":"'B-Bestandsanalyse'!X78","v":"Sonstige fossile Brennstoffe"},{"$f":"'B-Bestandsanalyse'!$D$47","v":"Haushalte"},{"$f":"'B-Bestandsanalyse'!$C$175","v":"kt/a"},{"$f":"'A-Allgemeine Angaben'!$D$22","v":0},{"$f":"'B-Bestandsanalyse'!D206","v":{"v":0,"d":"0.0"}}]
[{"$f":"'B-Bestandsanalyse'!$B$170","v":"B.13"},{"$f":"'B-Bestandsanalyse'!$C$173","v":"THG-Emissionen Wärmeversorgung"},{"$f":"'B-Bestandsanalyse'!X79","v":"Sonstige erneuerbare Energien"},{"$f":"'B-Bestandsanalyse'!$D$47","v":"Haushalte"},{"$f":"'B-Bestandsanalyse'!$C$175","v":"kt/a"},{"$f":"'A-Allgemeine Angaben'!$D$22","v":0},{"$f":"'B-Bestandsanalyse'!D207","v":{"v":0,"d":"0.0"}}]
[{"$f":"'B-Bestandsanalyse'!$B$170","v":"B.13"},{"$f":"'B-Bestandsanalyse'!$C$173","v":"THG-Emissionen Wärmeversorgung"},null,{"$f":"'B-Bestandsanalyse'!$D$47","v":"Haushalte"},{"$f":"'B-Bestandsanalyse'!$C$175","v":"kt/a"},{"$f":"'A-Allgemeine Angaben'!$D$22","v":0},{"$f":"'B-Bestandsanalyse'!D208","v":{"v":0,"d":"0.0"}}]
[{"$f":"'B-Bestandsanalyse'!$B$170","v":"B.13"},{"$f":"'B-Bestandsanalyse'!$C$173","v":"THG-Emissionen Wärmeversorgung"},{"$f":"'B-Bestandsanalyse'!X48","v":"Braunkohle"},{"$f":"'B-Bestandsanalyse'!$E$47","v":"GHD"},{"$f":"'B-Bestandsanalyse'!$C$175","v":"kt/a"},{"$f":"'A-Allgemeine Angaben'!$D$22","v":0},{"$f":"'B-Bestandsanalyse'!E176","v":{"v":0,"d":"0.0"}}]
[{"$f":"'B-Bestandsanalyse'!$B$170","v":"B.13"},{"$f":"'B-Bestandsanalyse'!$C$173","v":"THG-Emissionen Wärmeversorgung"},{"$f":"'B-Bestandsanalyse'!X49","v":"Steinkohle"},{"$f":"'B-Bestandsanalyse'!$E$47","v":"GHD"},{"$f":"'B-Bestandsanalyse'!$C$175","v":"kt/a"},{"$f":"'A-Allgemeine Angaben'!$D$22","v":0},{"$f":"'B-Bestandsanalyse'!E177","v":{"v":0,"d":"0.0"}}]
[{"$f":"'B-Bestandsanalyse'!$B$170","v":"B.13"},{"$f":"'B-Bestandsanalyse'!$C$173","v":"THG-Emissionen Wärmeversorgung"},{"$f":"'B-Bestandsanalyse'!X50","v":"Erdgas"},{"$f":"'B-Bestandsanalyse'!$E$47","v":"GHD"},{"$f":"'B-Bestandsanalyse'!$C$175","v":"kt/a"},{"$f":"'A-Allgemeine Angaben'!$D$22","v":0},{"$f":"'B-Bestandsanalyse'!E178","v":{"v":0,"d":"0.0"}}]
[{"$f":"'B-Bestandsanalyse'!$B$170","v":"B.13"},{"$f":"'B-Bestandsanalyse'!$C$173","v":"THG-Emissionen Wärmeversorgung"},{"$f":"'B-Bestandsanalyse'!X51","v":"Flüssiggas"},{"$f":"'B-Bestandsanalyse'!$E$47","v":"GHD"},{"$f":"'B-Bestandsanalyse'!$C$175","v":"kt/a"},{"$f":"'A-Allgemeine Angaben'!$D$22","v":0},{"$f":"'B-Bestandsanalyse'!E179","v":{"v":0,"d":"0.0"}}]
[{"$f":"'B-Bestandsanalyse'!$B$170","v":"B.13"},{"$f":"'B-Bestandsanalyse'!$C$173","v":"THG-Emissionen Wärmeversorgung"},{"$f":"'B-Bestandsanalyse'!X52","v":"Heizöl"},{"$f":"'B-Bestandsanalyse'!$E$47","v":"GHD"},{"$f":"'B-Bestandsanalyse'!$C$175","v":"kt/a"},{"$f":"'A-Allgemeine Angaben'!$D$22","v":0},{"$f":"'B-Bestandsanalyse'!E180","v":{"v":0,"d":"0.0"}}]
[{"$f":"'B-Bestandsanalyse'!$B$170","v":"B.13"},{"$f":"'B-Bestandsanalyse'!$C$173","v":"THG-Emissionen Wärmeversorgung"},{"$f":"'B-Bestandsanalyse'!X53","v":"Wasserstoff"},{"$f":"'B-Bestandsanalyse'!$E$47","v":"GHD"},{"$f":"'B-Bestandsanalyse'!$C$175","v":"kt/a"},{"$f":"'A-Allgemeine Angaben'!$D$22","v":0},{"$f":"'B-Bestandsanalyse'!E181","v":{"v":0,"d":"0.0"}}]
[{"$f":"'B-Bestandsanalyse'!$B$170","v":"B.13"},{"$f":"'B-Bestandsanalyse'!$C$173","v":"THG-Emissionen Wärmeversorgung"},{"$f":"'B-Bestandsanalyse'!X54","v":"Wasserstoffderivate"},{"$f":"'B-Bestandsanalyse'!$E$47","v":"GHD"},{"$f":"'B-Bestandsanalyse'!$C$175","v":"kt/a"},{"$f":"'A-Allgemeine Angaben'!$D$22","v":0},{"$f":"'B-Bestandsanalyse'!E182","v":{"v":0,"d":"0.0"}}]
[{"$f":"'B-Bestandsanalyse'!$B$170","v":"B.13"},{"$f":"'B-Bestandsanalyse'!$C$173","v":"THG-Emissionen Wärmeversorgung"},{"$f":"'B-Bestandsanalyse'!X55","v":"Grubengas"},{"$f":"'B-Bestandsanalyse'!$E$47","v":"GHD"},{"$f":"'B-Bestandsanalyse'!$C$175","v":"kt/a"},{"$f":"'A-Allgemeine Angaben'!$D$22","v":0},{"$f":"'B-Bestandsanalyse'!E183","v":{"v":0,"d":"0.0"}}]
[{"$f":"'B-Bestandsanalyse'!$B$170","v":"B.13"},{"$f":"'B-Bestandsanalyse'!$C$173","v":"THG-Emissionen Wärmeversorgung"},{"$f":"'B-Bestandsanalyse'!X56","v":"Nicht biogener Abfall"},{"$f":"'B-Bestandsanalyse'!$E$47","v":"GHD"},{"$f":"'B-Bestandsanalyse'!$C$175","v":"kt/a"},{"$f":"'A-Allgemeine Angaben'!$D$22","v":0},{"$f":"'B-Bestandsanalyse'!E184","v":{"v":0,"d":"0.0"}}]
[{"$f":"'B-Bestandsanalyse'!$B$170","v":"B.13"},{"$f":"'B-Bestandsanalyse'!$C$173","v":"THG-Emissionen Wärmeversorgung"},{"$f":"'B-Bestandsanalyse'!X57","v":"Biogener Abfall"},{"$f":"'B-Bestandsanalyse'!$E$47","v":"GHD"},{"$f":"'B-Bestandsanalyse'!$C$175","v":"kt/a"},{"$f":"'A-Allgemeine Angaben'!$D$22","v":0},{"$f":"'B-Bestandsanalyse'!E185","v":{"v":0,"d":"0.0"}}]
[{"$f":"'B-Bestandsanalyse'!$B$170","v":"B.13"},{"$f":"'B-Bestandsanalyse'!$C$173","v":"THG-Emissionen Wärmeversorgung"},{"$f":"'B-Bestandsanalyse'!X58","v":"Abwärme < 60 °C"},{"$f":"'B-Bestandsanalyse'!$E$47","v":"GHD"},{"$f":"'B-Bestandsanalyse'!$C$175","v":"kt/a"},{"$f":"'A-Allgemeine Angaben'!$D$22","v":0},{"$f":"'B-Bestandsanalyse'!E186","v":{"v":0,"d":"0.0"}}]
[{"$f":"'B-Bestandsanalyse'!$B$170","v":"B.13"},{"$f":"'B-Bestandsanalyse'!$C$173","v":"THG-Emissionen Wärmeversorgung"},{"$f":"'B-Bestandsanalyse'!X59","v":"Abwärme 60 bis 110 °C"},{"$f":"'B-Bestandsanalyse'!$E$47","v":"GHD"},{"$f":"'B-Bestandsanalyse'!$C$175","v":"kt/a"},{"$f":"'A-Allgemeine Angaben'!$D$22","v":0},{"$f":"'B-Bestandsanalyse'!E187","v":{"v":0,"d":"0.0"}}]
[{"$f":"'B-Bestandsanalyse'!$B$170","v":"B.13"},{"$f":"'B-Bestandsanalyse'!$C$173","v":"THG-Emissionen Wärmeversorgung"},{"$f":"'B-Bestandsanalyse'!X61","v":"feste Biomasse (ohne Altholz)"},{"$f":"'B-Bestandsanalyse'!$E$47","v":"GHD"},{"$f":"'B-Bestandsanalyse'!$C$175","v":"kt/a"},{"$f":"'A-Allgemeine Angaben'!$D$22","v":0},{"$f":"'B-Bestandsanalyse'!E189","v":{"v":0,"d":"0.0"}}]
[{"$f":"'B-Bestandsanalyse'!$B$170","v":"B.13"},{"$f":"'B-Bestandsanalyse'!$C$173","v":"THG-Emissionen Wärmeversorgung"},{"$f":"'B-Bestandsanalyse'!X62","v":"Altholz"},{"$f":"'B-Bestandsanalyse'!$E$47","v":"GHD"},{"$f":"'B-Bestandsanalyse'!$C$175","v":"kt/a"},{"$f":"'A-Allgemeine Angaben'!$D$22","v":0},{"$f":"'B-Bestandsanalyse'!E190","v":{"v":0,"d":"0.0"}}]
[{"$f":"'B-Bestandsanalyse'!$B$170","v":"B.13"},{"$f":"'B-Bestandsanalyse'!$C$173","v":"THG-Emissionen Wärmeversorgung"},{"$f":"'B-Bestandsanalyse'!X63","v":"Biogas"},{"$f":"'B-Bestandsanalyse'!$E$47","v":"GHD"},{"$f":"'B-Bestandsanalyse'!$C$175","v":"kt/a"},{"$f":"'A-Allgemeine Angaben'!$D$22","v":0},{"$f":"'B-Bestandsanalyse'!E191","v":{"v":0,"d":"0.0"}}]
[{"$f":"'B-Bestandsanalyse'!$B$170","v":"B.13"},{"$f":"'B-Bestandsanalyse'!$C$173","v":"THG-Emissionen Wärmeversorgung"},{"$f":"'B-Bestandsanalyse'!X64","v":"Biomethan"},{"$f":"'B-Bestandsanalyse'!$E$47","v":"GHD"},{"$f":"'B-Bestandsanalyse'!$C$175","v":"kt/a"},{"$f":"'A-Allgemeine Angaben'!$D$22","v":0},{"$f":"'B-Bestandsanalyse'!E192","v":{"v":0,"d":"0.0"}}]
[{"$f":"'B-Bestandsanalyse'!$B$170","v":"B.13"},{"$f":"'B-Bestandsanalyse'!$C$173","v":"THG-Emissionen Wärmeversorgung"},{"$f":"'B-Bestandsanalyse'!X65","v":"Deponiegas"},{"$f":"'B-Bestandsanalyse'!$E$47","v":"GHD"},{"$f":"'B-Bestandsanalyse'!$C$175","v":"kt/a"},{"$f":"'A-Allgemeine Angaben'!$D$22","v":0},{"$f":"'B-Bestandsanalyse'!E193","v":{"v":0,"d":"0.0"}}]
[{"$f":"'B-Bestandsanalyse'!$B$170","v":"B.13"},{"$f":"'B-Bestandsanalyse'!$C$173","v":"THG-Emissionen Wärmeversorgung"},{"$f":"'B-Bestandsanalyse'!X66","v":"Klärgas"},{"$f":"'B-Bestandsanalyse'!$E$47","v":"GHD"},{"$f":"'B-Bestandsanalyse'!$C$175","v":"kt/a"},{"$f":"'A-Allgemeine Angaben'!$D$22","v":0},{"$f":"'B-Bestandsanalyse'!E194","v":{"v":0,"d":"0.0"}}]
[{"$f":"'B-Bestandsanalyse'!$B$170","v":"B.13"},{"$f":"'B-Bestandsanalyse'!$C$173","v":"THG-Emissionen Wärmeversorgung"},{"$f":"'B-Bestandsanalyse'!X67","v":"Flüssige Biomasse"},{"$f":"'B-Bestandsanalyse'!$E$47","v":"GHD"},{"$f":"'B-Bestandsanalyse'!$C$175","v":"kt/a"},{"$f":"'A-Allgemeine Angaben'!$D$22","v":0},{"$f":"'B-Bestandsanalyse'!E195","v":{"v":0,"d":"0.0"}}]
[{"$f":"'B-Bestandsanalyse'!$B$170","v":"B.13"},{"$f":"'B-Bestandsanalyse'!$C$173","v":"THG-Emissionen Wärmeversorgung"},{"$f":"'B-Bestandsanalyse'!X68","v":"Strom Wärmepumpe"},{"$f":"'B-Bestandsanalyse'!$E$47","v":"GHD"},{"$f":"'B-Bestandsanalyse'!$C$175","v":"kt/a"},{"$f":"'A-Allgemeine Angaben'!$D$22","v":0},{"$f":"'B-Bestandsanalyse'!E196","v":{"v":0,"d":"0.0"}}]
[{"$f":"'B-Bestandsanalyse'!$B$170","v":"B.13"},{"$f":"'B-Bestandsanalyse'!$C$173","v":"THG-Emissionen Wärmeversorgung"},{"$f":"'B-Bestandsanalyse'!X69","v":"Strom Direktheizung"},{"$f":"'B-Bestandsanalyse'!$E$47","v":"GHD"},{"$f":"'B-Bestandsanalyse'!$C$175","v":"kt/a"},{"$f":"'A-Allgemeine Angaben'!$D$22","v":0},{"$f":"'B-Bestandsanalyse'!E197","v":{"v":0,"d":"0.0"}}]
[{"$f":"'B-Bestandsanalyse'!$B$170","v":"B.13"},{"$f":"'B-Bestandsanalyse'!$C$173","v":"THG-Emissionen Wärmeversorgung"},{"$f":"'B-Bestandsanalyse'!X70","v":"Solarthermie Dach-Anlagen"},{"$f":"'B-Bestandsanalyse'!$E$47","v":"GHD"},{"$f":"'B-Bestandsanalyse'!$C$175","v":"kt/a"},{"$f":"'A-Allgemeine Angaben'!$D$22","v":0},{"$f":"'B-Bestandsanalyse'!E198","v":{"v":0,"d":"0.0"}}]
[{"$f":"'B-Bestandsanalyse'!$B$170","v":"B.13"},{"$f":"'B-Bestandsanalyse'!$C$173","v":"THG-Emissionen Wärmeversorgung"},{"$f":"'B-Bestandsanalyse'!X71","v":"Solarthermie Freiflächenanlagen"},{"$f":"'B-Bestandsanalyse'!$E$47","v":"GHD"},{"$f":"'B-Bestandsanalyse'!$C$175","v":"kt/a"},{"$f":"'A-Allgemeine Angaben'!$D$22","v":0},{"$f":"'B-Bestandsanalyse'!E199","v":{"v":0,"d":"0.0"}}]
[{"$f":"'B-Bestandsanalyse'!$B$170","v":"B.13"},{"$f":"'B-Bestandsanalyse'!$C$173","v":"THG-Emissionen Wärmeversorgung"},{"$f":"'B-Bestandsanalyse'!X72","v":"Oberflächennahe Geothermie"},{"$f":"'B-Bestandsanalyse'!$E$47","v":"GHD"},{"$f":"'B-Bestandsanalyse'!$C$175","v":"kt/a"},{"$f":"'A-Allgemeine Angaben'!$D$22","v":0},{"$f":"'B-Bestandsanalyse'!E200","v":{"v":0,"d":"0.0"}}]
[{"$f":"'B-Bestandsanalyse'!$B$170","v":"B.13"},{"$f":"'B-Bestandsanalyse'!$C$173","v":"THG-Emissionen Wärmeversorgung"},{"$f":"'B-Bestandsanalyse'!X73","v":"Tiefe Geothermie"},{"$f":"'B-Bestandsanalyse'!$E$47","v":"GHD"},{"$f":"'B-Bestandsanalyse'!$C$175","v":"kt/a"},{"$f":"'A-Allgemeine Angaben'!$D$22","v":0},{"$f":"'B-Bestandsanalyse'!E201","v":{"v":0,"d":"0.0"}}]
[{"$f":"'B-Bestandsanalyse'!$B$170","v":"B.13"},{"$f":"'B-Bestandsanalyse'!$C$173","v":"THG-Emissionen Wärmeversorgung"},{"$f":"'B-Bestandsanalyse'!X74","v":"Oberflächengewässern"},{"$f":"'B-Bestandsanalyse'!$E$47","v":"GHD"},{"$f":"'B-Bestandsanalyse'!$C$175","v":"kt/a"},{"$f":"'A-Allgemeine Angaben'!$D$22","v":0},{"$f":"'B-Bestandsanalyse'!E202","v":{"v":0,"d":"0.0"}}]
[{"$f":"'B-Bestandsanalyse'!$B$170","v":"B.13"},{"$f":"'B-Bestandsanalyse'!$C$173","v":"THG-Emissionen Wärmeversorgung"},{"$f":"'B-Bestandsanalyse'!X75","v":"Grubenwasser"},{"$f":"'B-Bestandsanalyse'!$E$47","v":"GHD"},{"$f":"'B-Bestandsanalyse'!$C$175","v":"kt/a"},{"$f":"'A-Allgemeine Angaben'!$D$22","v":0},{"$f":"'B-Bestandsanalyse'!E203","v":{"v":0,"d":"0.0"}}]
[{"$f":"'B-Bestandsanalyse'!$B$170","v":"B.13"},{"$f":"'B-Bestandsanalyse'!$C$173","v":"THG-Emissionen Wärmeversorgung"},{"$f":"'B-Bestandsanalyse'!X76","v":"Luft"},{"$f":"'B-Bestandsanalyse'!$E$47","v":"GHD"},{"$f":"'B-Bestandsanalyse'!$C$175","v":"kt/a"},{"$f":"'A-Allgemeine Angaben'!$D$22","v":0},{"$f":"'B-Bestandsanalyse'!E204","v":{"v":0,"d":"0.0"}}]
[{"$f":"'B-Bestandsanalyse'!$B$170","v":"B.13"},{"$f":"'B-Bestandsanalyse'!$C$173","v":"THG-Emissionen Wärmeversorgung"},{"$f":"'B-Bestandsanalyse'!X77","v":"Abwasser"},{"$f":"'B-Bestandsanalyse'!$E$47","v":"GHD"},{"$f":"'B-Bestandsanalyse'!$C$175","v":"kt/a"},{"$f":"'A-Allgemeine Angaben'!$D$22","v":0},{"$f":"'B-Bestandsanalyse'!E205","v":{"v":0,"d":"0.0"}}]
[{"$f":"'B-Bestandsanalyse'!$B$170","v":"B.13"},{"$f":"'B-Bestandsanalyse'!$C$173","v":"THG-Emissionen Wärmeversorgung"},{"$f":"'B-Bestandsanalyse'!X78","v":"Sonstige fossile Brennstoffe"},{"$f":"'B-Bestandsanalyse'!$E$47","v":"GHD"},{"$f":"'B-Bestandsanalyse'!$C$175","v":"kt/a"},{"$f":"'A-Allgemeine Angaben'!$D$22","v":0},{"$f":"'B-Bestandsanalyse'!E206","v":{"v":0,"d":"0.0"}}]
[{"$f":"'B-Bestandsanalyse'!$B$170","v":"B.13"},{"$f":"'B-Bestandsanalyse'!$C$173","v":"THG-Emissionen Wärmeversorgung"},{"$f":"'B-Bestandsanalyse'!X79","v":"Sonstige erneuerbare Energien"},{"$f":"'B-Bestandsanalyse'!$E$47","v":"GHD"},{"$f":"'B-Bestandsanalyse'!$C$175","v":"kt/a"},{"$f":"'A-Allgemeine Angaben'!$D$22","v":0},{"$f":"'B-Bestandsanalyse'!E207","v":{"v":0,"d":"0.0"}}]
[{"$f":"'B-Bestandsanalyse'!$B$170","v":"B.13"},{"$f":"'B-Bestandsanalyse'!$C$173","v":"THG-Emissionen Wärmeversorgung"},null,{"$f":"'B-Bestandsanalyse'!$E$47","v":"GHD"},{"$f":"'B-Bestandsanalyse'!$C$175","v":"kt/a"},{"$f":"'A-Allgemeine Angaben'!$D$22","v":0},{"$f":"'B-Bestandsanalyse'!E208","v":{"v":0,"d":"0.0"}}]
[{"$f":"'B-Bestandsanalyse'!$B$170","v":"B.13"},{"$f":"'B-Bestandsanalyse'!$C$173","v":"THG-Emissionen Wärmeversorgung"},{"$f":"'B-Bestandsanalyse'!X48","v":"Braunkohle"},{"$f":"'B-Bestandsanalyse'!$F$47","v":"öffentliche Liegenschaften"},{"$f":"'B-Bestandsanalyse'!$C$175","v":"kt/a"},{"$f":"'A-Allgemeine Angaben'!$D$22","v":0},{"$f":"'B-Bestandsanalyse'!F176","v":{"v":0,"d":"0.0"}}]
[{"$f":"'B-Bestandsanalyse'!$B$170","v":"B.13"},{"$f":"'B-Bestandsanalyse'!$C$173","v":"THG-Emissionen Wärmeversorgung"},{"$f":"'B-Bestandsanalyse'!X49","v":"Steinkohle"},{"$f":"'B-Bestandsanalyse'!$F$47","v":"öffentliche Liegenschaften"},{"$f":"'B-Bestandsanalyse'!$C$175","v":"kt/a"},{"$f":"'A-Allgemeine Angaben'!$D$22","v":0},{"$f":"'B-Bestandsanalyse'!F177","v":{"v":0,"d":"0.0"}}]
[{"$f":"'B-Bestandsanalyse'!$B$170","v":"B.13"},{"$f":"'B-Bestandsanalyse'!$C$173","v":"THG-Emissionen Wärmeversorgung"},{"$f":"'B-Bestandsanalyse'!X50","v":"Erdgas"},{"$f":"'B-Bestandsanalyse'!$F$47","v":"öffentliche Liegenschaften"},{"$f":"'B-Bestandsanalyse'!$C$175","v":"kt/a"},{"$f":"'A-Allgemeine Angaben'!$D$22","v":0},{"$f":"'B-Bestandsanalyse'!F178","v":{"v":0,"d":"0.0"}}]
[{"$f":"'B-Bestandsanalyse'!$B$170","v":"B.13"},{"$f":"'B-Bestandsanalyse'!$C$173","v":"THG-Emissionen Wärmeversorgung"},{"$f":"'B-Bestandsanalyse'!X51","v":"Flüssiggas"},{"$f":"'B-Bestandsanalyse'!$F$47","v":"öffentliche Liegenschaften"},{"$f":"'B-Bestandsanalyse'!$C$175","v":"kt/a"},{"$f":"'A-Allgemeine Angaben'!$D$22","v":0},{"$f":"'B-Bestandsanalyse'!F179","v":{"v":0,"d":"0.0"}}]
[{"$f":"'B-Bestandsanalyse'!$B$170","v":"B.13"},{"$f":"'B-Bestandsanalyse'!$C$173","v":"THG-Emissionen Wärmeversorgung"},{"$f":"'B-Bestandsanalyse'!X52","v":"Heizöl"},{"$f":"'B-Bestandsanalyse'!$F$47","v":"öffentliche Liegenschaften"},{"$f":"'B-Bestandsanalyse'!$C$175","v":"kt/a"},{"$f":"'A-Allgemeine Angaben'!$D$22","v":0},{"$f":"'B-Bestandsanalyse'!F180","v":{"v":0,"d":"0.0"}}]
[{"$f":"'B-Bestandsanalyse'!$B$170","v":"B.13"},{"$f":"'B-Bestandsanalyse'!$C$173","v":"THG-Emissionen Wärmeversorgung"},{"$f":"'B-Bestandsanalyse'!X53","v":"Wasserstoff"},{"$f":"'B-Bestandsanalyse'!$F$47","v":"öffentliche Liegenschaften"},{"$f":"'B-Bestandsanalyse'!$C$175","v":"kt/a"},{"$f":"'A-Allgemeine Angaben'!$D$22","v":0},{"$f":"'B-Bestandsanalyse'!F181","v":{"v":0,"d":"0.0"}}]
[{"$f":"'B-Bestandsanalyse'!$B$170","v":"B.13"},{"$f":"'B-Bestandsanalyse'!$C$173","v":"THG-Emissionen Wärmeversorgung"},{"$f":"'B-Bestandsanalyse'!X54","v":"Wasserstoffderivate"},{"$f":"'B-Bestandsanalyse'!$F$47","v":"öffentliche Liegenschaften"},{"$f":"'B-Bestandsanalyse'!$C$175","v":"kt/a"},{"$f":"'A-Allgemeine Angaben'!$D$22","v":0},{"$f":"'B-Bestandsanalyse'!F182","v":{"v":0,"d":"0.0"}}]
[{"$f":"'B-Bestandsanalyse'!$B$170","v":"B.13"},{"$f":"'B-Bestandsanalyse'!$C$173","v":"THG-Emissionen Wärmeversorgung"},{"$f":"'B-Bestandsanalyse'!X55","v":"Grubengas"},{"$f":"'B-Bestandsanalyse'!$F$47","v":"öffentliche Liegenschaften"},{"$f":"'B-Bestandsanalyse'!$C$175","v":"kt/a"},{"$f":"'A-Allgemeine Angaben'!$D$22","v":0},{"$f":"'B-Bestandsanalyse'!F183","v":{"v":0,"d":"0.0"}}]
[{"$f":"'B-Bestandsanalyse'!$B$170","v":"B.13"},{"$f":"'B-Bestandsanalyse'!$C$173","v":"THG-Emissionen Wärmeversorgung"},{"$f":"'B-Bestandsanalyse'!X56","v":"Nicht biogener Abfall"},{"$f":"'B-Bestandsanalyse'!$F$47","v":"öffentliche Liegenschaften"},{"$f":"'B-Bestandsanalyse'!$C$175","v":"kt/a"},{"$f":"'A-Allgemeine Angaben'!$D$22","v":0},{"$f":"'B-Bestandsanalyse'!F184","v":{"v":0,"d":"0.0"}}]
[{"$f":"'B-Bestandsanalyse'!$B$170","v":"B.13"},{"$f":"'B-Bestandsanalyse'!$C$173","v":"THG-Emissionen Wärmeversorgung"},{"$f":"'B-Bestandsanalyse'!X57","v":"Biogener Abfall"},{"$f":"'B-Bestandsanalyse'!$F$47","v":"öffentliche Liegenschaften"},{"$f":"'B-Bestandsanalyse'!$C$175","v":"kt/a"},{"$f":"'A-Allgemeine Angaben'!$D$22","v":0},{"$f":"'B-Bestandsanalyse'!F185","v":{"v":0,"d":"0.0"}}]
[{"$f":"'B-Bestandsanalyse'!$B$170","v":"B.13"},{"$f":"'B-Bestandsanalyse'!$C$173","v":"THG-Emissionen Wärmeversorgung"},{"$f":"'B-Bestandsanalyse'!X58","v":"Abwärme < 60 °C"},{"$f":"'B-Bestandsanalyse'!$F$47","v":"öffentliche Liegenschaften"},{"$f":"'B-Bestandsanalyse'!$C$175","v":"kt/a"},{"$f":"'A-Allgemeine Angaben'!$D$22","v":0},{"$f":"'B-Bestandsanalyse'!F186","v":{"v":0,"d":"0.0"}}]
[{"$f":"'B-Bestandsanalyse'!$B$170","v":"B.13"},{"$f":"'B-Bestandsanalyse'!$C$173","v":"THG-Emissionen Wärmeversorgung"},{"$f":"'B-Bestandsanalyse'!X59","v":"Abwärme 60 bis 110 °C"},{"$f":"'B-Bestandsanalyse'!$F$47","v":"öffentliche Liegenschaften"},{"$f":"'B-Bestandsanalyse'!$C$175","v":"kt/a"},{"$f":"'A-Allgemeine Angaben'!$D$22","v":0},{"$f":"'B-Bestandsanalyse'!F187","v":{"v":0,"d":"0.0"}}]
[{"$f":"'B-Bestandsanalyse'!$B$170","v":"B.13"},{"$f":"'B-Bestandsanalyse'!$C$173","v":"THG-Emissionen Wärmeversorgung"},{"$f":"'B-Bestandsanalyse'!X61","v":"feste Biomasse (ohne Altholz)"},{"$f":"'B-Bestandsanalyse'!$F$47","v":"öffentliche Liegenschaften"},{"$f":"'B-Bestandsanalyse'!$C$175","v":"kt/a"},{"$f":"'A-Allgemeine Angaben'!$D$22","v":0},{"$f":"'B-Bestandsanalyse'!F189","v":{"v":0,"d":"0.0"}}]
[{"$f":"'B-Bestandsanalyse'!$B$170","v":"B.13"},{"$f":"'B-Bestandsanalyse'!$C$173","v":"THG-Emissionen Wärmeversorgung"},{"$f":"'B-Bestandsanalyse'!X62","v":"Altholz"},{"$f":"'B-Bestandsanalyse'!$F$47","v":"öffentliche Liegenschaften"},{"$f":"'B-Bestandsanalyse'!$C$175","v":"kt/a"},{"$f":"'A-Allgemeine Angaben'!$D$22","v":0},{"$f":"'B-Bestandsanalyse'!F190","v":{"v":0,"d":"0.0"}}]
[{"$f":"'B-Bestandsanalyse'!$B$170","v":"B.13"},{"$f":"'B-Bestandsanalyse'!$C$173","v":"THG-Emissionen Wärmeversorgung"},{"$f":"'B-Bestandsanalyse'!X63","v":"Biogas"},{"$f":"'B-Bestandsanalyse'!$F$47","v":"öffentliche Liegenschaften"},{"$f":"'B-Bestandsanalyse'!$C$175","v":"kt/a"},{"$f":"'A-Allgemeine Angaben'!$D$22","v":0},{"$f":"'B-Bestandsanalyse'!F191","v":{"v":0,"d":"0.0"}}]
[{"$f":"'B-Bestandsanalyse'!$B$170","v":"B.13"},{"$f":"'B-Bestandsanalyse'!$C$173","v":"THG-Emissionen Wärmeversorgung"},{"$f":"'B-Bestandsanalyse'!X64","v":"Biomethan"},{"$f":"'B-Bestandsanalyse'!$F$47","v":"öffentliche Liegenschaften"},{"$f":"'B-Bestandsanalyse'!$C$175","v":"kt/a"},{"$f":"'A-Allgemeine Angaben'!$D$22","v":0},{"$f":"'B-Bestandsanalyse'!F192","v":{"v":0,"d":"0.0"}}]
[{"$f":"'B-Bestandsanalyse'!$B$170","v":"B.13"},{"$f":"'B-Bestandsanalyse'!$C$173","v":"THG-Emissionen Wärmeversorgung"},{"$f":"'B-Bestandsanalyse'!X65","v":"Deponiegas"},{"$f":"'B-Bestandsanalyse'!$F$47","v":"öffentliche Liegenschaften"},{"$f":"'B-Bestandsanalyse'!$C$175","v":"kt/a"},{"$f":"'A-Allgemeine Angaben'!$D$22","v":0},{"$f":"'B-Bestandsanalyse'!F193","v":{"v":0,"d":"0.0"}}]
[{"$f":"'B-Bestandsanalyse'!$B$170","v":"B.13"},{"$f":"'B-Bestandsanalyse'!$C$173","v":"THG-Emissionen Wärmeversorgung"},{"$f":"'B-Bestandsanalyse'!X66","v":"Klärgas"},{"$f":"'B-Bestandsanalyse'!$F$47","v":"öffentliche Liegenschaften"},{"$f":"'B-Bestandsanalyse'!$C$175","v":"kt/a"},{"$f":"'A-Allgemeine Angaben'!$D$22","v":0},{"$f":"'B-Bestandsanalyse'!F194","v":{"v":0,"d":"0.0"}}]
[{"$f":"'B-Bestandsanalyse'!$B$170","v":"B.13"},{"$f":"'B-Bestandsanalyse'!$C$173","v":"THG-Emissionen Wärmeversorgung"},{"$f":"'B-Bestandsanalyse'!X67","v":"Flüssige Biomasse"},{"$f":"'B-Bestandsanalyse'!$F$47","v":"öffentliche Liegenschaften"},{"$f":"'B-Bestandsanalyse'!$C$175","v":"kt/a"},{"$f":"'A-Allgemeine Angaben'!$D$22","v":0},{"$f":"'B-Bestandsanalyse'!F195","v":{"v":0,"d":"0.0"}}]
[{"$f":"'B-Bestandsanalyse'!$B$170","v":"B.13"},{"$f":"'B-Bestandsanalyse'!$C$173","v":"THG-Emissionen Wärmeversorgung"},{"$f":"'B-Bestandsanalyse'!X68","v":"Strom Wärmepumpe"},{"$f":"'B-Bestandsanalyse'!$F$47","v":"öffentliche Liegenschaften"},{"$f":"'B-Bestandsanalyse'!$C$175","v":"kt/a"},{"$f":"'A-Allgemeine Angaben'!$D$22","v":0},{"$f":"'B-Bestandsanalyse'!F196","v":{"v":0,"d":"0.0"}}]
[{"$f":"'B-Bestandsanalyse'!$B$170","v":"B.13"},{"$f":"'B-Bestandsanalyse'!$C$173","v":"THG-Emissionen Wärmeversorgung"},{"$f":"'B-Bestandsanalyse'!X69","v":"Strom Direktheizung"},{"$f":"'B-Bestandsanalyse'!$F$47","v":"öffentliche Liegenschaften"},{"$f":"'B-Bestandsanalyse'!$C$175","v":"kt/a"},{"$f":"'A-Allgemeine Angaben'!$D$22","v":0},{"$f":"'B-Bestandsanalyse'!F197","v":{"v":0,"d":"0.0"}}]
[{"$f":"'B-Bestandsanalyse'!$B$170","v":"B.13"},{"$f":"'B-Bestandsanalyse'!$C$173","v":"THG-Emissionen Wärmeversorgung"},{"$f":"'B-Bestandsanalyse'!X70","v":"Solarthermie Dach-Anlagen"},{"$f":"'B-Bestandsanalyse'!$F$47","v":"öffentliche Liegenschaften"},{"$f":"'B-Bestandsanalyse'!$C$175","v":"kt/a"},{"$f":"'A-Allgemeine Angaben'!$D$22","v":0},{"$f":"'B-Bestandsanalyse'!F198","v":{"v":0,"d":"0.0"}}]
[{"$f":"'B-Bestandsanalyse'!$B$170","v":"B.13"},{"$f":"'B-Bestandsanalyse'!$C$173","v":"THG-Emissionen Wärmeversorgung"},{"$f":"'B-Bestandsanalyse'!X71","v":"Solarthermie Freiflächenanlagen"},{"$f":"'B-Bestandsanalyse'!$F$47","v":"öffentliche Liegenschaften"},{"$f":"'B-Bestandsanalyse'!$C$175","v":"kt/a"},{"$f":"'A-Allgemeine Angaben'!$D$22","v":0},{"$f":"'B-Bestandsanalyse'!F199","v":{"v":0,"d":"0.0"}}]
[{"$f":"'B-Bestandsanalyse'!$B$170","v":"B.13"},{"$f":"'B-Bestandsanalyse'!$C$173","v":"THG-Emissionen Wärmeversorgung"},{"$f":"'B-Bestandsanalyse'!X72","v":"Oberflächennahe Geothermie"},{"$f":"'B-Bestandsanalyse'!$F$47","v":"öffentliche Liegenschaften"},{"$f":"'B-Bestandsanalyse'!$C$175","v":"kt/a"},{"$f":"'A-Allgemeine Angaben'!$D$22","v":0},{"$f":"'B-Bestandsanalyse'!F200","v":{"v":0,"d":"0.0"}}]
[{"$f":"'B-Bestandsanalyse'!$B$170","v":"B.13"},{"$f":"'B-Bestandsanalyse'!$C$173","v":"THG-Emissionen Wärmeversorgung"},{"$f":"'B-Bestandsanalyse'!X73","v":"Tiefe Geothermie"},{"$f":"'B-Bestandsanalyse'!$F$47","v":"öffentliche Liegenschaften"},{"$f":"'B-Bestandsanalyse'!$C$175","v":"kt/a"},{"$f":"'A-Allgemeine Angaben'!$D$22","v":0},{"$f":"'B-Bestandsanalyse'!F201","v":{"v":0,"d":"0.0"}}]
[{"$f":"'B-Bestandsanalyse'!$B$170","v":"B.13"},{"$f":"'B-Bestandsanalyse'!$C$173","v":"THG-Emissionen Wärmeversorgung"},{"$f":"'B-Bestandsanalyse'!X74","v":"Oberflächengewässern"},{"$f":"'B-Bestandsanalyse'!$F$47","v":"öffentliche Liegenschaften"},{"$f":"'B-Bestandsanalyse'!$C$175","v":"kt/a"},{"$f":"'A-Allgemeine Angaben'!$D$22","v":0},{"$f":"'B-Bestandsanalyse'!F202","v":{"v":0,"d":"0.0"}}]
[{"$f":"'B-Bestandsanalyse'!$B$170","v":"B.13"},{"$f":"'B-Bestandsanalyse'!$C$173","v":"THG-Emissionen Wärmeversorgung"},{"$f":"'B-Bestandsanalyse'!X75","v":"Grubenwasser"},{"$f":"'B-Bestandsanalyse'!$F$47","v":"öffentliche Liegenschaften"},{"$f":"'B-Bestandsanalyse'!$C$175","v":"kt/a"},{"$f":"'A-Allgemeine Angaben'!$D$22","v":0},{"$f":"'B-Bestandsanalyse'!F203","v":{"v":0,"d":"0.0"}}]
[{"$f":"'B-Bestandsanalyse'!$B$170","v":"B.13"},{"$f":"'B-Bestandsanalyse'!$C$173","v":"THG-Emissionen Wärmeversorgung"},{"$f":"'B-Bestandsanalyse'!X76","v":"Luft"},{"$f":"'B-Bestandsanalyse'!$F$47","v":"öffentliche Liegenschaften"},{"$f":"'B-Bestandsanalyse'!$C$175","v":"kt/a"},{"$f":"'A-Allgemeine Angaben'!$D$22","v":0},{"$f":"'B-Bestandsanalyse'!F204","v":{"v":0,"d":"0.0"}}]
[{"$f":"'B-Bestandsanalyse'!$B$170","v":"B.13"},{"$f":"'B-Bestandsanalyse'!$C$173","v":"THG-Emissionen Wärmeversorgung"},{"$f":"'B-Bestandsanalyse'!X77","v":"Abwasser"},{"$f":"'B-Bestandsanalyse'!$F$47","v":"öffentliche Liegenschaften"},{"$f":"'B-Bestandsanalyse'!$C$175","v":"kt/a"},{"$f":"'A-Allgemeine Angaben'!$D$22","v":0},{"$f":"'B-Bestandsanalyse'!F205","v":{"v":0,"d":"0.0"}}]
[{"$f":"'B-Bestandsanalyse'!$B$170","v":"B.13"},{"$f":"'B-Bestandsanalyse'!$C$173","v":"THG-Emissionen Wärmeversorgung"},{"$f":"'B-Bestandsanalyse'!X78","v":"Sonstige fossile Brennstoffe"},{"$f":"'B-Bestandsanalyse'!$F$47","v":"öffentliche Liegenschaften"},{"$f":"'B-Bestandsanalyse'!$C$175","v":"kt/a"},{"$f":"'A-Allgemeine Angaben'!$D$22","v":0},{"$f":"'B-Bestandsanalyse'!F206","v":{"v":0,"d":"0.0"}}]
[{"$f":"'B-Bestandsanalyse'!$B$170","v":"B.13"},{"$f":"'B-Bestandsanalyse'!$C$173","v":"THG-Emissionen Wärmeversorgung"},{"$f":"'B-Bestandsanalyse'!X79","v":"Sonstige erneuerbare Energien"},{"$f":"'B-Bestandsanalyse'!$F$47","v":"öffentliche Liegenschaften"},{"$f":"'B-Bestandsanalyse'!$C$175","v":"kt/a"},{"$f":"'A-Allgemeine Angaben'!$D$22","v":0},{"$f":"'B-Bestandsanalyse'!F207","v":{"v":0,"d":"0.0"}}]
[{"$f":"'B-Bestandsanalyse'!$B$170","v":"B.13"},{"$f":"'B-Bestandsanalyse'!$C$173","v":"THG-Emissionen Wärmeversorgung"},null,{"$f":"'B-Bestandsanalyse'!$F$47","v":"öffentliche Liegenschaften"},{"$f":"'B-Bestandsanalyse'!$C$175","v":"kt/a"},{"$f":"'A-Allgemeine Angaben'!$D$22","v":0},{"$f":"'B-Bestandsanalyse'!F208","v":{"v":0,"d":"0.0"}}]
[{"$f":"'B-Bestandsanalyse'!$B$170","v":"B.13"},{"$f":"'B-Bestandsanalyse'!$C$173","v":"THG-Emissionen Wärmeversorgung"},{"$f":"'B-Bestandsanalyse'!X48","v":"Braunkohle"},{"$f":"'B-Bestandsanalyse'!$G$47","v":"Industrie"},{"$f":"'B-Bestandsanalyse'!$C$175","v":"kt/a"},{"$f":"'A-Allgemeine Angaben'!$D$22","v":0},{"$f":"'B-Bestandsanalyse'!G176","v":{"v":0,"d":"0.0"}}]
[{"$f":"'B-Bestandsanalyse'!$B$170","v":"B.13"},{"$f":"'B-Bestandsanalyse'!$C$173","v":"THG-Emissionen Wärmeversorgung"},{"$f":"'B-Bestandsanalyse'!X49","v":"Steinkohle"},{"$f":"'B-Bestandsanalyse'!$G$47","v":"Industrie"},{"$f":"'B-Bestandsanalyse'!$C$175","v":"kt/a"},{"$f":"'A-Allgemeine Angaben'!$D$22","v":0},{"$f":"'B-Bestandsanalyse'!G177","v":{"v":0,"d":"0.0"}}]
[{"$f":"'B-Bestandsanalyse'!$B$170","v":"B.13"},{"$f":"'B-Bestandsanalyse'!$C$173","v":"THG-Emissionen Wärmeversorgung"},{"$f":"'B-Bestandsanalyse'!X50","v":"Erdgas"},{"$f":"'B-Bestandsanalyse'!$G$47","v":"Industrie"},{"$f":"'B-Bestandsanalyse'!$C$175","v":"kt/a"},{"$f":"'A-Allgemeine Angaben'!$D$22","v":0},{"$f":"'B-Bestandsanalyse'!G178","v":{"v":0,"d":"0.0"}}]
[{"$f":"'B-Bestandsanalyse'!$B$170","v":"B.13"},{"$f":"'B-Bestandsanalyse'!$C$173","v":"THG-Emissionen Wärmeversorgung"},{"$f":"'B-Bestandsanalyse'!X51","v":"Flüssiggas"},{"$f":"'B-Bestandsanalyse'!$G$47","v":"Industrie"},{"$f":"'B-Bestandsanalyse'!$C$175","v":"kt/a"},{"$f":"'A-Allgemeine Angaben'!$D$22","v":0},{"$f":"'B-Bestandsanalyse'!G179","v":{"v":0,"d":"0.0"}}]
[{"$f":"'B-Bestandsanalyse'!$B$170","v":"B.13"},{"$f":"'B-Bestandsanalyse'!$C$173","v":"THG-Emissionen Wärmeversorgung"},{"$f":"'B-Bestandsanalyse'!X52","v":"Heizöl"},{"$f":"'B-Bestandsanalyse'!$G$47","v":"Industrie"},{"$f":"'B-Bestandsanalyse'!$C$175","v":"kt/a"},{"$f":"'A-Allgemeine Angaben'!$D$22","v":0},{"$f":"'B-Bestandsanalyse'!G180","v":{"v":0,"d":"0.0"}}]
[{"$f":"'B-Bestandsanalyse'!$B$170","v":"B.13"},{"$f":"'B-Bestandsanalyse'!$C$173","v":"THG-Emissionen Wärmeversorgung"},{"$f":"'B-Bestandsanalyse'!X53","v":"Wasserstoff"},{"$f":"'B-Bestandsanalyse'!$G$47","v":"Industrie"},{"$f":"'B-Bestandsanalyse'!$C$175","v":"kt/a"},{"$f":"'A-Allgemeine Angaben'!$D$22","v":0},{"$f":"'B-Bestandsanalyse'!G181","v":{"v":0,"d":"0.0"}}]
[{"$f":"'B-Bestandsanalyse'!$B$170","v":"B.13"},{"$f":"'B-Bestandsanalyse'!$C$173","v":"THG-Emissionen Wärmeversorgung"},{"$f":"'B-Bestandsanalyse'!X54","v":"Wasserstoffderivate"},{"$f":"'B-Bestandsanalyse'!$G$47","v":"Industrie"},{"$f":"'B-Bestandsanalyse'!$C$175","v":"kt/a"},{"$f":"'A-Allgemeine Angaben'!$D$22","v":0},{"$f":"'B-Bestandsanalyse'!G182","v":{"v":0,"d":"0.0"}}]
[{"$f":"'B-Bestandsanalyse'!$B$170","v":"B.13"},{"$f":"'B-Bestandsanalyse'!$C$173","v":"THG-Emissionen Wärmeversorgung"},{"$f":"'B-Bestandsanalyse'!X55","v":"Grubengas"},{"$f":"'B-Bestandsanalyse'!$G$47","v":"Industrie"},{"$f":"'B-Bestandsanalyse'!$C$175","v":"kt/a"},{"$f":"'A-Allgemeine Angaben'!$D$22","v":0},{"$f":"'B-Bestandsanalyse'!G183","v":{"v":0,"d":"0.0"}}]
[{"$f":"'B-Bestandsanalyse'!$B$170","v":"B.13"},{"$f":"'B-Bestandsanalyse'!$C$173","v":"THG-Emissionen Wärmeversorgung"},{"$f":"'B-Bestandsanalyse'!X56","v":"Nicht biogener Abfall"},{"$f":"'B-Bestandsanalyse'!$G$47","v":"Industrie"},{"$f":"'B-Bestandsanalyse'!$C$175","v":"kt/a"},{"$f":"'A-Allgemeine Angaben'!$D$22","v":0},{"$f":"'B-Bestandsanalyse'!G184","v":{"v":0,"d":"0.0"}}]
[{"$f":"'B-Bestandsanalyse'!$B$170","v":"B.13"},{"$f":"'B-Bestandsanalyse'!$C$173","v":"THG-Emissionen Wärmeversorgung"},{"$f":"'B-Bestandsanalyse'!X57","v":"Biogener Abfall"},{"$f":"'B-Bestandsanalyse'!$G$47","v":"Industrie"},{"$f":"'B-Bestandsanalyse'!$C$175","v":"kt/a"},{"$f":"'A-Allgemeine Angaben'!$D$22","v":0},{"$f":"'B-Bestandsanalyse'!G185","v":{"v":0,"d":"0.0"}}]
[{"$f":"'B-Bestandsanalyse'!$B$170","v":"B.13"},{"$f":"'B-Bestandsanalyse'!$C$173","v":"THG-Emissionen Wärmeversorgung"},{"$f":"'B-Bestandsanalyse'!X58","v":"Abwärme < 60 °C"},{"$f":"'B-Bestandsanalyse'!$G$47","v":"Industrie"},{"$f":"'B-Bestandsanalyse'!$C$175","v":"kt/a"},{"$f":"'A-Allgemeine Angaben'!$D$22","v":0},{"$f":"'B-Bestandsanalyse'!G186","v":{"v":0,"d":"0.0"}}]
[{"$f":"'B-Bestandsanalyse'!$B$170","v":"B.13"},{"$f":"'B-Bestandsanalyse'!$C$173","v":"THG-Emissionen Wärmeversorgung"},{"$f":"'B-Bestandsanalyse'!X59","v":"Abwärme 60 bis 110 °C"},{"$f":"'B-Bestandsanalyse'!$G$47","v":"Industrie"},{"$f":"'B-Bestandsanalyse'!$C$175","v":"kt/a"},{"$f":"'A-Allgemeine Angaben'!$D$22","v":0},{"$f":"'B-Bestandsanalyse'!G187","v":{"v":0,"d":"0.0"}}]
[{"$f":"'B-Bestandsanalyse'!$B$170","v":"B.13"},{"$f":"'B-Bestandsanalyse'!$C$173","v":"THG-Emissionen Wärmeversorgung"},{"$f":"'B-Bestandsanalyse'!X61","v":"feste Biomasse (ohne Altholz)"},{"$f":"'B-Bestandsanalyse'!$G$47","v":"Industrie"},{"$f":"'B-Bestandsanalyse'!$C$175","v":"kt/a"},{"$f":"'A-Allgemeine Angaben'!$D$22","v":0},{"$f":"'B-Bestandsanalyse'!G189","v":{"v":0,"d":"0.0"}}]
[{"$f":"'B-Bestandsanalyse'!$B$170","v":"B.13"},{"$f":"'B-Bestandsanalyse'!$C$173","v":"THG-Emissionen Wärmeversorgung"},{"$f":"'B-Bestandsanalyse'!X62","v":"Altholz"},{"$f":"'B-Bestandsanalyse'!$G$47","v":"Industrie"},{"$f":"'B-Bestandsanalyse'!$C$175","v":"kt/a"},{"$f":"'A-Allgemeine Angaben'!$D$22","v":0},{"$f":"'B-Bestandsanalyse'!G190","v":{"v":0,"d":"0.0"}}]
[{"$f":"'B-Bestandsanalyse'!$B$170","v":"B.13"},{"$f":"'B-Bestandsanalyse'!$C$173","v":"THG-Emissionen Wärmeversorgung"},{"$f":"'B-Bestandsanalyse'!X63","v":"Biogas"},{"$f":"'B-Bestandsanalyse'!$G$47","v":"Industrie"},{"$f":"'B-Bestandsanalyse'!$C$175","v":"kt/a"},{"$f":"'A-Allgemeine Angaben'!$D$22","v":0},{"$f":"'B-Bestandsanalyse'!G191","v":{"v":0,"d":"0.0"}}]
[{"$f":"'B-Bestandsanalyse'!$B$170","v":"B.13"},{"$f":"'B-Bestandsanalyse'!$C$173","v":"THG-Emissionen Wärmeversorgung"},{"$f":"'B-Bestandsanalyse'!X64","v":"Biomethan"},{"$f":"'B-Bestandsanalyse'!$G$47","v":"Industrie"},{"$f":"'B-Bestandsanalyse'!$C$175","v":"kt/a"},{"$f":"'A-Allgemeine Angaben'!$D$22","v":0},{"$f":"'B-Bestandsanalyse'!G192","v":{"v":0,"d":"0.0"}}]
[{"$f":"'B-Bestandsanalyse'!$B$170","v":"B.13"},{"$f":"'B-Bestandsanalyse'!$C$173","v":"THG-Emissionen Wärmeversorgung"},{"$f":"'B-Bestandsanalyse'!X65","v":"Deponiegas"},{"$f":"'B-Bestandsanalyse'!$G$47","v":"Industrie"},{"$f":"'B-Bestandsanalyse'!$C$175","v":"kt/a"},{"$f":"'A-Allgemeine Angaben'!$D$22","v":0},{"$f":"'B-Bestandsanalyse'!G193","v":{"v":0,"d":"0.0"}}]
[{"$f":"'B-Bestandsanalyse'!$B$170","v":"B.13"},{"$f":"'B-Bestandsanalyse'!$C$173","v":"THG-Emissionen Wärmeversorgung"},{"$f":"'B-Bestandsanalyse'!X66","v":"Klärgas"},{"$f":"'B-Bestandsanalyse'!$G$47","v":"Industrie"},{"$f":"'B-Bestandsanalyse'!$C$175","v":"kt/a"},{"$f":"'A-Allgemeine Angaben'!$D$22","v":0},{"$f":"'B-Bestandsanalyse'!G194","v":{"v":0,"d":"0.0"}}]
[{"$f":"'B-Bestandsanalyse'!$B$170","v":"B.13"},{"$f":"'B-Bestandsanalyse'!$C$173","v":"THG-Emissionen Wärmeversorgung"},{"$f":"'B-Bestandsanalyse'!X67","v":"Flüssige Biomasse"},{"$f":"'B-Bestandsanalyse'!$G$47","v":"Industrie"},{"$f":"'B-Bestandsanalyse'!$C$175","v":"kt/a"},{"$f":"'A-Allgemeine Angaben'!$D$22","v":0},{"$f":"'B-Bestandsanalyse'!G195","v":{"v":0,"d":"0.0"}}]
[{"$f":"'B-Bestandsanalyse'!$B$170","v":"B.13"},{"$f":"'B-Bestandsanalyse'!$C$173","v":"THG-Emissionen Wärmeversorgung"},{"$f":"'B-Bestandsanalyse'!X68","v":"Strom Wärmepumpe"},{"$f":"'B-Bestandsanalyse'!$G$47","v":"Industrie"},{"$f":"'B-Bestandsanalyse'!$C$175","v":"kt/a"},{"$f":"'A-Allgemeine Angaben'!$D$22","v":0},{"$f":"'B-Bestandsanalyse'!G196","v":{"v":0,"d":"0.0"}}]
[{"$f":"'B-Bestandsanalyse'!$B$170","v":"B.13"},{"$f":"'B-Bestandsanalyse'!$C$173","v":"THG-Emissionen Wärmeversorgung"},{"$f":"'B-Bestandsanalyse'!X69","v":"Strom Direktheizung"},{"$f":"'B-Bestandsanalyse'!$G$47","v":"Industrie"},{"$f":"'B-Bestandsanalyse'!$C$175","v":"kt/a"},{"$f":"'A-Allgemeine Angaben'!$D$22","v":0},{"$f":"'B-Bestandsanalyse'!G197","v":{"v":0,"d":"0.0"}}]
[{"$f":"'B-Bestandsanalyse'!$B$170","v":"B.13"},{"$f":"'B-Bestandsanalyse'!$C$173","v":"THG-Emissionen Wärmeversorgung"},{"$f":"'B-Bestandsanalyse'!X70","v":"Solarthermie Dach-Anlagen"},{"$f":"'B-Bestandsanalyse'!$G$47","v":"Industrie"},{"$f":"'B-Bestandsanalyse'!$C$175","v":"kt/a"},{"$f":"'A-Allgemeine Angaben'!$D$22","v":0},{"$f":"'B-Bestandsanalyse'!G198","v":{"v":0,"d":"0.0"}}]
[{"$f":"'B-Bestandsanalyse'!$B$170","v":"B.13"},{"$f":"'B-Bestandsanalyse'!$C$173","v":"THG-Emissionen Wärmeversorgung"},{"$f":"'B-Bestandsanalyse'!X71","v":"Solarthermie Freiflächenanlagen"},{"$f":"'B-Bestandsanalyse'!$G$47","v":"Industrie"},{"$f":"'B-Bestandsanalyse'!$C$175","v":"kt/a"},{"$f":"'A-Allgemeine Angaben'!$D$22","v":0},{"$f":"'B-Bestandsanalyse'!G199","v":{"v":0,"d":"0.0"}}]
[{"$f":"'B-Bestandsanalyse'!$B$170","v":"B.13"},{"$f":"'B-Bestandsanalyse'!$C$173","v":"THG-Emissionen Wärmeversorgung"},{"$f":"'B-Bestandsanalyse'!X72","v":"Oberflächennahe Geothermie"},{"$f":"'B-Bestandsanalyse'!$G$47","v":"Industrie"},{"$f":"'B-Bestandsanalyse'!$C$175","v":"kt/a"},{"$f":"'A-Allgemeine Angaben'!$D$22","v":0},{"$f":"'B-Bestandsanalyse'!G200","v":{"v":0,"d":"0.0"}}]
[{"$f":"'B-Bestandsanalyse'!$B$170","v":"B.13"},{"$f":"'B-Bestandsanalyse'!$C$173","v":"THG-Emissionen Wärmeversorgung"},{"$f":"'B-Bestandsanalyse'!X73","v":"Tiefe Geothermie"},{"$f":"'B-Bestandsanalyse'!$G$47","v":"Industrie"},{"$f":"'B-Bestandsanalyse'!$C$175","v":"kt/a"},{"$f":"'A-Allgemeine Angaben'!$D$22","v":0},{"$f":"'B-Bestandsanalyse'!G201","v":{"v":0,"d":"0.0"}}]
[{"$f":"'B-Bestandsanalyse'!$B$170","v":"B.13"},{"$f":"'B-Bestandsanalyse'!$C$173","v":"THG-Emissionen Wärmeversorgung"},{"$f":"'B-Bestandsanalyse'!X74","v":"Oberflächengewässern"},{"$f":"'B-Bestandsanalyse'!$G$47","v":"Industrie"},{"$f":"'B-Bestandsanalyse'!$C$175","v":"kt/a"},{"$f":"'A-Allgemeine Angaben'!$D$22","v":0},{"$f":"'B-Bestandsanalyse'!G202","v":{"v":0,"d":"0.0"}}]
[{"$f":"'B-Bestandsanalyse'!$B$170","v":"B.13"},{"$f":"'B-Bestandsanalyse'!$C$173","v":"THG-Emissionen Wärmeversorgung"},{"$f":"'B-Bestandsanalyse'!X75","v":"Grubenwasser"},{"$f":"'B-Bestandsanalyse'!$G$47","v":"Industrie"},{"$f":"'B-Bestandsanalyse'!$C$175","v":"kt/a"},{"$f":"'A-Allgemeine Angaben'!$D$22","v":0},{"$f":"'B-Bestandsanalyse'!G203","v":{"v":0,"d":"0.0"}}]
[{"$f":"'B-Bestandsanalyse'!$B$170","v":"B.13"},{"$f":"'B-Bestandsanalyse'!$C$173","v":"THG-Emissionen Wärmeversorgung"},{"$f":"'B-Bestandsanalyse'!X76","v":"Luft"},{"$f":"'B-Bestandsanalyse'!$G$47","v":"Industrie"},{"$f":"'B-Bestandsanalyse'!$C$175","v":"kt/a"},{"$f":"'A-Allgemeine Angaben'!$D$22","v":0},{"$f":"'B-Bestandsanalyse'!G204","v":{"v":0,"d":"0.0"}}]
[{"$f":"'B-Bestandsanalyse'!$B$170","v":"B.13"},{"$f":"'B-Bestandsanalyse'!$C$173","v":"THG-Emissionen Wärmeversorgung"},{"$f":"'B-Bestandsanalyse'!X77","v":"Abwasser"},{"$f":"'B-Bestandsanalyse'!$G$47","v":"Industrie"},{"$f":"'B-Bestandsanalyse'!$C$175","v":"kt/a"},{"$f":"'A-Allgemeine Angaben'!$D$22","v":0},{"$f":"'B-Bestandsanalyse'!G205","v":{"v":0,"d":"0.0"}}]
[{"$f":"'B-Bestandsanalyse'!$B$170","v":"B.13"},{"$f":"'B-Bestandsanalyse'!$C$173","v":"THG-Emissionen Wärmeversorgung"},{"$f":"'B-Bestandsanalyse'!X78","v":"Sonstige fossile Brennstoffe"},{"$f":"'B-Bestandsanalyse'!$G$47","v":"Industrie"},{"$f":"'B-Bestandsanalyse'!$C$175","v":"kt/a"},{"$f":"'A-Allgemeine Angaben'!$D$22","v":0},{"$f":"'B-Bestandsanalyse'!G206","v":{"v":0,"d":"0.0"}}]
[{"$f":"'B-Bestandsanalyse'!$B$170","v":"B.13"},{"$f":"'B-Bestandsanalyse'!$C$173","v":"THG-Emissionen Wärmeversorgung"},{"$f":"'B-Bestandsanalyse'!X79","v":"Sonstige erneuerbare Energien"},{"$f":"'B-Bestandsanalyse'!$G$47","v":"Industrie"},{"$f":"'B-Bestandsanalyse'!$C$175","v":"kt/a"},{"$f":"'A-Allgemeine Angaben'!$D$22","v":0},{"$f":"'B-Bestandsanalyse'!G207","v":{"v":0,"d":"0.0"}}]
[{"$f":"'B-Bestandsanalyse'!$B$170","v":"B.13"},{"$f":"'B-Bestandsanalyse'!$C$173","v":"THG-Emissionen Wärmeversorgung"},null,{"$f":"'B-Bestandsanalyse'!$G$47","v":"Industrie"},{"$f":"'B-Bestandsanalyse'!$C$175","v":"kt/a"},{"$f":"'A-Allgemeine Angaben'!$D$22","v":0},{"$f":"'B-Bestandsanalyse'!G208","v":{"v":0,"d":"0.0"}}]
[{"$f":"'B-Bestandsanalyse'!$B$170","v":"B.13"},{"$f":"'B-Bestandsanalyse'!$C$173","v":"THG-Emissionen Wärmeversorgung"},{"$f":"'B-Bestandsanalyse'!X48","v":"Braunkohle"},{"$f":"'B-Bestandsanalyse'!$I$45","v":"Sektoren insgesamt"},{"$f":"'B-Bestandsanalyse'!$C$175","v":"kt/a"},{"$f":"'A-Allgemeine Angaben'!$D$22","v":0},{"$f":"'B-Bestandsanalyse'!I176","v":{"$error":"#VALUE!"}}]
[{"$f":"'B-Bestandsanalyse'!$B$170","v":"B.13"},{"$f":"'B-Bestandsanalyse'!$C$173","v":"THG-Emissionen Wärmeversorgung"},{"$f":"'B-Bestandsanalyse'!X49","v":"Steinkohle"},{"$f":"'B-Bestandsanalyse'!$I$45","v":"Sektoren insgesamt"},{"$f":"'B-Bestandsanalyse'!$C$175","v":"kt/a"},{"$f":"'A-Allgemeine Angaben'!$D$22","v":0},{"$f":"'B-Bestandsanalyse'!I177","v":{"$error":"#VALUE!"}}]
[{"$f":"'B-Bestandsanalyse'!$B$170","v":"B.13"},{"$f":"'B-Bestandsanalyse'!$C$173","v":"THG-Emissionen Wärmeversorgung"},{"$f":"'B-Bestandsanalyse'!X50","v":"Erdgas"},{"$f":"'B-Bestandsanalyse'!$I$45","v":"Sektoren insgesamt"},{"$f":"'B-Bestandsanalyse'!$C$175","v":"kt/a"},{"$f":"'A-Allgemeine Angaben'!$D$22","v":0},{"$f":"'B-Bestandsanalyse'!I178","v":{"$error":"#VALUE!"}}]
[{"$f":"'B-Bestandsanalyse'!$B$170","v":"B.13"},{"$f":"'B-Bestandsanalyse'!$C$173","v":"THG-Emissionen Wärmeversorgung"},{"$f":"'B-Bestandsanalyse'!X51","v":"Flüssiggas"},{"$f":"'B-Bestandsanalyse'!$I$45","v":"Sektoren insgesamt"},{"$f":"'B-Bestandsanalyse'!$C$175","v":"kt/a"},{"$f":"'A-Allgemeine Angaben'!$D$22","v":0},{"$f":"'B-Bestandsanalyse'!I179","v":{"$error":"#VALUE!"}}]
[{"$f":"'B-Bestandsanalyse'!$B$170","v":"B.13"},{"$f":"'B-Bestandsanalyse'!$C$173","v":"THG-Emissionen Wärmeversorgung"},{"$f":"'B-Bestandsanalyse'!X52","v":"Heizöl"},{"$f":"'B-Bestandsanalyse'!$I$45","v":"Sektoren insgesamt"},{"$f":"'B-Bestandsanalyse'!$C$175","v":"kt/a"},{"$f":"'A-Allgemeine Angaben'!$D$22","v":0},{"$f":"'B-Bestandsanalyse'!I180","v":{"$error":"#VALUE!"}}]
[{"$f":"'B-Bestandsanalyse'!$B$170","v":"B.13"},{"$f":"'B-Bestandsanalyse'!$C$173","v":"THG-Emissionen Wärmeversorgung"},{"$f":"'B-Bestandsanalyse'!X53","v":"Wasserstoff"},{"$f":"'B-Bestandsanalyse'!$I$45","v":"Sektoren insgesamt"},{"$f":"'B-Bestandsanalyse'!$C$175","v":"kt/a"},{"$f":"'A-Allgemeine Angaben'!$D$22","v":0},{"$f":"'B-Bestandsanalyse'!I181","v":{"$error":"#VALUE!"}}]
[{"$f":"'B-Bestandsanalyse'!$B$170","v":"B.13"},{"$f":"'B-Bestandsanalyse'!$C$173","v":"THG-Emissionen Wärmeversorgung"},{"$f":"'B-Bestandsanalyse'!X54","v":"Wasserstoffderivate"},{"$f":"'B-Bestandsanalyse'!$I$45","v":"Sektoren insgesamt"},{"$f":"'B-Bestandsanalyse'!$C$175","v":"kt/a"},{"$f":"'A-Allgemeine Angaben'!$D$22","v":0},{"$f":"'B-Bestandsanalyse'!I182","v":{"$error":"#VALUE!"}}]
[{"$f":"'B-Bestandsanalyse'!$B$170","v":"B.13"},{"$f":"'B-Bestandsanalyse'!$C$173","v":"THG-Emissionen Wärmeversorgung"},{"$f":"'B-Bestandsanalyse'!X55","v":"Grubengas"},{"$f":"'B-Bestandsanalyse'!$I$45","v":"Sektoren insgesamt"},{"$f":"'B-Bestandsanalyse'!$C$175","v":"kt/a"},{"$f":"'A-Allgemeine Angaben'!$D$22","v":0},{"$f":"'B-Bestandsanalyse'!I183","v":{"$error":"#VALUE!"}}]
[{"$f":"'B-Bestandsanalyse'!$B$170","v":"B.13"},{"$f":"'B-Bestandsanalyse'!$C$173","v":"THG-Emissionen Wärmeversorgung"},{"$f":"'B-Bestandsanalyse'!X56","v":"Nicht biogener Abfall"},{"$f":"'B-Bestandsanalyse'!$I$45","v":"Sektoren insgesamt"},{"$f":"'B-Bestandsanalyse'!$C$175","v":"kt/a"},{"$f":"'A-Allgemeine Angaben'!$D$22","v":0},{"$f":"'B-Bestandsanalyse'!I184","v":{"$error":"#VALUE!"}}]
[{"$f":"'B-Bestandsanalyse'!$B$170","v":"B.13"},{"$f":"'B-Bestandsanalyse'!$C$173","v":"THG-Emissionen Wärmeversorgung"},{"$f":"'B-Bestandsanalyse'!X57","v":"Biogener Abfall"},{"$f":"'B-Bestandsanalyse'!$I$45","v":"Sektoren insgesamt"},{"$f":"'B-Bestandsanalyse'!$C$175","v":"kt/a"},{"$f":"'A-Allgemeine Angaben'!$D$22","v":0},{"$f":"'B-Bestandsanalyse'!I185","v":{"$error":"#VALUE!"}}]
[{"$f":"'B-Bestandsanalyse'!$B$170","v":"B.13"},{"$f":"'B-Bestandsanalyse'!$C$173","v":"THG-Emissionen Wärmeversorgung"},{"$f":"'B-Bestandsanalyse'!X58","v":"Abwärme < 60 °C"},{"$f":"'B-Bestandsanalyse'!$I$45","v":"Sektoren insgesamt"},{"$f":"'B-Bestandsanalyse'!$C$175","v":"kt/a"},{"$f":"'A-Allgemeine Angaben'!$D$22","v":0},{"$f":"'B-Bestandsanalyse'!I186","v":{"$error":"#VALUE!"}}]
[{"$f":"'B-Bestandsanalyse'!$B$170","v":"B.13"},{"$f":"'B-Bestandsanalyse'!$C$173","v":"THG-Emissionen Wärmeversorgung"},{"$f":"'B-Bestandsanalyse'!X59","v":"Abwärme 60 bis 110 °C"},{"$f":"'B-Bestandsanalyse'!$I$45","v":"Sektoren insgesamt"},{"$f":"'B-Bestandsanalyse'!$C$175","v":"kt/a"},{"$f":"'A-Allgemeine Angaben'!$D$22","v":0},{"$f":"'B-Bestandsanalyse'!I187","v":{"$error":"#VALUE!"}}]
[{"$f":"'B-Bestandsanalyse'!$B$170","v":"B.13"},{"$f":"'B-Bestandsanalyse'!$C$173","v":"THG-Emissionen Wärmeversorgung"},{"$f":"'B-Bestandsanalyse'!X61","v":"feste Biomasse (ohne Altholz)"},{"$f":"'B-Bestandsanalyse'!$I$45","v":"Sektoren insgesamt"},{"$f":"'B-Bestandsanalyse'!$C$175","v":"kt/a"},{"$f":"'A-Allgemeine Angaben'!$D$22","v":0},{"$f":"'B-Bestandsanalyse'!I189","v":{"$error":"#VALUE!"}}]
[{"$f":"'B-Bestandsanalyse'!$B$170","v":"B.13"},{"$f":"'B-Bestandsanalyse'!$C$173","v":"THG-Emissionen Wärmeversorgung"},{"$f":"'B-Bestandsanalyse'!X62","v":"Altholz"},{"$f":"'B-Bestandsanalyse'!$I$45","v":"Sektoren insgesamt"},{"$f":"'B-Bestandsanalyse'!$C$175","v":"kt/a"},{"$f":"'A-Allgemeine Angaben'!$D$22","v":0},{"$f":"'B-Bestandsanalyse'!I190","v":{"$error":"#VALUE!"}}]
[{"$f":"'B-Bestandsanalyse'!$B$170","v":"B.13"},{"$f":"'B-Bestandsanalyse'!$C$173","v":"THG-Emissionen Wärmeversorgung"},{"$f":"'B-Bestandsanalyse'!X63","v":"Biogas"},{"$f":"'B-Bestandsanalyse'!$I$45","v":"Sektoren insgesamt"},{"$f":"'B-Bestandsanalyse'!$C$175","v":"kt/a"},{"$f":"'A-Allgemeine Angaben'!$D$22","v":0},{"$f":"'B-Bestandsanalyse'!I191","v":{"$error":"#VALUE!"}}]
[{"$f":"'B-Bestandsanalyse'!$B$170","v":"B.13"},{"$f":"'B-Bestandsanalyse'!$C$173","v":"THG-Emissionen Wärmeversorgung"},{"$f":"'B-Bestandsanalyse'!X64","v":"Biomethan"},{"$f":"'B-Bestandsanalyse'!$I$45","v":"Sektoren insgesamt"},{"$f":"'B-Bestandsanalyse'!$C$175","v":"kt/a"},{"$f":"'A-Allgemeine Angaben'!$D$22","v":0},{"$f":"'B-Bestandsanalyse'!I192","v":{"$error":"#VALUE!"}}]
[{"$f":"'B-Bestandsanalyse'!$B$170","v":"B.13"},{"$f":"'B-Bestandsanalyse'!$C$173","v":"THG-Emissionen Wärmeversorgung"},{"$f":"'B-Bestandsanalyse'!X65","v":"Deponiegas"},{"$f":"'B-Bestandsanalyse'!$I$45","v":"Sektoren insgesamt"},{"$f":"'B-Bestandsanalyse'!$C$175","v":"kt/a"},{"$f":"'A-Allgemeine Angaben'!$D$22","v":0},{"$f":"'B-Bestandsanalyse'!I193","v":{"$error":"#VALUE!"}}]
[{"$f":"'B-Bestandsanalyse'!$B$170","v":"B.13"},{"$f":"'B-Bestandsanalyse'!$C$173","v":"THG-Emissionen Wärmeversorgung"},{"$f":"'B-Bestandsanalyse'!X66","v":"Klärgas"},{"$f":"'B-Bestandsanalyse'!$I$45","v":"Sektoren insgesamt"},{"$f":"'B-Bestandsanalyse'!$C$175","v":"kt/a"},{"$f":"'A-Allgemeine Angaben'!$D$22","v":0},{"$f":"'B-Bestandsanalyse'!I194","v":{"$error":"#VALUE!"}}]
[{"$f":"'B-Bestandsanalyse'!$B$170","v":"B.13"},{"$f":"'B-Bestandsanalyse'!$C$173","v":"THG-Emissionen Wärmeversorgung"},{"$f":"'B-Bestandsanalyse'!X67","v":"Flüssige Biomasse"},{"$f":"'B-Bestandsanalyse'!$I$45","v":"Sektoren insgesamt"},{"$f":"'B-Bestandsanalyse'!$C$175","v":"kt/a"},{"$f":"'A-Allgemeine Angaben'!$D$22","v":0},{"$f":"'B-Bestandsanalyse'!I195","v":{"$error":"#VALUE!"}}]
[{"$f":"'B-Bestandsanalyse'!$B$170","v":"B.13"},{"$f":"'B-Bestandsanalyse'!$C$173","v":"THG-Emissionen Wärmeversorgung"},{"$f":"'B-Bestandsanalyse'!X68","v":"Strom Wärmepumpe"},{"$f":"'B-Bestandsanalyse'!$I$45","v":"Sektoren insgesamt"},{"$f":"'B-Bestandsanalyse'!$C$175","v":"kt/a"},{"$f":"'A-Allgemeine Angaben'!$D$22","v":0},{"$f":"'B-Bestandsanalyse'!I196","v":{"$error":"#VALUE!"}}]
[{"$f":"'B-Bestandsanalyse'!$B$170","v":"B.13"},{"$f":"'B-Bestandsanalyse'!$C$173","v":"THG-Emissionen Wärmeversorgung"},{"$f":"'B-Bestandsanalyse'!X69","v":"Strom Direktheizung"},{"$f":"'B-Bestandsanalyse'!$I$45","v":"Sektoren insgesamt"},{"$f":"'B-Bestandsanalyse'!$C$175","v":"kt/a"},{"$f":"'A-Allgemeine Angaben'!$D$22","v":0},{"$f":"'B-Bestandsanalyse'!I197","v":{"$error":"#VALUE!"}}]
[{"$f":"'B-Bestandsanalyse'!$B$170","v":"B.13"},{"$f":"'B-Bestandsanalyse'!$C$173","v":"THG-Emissionen Wärmeversorgung"},{"$f":"'B-Bestandsanalyse'!X70","v":"Solarthermie Dach-Anlagen"},{"$f":"'B-Bestandsanalyse'!$I$45","v":"Sektoren insgesamt"},{"$f":"'B-Bestandsanalyse'!$C$175","v":"kt/a"},{"$f":"'A-Allgemeine Angaben'!$D$22","v":0},{"$f":"'B-Bestandsanalyse'!I198","v":{"$error":"#VALUE!"}}]
[{"$f":"'B-Bestandsanalyse'!$B$170","v":"B.13"},{"$f":"'B-Bestandsanalyse'!$C$173","v":"THG-Emissionen Wärmeversorgung"},{"$f":"'B-Bestandsanalyse'!X71","v":"Solarthermie Freiflächenanlagen"},{"$f":"'B-Bestandsanalyse'!$I$45","v":"Sektoren insgesamt"},{"$f":"'B-Bestandsanalyse'!$C$175","v":"kt/a"},{"$f":"'A-Allgemeine Angaben'!$D$22","v":0},{"$f":"'B-Bestandsanalyse'!I199","v":{"$error":"#VALUE!"}}]
[{"$f":"'B-Bestandsanalyse'!$B$170","v":"B.13"},{"$f":"'B-Bestandsanalyse'!$C$173","v":"THG-Emissionen Wärmeversorgung"},{"$f":"'B-Bestandsanalyse'!X72","v":"Oberflächennahe Geothermie"},{"$f":"'B-Bestandsanalyse'!$I$45","v":"Sektoren insgesamt"},{"$f":"'B-Bestandsanalyse'!$C$175","v":"kt/a"},{"$f":"'A-Allgemeine Angaben'!$D$22","v":0},{"$f":"'B-Bestandsanalyse'!I200","v":{"$error":"#VALUE!"}}]
[{"$f":"'B-Bestandsanalyse'!$B$170","v":"B.13"},{"$f":"'B-Bestandsanalyse'!$C$173","v":"THG-Emissionen Wärmeversorgung"},{"$f":"'B-Bestandsanalyse'!X73","v":"Tiefe Geothermie"},{"$f":"'B-Bestandsanalyse'!$I$45","v":"Sektoren insgesamt"},{"$f":"'B-Bestandsanalyse'!$C$175","v":"kt/a"},{"$f":"'A-Allgemeine Angaben'!$D$22","v":0},{"$f":"'B-Bestandsanalyse'!I201","v":{"$error":"#VALUE!"}}]
[{"$f":"'B-Bestandsanalyse'!$B$170","v":"B.13"},{"$f":"'B-Bestandsanalyse'!$C$173","v":"THG-Emissionen Wärmeversorgung"},{"$f":"'B-Bestandsanalyse'!X74","v":"Oberflächengewässern"},{"$f":"'B-Bestandsanalyse'!$I$45","v":"Sektoren insgesamt"},{"$f":"'B-Bestandsanalyse'!$C$175","v":"kt/a"},{"$f":"'A-Allgemeine Angaben'!$D$22","v":0},{"$f":"'B-Bestandsanalyse'!I202","v":{"$error":"#VALUE!"}}]
[{"$f":"'B-Bestandsanalyse'!$B$170","v":"B.13"},{"$f":"'B-Bestandsanalyse'!$C$173","v":"THG-Emissionen Wärmeversorgung"},{"$f":"'B-Bestandsanalyse'!X75","v":"Grubenwasser"},{"$f":"'B-Bestandsanalyse'!$I$45","v":"Sektoren insgesamt"},{"$f":"'B-Bestandsanalyse'!$C$175","v":"kt/a"},{"$f":"'A-Allgemeine Angaben'!$D$22","v":0},{"$f":"'B-Bestandsanalyse'!I203","v":{"$error":"#VALUE!"}}]
[{"$f":"'B-Bestandsanalyse'!$B$170","v":"B.13"},{"$f":"'B-Bestandsanalyse'!$C$173","v":"THG-Emissionen Wärmeversorgung"},{"$f":"'B-Bestandsanalyse'!X76","v":"Luft"},{"$f":"'B-Bestandsanalyse'!$I$45","v":"Sektoren insgesamt"},{"$f":"'B-Bestandsanalyse'!$C$175","v":"kt/a"},{"$f":"'A-Allgemeine Angaben'!$D$22","v":0},{"$f":"'B-Bestandsanalyse'!I204","v":{"$error":"#VALUE!"}}]
[{"$f":"'B-Bestandsanalyse'!$B$170","v":"B.13"},{"$f":"'B-Bestandsanalyse'!$C$173","v":"THG-Emissionen Wärmeversorgung"},{"$f":"'B-Bestandsanalyse'!X77","v":"Abwasser"},{"$f":"'B-Bestandsanalyse'!$I$45","v":"Sektoren insgesamt"},{"$f":"'B-Bestandsanalyse'!$C$175","v":"kt/a"},{"$f":"'A-Allgemeine Angaben'!$D$22","v":0},{"$f":"'B-Bestandsanalyse'!I205","v":{"$error":"#VALUE!"}}]
[{"$f":"'B-Bestandsanalyse'!$B$170","v":"B.13"},{"$f":"'B-Bestandsanalyse'!$C$173","v":"THG-Emissionen Wärmeversorgung"},{"$f":"'B-Bestandsanalyse'!X78","v":"Sonstige fossile Brennstoffe"},{"$f":"'B-Bestandsanalyse'!$I$45","v":"Sektoren insgesamt"},{"$f":"'B-Bestandsanalyse'!$C$175","v":"kt/a"},{"$f":"'A-Allgemeine Angaben'!$D$22","v":0},{"$f":"'B-Bestandsanalyse'!I206","v":{"$error":"#VALUE!"}}]
[{"$f":"'B-Bestandsanalyse'!$B$170","v":"B.13"},{"$f":"'B-Bestandsanalyse'!$C$173","v":"THG-Emissionen Wärmeversorgung"},{"$f":"'B-Bestandsanalyse'!X79","v":"Sonstige erneuerbare Energien"},{"$f":"'B-Bestandsanalyse'!$I$45","v":"Sektoren insgesamt"},{"$f":"'B-Bestandsanalyse'!$C$175","v":"kt/a"},{"$f":"'A-Allgemeine Angaben'!$D$22","v":0},{"$f":"'B-Bestandsanalyse'!I207","v":{"$error":"#VALUE!"}}]
[{"$f":"'B-Bestandsanalyse'!$B$170","v":"B.13"},{"$f":"'B-Bestandsanalyse'!$C$173","v":"THG-Emissionen Wärmeversorgung"},null,{"$f":"'B-Bestandsanalyse'!$I$45","v":"Sektoren insgesamt"},{"$f":"'B-Bestandsanalyse'!$C$175","v":"kt/a"},{"$f":"'A-Allgemeine Angaben'!$D$22","v":0},{"$f":"'B-Bestandsanalyse'!I208","v":{"$error":"#VALUE!"}}]
[{"$f":"'B-Bestandsanalyse'!$B$170","v":"B.13"},{"$f":"'B-Bestandsanalyse'!C212","v":"THG Emissionen leitungsgebundene Wärme"},null,{"$f":"'B-Bestandsanalyse'!$I$45","v":"Sektoren insgesamt"},{"$f":"'B-Bestandsanalyse'!$C$175","v":"kt/a"},{"$f":"'A-Allgemeine Angaben'!$D$22","v":0},{"$f":"'B-Bestandsanalyse'!I212","v":{"$error":"#REF!"}}]
[{"$f":"'B-Bestandsanalyse'!$B$170","v":"B.13"},{"$f":"'B-Bestandsanalyse'!C213","v":"THG Emissionen Gasnetze"},null,{"$f":"'B-Bestandsanalyse'!$I$45","v":"Sektoren insgesamt"},{"$f":"'B-Bestandsanalyse'!$C$175","v":"kt/a"},{"$f":"'A-Allgemeine Angaben'!$D$22","v":0},{"$f":"'B-Bestandsanalyse'!I213","v":{"$error":"#REF!"}}]
[{"$f":"'C-Potenzialanalyse'!B20","v":"C1.1"},{"$f":"'C-Potenzialanalyse'!X20","v":"technische Synergieeffekte"},null,null,"Textfeld",{"$f":"'A-Allgemeine Angaben'!$D$20","v":0},{"$f":"'C-Potenzialanalyse'!D20","v":0}]
[{"$f":"'C-Potenzialanalyse'!B21","v":"C1.2"},{"$f":"'C-Potenzialanalyse'!X21","v":"organisatorische-personelle Synergieeffekte"},null,null,"Textfeld",{"$f":"'A-Allgemeine Angaben'!$D$20","v":0},{"$f":"'C-Potenzialanalyse'!D21","v":0}]
[{"$f":"'C-Potenzialanalyse'!B22","v":"C1.3"},{"$f":"'C-Potenzialanalyse'!X22","v":"finanzielle Synergieeffekte"},null,null,"Textfeld",{"$f":"'A-Allgemeine Angaben'!$D$20","v":0},{"$f":"'C-Potenzialanalyse'!D22","v":0}]
[{"$f":"'C-Potenzialanalyse'!B24","v":"C.2"},{"$f":"'C-Potenzialanalyse'!X24","v":"Erneuerbare-Energie-Gemeinschaften"},null,null,"Textfeld",{"$f":"'A-Allgemeine Angaben'!$D$20","v":0},{"$f":"'C-Potenzialanalyse'!D24","v":0}]
[{"$f":"'C-Potenzialanalyse'!B33","v":"C3.1"},{"$f":"'C-Potenzialanalyse'!X33","v":"Potenzial Wärmebedarfsreduktion Gebäude"},null,null,{"$f":"MID('C-Potenzialanalyse'!$C$32,4,5)","v":"MWh/a"},{"$f":"'A-Allgemeine Angaben'!$D$20","v":0},{"$f":"IF('C-Potenzialanalyse'!D33=\"\",\"-\",'C-Potenzialanalyse'!D33)","v":"-"}]
[{"$f":"'C-Potenzialanalyse'!$B$38","v":"C.4"},{"$f":"'C-Potenzialanalyse'!X42","v":"Sanierungsrate linear"},null,null,{"$f":"MID('C-Potenzialanalyse'!$C$41,4,7)","v":"Prozent"},{"$f":"'A-Allgemeine Angaben'!$D$22","v":0},{"$f":"IF('C-Potenzialanalyse'!$D$42=\"\",\"-\",'C-Potenzialanalyse'!$D$42)","v":"-"}]
[{"$f":"'C-Potenzialanalyse'!$B$38","v":"C.4"},{"$f":"'C-Potenzialanalyse'!$Y$42","v":"Sanierungsrate nichtlinear"},null,null,{"$f":"MID('C-Potenzialanalyse'!$C$41,4,7)","v":"Prozent"},{"$f":"'A-Allgemeine Angaben'!$D$22","v":0},{"$f":"IF('C-Potenzialanalyse'!$E$42=\"\",\"-\",'C-Potenzialanalyse'!$E$42)","v":"-"}]
[{"$f":"'C-Potenzialanalyse'!$B$38","v":"C.4"},{"$f":"'C-Potenzialanalyse'!$Y$42","v":"Sanierungsrate nichtlinear"},null,null,{"$f":"MID('C-Potenzialanalyse'!$C$41,4,7)","v":"Prozent"},2030,{"$f":"IF('C-Potenzialanalyse'!$F$42=\"\",\"-\",'C-Potenzialanalyse'!$F$42)","v":"-"}]
[{"$f":"'C-Potenzialanalyse'!$B$38","v":"C.4"},{"$f":"'C-Potenzialanalyse'!$Y$42","v":"Sanierungsrate nichtlinear"},null,null,{"$f":"MID('C-Potenzialanalyse'!$C$41,4,7)","v":"Prozent"},2035,{"$f":"IF('C-Potenzialanalyse'!$G$42=\"\",\"-\",'C-Potenzialanalyse'!$G$42)","v":"-"}]
[{"$f":"'C-Potenzialanalyse'!$B$47","v":"C.5"},{"$f":"'C-Potenzialanalyse'!$C$52","v":"Potenzial Wärmeerzeugung"},{"$f":"'B-Bestandsanalyse'!X53","v":"Wasserstoff"},null,{"$f":"MID('C-Potenzialanalyse'!$C$53,4,5)","v":"MWh/a"},{"$f":"'A-Allgemeine Angaben'!$D$20","v":0},{"$f":"IF('C-Potenzialanalyse'!D54=\"\",\"-\",'C-Potenzialanalyse'!D54)","v":"-"}]
[{"$f":"'C-Potenzialanalyse'!$B$47","v":"C.5"},{"$f":"'C-Potenzialanalyse'!$C$52","v":"Potenzial Wärmeerzeugung"},{"$f":"'B-Bestandsanalyse'!X54","v":"Wasserstoffderivate"},null,{"$f":"MID('C-Potenzialanalyse'!$C$53,4,5)","v":"MWh/a"},{"$f":"'A-Allgemeine Angaben'!$D$20","v":0},{"$f":"IF('C-Potenzialanalyse'!D55=\"\",\"-\",'C-Potenzialanalyse'!D55)","v":"-"}]
[{"$f":"'C-Potenzialanalyse'!$B$47","v":"C.5"},{"$f":"'C-Potenzialanalyse'!$C$52","v":"Potenzial Wärmeerzeugung"},{"$f":"'B-Bestandsanalyse'!X55","v":"Grubengas"},null,{"$f":"MID('C-Potenzialanalyse'!$C$53,4,5)","v":"MWh/a"},{"$f":"'A-Allgemeine Angaben'!$D$20","v":0},{"$f":"IF('C-Potenzialanalyse'!D56=\"\",\"-\",'C-Potenzialanalyse'!D56)","v":"-"}]
[{"$f":"'C-Potenzialanalyse'!$B$47","v":"C.5"},{"$f":"'C-Potenzialanalyse'!$C$52","v":"Potenzial Wärmeerzeugung"},{"$f":"'B-Bestandsanalyse'!X56","v":"Nicht biogener Abfall"},null,{"$f":"MID('C-Potenzialanalyse'!$C$53,4,5)","v":"MWh/a"},{"$f":"'A-Allgemeine Angaben'!$D$20","v":0},{"$f":"IF('C-Potenzialanalyse'!D57=\"\",\"-\",'C-Potenzialanalyse'!D57)","v":"-"}]
[{"$f":"'C-Potenzialanalyse'!$B$47","v":"C.5"},{"$f":"'C-Potenzialanalyse'!$C$52","v":"Potenzial Wärmeerzeugung"},{"$f":"'B-Bestandsanalyse'!X57","v":"Biogener Abfall"},null,{"$f":"MID('C-Potenzialanalyse'!$C$53,4,5)","v":"MWh/a"},{"$f":"'A-Allgemeine Angaben'!$D$20","v":0},{"$f":"IF('C-Potenzialanalyse'!D58=\"\",\"-\",'C-Potenzialanalyse'!D58)","v":"-"}]
[{"$f":"'C-Potenzialanalyse'!$B$47","v":"C.5"},{"$f":"'C-Potenzialanalyse'!$C$52","v":"Potenzial Wärmeerzeugung"},{"$f":"'C-Potenzialanalyse'!X59","v":"Abwärme (Summe)"},null,{"$f":"MID('C-Potenzialanalyse'!$C$53,4,5)","v":"MWh/a"},{"$f":"'A-Allgemeine Angaben'!$D$20","v":0},{"$f":"IF('C-Potenzialanalyse'!D59=\"\",\"-\",'C-Potenzialanalyse'!D59)","v":"-"}]
[{"$f":"'C-Potenzialanalyse'!$B$47","v":"C.5"},{"$f":"'C-Potenzialanalyse'!$C$52","v":"Potenzial Wärmeerzeugung"},{"$f":"'B-Bestandsanalyse'!X58","v":"Abwärme < 60 °C"},null,{"$f":"MID('C-Potenzialanalyse'!$C$53,4,5)","v":"MWh/a"},{"$f":"'A-Allgemeine Angaben'!$D$20","v":0},{"$f":"IF('C-Potenzialanalyse'!D60=\"\",\"-\",'C-Potenzialanalyse'!D60)","v":"-"}]
[{"$f":"'C-Potenzialanalyse'!$B$47","v":"C.5"},{"$f":"'C-Potenzialanalyse'!$C$52","v":"Potenzial Wärmeerzeugung"},{"$f":"'B-Bestandsanalyse'!X59","v":"Abwärme 60 bis 110 °C"},null,{"$f":"MID('C-Potenzialanalyse'!$C$53,4,5)","v":"MWh/a"},{"$f":"'A-Allgemeine Angaben'!$D$20","v":0},{"$f":"IF('C-Potenzialanalyse'!D61=\"\",\"-\",'C-Potenzialanalyse'!D61)","v":"-"}]
[{"$f":"'C-Potenzialanalyse'!$B$47","v":"C.5"},{"$f":"'C-Potenzialanalyse'!$C$52","v":"Potenzial Wärmeerzeugung"},{"$f":"'B-Bestandsanalyse'!X60","v":"Abwärme >= 110 °C"},null,{"$f":"MID('C-Potenzialanalyse'!$C$53,4,5)","v":"MWh/a"},{"$f":"'A-Allgemeine Angaben'!$D$20","v":0},{"$f":"IF('C-Potenzialanalyse'!D62=\"\",\"-\",'C-Potenzialanalyse'!D62)","v":"-"}]
[{"$f":"'C-Potenzialanalyse'!$B$47","v":"C.5"},{"$f":"'C-Potenzialanalyse'!$C$52","v":"Potenzial Wärmeerzeugung"},{"$f":"'B-Bestandsanalyse'!X61","v":"feste Biomasse (ohne Altholz)"},null,{"$f":"MID('C-Potenzialanalyse'!$C$53,4,5)","v":"MWh/a"},{"$f":"'A-Allgemeine Angaben'!$D$20","v":0},{"$f":"IF('C-Potenzialanalyse'!D63=\"\",\"-\",'C-Potenzialanalyse'!D63)","v":"-"}]
[{"$f":"'C-Potenzialanalyse'!$B$47","v":"C.5"},{"$f":"'C-Potenzialanalyse'!$C$52","v":"Potenzial Wärmeerzeugung"},{"$f":"'B-Bestandsanalyse'!X62","v":"Altholz"},null,{"$f":"MID('C-Potenzialanalyse'!$C$53,4,5)","v":"MWh/a"},{"$f":"'A-Allgemeine Angaben'!$D$20","v":0},{"$f":"IF('C-Potenzialanalyse'!D64=\"\",\"-\",'C-Potenzialanalyse'!D64)","v":"-"}]
[{"$f":"'C-Potenzialanalyse'!$B$47","v":"C.5"},{"$f":"'C-Potenzialanalyse'!$C$52","v":"Potenzial Wärmeerzeugung"},{"$f":"'B-Bestandsanalyse'!X63","v":"Biogas"},null,{"$f":"MID('C-Potenzialanalyse'!$C$53,4,5)","v":"MWh/a"},{"$f":"'A-Allgemeine Angaben'!$D$20","v":0},{"$f":"IF('C-Potenzialanalyse'!D65=\"\",\"-\",'C-Potenzialanalyse'!D65)","v":"-"}]
[{"$f":"'C-Potenzialanalyse'!$B$47","v":"C.5"},{"$f":"'C-Potenzialanalyse'!$C$52","v":"Potenzial Wärmeerzeugung"},{"$f":"'B-Bestandsanalyse'!X64","v":"Biomethan"},null,{"$f":"MID('C-Potenzialanalyse'!$C$53,4,5)","v":"MWh/a"},{"$f":"'A-Allgemeine Angaben'!$D$20","v":0},{"$f":"IF('C-Potenzialanalyse'!D66=\"\",\"-\",'C-Potenzialanalyse'!D66)","v":"-"}]
[{"$f":"'C-Potenzialanalyse'!$B$47","v":"C.5"},{"$f":"'C-Potenzialanalyse'!$C$52","v":"Potenzial Wärmeerzeugung"},{"$f":"'B-Bestandsanalyse'!X65","v":"Deponiegas"},null,{"$f":"MID('C-Potenzialanalyse'!$C$53,4,5)","v":"MWh/a"},{"$f":"'A-Allgemeine Angaben'!$D$20","v":0},{"$f":"IF('C-Potenzialanalyse'!D67=\"\",\"-\",'C-Potenzialanalyse'!D67)","v":"-"}]
[{"$f":"'C-Potenzialanalyse'!$B$47","v":"C.5"},{"$f":"'C-Potenzialanalyse'!$C$52","v":"Potenzial Wärmeerzeugung"},{"$f":"'B-Bestandsanalyse'!X66","v":"Klärgas"},null,{"$f":"MID('C-Potenzialanalyse'!$C$53,4,5)","v":"MWh/a"},{"$f":"'A-Allgemeine Angaben'!$D$20","v":0},{"$f":"IF('C-Potenzialanalyse'!D68=\"\",\"-\",'C-Potenzialanalyse'!D68)","v":"-"}]
[{"$f":"'C-Potenzialanalyse'!$B$47","v":"C.5"},{"$f":"'C-Potenzialanalyse'!$C$52","v":"Potenzial Wärmeerzeugung"},{"$f":"'B-Bestandsanalyse'!X67","v":"Flüssige Biomasse"},null,{"$f":"MID('C-Potenzialanalyse'!$C$53,4,5)","v":"MWh/a"},{"$f":"'A-Allgemeine Angaben'!$D$20","v":0},{"$f":"IF('C-Potenzialanalyse'!D69=\"\",\"-\",'C-Potenzialanalyse'!D69)","v":"-"}]
[{"$f":"'C-Potenzialanalyse'!$B$47","v":"C.5"},{"$f":"'C-Potenzialanalyse'!$C$52","v":"Potenzial Wärmeerzeugung"},{"$f":"'C-Potenzialanalyse'!X70","v":"Erneuerbare Stromerzeugung"},null,{"$f":"MID('C-Potenzialanalyse'!$C$53,4,5)","v":"MWh/a"},{"$f":"'A-Allgemeine Angaben'!$D$20","v":0},{"$f":"IF('C-Potenzialanalyse'!D70=\"\",\"-\",'C-Potenzialanalyse'!D70)","v":"-"}]
[{"$f":"'C-Potenzialanalyse'!$B$47","v":"C.5"},{"$f":"'C-Potenzialanalyse'!$C$52","v":"Potenzial Wärmeerzeugung"},{"$f":"'B-Bestandsanalyse'!X70","v":"Solarthermie Dach-Anlagen"},null,{"$f":"MID('C-Potenzialanalyse'!$C$53,4,5)","v":"MWh/a"},{"$f":"'A-Allgemeine Angaben'!$D$20","v":0},{"$f":"IF('C-Potenzialanalyse'!D71=\"\",\"-\",'C-Potenzialanalyse'!D71)","v":"-"}]
[{"$f":"'C-Potenzialanalyse'!$B$47","v":"C.5"},{"$f":"'C-Potenzialanalyse'!$C$52","v":"Potenzial Wärmeerzeugung"},{"$f":"'B-Bestandsanalyse'!X71","v":"Solarthermie Freiflächenanlagen"},null,{"$f":"MID('C-Potenzialanalyse'!$C$53,4,5)","v":"MWh/a"},{"$f":"'A-Allgemeine Angaben'!$D$20","v":0},{"$f":"IF('C-Potenzialanalyse'!D72=\"\",\"-\",'C-Potenzialanalyse'!D72)","v":"-"}]
[{"$f":"'C-Potenzialanalyse'!$B$47","v":"C.5"},{"$f":"'C-Potenzialanalyse'!$C$52","v":"Potenzial Wärmeerzeugung"},{"$f":"'B-Bestandsanalyse'!X72","v":"Oberflächennahe Geothermie"},null,{"$f":"MID('C-Potenzialanalyse'!$C$53,4,5)","v":"MWh/a"},{"$f":"'A-Allgemeine Angaben'!$D$20","v":0},{"$f":"IF('C-Potenzialanalyse'!D73=\"\",\"-\",'C-Potenzialanalyse'!D73)","v":"-"}]
[{"$f":"'C-Potenzialanalyse'!$B$47","v":"C.5"},{"$f":"'C-Potenzialanalyse'!$C$52","v":"Potenzial Wärmeerzeugung"},{"$f":"'B-Bestandsanalyse'!X73","v":"Tiefe Geothermie"},null,{"$f":"MID('C-Potenzialanalyse'!$C$53,4,5)","v":"MWh/a"},{"$f":"'A-Allgemeine Angaben'!$D$20","v":0},{"$f":"IF('C-Potenzialanalyse'!D74=\"\",\"-\",'C-Potenzialanalyse'!D74)","v":"-"}]
[{"$f":"'C-Potenzialanalyse'!$B$47","v":"C.5"},{"$f":"'C-Potenzialanalyse'!$C$52","v":"Potenzial Wärmeerzeugung"},{"$f":"'B-Bestandsanalyse'!X74","v":"Oberflächengewässern"},null,{"$f":"MID('C-Potenzialanalyse'!$C$53,4,5)","v":"MWh/a"},{"$f":"'A-Allgemeine Angaben'!$D$20","v":0},{"$f":"IF('C-Potenzialanalyse'!D75=\"\",\"-\",'C-Potenzialanalyse'!D75)","v":"-"}]
[{"$f":"'C-Potenzialanalyse'!$B$47","v":"C.5"},{"$f":"'C-Potenzialanalyse'!$C$52","v":"Potenzial Wärmeerzeugung"},{"$f":"'B-Bestandsanalyse'!X75","v":"Grubenwasser"},null,{"$f":"MID('C-Potenzialanalyse'!$C$53,4,5)","v":"MWh/a"},{"$f":"'A-Allgemeine Angaben'!$D$20","v":0},{"$f":"IF('C-Potenzialanalyse'!D76=\"\",\"-\",'C-Potenzialanalyse'!D76)","v":"-"}]
[{"$f":"'C-Potenzialanalyse'!$B$47","v":"C.5"},{"$f":"'C-Potenzialanalyse'!$C$52","v":"Potenzial Wärmeerzeugung"},{"$f":"'B-Bestandsanalyse'!X77","v":"Abwasser"},null,{"$f":"MID('C-Potenzialanalyse'!$C$53,4,5)","v":"MWh/a"},{"$f":"'A-Allgemeine Angaben'!$D$20","v":0},{"$f":"IF('C-Potenzialanalyse'!D77=\"\",\"-\",'C-Potenzialanalyse'!D77)","v":"-"}]
[{"$f":"'C-Potenzialanalyse'!$B$47","v":"C.5"},{"$f":"'C-Potenzialanalyse'!$C$52","v":"Potenzial Wärmeerzeugung"},null,null,{"$f":"MID('C-Potenzialanalyse'!$C$53,4,5)","v":"MWh/a"},{"$f":"'A-Allgemeine Angaben'!$D$20","v":0},{"$f":"IF('C-Potenzialanalyse'!D78=\"\",\"-\",'C-Potenzialanalyse'!D78)","v":0}]
[{"$f":"'D-Zielszenario'!B22","v":"D.1"},{"$f":"'D-Zielszenario'!X22","v":"Anzahl Wärmenetze"},null,null,{"$f":"'D-Zielszenario'!H22","v":"Anzahl"},{"$f":"'D-Zielszenario'!$E$20","v":2030},{"$f":"IF('D-Zielszenario'!E22=\"\",\"-\",'D-Zielszenario'!E22)","v":"-"}]
[{"$f":"'D-Zielszenario'!B23","v":"D.2"},{"$f":"'D-Zielszenario'!X23","v":"Gesamtlänge Wärmenetze"},null,null,{"$f":"'D-Zielszenario'!H23","v":"km"},{"$f":"'D-Zielszenario'!$E$20","v":2030},{"$f":"IF('D-Zielszenario'!E23=\"\",\"-\",'D-Zielszenario'!E23)","v":"-"}]
[{"$f":"'D-Zielszenario'!B24","v":"D.3"},{"$f":"'D-Zielszenario'!X24","v":"Kapazität Wärmespeicher"},null,null,{"$f":"'D-Zielszenario'!H24","v":"MWh"},{"$f":"'D-Zielszenario'!$E$20","v":2030},{"$f":"IF('D-Zielszenario'!E24=\"\",\"-\",'D-Zielszenario'!E24)","v":"-"}]
[{"$f":"'D-Zielszenario'!B25","v":"D.4"},{"$f":"'D-Zielszenario'!X25","v":"Anzahl Gebäude mit Wärmenetzanschluss"},null,null,{"$f":"'D-Zielszenario'!H25","v":"Anzahl"},{"$f":"'D-Zielszenario'!$E$20","v":2030},{"$f":"IF('D-Zielszenario'!E25=\"\",\"-\",'D-Zielszenario'!E25)","v":"-"}]
[{"$f":"'D-Zielszenario'!B26","v":"D.5"},{"$f":"'D-Zielszenario'!X26","v":"Anteil Gebäude mit Wärmenetzanschluss"},null,null,{"$f":"'D-Zielszenario'!H26","v":"%"},{"$f":"'D-Zielszenario'!$E$20","v":2030},{"$f":"IF('D-Zielszenario'!E26=\"\",\"-\",'D-Zielszenario'!E26)","v":"-"}]
[{"$f":"'D-Zielszenario'!B27","v":"D.6"},{"$f":"'D-Zielszenario'!X27","v":"Anzahl Gebäude mit Gasnetzanschluss"},null,null,{"$f":"'D-Zielszenario'!H27","v":"Anzahl"},{"$f":"'D-Zielszenario'!$E$20","v":2030},{"$f":"IF('D-Zielszenario'!E27=\"\",\"-\",'D-Zielszenario'!E27)","v":"-"}]
[{"$f":"'D-Zielszenario'!B28","v":"D.7"},{"$f":"'D-Zielszenario'!X28","v":"Anteil Gebäude mit Gasnetzanschluss"},null,null,{"$f":"'D-Zielszenario'!H28","v":"%"},{"$f":"'D-Zielszenario'!$E$20","v":2030},{"$f":"IF('D-Zielszenario'!E28=\"\",\"-\",'D-Zielszenario'!E28)","v":"-"}]
[{"$f":"A452","v":"D.1"},{"$f":"B452","v":"Anzahl Wärmenetze"},null,null,{"$f":"E452","v":"Anzahl"},{"$f":"'D-Zielszenario'!$F$20","v":"2035"},{"$f":"IF('D-Zielszenario'!F22=\"\",\"-\",'D-Zielszenario'!F22)","v":"-"}]
[{"$f":"A453","v":"D.2"},"Gesamtlänge Wärmenetze",null,null,{"$f":"E453","v":"km"},{"$f":"'D-Zielszenario'!$F$20","v":"2035"},{"$f":"IF('D-Zielszenario'!F23=\"\",\"-\",'D-Zielszenario'!F23)","v":"-"}]
[{"$f":"A454","v":"D.3"},"Kapazität Wärmespeicher",null,null,"MWh",{"$f":"'D-Zielszenario'!$F$20","v":"2035"},{"$f":"IF('D-Zielszenario'!F24=\"\",\"-\",'D-Zielszenario'!F24)","v":"-"}]
[{"$f":"A455","v":"D.4"},"Anzahl Gebäude mit Wärmenetzanschluss",null,null,"Anzahl",{"$f":"'D-Zielszenario'!$F$20","v":"2035"},{"$f":"IF('D-Zielszenario'!F25=\"\",\"-\",'D-Zielszenario'!F25)","v":"-"}]
[{"$f":"A456","v":"D.5"},"Anteil Gebäude mit Wärmenetzanschluss",null,null,"%",{"$f":"'D-Zielszenario'!$F$20","v":"2035"},{"$f":"IF('D-Zielszenario'!F26=\"\",\"-\",'D-Zielszenario'!F26)","v":"-"}]
[{"$f":"A457","v":"D.6"},"Anzahl Gebäude mit Gasnetzanschluss",null,null,"Anzahl",{"$f":"'D-Zielszenario'!$F$20","v":"2035"},{"$f":"IF('D-Zielszenario'!F27=\"\",\"-\",'D-Zielszenario'!F27)","v":"-"}]
[{"$f":"A458","v":"D.7"},"Anteil Gebäude mit Gasnetzanschluss",null,null,"%",{"$f":"'D-Zielszenario'!$F$20","v":"2035"},{"$f":"IF('D-Zielszenario'!F28=\"\",\"-\",'D-Zielszenario'!F28)","v":"-"}]
[{"$f":"A452","v":"D.1"},{"$f":"B452","v":"Anzahl Wärmenetze"},null,null,{"$f":"E452","v":"Anzahl"},{"$f":"'D-Zielszenario'!$G$20","v":2040},{"$f":"IF('D-Zielszenario'!G22=\"\",\"-\",'D-Zielszenario'!G22)","v":"-"}]
[{"$f":"A453","v":"D.2"},"Gesamtlänge Wärmenetze",null,null,{"$f":"E453","v":"km"},{"$f":"'D-Zielszenario'!$G$20","v":2040},{"$f":"IF('D-Zielszenario'!G23=\"\",\"-\",'D-Zielszenario'!G23)","v":"-"}]
[{"$f":"A454","v":"D.3"},"Kapazität Wärmespeicher",null,null,"MWh",{"$f":"'D-Zielszenario'!$G$20","v":2040},{"$f":"IF('D-Zielszenario'!G24=\"\",\"-\",'D-Zielszenario'!G24)","v":"-"}]
[{"$f":"A455","v":"D.4"},"Anzahl Gebäude mit Wärmenetzanschluss",null,null,"Anzahl",{"$f":"'D-Zielszenario'!$G$20","v":2040},{"$f":"IF('D-Zielszenario'!G25=\"\",\"-\",'D-Zielszenario'!G25)","v":"-"}]
[{"$f":"A456","v":"D.5"},"Anteil Gebäude mit Wärmenetzanschluss",null,null,"%",{"$f":"'D-Zielszenario'!$G$20","v":2040},{"$f":"IF('D-Zielszenario'!G26=\"\",\"-\",'D-Zielszenario'!G26)","v":"-"}]
[{"$f":"A457","v":"D.6"},"Anzahl Gebäude mit Gasnetzanschluss",null,null,"Anzahl",{"$f":"'D-Zielszenario'!$G$20","v":2040},{"$f":"IF('D-Zielszenario'!G27=\"\",\"-\",'D-Zielszenario'!G27)","v":"-"}]
[{"$f":"A458","v":"D.7"},"Anteil Gebäude mit Gasnetzanschluss",null,null,"%",{"$f":"'D-Zielszenario'!$G$20","v":2040},{"$f":"IF('D-Zielszenario'!G28=\"\",\"-\",'D-Zielszenario'!G28)","v":"-"}]
[{"$f":"'D-Zielszenario'!B33","v":"D.8"},{"$f":"'D-Zielszenario'!C36","v":"Endenergieverbrauch"},{"$f":"'D-Zielszenario'!X37","v":"grünes Methan"},null,{"$f":"'D-Zielszenario'!E37","v":"MWh/a"},{"$f":"'D-Zielszenario'!D36","v":2040},{"$f":"IF('D-Zielszenario'!D37=\"\",\"-\",'D-Zielszenario'!D37)","v":"-"}]
[{"$f":"'D-Zielszenario'!$B$40","v":"D.9"},{"$f":"'B-Bestandsanalyse'!$C$45","v":"Endenergieverbrauch Wärme"},{"$f":"'B-Bestandsanalyse'!X48","v":"Braunkohle"},{"$f":"'B-Bestandsanalyse'!$D$47","v":"Haushalte"},{"$f":"'B-Bestandsanalyse'!$C$47","v":"MWh/a"},{"$f":"'D-Zielszenario'!$C$50","v":2030},{"$f":"IF('D-Zielszenario'!D52=\"\",\"-\",'D-Zielszenario'!D52)","v":"-"}]
[{"$f":"'D-Zielszenario'!$B$40","v":"D.9"},{"$f":"'B-Bestandsanalyse'!$C$45","v":"Endenergieverbrauch Wärme"},{"$f":"'B-Bestandsanalyse'!X49","v":"Steinkohle"},{"$f":"'B-Bestandsanalyse'!$D$47","v":"Haushalte"},{"$f":"'B-Bestandsanalyse'!$C$47","v":"MWh/a"},{"$f":"'D-Zielszenario'!$C$50","v":2030},{"$f":"IF('D-Zielszenario'!D53=\"\",\"-\",'D-Zielszenario'!D53)","v":"-"}]
[{"$f":"'D-Zielszenario'!$B$40","v":"D.9"},{"$f":"'B-Bestandsanalyse'!$C$45","v":"Endenergieverbrauch Wärme"},{"$f":"'B-Bestandsanalyse'!X50","v":"Erdgas"},{"$f":"'B-Bestandsanalyse'!$D$47","v":"Haushalte"},{"$f":"'B-Bestandsanalyse'!$C$47","v":"MWh/a"},{"$f":"'D-Zielszenario'!$C$50","v":2030},{"$f":"IF('D-Zielszenario'!D54=\"\",\"-\",'D-Zielszenario'!D54)","v":"-"}]
[{"$f":"'D-Zielszenario'!$B$40","v":"D.9"},{"$f":"'B-Bestandsanalyse'!$C$45","v":"Endenergieverbrauch Wärme"},{"$f":"'B-Bestandsanalyse'!X51","v":"Flüssiggas"},{"$f":"'B-Bestandsanalyse'!$D$47","v":"Haushalte"},{"$f":"'B-Bestandsanalyse'!$C$47","v":"MWh/a"},{"$f":"'D-Zielszenario'!$C$50","v":2030},{"$f":"IF('D-Zielszenario'!D55=\"\",\"-\",'D-Zielszenario'!D55)","v":"-"}]
[{"$f":"'D-Zielszenario'!$B$40","v":"D.9"},{"$f":"'B-Bestandsanalyse'!$C$45","v":"Endenergieverbrauch Wärme"},{"$f":"'B-Bestandsanalyse'!X52","v":"Heizöl"},{"$f":"'B-Bestandsanalyse'!$D$47","v":"Haushalte"},{"$f":"'B-Bestandsanalyse'!$C$47","v":"MWh/a"},{"$f":"'D-Zielszenario'!$C$50","v":2030},{"$f":"IF('D-Zielszenario'!D56=\"\",\"-\",'D-Zielszenario'!D56)","v":"-"}]
[{"$f":"'D-Zielszenario'!$B$40","v":"D.9"},{"$f":"'B-Bestandsanalyse'!$C$45","v":"Endenergieverbrauch Wärme"},{"$f":"'B-Bestandsanalyse'!X53","v":"Wasserstoff"},{"$f":"'B-Bestandsanalyse'!$D$47","v":"Haushalte"},{"$f":"'B-Bestandsanalyse'!$C$47","v":"MWh/a"},{"$f":"'D-Zielszenario'!$C$50","v":2030},{"$f":"IF('D-Zielszenario'!D57=\"\",\"-\",'D-Zielszenario'!D57)","v":"-"}]
[{"$f":"'D-Zielszenario'!$B$40","v":"D.9"},{"$f":"'B-Bestandsanalyse'!$C$45","v":"Endenergieverbrauch Wärme"},{"$f":"'B-Bestandsanalyse'!X54","v":"Wasserstoffderivate"},{"$f":"'B-Bestandsanalyse'!$D$47","v":"Haushalte"},{"$f":"'B-Bestandsanalyse'!$C$47","v":"MWh/a"},{"$f":"'D-Zielszenario'!$C$50","v":2030},{"$f":"IF('D-Zielszenario'!D58=\"\",\"-\",'D-Zielszenario'!D58)","v":"-"}]
[{"$f":"'D-Zielszenario'!$B$40","v":"D.9"},{"$f":"'B-Bestandsanalyse'!$C$45","v":"Endenergieverbrauch Wärme"},{"$f":"'B-Bestandsanalyse'!X55","v":"Grubengas"},{"$f":"'B-Bestandsanalyse'!$D$47","v":"Haushalte"},{"$f":"'B-Bestandsanalyse'!$C$47","v":"MWh/a"},{"$f":"'D-Zielszenario'!$C$50","v":2030},{"$f":"IF('D-Zielszenario'!D59=\"\",\"-\",'D-Zielszenario'!D59)","v":"-"}]
[{"$f":"'D-Zielszenario'!$B$40","v":"D.9"},{"$f":"'B-Bestandsanalyse'!$C$45","v":"Endenergieverbrauch Wärme"},{"$f":"'B-Bestandsanalyse'!X56","v":"Nicht biogener Abfall"},{"$f":"'B-Bestandsanalyse'!$D$47","v":"Haushalte"},{"$f":"'B-Bestandsanalyse'!$C$47","v":"MWh/a"},{"$f":"'D-Zielszenario'!$C$50","v":2030},{"$f":"IF('D-Zielszenario'!D60=\"\",\"-\",'D-Zielszenario'!D60)","v":"-"}]
[{"$f":"'D-Zielszenario'!$B$40","v":"D.9"},{"$f":"'B-Bestandsanalyse'!$C$45","v":"Endenergieverbrauch Wärme"},{"$f":"'B-Bestandsanalyse'!X57","v":"Biogener Abfall"},{"$f":"'B-Bestandsanalyse'!$D$47","v":"Haushalte"},{"$f":"'B-Bestandsanalyse'!$C$47","v":"MWh/a"},{"$f":"'D-Zielszenario'!$C$50","v":2030},{"$f":"IF('D-Zielszenario'!D61=\"\",\"-\",'D-Zielszenario'!D61)","v":"-"}]
[{"$f":"'D-Zielszenario'!$B$40","v":"D.9"},{"$f":"'B-Bestandsanalyse'!$C$45","v":"Endenergieverbrauch Wärme"},{"$f":"'B-Bestandsanalyse'!X58","v":"Abwärme < 60 °C"},{"$f":"'B-Bestandsanalyse'!$D$47","v":"Haushalte"},{"$f":"'B-Bestandsanalyse'!$C$47","v":"MWh/a"},{"$f":"'D-Zielszenario'!$C$50","v":2030},{"$f":"IF('D-Zielszenario'!D62=\"\",\"-\",'D-Zielszenario'!D62)","v":"-"}]
[{"$f":"'D-Zielszenario'!$B$40","v":"D.9"},{"$f":"'B-Bestandsanalyse'!$C$45","v":"Endenergieverbrauch Wärme"},{"$f":"'B-Bestandsanalyse'!X59","v":"Abwärme 60 bis 110 °C"},{"$f":"'B-Bestandsanalyse'!$D$47","v":"Haushalte"},{"$f":"'B-Bestandsanalyse'!$C$47","v":"MWh/a"},{"$f":"'D-Zielszenario'!$C$50","v":2030},{"$f":"IF('D-Zielszenario'!D63=\"\",\"-\",'D-Zielszenario'!D63)","v":"-"}]
[{"$f":"'D-Zielszenario'!$B$40","v":"D.9"},{"$f":"'B-Bestandsanalyse'!$C$45","v":"Endenergieverbrauch Wärme"},{"$f":"'B-Bestandsanalyse'!X60","v":"Abwärme >= 110 °C"},{"$f":"'B-Bestandsanalyse'!$D$47","v":"Haushalte"},{"$f":"'B-Bestandsanalyse'!$C$47","v":"MWh/a"},{"$f":"'D-Zielszenario'!$C$50","v":2030},{"$f":"IF('D-Zielszenario'!D64=\"\",\"-\",'D-Zielszenario'!D64)","v":"-"}]
[{"$f":"'D-Zielszenario'!$B$40","v":"D.9"},{"$f":"'B-Bestandsanalyse'!$C$45","v":"Endenergieverbrauch Wärme"},{"$f":"'B-Bestandsanalyse'!X61","v":"feste Biomasse (ohne Altholz)"},{"$f":"'B-Bestandsanalyse'!$D$47","v":"Haushalte"},{"$f":"'B-Bestandsanalyse'!$C$47","v":"MWh/a"},{"$f":"'D-Zielszenario'!$C$50","v":2030},{"$f":"IF('D-Zielszenario'!D65=\"\",\"-\",'D-Zielszenario'!D65)","v":"-"}]
[{"$f":"'D-Zielszenario'!$B$40","v":"D.9"},{"$f":"'B-Bestandsanalyse'!$C$45","v":"Endenergieverbrauch Wärme"},{"$f":"'B-Bestandsanalyse'!X62","v":"Altholz"},{"$f":"'B-Bestandsanalyse'!$D$47","v":"Haushalte"},{"$f":"'B-Bestandsanalyse'!$C$47","v":"MWh/a"},{"$f":"'D-Zielszenario'!$C$50","v":2030},{"$f":"IF('D-Zielszenario'!D66=\"\",\"-\",'D-Zielszenario'!D66)","v":"-"}]
[{"$f":"'D-Zielszenario'!$B$40","v":"D.9"},{"$f":"'B-Bestandsanalyse'!$C$45","v":"Endenergieverbrauch Wärme"},{"$f":"'B-Bestandsanalyse'!X63","v":"Biogas"},{"$f":"'B-Bestandsanalyse'!$D$47","v":"Haushalte"},{"$f":"'B-Bestandsanalyse'!$C$47","v":"MWh/a"},{"$f":"'D-Zielszenario'!$C$50","v":2030},{"$f":"IF('D-Zielszenario'!D67=\"\",\"-\",'D-Zielszenario'!D67)","v":"-"}]
[{"$f":"'D-Zielszenario'!$B$40","v":"D.9"},{"$f":"'B-Bestandsanalyse'!$C$45","v":"Endenergieverbrauch Wärme"},{"$f":"'B-Bestandsanalyse'!X64","v":"Biomethan"},{"$f":"'B-Bestandsanalyse'!$D$47","v":"Haushalte"},{"$f":"'B-Bestandsanalyse'!$C$47","v":"MWh/a"},{"$f":"'D-Zielszenario'!$C$50","v":2030},{"$f":"IF('D-Zielszenario'!D68=\"\",\"-\",'D-Zielszenario'!D68)","v":"-"}]
[{"$f":"'D-Zielszenario'!$B$40","v":"D.9"},{"$f":"'B-Bestandsanalyse'!$C$45","v":"Endenergieverbrauch Wärme"},{"$f":"'B-Bestandsanalyse'!X65","v":"Deponiegas"},{"$f":"'B-Bestandsanalyse'!$D$47","v":"Haushalte"},{"$f":"'B-Bestandsanalyse'!$C$47","v":"MWh/a"},{"$f":"'D-Zielszenario'!$C$50","v":2030},{"$f":"IF('D-Zielszenario'!D69=\"\",\"-\",'D-Zielszenario'!D69)","v":"-"}]
[{"$f":"'D-Zielszenario'!$B$40","v":"D.9"},{"$f":"'B-Bestandsanalyse'!$C$45","v":"Endenergieverbrauch Wärme"},{"$f":"'B-Bestandsanalyse'!X66","v":"Klärgas"},{"$f":"'B-Bestandsanalyse'!$D$47","v":"Haushalte"},{"$f":"'B-Bestandsanalyse'!$C$47","v":"MWh/a"},{"$f":"'D-Zielszenario'!$C$50","v":2030},{"$f":"IF('D-Zielszenario'!D70=\"\",\"-\",'D-Zielszenario'!D70)","v":"-"}]
[{"$f":"'D-Zielszenario'!$B$40","v":"D.9"},{"$f":"'B-Bestandsanalyse'!$C$45","v":"Endenergieverbrauch Wärme"},{"$f":"'B-Bestandsanalyse'!X67","v":"Flüssige Biomasse"},{"$f":"'B-Bestandsanalyse'!$D$47","v":"Haushalte"},{"$f":"'B-Bestandsanalyse'!$C$47","v":"MWh/a"},{"$f":"'D-Zielszenario'!$C$50","v":2030},{"$f":"IF('D-Zielszenario'!D71=\"\",\"-\",'D-Zielszenario'!D71)","v":"-"}]
[{"$f":"'D-Zielszenario'!$B$40","v":"D.9"},{"$f":"'B-Bestandsanalyse'!$C$45","v":"Endenergieverbrauch Wärme"},{"$f":"'B-Bestandsanalyse'!X68","v":"Strom Wärmepumpe"},{"$f":"'B-Bestandsanalyse'!$D$47","v":"Haushalte"},{"$f":"'B-Bestandsanalyse'!$C$47","v":"MWh/a"},{"$f":"'D-Zielszenario'!$C$50","v":2030},{"$f":"IF('D-Zielszenario'!D72=\"\",\"-\",'D-Zielszenario'!D72)","v":"-"}]
[{"$f":"'D-Zielszenario'!$B$40","v":"D.9"},{"$f":"'B-Bestandsanalyse'!$C$45","v":"Endenergieverbrauch Wärme"},{"$f":"'B-Bestandsanalyse'!X69","v":"Strom Direktheizung"},{"$f":"'B-Bestandsanalyse'!$D$47","v":"Haushalte"},{"$f":"'B-Bestandsanalyse'!$C$47","v":"MWh/a"},{"$f":"'D-Zielszenario'!$C$50","v":2030},{"$f":"IF('D-Zielszenario'!D73=\"\",\"-\",'D-Zielszenario'!D73)","v":"-"}]
[{"$f":"'D-Zielszenario'!$B$40","v":"D.9"},{"$f":"'B-Bestandsanalyse'!$C$45","v":"Endenergieverbrauch Wärme"},{"$f":"'B-Bestandsanalyse'!X70","v":"Solarthermie Dach-Anlagen"},{"$f":"'B-Bestandsanalyse'!$D$47","v":"Haushalte"},{"$f":"'B-Bestandsanalyse'!$C$47","v":"MWh/a"},{"$f":"'D-Zielszenario'!$C$50","v":2030},{"$f":"IF('D-Zielszenario'!D74=\"\",\"-\",'D-Zielszenario'!D74)","v":"-"}]
[{"$f":"'D-Zielszenario'!$B$40","v":"D.9"},{"$f":"'B-Bestandsanalyse'!$C$45","v":"Endenergieverbrauch Wärme"},{"$f":"'B-Bestandsanalyse'!X71","v":"Solarthermie Freiflächenanlagen"},{"$f":"'B-Bestandsanalyse'!$D$47","v":"Haushalte"},{"$f":"'B-Bestandsanalyse'!$C$47","v":"MWh/a"},{"$f":"'D-Zielszenario'!$C$50","v":2030},{"$f":"IF('D-Zielszenario'!D75=\"\",\"-\",'D-Zielszenario'!D75)","v":"-"}]
[{"$f":"'D-Zielszenario'!$B$40","v":"D.9"},{"$f":"'B-Bestandsanalyse'!$C$45","v":"Endenergieverbrauch Wärme"},{"$f":"'B-Bestandsanalyse'!X72","v":"Oberflächennahe Geothermie"},{"$f":"'B-Bestandsanalyse'!$D$47","v":"Haushalte"},{"$f":"'B-Bestandsanalyse'!$C$47","v":"MWh/a"},{"$f":"'D-Zielszenario'!$C$50","v":2030},{"$f":"IF('D-Zielszenario'!D76=\"\",\"-\",'D-Zielszenario'!D76)","v":"-"}]
[{"$f":"'D-Zielszenario'!$B$40","v":"D.9"},{"$f":"'B-Bestandsanalyse'!$C$45","v":"Endenergieverbrauch Wärme"},{"$f":"'B-Bestandsanalyse'!X73","v":"Tiefe Geothermie"},{"$f":"'B-Bestandsanalyse'!$D$47","v":"Haushalte"},{"$f":"'B-Bestandsanalyse'!$C$47","v":"MWh/a"},{"$f":"'D-Zielszenario'!$C$50","v":2030},{"$f":"IF('D-Zielszenario'!D77=\"\",\"-\",'D-Zielszenario'!D77)","v":"-"}]
[{"$f":"'D-Zielszenario'!$B$40","v":"D.9"},{"$f":"'B-Bestandsanalyse'!$C$45","v":"Endenergieverbrauch Wärme"},{"$f":"'B-Bestandsanalyse'!X74","v":"Oberflächengewässern"},{"$f":"'B-Bestandsanalyse'!$D$47","v":"Haushalte"},{"$f":"'B-Bestandsanalyse'!$C$47","v":"MWh/a"},{"$f":"'D-Zielszenario'!$C$50","v":2030},{"$f":"IF('D-Zielszenario'!D78=\"\",\"-\",'D-Zielszenario'!D78)","v":"-"}]
[{"$f":"'D-Zielszenario'!$B$40","v":"D.9"},{"$f":"'B-Bestandsanalyse'!$C$45","v":"Endenergieverbrauch Wärme"},{"$f":"'B-Bestandsanalyse'!X75","v":"Grubenwasser"},{"$f":"'B-Bestandsanalyse'!$D$47","v":"Haushalte"},{"$f":"'B-Bestandsanalyse'!$C$47","v":"MWh/a"},{"$f":"'D-Zielszenario'!$C$50","v":2030},{"$f":"IF('D-Zielszenario'!D79=\"\",\"-\",'D-Zielszenario'!D79)","v":"-"}]
[{"$f":"'D-Zielszenario'!$B$40","v":"D.9"},{"$f":"'B-Bestandsanalyse'!$C$45","v":"Endenergieverbrauch Wärme"},{"$f":"'B-Bestandsanalyse'!X76","v":"Luft"},{"$f":"'B-Bestandsanalyse'!$D$47","v":"Haushalte"},{"$f":"'B-Bestandsanalyse'!$C$47","v":"MWh/a"},{"$f":"'D-Zielszenario'!$C$50","v":2030},{"$f":"IF('D-Zielszenario'!D80=\"\",\"-\",'D-Zielszenario'!D80)","v":"-"}]
[{"$f":"'D-Zielszenario'!$B$40","v":"D.9"},{"$f":"'B-Bestandsanalyse'!$C$45","v":"Endenergieverbrauch Wärme"},{"$f":"'B-Bestandsanalyse'!X77","v":"Abwasser"},{"$f":"'B-Bestandsanalyse'!$D$47","v":"Haushalte"},{"$f":"'B-Bestandsanalyse'!$C$47","v":"MWh/a"},{"$f":"'D-Zielszenario'!$C$50","v":2030},{"$f":"IF('D-Zielszenario'!D81=\"\",\"-\",'D-Zielszenario'!D81)","v":"-"}]
[{"$f":"'D-Zielszenario'!$B$40","v":"D.9"},{"$f":"'B-Bestandsanalyse'!$C$45","v":"Endenergieverbrauch Wärme"},{"$f":"'B-Bestandsanalyse'!X78","v":"Sonstige fossile Brennstoffe"},{"$f":"'B-Bestandsanalyse'!$D$47","v":"Haushalte"},{"$f":"'B-Bestandsanalyse'!$C$47","v":"MWh/a"},{"$f":"'D-Zielszenario'!$C$50","v":2030},{"$f":"IF('D-Zielszenario'!D82=\"\",\"-\",'D-Zielszenario'!D82)","v":"-"}]
[{"$f":"'D-Zielszenario'!$B$40","v":"D.9"},{"$f":"'B-Bestandsanalyse'!$C$45","v":"Endenergieverbrauch Wärme"},{"$f":"'B-Bestandsanalyse'!X79","v":"Sonstige erneuerbare Energien"},{"$f":"'B-Bestandsanalyse'!$D$47","v":"Haushalte"},{"$f":"'B-Bestandsanalyse'!$C$47","v":"MWh/a"},{"$f":"'D-Zielszenario'!$C$50","v":2030},{"$f":"IF('D-Zielszenario'!D83=\"\",\"-\",'D-Zielszenario'!D83)","v":"-"}]
[{"$f":"'D-Zielszenario'!$B$40","v":"D.9"},{"$f":"'B-Bestandsanalyse'!$C$45","v":"Endenergieverbrauch Wärme"},null,{"$f":"'B-Bestandsanalyse'!$D$47","v":"Haushalte"},{"$f":"'B-Bestandsanalyse'!$C$47","v":"MWh/a"},{"$f":"'D-Zielszenario'!$C$50","v":2030},{"$f":"IF('D-Zielszenario'!D84=\"\",\"-\",'D-Zielszenario'!D84)","v":0}]
[{"$f":"'D-Zielszenario'!$B$40","v":"D.9"},{"$f":"'B-Bestandsanalyse'!$C$45","v":"Endenergieverbrauch Wärme"},{"$f":"'B-Bestandsanalyse'!X48","v":"Braunkohle"},{"$f":"'B-Bestandsanalyse'!$E$47","v":"GHD"},{"$f":"'B-Bestandsanalyse'!$C$47","v":"MWh/a"},{"$f":"'D-Zielszenario'!$C$50","v":2030},{"$f":"IF('D-Zielszenario'!E52=\"\",\"-\",'D-Zielszenario'!E52)","v":"-"}]
[{"$f":"'D-Zielszenario'!$B$40","v":"D.9"},{"$f":"'B-Bestandsanalyse'!$C$45","v":"Endenergieverbrauch Wärme"},{"$f":"'B-Bestandsanalyse'!X49","v":"Steinkohle"},{"$f":"'B-Bestandsanalyse'!$E$47","v":"GHD"},{"$f":"'B-Bestandsanalyse'!$C$47","v":"MWh/a"},{"$f":"'D-Zielszenario'!$C$50","v":2030},{"$f":"IF('D-Zielszenario'!E53=\"\",\"-\",'D-Zielszenario'!E53)","v":"-"}]
[{"$f":"'D-Zielszenario'!$B$40","v":"D.9"},{"$f":"'B-Bestandsanalyse'!$C$45","v":"Endenergieverbrauch Wärme"},{"$f":"'B-Bestandsanalyse'!X50","v":"Erdgas"},{"$f":"'B-Bestandsanalyse'!$E$47","v":"GHD"},{"$f":"'B-Bestandsanalyse'!$C$47","v":"MWh/a"},{"$f":"'D-Zielszenario'!$C$50","v":2030},{"$f":"IF('D-Zielszenario'!E54=\"\",\"-\",'D-Zielszenario'!E54)","v":"-"}]
[{"$f":"'D-Zielszenario'!$B$40","v":"D.9"},{"$f":"'B-Bestandsanalyse'!$C$45","v":"Endenergieverbrauch Wärme"},{"$f":"'B-Bestandsanalyse'!X51","v":"Flüssiggas"},{"$f":"'B-Bestandsanalyse'!$E$47","v":"GHD"},{"$f":"'B-Bestandsanalyse'!$C$47","v":"MWh/a"},{"$f":"'D-Zielszenario'!$C$50","v":2030},{"$f":"IF('D-Zielszenario'!E55=\"\",\"-\",'D-Zielszenario'!E55)","v":"-"}]
[{"$f":"'D-Zielszenario'!$B$40","v":"D.9"},{"$f":"'B-Bestandsanalyse'!$C$45","v":"Endenergieverbrauch Wärme"},{"$f":"'B-Bestandsanalyse'!X52","v":"Heizöl"},{"$f":"'B-Bestandsanalyse'!$E$47","v":"GHD"},{"$f":"'B-Bestandsanalyse'!$C$47","v":"MWh/a"},{"$f":"'D-Zielszenario'!$C$50","v":2030},{"$f":"IF('D-Zielszenario'!E56=\"\",\"-\",'D-Zielszenario'!E56)","v":"-"}]
[{"$f":"'D-Zielszenario'!$B$40","v":"D.9"},{"$f":"'B-Bestandsanalyse'!$C$45","v":"Endenergieverbrauch Wärme"},{"$f":"'B-Bestandsanalyse'!X53","v":"Wasserstoff"},{"$f":"'B-Bestandsanalyse'!$E$47","v":"GHD"},{"$f":"'B-Bestandsanalyse'!$C$47","v":"MWh/a"},{"$f":"'D-Zielszenario'!$C$50","v":2030},{"$f":"IF('D-Zielszenario'!E57=\"\",\"-\",'D-Zielszenario'!E57)","v":"-"}]
[{"$f":"'D-Zielszenario'!$B$40","v":"D.9"},{"$f":"'B-Bestandsanalyse'!$C$45","v":"Endenergieverbrauch Wärme"},{"$f":"'B-Bestandsanalyse'!X54","v":"Wasserstoffderivate"},{"$f":"'B-Bestandsanalyse'!$E$47","v":"GHD"},{"$f":"'B-Bestandsanalyse'!$C$47","v":"MWh/a"},{"$f":"'D-Zielszenario'!$C$50","v":2030},{"$f":"IF('D-Zielszenario'!E58=\"\",\"-\",'D-Zielszenario'!E58)","v":"-"}]
[{"$f":"'D-Zielszenario'!$B$40","v":"D.9"},{"$f":"'B-Bestandsanalyse'!$C$45","v":"Endenergieverbrauch Wärme"},{"$f":"'B-Bestandsanalyse'!X55","v":"Grubengas"},{"$f":"'B-Bestandsanalyse'!$E$47","v":"GHD"},{"$f":"'B-Bestandsanalyse'!$C$47","v":"MWh/a"},{"$f":"'D-Zielszenario'!$C$50","v":2030},{"$f":"IF('D-Zielszenario'!E59=\"\",\"-\",'D-Zielszenario'!E59)","v":"-"}]
[{"$f":"'D-Zielszenario'!$B$40","v":"D.9"},{"$f":"'B-Bestandsanalyse'!$C$45","v":"Endenergieverbrauch Wärme"},{"$f":"'B-Bestandsanalyse'!X56","v":"Nicht biogener Abfall"},{"$f":"'B-Bestandsanalyse'!$E$47","v":"GHD"},{"$f":"'B-Bestandsanalyse'!$C$47","v":"MWh/a"},{"$f":"'D-Zielszenario'!$C$50","v":2030},{"$f":"IF('D-Zielszenario'!E60=\"\",\"-\",'D-Zielszenario'!E60)","v":"-"}]
[{"$f":"'D-Zielszenario'!$B$40","v":"D.9"},{"$f":"'B-Bestandsanalyse'!$C$45","v":"Endenergieverbrauch Wärme"},{"$f":"'B-Bestandsanalyse'!X57","v":"Biogener Abfall"},{"$f":"'B-Bestandsanalyse'!$E$47","v":"GHD"},{"$f":"'B-Bestandsanalyse'!$C$47","v":"MWh/a"},{"$f":"'D-Zielszenario'!$C$50","v":2030},{"$f":"IF('D-Zielszenario'!E61=\"\",\"-\",'D-Zielszenario'!E61)","v":"-"}]
[{"$f":"'D-Zielszenario'!$B$40","v":"D.9"},{"$f":"'B-Bestandsanalyse'!$C$45","v":"Endenergieverbrauch Wärme"},{"$f":"'B-Bestandsanalyse'!X58","v":"Abwärme < 60 °C"},{"$f":"'B-Bestandsanalyse'!$E$47","v":"GHD"},{"$f":"'B-Bestandsanalyse'!$C$47","v":"MWh/a"},{"$f":"'D-Zielszenario'!$C$50","v":2030},{"$f":"IF('D-Zielszenario'!E62=\"\",\"-\",'D-Zielszenario'!E62)","v":"-"}]
[{"$f":"'D-Zielszenario'!$B$40","v":"D.9"},{"$f":"'B-Bestandsanalyse'!$C$45","v":"Endenergieverbrauch Wärme"},{"$f":"'B-Bestandsanalyse'!X59","v":"Abwärme 60 bis 110 °C"},{"$f":"'B-Bestandsanalyse'!$E$47","v":"GHD"},{"$f":"'B-Bestandsanalyse'!$C$47","v":"MWh/a"},{"$f":"'D-Zielszenario'!$C$50","v":2030},{"$f":"IF('D-Zielszenario'!E63=\"\",\"-\",'D-Zielszenario'!E63)","v":"-"}]
[{"$f":"'D-Zielszenario'!$B$40","v":"D.9"},{"$f":"'B-Bestandsanalyse'!$C$45","v":"Endenergieverbrauch Wärme"},{"$f":"'B-Bestandsanalyse'!X60","v":"Abwärme >= 110 °C"},{"$f":"'B-Bestandsanalyse'!$E$47","v":"GHD"},{"$f":"'B-Bestandsanalyse'!$C$47","v":"MWh/a"},{"$f":"'D-Zielszenario'!$C$50","v":2030},{"$f":"IF('D-Zielszenario'!E64=\"\",\"-\",'D-Zielszenario'!E64)","v":"-"}]
[{"$f":"'D-Zielszenario'!$B$40","v":"D.9"},{"$f":"'B-Bestandsanalyse'!$C$45","v":"Endenergieverbrauch Wärme"},{"$f":"'B-Bestandsanalyse'!X61","v":"feste Biomasse (ohne Altholz)"},{"$f":"'B-Bestandsanalyse'!$E$47","v":"GHD"},{"$f":"'B-Bestandsanalyse'!$C$47","v":"MWh/a"},{"$f":"'D-Zielszenario'!$C$50","v":2030},{"$f":"IF('D-Zielszenario'!E65=\"\",\"-\",'D-Zielszenario'!E65)","v":"-"}]
[{"$f":"'D-Zielszenario'!$B$40","v":"D.9"},{"$f":"'B-Bestandsanalyse'!$C$45","v":"Endenergieverbrauch Wärme"},{"$f":"'B-Bestandsanalyse'!X62","v":"Altholz"},{"$f":"'B-Bestandsanalyse'!$E$47","v":"GHD"},{"$f":"'B-Bestandsanalyse'!$C$47","v":"MWh/a"},{"$f":"'D-Zielszenario'!$C$50","v":2030},{"$f":"IF('D-Zielszenario'!E66=\"\",\"-\",'D-Zielszenario'!E66)","v":"-"}]
[{"$f":"'D-Zielszenario'!$B$40","v":"D.9"},{"$f":"'B-Bestandsanalyse'!$C$45","v":"Endenergieverbrauch Wärme"},{"$f":"'B-Bestandsanalyse'!X63","v":"Biogas"},{"$f":"'B-Bestandsanalyse'!$E$47","v":"GHD"},{"$f":"'B-Bestandsanalyse'!$C$47","v":"MWh/a"},{"$f":"'D-Zielszenario'!$C$50","v":2030},{"$f":"IF('D-Zielszenario'!E67=\"\",\"-\",'D-Zielszenario'!E67)","v":"-"}]
[{"$f":"'D-Zielszenario'!$B$40","v":"D.9"},{"$f":"'B-Bestandsanalyse'!$C$45","v":"Endenergieverbrauch Wärme"},{"$f":"'B-Bestandsanalyse'!X64","v":"Biomethan"},{"$f":"'B-Bestandsanalyse'!$E$47","v":"GHD"},{"$f":"'B-Bestandsanalyse'!$C$47","v":"MWh/a"},{"$f":"'D-Zielszenario'!$C$50","v":2030},{"$f":"IF('D-Zielszenario'!E68=\"\",\"-\",'D-Zielszenario'!E68)","v":"-"}]
[{"$f":"'D-Zielszenario'!$B$40","v":"D.9"},{"$f":"'B-Bestandsanalyse'!$C$45","v":"Endenergieverbrauch Wärme"},{"$f":"'B-Bestandsanalyse'!X65","v":"Deponiegas"},{"$f":"'B-Bestandsanalyse'!$E$47","v":"GHD"},{"$f":"'B-Bestandsanalyse'!$C$47","v":"MWh/a"},{"$f":"'D-Zielszenario'!$C$50","v":2030},{"$f":"IF('D-Zielszenario'!E69=\"\",\"-\",'D-Zielszenario'!E69)","v":"-"}]
[{"$f":"'D-Zielszenario'!$B$40","v":"D.9"},{"$f":"'B-Bestandsanalyse'!$C$45","v":"Endenergieverbrauch Wärme"},{"$f":"'B-Bestandsanalyse'!X66","v":"Klärgas"},{"$f":"'B-Bestandsanalyse'!$E$47","v":"GHD"},{"$f":"'B-Bestandsanalyse'!$C$47","v":"MWh/a"},{"$f":"'D-Zielszenario'!$C$50","v":2030},{"$f":"IF('D-Zielszenario'!E70=\"\",\"-\",'D-Zielszenario'!E70)","v":"-"}]
[{"$f":"'D-Zielszenario'!$B$40","v":"D.9"},{"$f":"'B-Bestandsanalyse'!$C$45","v":"Endenergieverbrauch Wärme"},{"$f":"'B-Bestandsanalyse'!X67","v":"Flüssige Biomasse"},{"$f":"'B-Bestandsanalyse'!$E$47","v":"GHD"},{"$f":"'B-Bestandsanalyse'!$C$47","v":"MWh/a"},{"$f":"'D-Zielszenario'!$C$50","v":2030},{"$f":"IF('D-Zielszenario'!E71=\"\",\"-\",'D-Zielszenario'!E71)","v":"-"}]
[{"$f":"'D-Zielszenario'!$B$40","v":"D.9"},{"$f":"'B-Bestandsanalyse'!$C$45","v":"Endenergieverbrauch Wärme"},{"$f":"'B-Bestandsanalyse'!X68","v":"Strom Wärmepumpe"},{"$f":"'B-Bestandsanalyse'!$E$47","v":"GHD"},{"$f":"'B-Bestandsanalyse'!$C$47","v":"MWh/a"},{"$f":"'D-Zielszenario'!$C$50","v":2030},{"$f":"IF('D-Zielszenario'!E72=\"\",\"-\",'D-Zielszenario'!E72)","v":"-"}]
[{"$f":"'D-Zielszenario'!$B$40","v":"D.9"},{"$f":"'B-Bestandsanalyse'!$C$45","v":"Endenergieverbrauch Wärme"},{"$f":"'B-Bestandsanalyse'!X69","v":"Strom Direktheizung"},{"$f":"'B-Bestandsanalyse'!$E$47","v":"GHD"},{"$f":"'B-Bestandsanalyse'!$C$47","v":"MWh/a"},{"$f":"'D-Zielszenario'!$C$50","v":2030},{"$f":"IF('D-Zielszenario'!E73=\"\",\"-\",'D-Zielszenario'!E73)","v":"-"}]
[{"$f":"'D-Zielszenario'!$B$40","v":"D.9"},{"$f":"'B-Bestandsanalyse'!$C$45","v":"Endenergieverbrauch Wärme"},{"$f":"'B-Bestandsanalyse'!X70","v":"Solarthermie Dach-Anlagen"},{"$f":"'B-Bestandsanalyse'!$E$47","v":"GHD"},{"$f":"'B-Bestandsanalyse'!$C$47","v":"MWh/a"},{"$f":"'D-Zielszenario'!$C$50","v":2030},{"$f":"IF('D-Zielszenario'!E74=\"\",\"-\",'D-Zielszenario'!E74)","v":"-"}]
[{"$f":"'D-Zielszenario'!$B$40","v":"D.9"},{"$f":"'B-Bestandsanalyse'!$C$45","v":"Endenergieverbrauch Wärme"},{"$f":"'B-Bestandsanalyse'!X71","v":"Solarthermie Freiflächenanlagen"},{"$f":"'B-Bestandsanalyse'!$E$47","v":"GHD"},{"$f":"'B-Bestandsanalyse'!$C$47","v":"MWh/a"},{"$f":"'D-Zielszenario'!$C$50","v":2030},{"$f":"IF('D-Zielszenario'!E75=\"\",\"-\",'D-Zielszenario'!E75)","v":"-"}]
[{"$f":"'D-Zielszenario'!$B$40","v":"D.9"},{"$f":"'B-Bestandsanalyse'!$C$45","v":"Endenergieverbrauch Wärme"},{"$f":"'B-Bestandsanalyse'!X72","v":"Oberflächennahe Geothermie"},{"$f":"'B-Bestandsanalyse'!$E$47","v":"GHD"},{"$f":"'B-Bestandsanalyse'!$C$47","v":"MWh/a"},{"$f":"'D-Zielszenario'!$C$50","v":2030},{"$f":"IF('D-Zielszenario'!E76=\"\",\"-\",'D-Zielszenario'!E76)","v":"-"}]
[{"$f":"'D-Zielszenario'!$B$40","v":"D.9"},{"$f":"'B-Bestandsanalyse'!$C$45","v":"Endenergieverbrauch Wärme"},{"$f":"'B-Bestandsanalyse'!X73","v":"Tiefe Geothermie"},{"$f":"'B-Bestandsanalyse'!$E$47","v":"GHD"},{"$f":"'B-Bestandsanalyse'!$C$47","v":"MWh/a"},{"$f":"'D-Zielszenario'!$C$50","v":2030},{"$f":"IF('D-Zielszenario'!E77=\"\",\"-\",'D-Zielszenario'!E77)","v":"-"}]
[{"$f":"'D-Zielszenario'!$B$40","v":"D.9"},{"$f":"'B-Bestandsanalyse'!$C$45","v":"Endenergieverbrauch Wärme"},{"$f":"'B-Bestandsanalyse'!X74","v":"Oberflächengewässern"},{"$f":"'B-Bestandsanalyse'!$E$47","v":"GHD"},{"$f":"'B-Bestandsanalyse'!$C$47","v":"MWh/a"},{"$f":"'D-Zielszenario'!$C$50","v":2030},{"$f":"IF('D-Zielszenario'!E78=\"\",\"-\",'D-Zielszenario'!E78)","v":"-"}]
[{"$f":"'D-Zielszenario'!$B$40","v":"D.9"},{"$f":"'B-Bestandsanalyse'!$C$45","v":"Endenergieverbrauch Wärme"},{"$f":"'B-Bestandsanalyse'!X75","v":"Grubenwasser"},{"$f":"'B-Bestandsanalyse'!$E$47","v":"GHD"},{"$f":"'B-Bestandsanalyse'!$C$47","v":"MWh/a"},{"$f":"'D-Zielszenario'!$C$50","v":2030},{"$f":"IF('D-Zielszenario'!E79=\"\",\"-\",'D-Zielszenario'!E79)","v":"-"}]
[{"$f":"'D-Zielszenario'!$B$40","v":"D.9"},{"$f":"'B-Bestandsanalyse'!$C$45","v":"Endenergieverbrauch Wärme"},{"$f":"'B-Bestandsanalyse'!X76","v":"Luft"},{"$f":"'B-Bestandsanalyse'!$E$47","v":"GHD"},{"$f":"'B-Bestandsanalyse'!$C$47","v":"MWh/a"},{"$f":"'D-Zielszenario'!$C$50","v":2030},{"$f":"IF('D-Zielszenario'!E80=\"\",\"-\",'D-Zielszenario'!E80)","v":"-"}]
[{"$f":"'D-Zielszenario'!$B$40","v":"D.9"},{"$f":"'B-Bestandsanalyse'!$C$45","v":"Endenergieverbrauch Wärme"},{"$f":"'B-Bestandsanalyse'!X77","v":"Abwasser"},{"$f":"'B-Bestandsanalyse'!$E$47","v":"GHD"},{"$f":"'B-Bestandsanalyse'!$C$47","v":"MWh/a"},{"$f":"'D-Zielszenario'!$C$50","v":2030},{"$f":"IF('D-Zielszenario'!E81=\"\",\"-\",'D-Zielszenario'!E81)","v":"-"}]
[{"$f":"'D-Zielszenario'!$B$40","v":"D.9"},{"$f":"'B-Bestandsanalyse'!$C$45","v":"Endenergieverbrauch Wärme"},{"$f":"'B-Bestandsanalyse'!X78","v":"Sonstige fossile Brennstoffe"},{"$f":"'B-Bestandsanalyse'!$E$47","v":"GHD"},{"$f":"'B-Bestandsanalyse'!$C$47","v":"MWh/a"},{"$f":"'D-Zielszenario'!$C$50","v":2030},{"$f":"IF('D-Zielszenario'!E82=\"\",\"-\",'D-Zielszenario'!E82)","v":"-"}]
[{"$f":"'D-Zielszenario'!$B$40","v":"D.9"},{"$f":"'B-Bestandsanalyse'!$C$45","v":"Endenergieverbrauch Wärme"},{"$f":"'B-Bestandsanalyse'!X79","v":"Sonstige erneuerbare Energien"},{"$f":"'B-Bestandsanalyse'!$E$47","v":"GHD"},{"$f":"'B-Bestandsanalyse'!$C$47","v":"MWh/a"},{"$f":"'D-Zielszenario'!$C$50","v":2030},{"$f":"IF('D-Zielszenario'!E83=\"\",\"-\",'D-Zielszenario'!E83)","v":"-"}]
[{"$f":"'D-Zielszenario'!$B$40","v":"D.9"},{"$f":"'B-Bestandsanalyse'!$C$45","v":"Endenergieverbrauch Wärme"},null,{"$f":"'B-Bestandsanalyse'!$E$47","v":"GHD"},{"$f":"'B-Bestandsanalyse'!$C$47","v":"MWh/a"},{"$f":"'D-Zielszenario'!$C$50","v":2030},{"$f":"IF('D-Zielszenario'!E84=\"\",\"-\",'D-Zielszenario'!E84)","v":0}]
[{"$f":"'D-Zielszenario'!$B$40","v":"D.9"},{"$f":"'B-Bestandsanalyse'!$C$45","v":"Endenergieverbrauch Wärme"},{"$f":"'B-Bestandsanalyse'!X48","v":"Braunkohle"},{"$f":"'B-Bestandsanalyse'!$F$47","v":"öffentliche Liegenschaften"},{"$f":"'B-Bestandsanalyse'!$C$47","v":"MWh/a"},{"$f":"'D-Zielszenario'!$C$50","v":2030},{"$f":"IF('D-Zielszenario'!F52=\"\",\"-\",'D-Zielszenario'!F52)","v":"-"}]
[{"$f":"'D-Zielszenario'!$B$40","v":"D.9"},{"$f":"'B-Bestandsanalyse'!$C$45","v":"Endenergieverbrauch Wärme"},{"$f":"'B-Bestandsanalyse'!X49","v":"Steinkohle"},{"$f":"'B-Bestandsanalyse'!$F$47","v":"öffentliche Liegenschaften"},{"$f":"'B-Bestandsanalyse'!$C$47","v":"MWh/a"},{"$f":"'D-Zielszenario'!$C$50","v":2030},{"$f":"IF('D-Zielszenario'!F53=\"\",\"-\",'D-Zielszenario'!F53)","v":"-"}]
[{"$f":"'D-Zielszenario'!$B$40","v":"D.9"},{"$f":"'B-Bestandsanalyse'!$C$45","v":"Endenergieverbrauch Wärme"},{"$f":"'B-Bestandsanalyse'!X50","v":"Erdgas"},{"$f":"'B-Bestandsanalyse'!$F$47","v":"öffentliche Liegenschaften"},{"$f":"'B-Bestandsanalyse'!$C$47","v":"MWh/a"},{"$f":"'D-Zielszenario'!$C$50","v":2030},{"$f":"IF('D-Zielszenario'!F54=\"\",\"-\",'D-Zielszenario'!F54)","v":"-"}]
[{"$f":"'D-Zielszenario'!$B$40","v":"D.9"},{"$f":"'B-Bestandsanalyse'!$C$45","v":"Endenergieverbrauch Wärme"},{"$f":"'B-Bestandsanalyse'!X51","v":"Flüssiggas"},{"$f":"'B-Bestandsanalyse'!$F$47","v":"öffentliche Liegenschaften"},{"$f":"'B-Bestandsanalyse'!$C$47","v":"MWh/a"},{"$f":"'D-Zielszenario'!$C$50","v":2030},{"$f":"IF('D-Zielszenario'!F55=\"\",\"-\",'D-Zielszenario'!F55)","v":"-"}]
[{"$f":"'D-Zielszenario'!$B$40","v":"D.9"},{"$f":"'B-Bestandsanalyse'!$C$45","v":"Endenergieverbrauch Wärme"},{"$f":"'B-Bestandsanalyse'!X52","v":"Heizöl"},{"$f":"'B-Bestandsanalyse'!$F$47","v":"öffentliche Liegenschaften"},{"$f":"'B-Bestandsanalyse'!$C$47","v":"MWh/a"},{"$f":"'D-Zielszenario'!$C$50","v":2030},{"$f":"IF('D-Zielszenario'!F56=\"\",\"-\",'D-Zielszenario'!F56)","v":"-"}]
[{"$f":"'D-Zielszenario'!$B$40","v":"D.9"},{"$f":"'B-Bestandsanalyse'!$C$45","v":"Endenergieverbrauch Wärme"},{"$f":"'B-Bestandsanalyse'!X53","v":"Wasserstoff"},{"$f":"'B-Bestandsanalyse'!$F$47","v":"öffentliche Liegenschaften"},{"$f":"'B-Bestandsanalyse'!$C$47","v":"MWh/a"},{"$f":"'D-Zielszenario'!$C$50","v":2030},{"$f":"IF('D-Zielszenario'!F57=\"\",\"-\",'D-Zielszenario'!F57)","v":"-"}]
[{"$f":"'D-Zielszenario'!$B$40","v":"D.9"},{"$f":"'B-Bestandsanalyse'!$C$45","v":"Endenergieverbrauch Wärme"},{"$f":"'B-Bestandsanalyse'!X54","v":"Wasserstoffderivate"},{"$f":"'B-Bestandsanalyse'!$F$47","v":"öffentliche Liegenschaften"},{"$f":"'B-Bestandsanalyse'!$C$47","v":"MWh/a"},{"$f":"'D-Zielszenario'!$C$50","v":2030},{"$f":"IF('D-Zielszenario'!F58=\"\",\"-\",'D-Zielszenario'!F58)","v":"-"}]
[{"$f":"'D-Zielszenario'!$B$40","v":"D.9"},{"$f":"'B-Bestandsanalyse'!$C$45","v":"Endenergieverbrauch Wärme"},{"$f":"'B-Bestandsanalyse'!X55","v":"Grubengas"},{"$f":"'B-Bestandsanalyse'!$F$47","v":"öffentliche Liegenschaften"},{"$f":"'B-Bestandsanalyse'!$C$47","v":"MWh/a"},{"$f":"'D-Zielszenario'!$C$50","v":2030},{"$f":"IF('D-Zielszenario'!F59=\"\",\"-\",'D-Zielszenario'!F59)","v":"-"}]
[{"$f":"'D-Zielszenario'!$B$40","v":"D.9"},{"$f":"'B-Bestandsanalyse'!$C$45","v":"Endenergieverbrauch Wärme"},{"$f":"'B-Bestandsanalyse'!X56","v":"Nicht biogener Abfall"},{"$f":"'B-Bestandsanalyse'!$F$47","v":"öffentliche Liegenschaften"},{"$f":"'B-Bestandsanalyse'!$C$47","v":"MWh/a"},{"$f":"'D-Zielszenario'!$C$50","v":2030},{"$f":"IF('D-Zielszenario'!F60=\"\",\"-\",'D-Zielszenario'!F60)","v":"-"}]
[{"$f":"'D-Zielszenario'!$B$40","v":"D.9"},{"$f":"'B-Bestandsanalyse'!$C$45","v":"Endenergieverbrauch Wärme"},{"$f":"'B-Bestandsanalyse'!X57","v":"Biogener Abfall"},{"$f":"'B-Bestandsanalyse'!$F$47","v":"öffentliche Liegenschaften"},{"$f":"'B-Bestandsanalyse'!$C$47","v":"MWh/a"},{"$f":"'D-Zielszenario'!$C$50","v":2030},{"$f":"IF('D-Zielszenario'!F61=\"\",\"-\",'D-Zielszenario'!F61)","v":"-"}]
[{"$f":"'D-Zielszenario'!$B$40","v":"D.9"},{"$f":"'B-Bestandsanalyse'!$C$45","v":"Endenergieverbrauch Wärme"},{"$f":"'B-Bestandsanalyse'!X58","v":"Abwärme < 60 °C"},{"$f":"'B-Bestandsanalyse'!$F$47","v":"öffentliche Liegenschaften"},{"$f":"'B-Bestandsanalyse'!$C$47","v":"MWh/a"},{"$f":"'D-Zielszenario'!$C$50","v":2030},{"$f":"IF('D-Zielszenario'!F62=\"\",\"-\",'D-Zielszenario'!F62)","v":"-"}]
[{"$f":"'D-Zielszenario'!$B$40","v":"D.9"},{"$f":"'B-Bestandsanalyse'!$C$45","v":"Endenergieverbrauch Wärme"},{"$f":"'B-Bestandsanalyse'!X59","v":"Abwärme 60 bis 110 °C"},{"$f":"'B-Bestandsanalyse'!$F$47","v":"öffentliche Liegenschaften"},{"$f":"'B-Bestandsanalyse'!$C$47","v":"MWh/a"},{"$f":"'D-Zielszenario'!$C$50","v":2030},{"$f":"IF('D-Zielszenario'!F63=\"\",\"-\",'D-Zielszenario'!F63)","v":"-"}]
[{"$f":"'D-Zielszenario'!$B$40","v":"D.9"},{"$f":"'B-Bestandsanalyse'!$C$45","v":"Endenergieverbrauch Wärme"},{"$f":"'B-Bestandsanalyse'!X60","v":"Abwärme >= 110 °C"},{"$f":"'B-Bestandsanalyse'!$F$47","v":"öffentliche Liegenschaften"},{"$f":"'B-Bestandsanalyse'!$C$47","v":"MWh/a"},{"$f":"'D-Zielszenario'!$C$50","v":2030},{"$f":"IF('D-Zielszenario'!F64=\"\",\"-\",'D-Zielszenario'!F64)","v":"-"}]
[{"$f":"'D-Zielszenario'!$B$40","v":"D.9"},{"$f":"'B-Bestandsanalyse'!$C$45","v":"Endenergieverbrauch Wärme"},{"$f":"'B-Bestandsanalyse'!X61","v":"feste Biomasse (ohne Altholz)"},{"$f":"'B-Bestandsanalyse'!$F$47","v":"öffentliche Liegenschaften"},{"$f":"'B-Bestandsanalyse'!$C$47","v":"MWh/a"},{"$f":"'D-Zielszenario'!$C$50","v":2030},{"$f":"IF('D-Zielszenario'!F65=\"\",\"-\",'D-Zielszenario'!F65)","v":"-"}]
[{"$f":"'D-Zielszenario'!$B$40","v":"D.9"},{"$f":"'B-Bestandsanalyse'!$C$45","v":"Endenergieverbrauch Wärme"},{"$f":"'B-Bestandsanalyse'!X62","v":"Altholz"},{"$f":"'B-Bestandsanalyse'!$F$47","v":"öffentliche Liegenschaften"},{"$f":"'B-Bestandsanalyse'!$C$47","v":"MWh/a"},{"$f":"'D-Zielszenario'!$C$50","v":2030},{"$f":"IF('D-Zielszenario'!F66=\"\",\"-\",'D-Zielszenario'!F66)","v":"-"}]
[{"$f":"'D-Zielszenario'!$B$40","v":"D.9"},{"$f":"'B-Bestandsanalyse'!$C$45","v":"Endenergieverbrauch Wärme"},{"$f":"'B-Bestandsanalyse'!X63","v":"Biogas"},{"$f":"'B-Bestandsanalyse'!$F$47","v":"öffentliche Liegenschaften"},{"$f":"'B-Bestandsanalyse'!$C$47","v":"MWh/a"},{"$f":"'D-Zielszenario'!$C$50","v":2030},{"$f":"IF('D-Zielszenario'!F67=\"\",\"-\",'D-Zielszenario'!F67)","v":"-"}]
[{"$f":"'D-Zielszenario'!$B$40","v":"D.9"},{"$f":"'B-Bestandsanalyse'!$C$45","v":"Endenergieverbrauch Wärme"},{"$f":"'B-Bestandsanalyse'!X64","v":"Biomethan"},{"$f":"'B-Bestandsanalyse'!$F$47","v":"öffentliche Liegenschaften"},{"$f":"'B-Bestandsanalyse'!$C$47","v":"MWh/a"},{"$f":"'D-Zielszenario'!$C$50","v":2030},{"$f":"IF('D-Zielszenario'!F68=\"\",\"-\",'D-Zielszenario'!F68)","v":"-"}]
[{"$f":"'D-Zielszenario'!$B$40","v":"D.9"},{"$f":"'B-Bestandsanalyse'!$C$45","v":"Endenergieverbrauch Wärme"},{"$f":"'B-Bestandsanalyse'!X65","v":"Deponiegas"},{"$f":"'B-Bestandsanalyse'!$F$47","v":"öffentliche Liegenschaften"},{"$f":"'B-Bestandsanalyse'!$C$47","v":"MWh/a"},{"$f":"'D-Zielszenario'!$C$50","v":2030},{"$f":"IF('D-Zielszenario'!F69=\"\",\"-\",'D-Zielszenario'!F69)","v":"-"}]
[{"$f":"'D-Zielszenario'!$B$40","v":"D.9"},{"$f":"'B-Bestandsanalyse'!$C$45","v":"Endenergieverbrauch Wärme"},{"$f":"'B-Bestandsanalyse'!X66","v":"Klärgas"},{"$f":"'B-Bestandsanalyse'!$F$47","v":"öffentliche Liegenschaften"},{"$f":"'B-Bestandsanalyse'!$C$47","v":"MWh/a"},{"$f":"'D-Zielszenario'!$C$50","v":2030},{"$f":"IF('D-Zielszenario'!F70=\"\",\"-\",'D-Zielszenario'!F70)","v":"-"}]
[{"$f":"'D-Zielszenario'!$B$40","v":"D.9"},{"$f":"'B-Bestandsanalyse'!$C$45","v":"Endenergieverbrauch Wärme"},{"$f":"'B-Bestandsanalyse'!X67","v":"Flüssige Biomasse"},{"$f":"'B-Bestandsanalyse'!$F$47","v":"öffentliche Liegenschaften"},{"$f":"'B-Bestandsanalyse'!$C$47","v":"MWh/a"},{"$f":"'D-Zielszenario'!$C$50","v":2030},{"$f":"IF('D-Zielszenario'!F71=\"\",\"-\",'D-Zielszenario'!F71)","v":"-"}]
[{"$f":"'D-Zielszenario'!$B$40","v":"D.9"},{"$f":"'B-Bestandsanalyse'!$C$45","v":"Endenergieverbrauch Wärme"},{"$f":"'B-Bestandsanalyse'!X68","v":"Strom Wärmepumpe"},{"$f":"'B-Bestandsanalyse'!$F$47","v":"öffentliche Liegenschaften"},{"$f":"'B-Bestandsanalyse'!$C$47","v":"MWh/a"},{"$f":"'D-Zielszenario'!$C$50","v":2030},{"$f":"IF('D-Zielszenario'!F72=\"\",\"-\",'D-Zielszenario'!F72)","v":"-"}]
[{"$f":"'D-Zielszenario'!$B$40","v":"D.9"},{"$f":"'B-Bestandsanalyse'!$C$45","v":"Endenergieverbrauch Wärme"},{"$f":"'B-Bestandsanalyse'!X69","v":"Strom Direktheizung"},{"$f":"'B-Bestandsanalyse'!$F$47","v":"öffentliche Liegenschaften"},{"$f":"'B-Bestandsanalyse'!$C$47","v":"MWh/a"},{"$f":"'D-Zielszenario'!$C$50","v":2030},{"$f":"IF('D-Zielszenario'!F73=\"\",\"-\",'D-Zielszenario'!F73)","v":"-"}]
[{"$f":"'D-Zielszenario'!$B$40","v":"D.9"},{"$f":"'B-Bestandsanalyse'!$C$45","v":"Endenergieverbrauch Wärme"},{"$f":"'B-Bestandsanalyse'!X70","v":"Solarthermie Dach-Anlagen"},{"$f":"'B-Bestandsanalyse'!$F$47","v":"öffentliche Liegenschaften"},{"$f":"'B-Bestandsanalyse'!$C$47","v":"MWh/a"},{"$f":"'D-Zielszenario'!$C$50","v":2030},{"$f":"IF('D-Zielszenario'!F74=\"\",\"-\",'D-Zielszenario'!F74)","v":"-"}]
[{"$f":"'D-Zielszenario'!$B$40","v":"D.9"},{"$f":"'B-Bestandsanalyse'!$C$45","v":"Endenergieverbrauch Wärme"},{"$f":"'B-Bestandsanalyse'!X71","v":"Solarthermie Freiflächenanlagen"},{"$f":"'B-Bestandsanalyse'!$F$47","v":"öffentliche Liegenschaften"},{"$f":"'B-Bestandsanalyse'!$C$47","v":"MWh/a"},{"$f":"'D-Zielszenario'!$C$50","v":2030},{"$f":"IF('D-Zielszenario'!F75=\"\",\"-\",'D-Zielszenario'!F75)","v":"-"}]
[{"$f":"'D-Zielszenario'!$B$40","v":"D.9"},{"$f":"'B-Bestandsanalyse'!$C$45","v":"Endenergieverbrauch Wärme"},{"$f":"'B-Bestandsanalyse'!X72","v":"Oberflächennahe Geothermie"},{"$f":"'B-Bestandsanalyse'!$F$47","v":"öffentliche Liegenschaften"},{"$f":"'B-Bestandsanalyse'!$C$47","v":"MWh/a"},{"$f":"'D-Zielszenario'!$C$50","v":2030},{"$f":"IF('D-Zielszenario'!F76=\"\",\"-\",'D-Zielszenario'!F76)","v":"-"}]
[{"$f":"'D-Zielszenario'!$B$40","v":"D.9"},{"$f":"'B-Bestandsanalyse'!$C$45","v":"Endenergieverbrauch Wärme"},{"$f":"'B-Bestandsanalyse'!X73","v":"Tiefe Geothermie"},{"$f":"'B-Bestandsanalyse'!$F$47","v":"öffentliche Liegenschaften"},{"$f":"'B-Bestandsanalyse'!$C$47","v":"MWh/a"},{"$f":"'D-Zielszenario'!$C$50","v":2030},{"$f":"IF('D-Zielszenario'!F77=\"\",\"-\",'D-Zielszenario'!F77)","v":"-"}]
[{"$f":"'D-Zielszenario'!$B$40","v":"D.9"},{"$f":"'B-Bestandsanalyse'!$C$45","v":"Endenergieverbrauch Wärme"},{"$f":"'B-Bestandsanalyse'!X74","v":"Oberflächengewässern"},{"$f":"'B-Bestandsanalyse'!$F$47","v":"öffentliche Liegenschaften"},{"$f":"'B-Bestandsanalyse'!$C$47","v":"MWh/a"},{"$f":"'D-Zielszenario'!$C$50","v":2030},{"$f":"IF('D-Zielszenario'!F78=\"\",\"-\",'D-Zielszenario'!F78)","v":"-"}]
[{"$f":"'D-Zielszenario'!$B$40","v":"D.9"},{"$f":"'B-Bestandsanalyse'!$C$45","v":"Endenergieverbrauch Wärme"},{"$f":"'B-Bestandsanalyse'!X75","v":"Grubenwasser"},{"$f":"'B-Bestandsanalyse'!$F$47","v":"öffentliche Liegenschaften"},{"$f":"'B-Bestandsanalyse'!$C$47","v":"MWh/a"},{"$f":"'D-Zielszenario'!$C$50","v":2030},{"$f":"IF('D-Zielszenario'!F79=\"\",\"-\",'D-Zielszenario'!F79)","v":"-"}]
[{"$f":"'D-Zielszenario'!$B$40","v":"D.9"},{"$f":"'B-Bestandsanalyse'!$C$45","v":"Endenergieverbrauch Wärme"},{"$f":"'B-Bestandsanalyse'!X76","v":"Luft"},{"$f":"'B-Bestandsanalyse'!$F$47","v":"öffentliche Liegenschaften"},{"$f":"'B-Bestandsanalyse'!$C$47","v":"MWh/a"},{"$f":"'D-Zielszenario'!$C$50","v":2030},{"$f":"IF('D-Zielszenario'!F80=\"\",\"-\",'D-Zielszenario'!F80)","v":"-"}]
[{"$f":"'D-Zielszenario'!$B$40","v":"D.9"},{"$f":"'B-Bestandsanalyse'!$C$45","v":"Endenergieverbrauch Wärme"},{"$f":"'B-Bestandsanalyse'!X77","v":"Abwasser"},{"$f":"'B-Bestandsanalyse'!$F$47","v":"öffentliche Liegenschaften"},{"$f":"'B-Bestandsanalyse'!$C$47","v":"MWh/a"},{"$f":"'D-Zielszenario'!$C$50","v":2030},{"$f":"IF('D-Zielszenario'!F81=\"\",\"-\",'D-Zielszenario'!F81)","v":"-"}]
[{"$f":"'D-Zielszenario'!$B$40","v":"D.9"},{"$f":"'B-Bestandsanalyse'!$C$45","v":"Endenergieverbrauch Wärme"},{"$f":"'B-Bestandsanalyse'!X78","v":"Sonstige fossile Brennstoffe"},{"$f":"'B-Bestandsanalyse'!$F$47","v":"öffentliche Liegenschaften"},{"$f":"'B-Bestandsanalyse'!$C$47","v":"MWh/a"},{"$f":"'D-Zielszenario'!$C$50","v":2030},{"$f":"IF('D-Zielszenario'!F82=\"\",\"-\",'D-Zielszenario'!F82)","v":"-"}]
[{"$f":"'D-Zielszenario'!$B$40","v":"D.9"},{"$f":"'B-Bestandsanalyse'!$C$45","v":"Endenergieverbrauch Wärme"},{"$f":"'B-Bestandsanalyse'!X79","v":"Sonstige erneuerbare Energien"},{"$f":"'B-Bestandsanalyse'!$F$47","v":"öffentliche Liegenschaften"},{"$f":"'B-Bestandsanalyse'!$C$47","v":"MWh/a"},{"$f":"'D-Zielszenario'!$C$50","v":2030},{"$f":"IF('D-Zielszenario'!F83=\"\",\"-\",'D-Zielszenario'!F83)","v":"-"}]
[{"$f":"'D-Zielszenario'!$B$40","v":"D.9"},{"$f":"'B-Bestandsanalyse'!$C$45","v":"Endenergieverbrauch Wärme"},null,{"$f":"'B-Bestandsanalyse'!$F$47","v":"öffentliche Liegenschaften"},{"$f":"'B-Bestandsanalyse'!$C$47","v":"MWh/a"},{"$f":"'D-Zielszenario'!$C$50","v":2030},{"$f":"IF('D-Zielszenario'!F84=\"\",\"-\",'D-Zielszenario'!F84)","v":0}]
[{"$f":"'D-Zielszenario'!$B$40","v":"D.9"},{"$f":"'B-Bestandsanalyse'!$C$45","v":"Endenergieverbrauch Wärme"},{"$f":"'B-Bestandsanalyse'!X48","v":"Braunkohle"},{"$f":"'B-Bestandsanalyse'!$G$47","v":"Industrie"},{"$f":"'B-Bestandsanalyse'!$C$47","v":"MWh/a"},{"$f":"'D-Zielszenario'!$C$50","v":2030},{"$f":"IF('D-Zielszenario'!G52=\"\",\"-\",'D-Zielszenario'!G52)","v":"-"}]
[{"$f":"'D-Zielszenario'!$B$40","v":"D.9"},{"$f":"'B-Bestandsanalyse'!$C$45","v":"Endenergieverbrauch Wärme"},{"$f":"'B-Bestandsanalyse'!X49","v":"Steinkohle"},{"$f":"'B-Bestandsanalyse'!$G$47","v":"Industrie"},{"$f":"'B-Bestandsanalyse'!$C$47","v":"MWh/a"},{"$f":"'D-Zielszenario'!$C$50","v":2030},{"$f":"IF('D-Zielszenario'!G53=\"\",\"-\",'D-Zielszenario'!G53)","v":"-"}]
[{"$f":"'D-Zielszenario'!$B$40","v":"D.9"},{"$f":"'B-Bestandsanalyse'!$C$45","v":"Endenergieverbrauch Wärme"},{"$f":"'B-Bestandsanalyse'!X50","v":"Erdgas"},{"$f":"'B-Bestandsanalyse'!$G$47","v":"Industrie"},{"$f":"'B-Bestandsanalyse'!$C$47","v":"MWh/a"},{"$f":"'D-Zielszenario'!$C$50","v":2030},{"$f":"IF('D-Zielszenario'!G54=\"\",\"-\",'D-Zielszenario'!G54)","v":"-"}]
[{"$f":"'D-Zielszenario'!$B$40","v":"D.9"},{"$f":"'B-Bestandsanalyse'!$C$45","v":"Endenergieverbrauch Wärme"},{"$f":"'B-Bestandsanalyse'!X51","v":"Flüssiggas"},{"$f":"'B-Bestandsanalyse'!$G$47","v":"Industrie"},{"$f":"'B-Bestandsanalyse'!$C$47","v":"MWh/a"},{"$f":"'D-Zielszenario'!$C$50","v":2030},{"$f":"IF('D-Zielszenario'!G55=\"\",\"-\",'D-Zielszenario'!G55)","v":"-"}]
[{"$f":"'D-Zielszenario'!$B$40","v":"D.9"},{"$f":"'B-Bestandsanalyse'!$C$45","v":"Endenergieverbrauch Wärme"},{"$f":"'B-Bestandsanalyse'!X52","v":"Heizöl"},{"$f":"'B-Bestandsanalyse'!$G$47","v":"Industrie"},{"$f":"'B-Bestandsanalyse'!$C$47","v":"MWh/a"},{"$f":"'D-Zielszenario'!$C$50","v":2030},{"$f":"IF('D-Zielszenario'!G56=\"\",\"-\",'D-Zielszenario'!G56)","v":"-"}]
[{"$f":"'D-Zielszenario'!$B$40","v":"D.9"},{"$f":"'B-Bestandsanalyse'!$C$45","v":"Endenergieverbrauch Wärme"},{"$f":"'B-Bestandsanalyse'!X53","v":"Wasserstoff"},{"$f":"'B-Bestandsanalyse'!$G$47","v":"Industrie"},{"$f":"'B-Bestandsanalyse'!$C$47","v":"MWh/a"},{"$f":"'D-Zielszenario'!$C$50","v":2030},{"$f":"IF('D-Zielszenario'!G57=\"\",\"-\",'D-Zielszenario'!G57)","v":"-"}]
[{"$f":"'D-Zielszenario'!$B$40","v":"D.9"},{"$f":"'B-Bestandsanalyse'!$C$45","v":"Endenergieverbrauch Wärme"},{"$f":"'B-Bestandsanalyse'!X54","v":"Wasserstoffderivate"},{"$f":"'B-Bestandsanalyse'!$G$47","v":"Industrie"},{"$f":"'B-Bestandsanalyse'!$C$47","v":"MWh/a"},{"$f":"'D-Zielszenario'!$C$50","v":2030},{"$f":"IF('D-Zielszenario'!G58=\"\",\"-\",'D-Zielszenario'!G58)","v":"-"}]
[{"$f":"'D-Zielszenario'!$B$40","v":"D.9"},{"$f":"'B-Bestandsanalyse'!$C$45","v":"Endenergieverbrauch Wärme"},{"$f":"'B-Bestandsanalyse'!X55","v":"Grubengas"},{"$f":"'B-Bestandsanalyse'!$G$47","v":"Industrie"},{"$f":"'B-Bestandsanalyse'!$C$47","v":"MWh/a"},{"$f":"'D-Zielszenario'!$C$50","v":2030},{"$f":"IF('D-Zielszenario'!G59=\"\",\"-\",'D-Zielszenario'!G59)","v":"-"}]
[{"$f":"'D-Zielszenario'!$B$40","v":"D.9"},{"$f":"'B-Bestandsanalyse'!$C$45","v":"Endenergieverbrauch Wärme"},{"$f":"'B-Bestandsanalyse'!X56","v":"Nicht biogener Abfall"},{"$f":"'B-Bestandsanalyse'!$G$47","v":"Industrie"},{"$f":"'B-Bestandsanalyse'!$C$47","v":"MWh/a"},{"$f":"'D-Zielszenario'!$C$50","v":2030},{"$f":"IF('D-Zielszenario'!G60=\"\",\"-\",'D-Zielszenario'!G60)","v":"-"}]
[{"$f":"'D-Zielszenario'!$B$40","v":"D.9"},{"$f":"'B-Bestandsanalyse'!$C$45","v":"Endenergieverbrauch Wärme"},{"$f":"'B-Bestandsanalyse'!X57","v":"Biogener Abfall"},{"$f":"'B-Bestandsanalyse'!$G$47","v":"Industrie"},{"$f":"'B-Bestandsanalyse'!$C$47","v":"MWh/a"},{"$f":"'D-Zielszenario'!$C$50","v":2030},{"$f":"IF('D-Zielszenario'!G61=\"\",\"-\",'D-Zielszenario'!G61)","v":"-"}]
[{"$f":"'D-Zielszenario'!$B$40","v":"D.9"},{"$f":"'B-Bestandsanalyse'!$C$45","v":"Endenergieverbrauch Wärme"},{"$f":"'B-Bestandsanalyse'!X58","v":"Abwärme < 60 °C"},{"$f":"'B-Bestandsanalyse'!$G$47","v":"Industrie"},{"$f":"'B-Bestandsanalyse'!$C$47","v":"MWh/a"},{"$f":"'D-Zielszenario'!$C$50","v":2030},{"$f":"IF('D-Zielszenario'!G62=\"\",\"-\",'D-Zielszenario'!G62)","v":"-"}]
[{"$f":"'D-Zielszenario'!$B$40","v":"D.9"},{"$f":"'B-Bestandsanalyse'!$C$45","v":"Endenergieverbrauch Wärme"},{"$f":"'B-Bestandsanalyse'!X59","v":"Abwärme 60 bis 110 °C"},{"$f":"'B-Bestandsanalyse'!$G$47","v":"Industrie"},{"$f":"'B-Bestandsanalyse'!$C$47","v":"MWh/a"},{"$f":"'D-Zielszenario'!$C$50","v":2030},{"$f":"IF('D-Zielszenario'!G63=\"\",\"-\",'D-Zielszenario'!G63)","v":"-"}]
[{"$f":"'D-Zielszenario'!$B$40","v":"D.9"},{"$f":"'B-Bestandsanalyse'!$C$45","v":"Endenergieverbrauch Wärme"},{"$f":"'B-Bestandsanalyse'!X60","v":"Abwärme >= 110 °C"},{"$f":"'B-Bestandsanalyse'!$G$47","v":"Industrie"},{"$f":"'B-Bestandsanalyse'!$C$47","v":"MWh/a"},{"$f":"'D-Zielszenario'!$C$50","v":2030},{"$f":"IF('D-Zielszenario'!G64=\"\",\"-\",'D-Zielszenario'!G64)","v":"-"}]
[{"$f":"'D-Zielszenario'!$B$40","v":"D.9"},{"$f":"'B-Bestandsanalyse'!$C$45","v":"Endenergieverbrauch Wärme"},{"$f":"'B-Bestandsanalyse'!X61","v":"feste Biomasse (ohne Altholz)"},{"$f":"'B-Bestandsanalyse'!$G$47","v":"Industrie"},{"$f":"'B-Bestandsanalyse'!$C$47","v":"MWh/a"},{"$f":"'D-Zielszenario'!$C$50","v":2030},{"$f":"IF('D-Zielszenario'!G65=\"\",\"-\",'D-Zielszenario'!G65)","v":"-"}]
[{"$f":"'D-Zielszenario'!$B$40","v":"D.9"},{"$f":"'B-Bestandsanalyse'!$C$45","v":"Endenergieverbrauch Wärme"},{"$f":"'B-Bestandsanalyse'!X62","v":"Altholz"},{"$f":"'B-Bestandsanalyse'!$G$47","v":"Industrie"},{"$f":"'B-Bestandsanalyse'!$C$47","v":"MWh/a"},{"$f":"'D-Zielszenario'!$C$50","v":2030},{"$f":"IF('D-Zielszenario'!G66=\"\",\"-\",'D-Zielszenario'!G66)","v":"-"}]
[{"$f":"'D-Zielszenario'!$B$40","v":"D.9"},{"$f":"'B-Bestandsanalyse'!$C$45","v":"Endenergieverbrauch Wärme"},{"$f":"'B-Bestandsanalyse'!X63","v":"Biogas"},{"$f":"'B-Bestandsanalyse'!$G$47","v":"Industrie"},{"$f":"'B-Bestandsanalyse'!$C$47","v":"MWh/a"},{"$f":"'D-Zielszenario'!$C$50","v":2030},{"$f":"IF('D-Zielszenario'!G67=\"\",\"-\",'D-Zielszenario'!G67)","v":"-"}]
[{"$f":"'D-Zielszenario'!$B$40","v":"D.9"},{"$f":"'B-Bestandsanalyse'!$C$45","v":"Endenergieverbrauch Wärme"},{"$f":"'B-Bestandsanalyse'!X64","v":"Biomethan"},{"$f":"'B-Bestandsanalyse'!$G$47","v":"Industrie"},{"$f":"'B-Bestandsanalyse'!$C$47","v":"MWh/a"},{"$f":"'D-Zielszenario'!$C$50","v":2030},{"$f":"IF('D-Zielszenario'!G68=\"\",\"-\",'D-Zielszenario'!G68)","v":"-"}]
[{"$f":"'D-Zielszenario'!$B$40","v":"D.9"},{"$f":"'B-Bestandsanalyse'!$C$45","v":"Endenergieverbrauch Wärme"},{"$f":"'B-Bestandsanalyse'!X65","v":"Deponiegas"},{"$f":"'B-Bestandsanalyse'!$G$47","v":"Industrie"},{"$f":"'B-Bestandsanalyse'!$C$47","v":"MWh/a"},{"$f":"'D-Zielszenario'!$C$50","v":2030},{"$f":"IF('D-Zielszenario'!G69=\"\",\"-\",'D-Zielszenario'!G69)","v":"-"}]
[{"$f":"'D-Zielszenario'!$B$40","v":"D.9"},{"$f":"'B-Bestandsanalyse'!$C$45","v":"Endenergieverbrauch Wärme"},{"$f":"'B-Bestandsanalyse'!X66","v":"Klärgas"},{"$f":"'B-Bestandsanalyse'!$G$47","v":"Industrie"},{"$f":"'B-Bestandsanalyse'!$C$47","v":"MWh/a"},{"$f":"'D-Zielszenario'!$C$50","v":2030},{"$f":"IF('D-Zielszenario'!G70=\"\",\"-\",'D-Zielszenario'!G70)","v":"-"}]
[{"$f":"'D-Zielszenario'!$B$40","v":"D.9"},{"$f":"'B-Bestandsanalyse'!$C$45","v":"Endenergieverbrauch Wärme"},{"$f":"'B-Bestandsanalyse'!X67","v":"Flüssige Biomasse"},{"$f":"'B-Bestandsanalyse'!$G$47","v":"Industrie"},{"$f":"'B-Bestandsanalyse'!$C$47","v":"MWh/a"},{"$f":"'D-Zielszenario'!$C$50","v":2030},{"$f":"IF('D-Zielszenario'!G71=\"\",\"-\",'D-Zielszenario'!G71)","v":"-"}]
[{"$f":"'D-Zielszenario'!$B$40","v":"D.9"},{"$f":"'B-Bestandsanalyse'!$C$45","v":"Endenergieverbrauch Wärme"},{"$f":"'B-Bestandsanalyse'!X68","v":"Strom Wärmepumpe"},{"$f":"'B-Bestandsanalyse'!$G$47","v":"Industrie"},{"$f":"'B-Bestandsanalyse'!$C$47","v":"MWh/a"},{"$f":"'D-Zielszenario'!$C$50","v":2030},{"$f":"IF('D-Zielszenario'!G72=\"\",\"-\",'D-Zielszenario'!G72)","v":"-"}]
[{"$f":"'D-Zielszenario'!$B$40","v":"D.9"},{"$f":"'B-Bestandsanalyse'!$C$45","v":"Endenergieverbrauch Wärme"},{"$f":"'B-Bestandsanalyse'!X69","v":"Strom Direktheizung"},{"$f":"'B-Bestandsanalyse'!$G$47","v":"Industrie"},{"$f":"'B-Bestandsanalyse'!$C$47","v":"MWh/a"},{"$f":"'D-Zielszenario'!$C$50","v":2030},{"$f":"IF('D-Zielszenario'!G73=\"\",\"-\",'D-Zielszenario'!G73)","v":"-"}]
[{"$f":"'D-Zielszenario'!$B$40","v":"D.9"},{"$f":"'B-Bestandsanalyse'!$C$45","v":"Endenergieverbrauch Wärme"},{"$f":"'B-Bestandsanalyse'!X70","v":"Solarthermie Dach-Anlagen"},{"$f":"'B-Bestandsanalyse'!$G$47","v":"Industrie"},{"$f":"'B-Bestandsanalyse'!$C$47","v":"MWh/a"},{"$f":"'D-Zielszenario'!$C$50","v":2030},{"$f":"IF('D-Zielszenario'!G74=\"\",\"-\",'D-Zielszenario'!G74)","v":"-"}]
[{"$f":"'D-Zielszenario'!$B$40","v":"D.9"},{"$f":"'B-Bestandsanalyse'!$C$45","v":"Endenergieverbrauch Wärme"},{"$f":"'B-Bestandsanalyse'!X71","v":"Solarthermie Freiflächenanlagen"},{"$f":"'B-Bestandsanalyse'!$G$47","v":"Industrie"},{"$f":"'B-Bestandsanalyse'!$C$47","v":"MWh/a"},{"$f":"'D-Zielszenario'!$C$50","v":2030},{"$f":"IF('D-Zielszenario'!G75=\"\",\"-\",'D-Zielszenario'!G75)","v":"-"}]
[{"$f":"'D-Zielszenario'!$B$40","v":"D.9"},{"$f":"'B-Bestandsanalyse'!$C$45","v":"Endenergieverbrauch Wärme"},{"$f":"'B-Bestandsanalyse'!X72","v":"Oberflächennahe Geothermie"},{"$f":"'B-Bestandsanalyse'!$G$47","v":"Industrie"},{"$f":"'B-Bestandsanalyse'!$C$47","v":"MWh/a"},{"$f":"'D-Zielszenario'!$C$50","v":2030},{"$f":"IF('D-Zielszenario'!G76=\"\",\"-\",'D-Zielszenario'!G76)","v":"-"}]
[{"$f":"'D-Zielszenario'!$B$40","v":"D.9"},{"$f":"'B-Bestandsanalyse'!$C$45","v":"Endenergieverbrauch Wärme"},{"$f":"'B-Bestandsanalyse'!X73","v":"Tiefe Geothermie"},{"$f":"'B-Bestandsanalyse'!$G$47","v":"Industrie"},{"$f":"'B-Bestandsanalyse'!$C$47","v":"MWh/a"},{"$f":"'D-Zielszenario'!$C$50","v":2030},{"$f":"IF('D-Zielszenario'!G77=\"\",\"-\",'D-Zielszenario'!G77)","v":"-"}]
[{"$f":"'D-Zielszenario'!$B$40","v":"D.9"},{"$f":"'B-Bestandsanalyse'!$C$45","v":"Endenergieverbrauch Wärme"},{"$f":"'B-Bestandsanalyse'!X74","v":"Oberflächengewässern"},{"$f":"'B-Bestandsanalyse'!$G$47","v":"Industrie"},{"$f":"'B-Bestandsanalyse'!$C$47","v":"MWh/a"},{"$f":"'D-Zielszenario'!$C$50","v":2030},{"$f":"IF('D-Zielszenario'!G78=\"\",\"-\",'D-Zielszenario'!G78)","v":"-"}]
[{"$f":"'D-Zielszenario'!$B$40","v":"D.9"},{"$f":"'B-Bestandsanalyse'!$C$45","v":"Endenergieverbrauch Wärme"},{"$f":"'B-Bestandsanalyse'!X75","v":"Grubenwasser"},{"$f":"'B-Bestandsanalyse'!$G$47","v":"Industrie"},{"$f":"'B-Bestandsanalyse'!$C$47","v":"MWh/a"},{"$f":"'D-Zielszenario'!$C$50","v":2030},{"$f":"IF('D-Zielszenario'!G79=\"\",\"-\",'D-Zielszenario'!G79)","v":"-"}]
[{"$f":"'D-Zielszenario'!$B$40","v":"D.9"},{"$f":"'B-Bestandsanalyse'!$C$45","v":"Endenergieverbrauch Wärme"},{"$f":"'B-Bestandsanalyse'!X76","v":"Luft"},{"$f":"'B-Bestandsanalyse'!$G$47","v":"Industrie"},{"$f":"'B-Bestandsanalyse'!$C$47","v":"MWh/a"},{"$f":"'D-Zielszenario'!$C$50","v":2030},{"$f":"IF('D-Zielszenario'!G80=\"\",\"-\",'D-Zielszenario'!G80)","v":"-"}]
[{"$f":"'D-Zielszenario'!$B$40","v":"D.9"},{"$f":"'B-Bestandsanalyse'!$C$45","v":"Endenergieverbrauch Wärme"},{"$f":"'B-Bestandsanalyse'!X77","v":"Abwasser"},{"$f":"'B-Bestandsanalyse'!$G$47","v":"Industrie"},{"$f":"'B-Bestandsanalyse'!$C$47","v":"MWh/a"},{"$f":"'D-Zielszenario'!$C$50","v":2030},{"$f":"IF('D-Zielszenario'!G81=\"\",\"-\",'D-Zielszenario'!G81)","v":"-"}]
[{"$f":"'D-Zielszenario'!$B$40","v":"D.9"},{"$f":"'B-Bestandsanalyse'!$C$45","v":"Endenergieverbrauch Wärme"},{"$f":"'B-Bestandsanalyse'!X78","v":"Sonstige fossile Brennstoffe"},{"$f":"'B-Bestandsanalyse'!$G$47","v":"Industrie"},{"$f":"'B-Bestandsanalyse'!$C$47","v":"MWh/a"},{"$f":"'D-Zielszenario'!$C$50","v":2030},{"$f":"IF('D-Zielszenario'!G82=\"\",\"-\",'D-Zielszenario'!G82)","v":"-"}]
[{"$f":"'D-Zielszenario'!$B$40","v":"D.9"},{"$f":"'B-Bestandsanalyse'!$C$45","v":"Endenergieverbrauch Wärme"},{"$f":"'B-Bestandsanalyse'!X79","v":"Sonstige erneuerbare Energien"},{"$f":"'B-Bestandsanalyse'!$G$47","v":"Industrie"},{"$f":"'B-Bestandsanalyse'!$C$47","v":"MWh/a"},{"$f":"'D-Zielszenario'!$C$50","v":2030},{"$f":"IF('D-Zielszenario'!G83=\"\",\"-\",'D-Zielszenario'!G83)","v":"-"}]
[{"$f":"'D-Zielszenario'!$B$40","v":"D.9"},{"$f":"'B-Bestandsanalyse'!$C$45","v":"Endenergieverbrauch Wärme"},null,{"$f":"'B-Bestandsanalyse'!$G$47","v":"Industrie"},{"$f":"'B-Bestandsanalyse'!$C$47","v":"MWh/a"},{"$f":"'D-Zielszenario'!$C$50","v":2030},{"$f":"IF('D-Zielszenario'!G84=\"\",\"-\",'D-Zielszenario'!G84)","v":0}]
[{"$f":"'D-Zielszenario'!$B$40","v":"D.9"},{"$f":"'B-Bestandsanalyse'!$C$45","v":"Endenergieverbrauch Wärme"},{"$f":"'B-Bestandsanalyse'!X48","v":"Braunkohle"},{"$f":"'B-Bestandsanalyse'!$I$45","v":"Sektoren insgesamt"},{"$f":"'B-Bestandsanalyse'!$C$47","v":"MWh/a"},{"$f":"'D-Zielszenario'!$C$50","v":2030},{"$f":"IF('D-Zielszenario'!I52=\"\",\"-\",'D-Zielszenario'!I52)","v":"-"}]
[{"$f":"'D-Zielszenario'!$B$40","v":"D.9"},{"$f":"'B-Bestandsanalyse'!$C$45","v":"Endenergieverbrauch Wärme"},{"$f":"'B-Bestandsanalyse'!X49","v":"Steinkohle"},{"$f":"'B-Bestandsanalyse'!$I$45","v":"Sektoren insgesamt"},{"$f":"'B-Bestandsanalyse'!$C$47","v":"MWh/a"},{"$f":"'D-Zielszenario'!$C$50","v":2030},{"$f":"IF('D-Zielszenario'!I53=\"\",\"-\",'D-Zielszenario'!I53)","v":"-"}]
[{"$f":"'D-Zielszenario'!$B$40","v":"D.9"},{"$f":"'B-Bestandsanalyse'!$C$45","v":"Endenergieverbrauch Wärme"},{"$f":"'B-Bestandsanalyse'!X50","v":"Erdgas"},{"$f":"'B-Bestandsanalyse'!$I$45","v":"Sektoren insgesamt"},{"$f":"'B-Bestandsanalyse'!$C$47","v":"MWh/a"},{"$f":"'D-Zielszenario'!$C$50","v":2030},{"$f":"IF('D-Zielszenario'!I54=\"\",\"-\",'D-Zielszenario'!I54)","v":"-"}]
[{"$f":"'D-Zielszenario'!$B$40","v":"D.9"},{"$f":"'B-Bestandsanalyse'!$C$45","v":"Endenergieverbrauch Wärme"},{"$f":"'B-Bestandsanalyse'!X51","v":"Flüssiggas"},{"$f":"'B-Bestandsanalyse'!$I$45","v":"Sektoren insgesamt"},{"$f":"'B-Bestandsanalyse'!$C$47","v":"MWh/a"},{"$f":"'D-Zielszenario'!$C$50","v":2030},{"$f":"IF('D-Zielszenario'!I55=\"\",\"-\",'D-Zielszenario'!I55)","v":"-"}]
[{"$f":"'D-Zielszenario'!$B$40","v":"D.9"},{"$f":"'B-Bestandsanalyse'!$C$45","v":"Endenergieverbrauch Wärme"},{"$f":"'B-Bestandsanalyse'!X52","v":"Heizöl"},{"$f":"'B-Bestandsanalyse'!$I$45","v":"Sektoren insgesamt"},{"$f":"'B-Bestandsanalyse'!$C$47","v":"MWh/a"},{"$f":"'D-Zielszenario'!$C$50","v":2030},{"$f":"IF('D-Zielszenario'!I56=\"\",\"-\",'D-Zielszenario'!I56)","v":"-"}]
[{"$f":"'D-Zielszenario'!$B$40","v":"D.9"},{"$f":"'B-Bestandsanalyse'!$C$45","v":"Endenergieverbrauch Wärme"},{"$f":"'B-Bestandsanalyse'!X53","v":"Wasserstoff"},{"$f":"'B-Bestandsanalyse'!$I$45","v":"Sektoren insgesamt"},{"$f":"'B-Bestandsanalyse'!$C$47","v":"MWh/a"},{"$f":"'D-Zielszenario'!$C$50","v":2030},{"$f":"IF('D-Zielszenario'!I57=\"\",\"-\",'D-Zielszenario'!I57)","v":"-"}]
[{"$f":"'D-Zielszenario'!$B$40","v":"D.9"},{"$f":"'B-Bestandsanalyse'!$C$45","v":"Endenergieverbrauch Wärme"},{"$f":"'B-Bestandsanalyse'!X54","v":"Wasserstoffderivate"},{"$f":"'B-Bestandsanalyse'!$I$45","v":"Sektoren insgesamt"},{"$f":"'B-Bestandsanalyse'!$C$47","v":"MWh/a"},{"$f":"'D-Zielszenario'!$C$50","v":2030},{"$f":"IF('D-Zielszenario'!I58=\"\",\"-\",'D-Zielszenario'!I58)","v":"-"}]
[{"$f":"'D-Zielszenario'!$B$40","v":"D.9"},{"$f":"'B-Bestandsanalyse'!$C$45","v":"Endenergieverbrauch Wärme"},{"$f":"'B-Bestandsanalyse'!X55","v":"Grubengas"},{"$f":"'B-Bestandsanalyse'!$I$45","v":"Sektoren insgesamt"},{"$f":"'B-Bestandsanalyse'!$C$47","v":"MWh/a"},{"$f":"'D-Zielszenario'!$C$50","v":2030},{"$f":"IF('D-Zielszenario'!I59=\"\",\"-\",'D-Zielszenario'!I59)","v":"-"}]
[{"$f":"'D-Zielszenario'!$B$40","v":"D.9"},{"$f":"'B-Bestandsanalyse'!$C$45","v":"Endenergieverbrauch Wärme"},{"$f":"'B-Bestandsanalyse'!X56","v":"Nicht biogener Abfall"},{"$f":"'B-Bestandsanalyse'!$I$45","v":"Sektoren insgesamt"},{"$f":"'B-Bestandsanalyse'!$C$47","v":"MWh/a"},{"$f":"'D-Zielszenario'!$C$50","v":2030},{"$f":"IF('D-Zielszenario'!I60=\"\",\"-\",'D-Zielszenario'!I60)","v":"-"}]
[{"$f":"'D-Zielszenario'!$B$40","v":"D.9"},{"$f":"'B-Bestandsanalyse'!$C$45","v":"Endenergieverbrauch Wärme"},{"$f":"'B-Bestandsanalyse'!X57","v":"Biogener Abfall"},{"$f":"'B-Bestandsanalyse'!$I$45","v":"Sektoren insgesamt"},{"$f":"'B-Bestandsanalyse'!$C$47","v":"MWh/a"},{"$f":"'D-Zielszenario'!$C$50","v":2030},{"$f":"IF('D-Zielszenario'!I61=\"\",\"-\",'D-Zielszenario'!I61)","v":"-"}]
[{"$f":"'D-Zielszenario'!$B$40","v":"D.9"},{"$f":"'B-Bestandsanalyse'!$C$45","v":"Endenergieverbrauch Wärme"},{"$f":"'B-Bestandsanalyse'!X58","v":"Abwärme < 60 °C"},{"$f":"'B-Bestandsanalyse'!$I$45","v":"Sektoren insgesamt"},{"$f":"'B-Bestandsanalyse'!$C$47","v":"MWh/a"},{"$f":"'D-Zielszenario'!$C$50","v":2030},{"$f":"IF('D-Zielszenario'!I62=\"\",\"-\",'D-Zielszenario'!I62)","v":"-"}]
[{"$f":"'D-Zielszenario'!$B$40","v":"D.9"},{"$f":"'B-Bestandsanalyse'!$C$45","v":"Endenergieverbrauch Wärme"},{"$f":"'B-Bestandsanalyse'!X59","v":"Abwärme 60 bis 110 °C"},{"$f":"'B-Bestandsanalyse'!$I$45","v":"Sektoren insgesamt"},{"$f":"'B-Bestandsanalyse'!$C$47","v":"MWh/a"},{"$f":"'D-Zielszenario'!$C$50","v":2030},{"$f":"IF('D-Zielszenario'!I63=\"\",\"-\",'D-Zielszenario'!I63)","v":"-"}]
[{"$f":"'D-Zielszenario'!$B$40","v":"D.9"},{"$f":"'B-Bestandsanalyse'!$C$45","v":"Endenergieverbrauch Wärme"},{"$f":"'B-Bestandsanalyse'!X60","v":"Abwärme >= 110 °C"},{"$f":"'B-Bestandsanalyse'!$I$45","v":"Sektoren insgesamt"},{"$f":"'B-Bestandsanalyse'!$C$47","v":"MWh/a"},{"$f":"'D-Zielszenario'!$C$50","v":2030},{"$f":"IF('D-Zielszenario'!I64=\"\",\"-\",'D-Zielszenario'!I64)","v":"-"}]
[{"$f":"'D-Zielszenario'!$B$40","v":"D.9"},{"$f":"'B-Bestandsanalyse'!$C$45","v":"Endenergieverbrauch Wärme"},{"$f":"'B-Bestandsanalyse'!X61","v":"feste Biomasse (ohne Altholz)"},{"$f":"'B-Bestandsanalyse'!$I$45","v":"Sektoren insgesamt"},{"$f":"'B-Bestandsanalyse'!$C$47","v":"MWh/a"},{"$f":"'D-Zielszenario'!$C$50","v":2030},{"$f":"IF('D-Zielszenario'!I65=\"\",\"-\",'D-Zielszenario'!I65)","v":"-"}]
[{"$f":"'D-Zielszenario'!$B$40","v":"D.9"},{"$f":"'B-Bestandsanalyse'!$C$45","v":"Endenergieverbrauch Wärme"},{"$f":"'B-Bestandsanalyse'!X62","v":"Altholz"},{"$f":"'B-Bestandsanalyse'!$I$45","v":"Sektoren insgesamt"},{"$f":"'B-Bestandsanalyse'!$C$47","v":"MWh/a"},{"$f":"'D-Zielszenario'!$C$50","v":2030},{"$f":"IF('D-Zielszenario'!I66=\"\",\"-\",'D-Zielszenario'!I66)","v":"-"}]
[{"$f":"'D-Zielszenario'!$B$40","v":"D.9"},{"$f":"'B-Bestandsanalyse'!$C$45","v":"Endenergieverbrauch Wärme"},{"$f":"'B-Bestandsanalyse'!X63","v":"Biogas"},{"$f":"'B-Bestandsanalyse'!$I$45","v":"Sektoren insgesamt"},{"$f":"'B-Bestandsanalyse'!$C$47","v":"MWh/a"},{"$f":"'D-Zielszenario'!$C$50","v":2030},{"$f":"IF('D-Zielszenario'!I67=\"\",\"-\",'D-Zielszenario'!I67)","v":"-"}]
[{"$f":"'D-Zielszenario'!$B$40","v":"D.9"},{"$f":"'B-Bestandsanalyse'!$C$45","v":"Endenergieverbrauch Wärme"},{"$f":"'B-Bestandsanalyse'!X64","v":"Biomethan"},{"$f":"'B-Bestandsanalyse'!$I$45","v":"Sektoren insgesamt"},{"$f":"'B-Bestandsanalyse'!$C$47","v":"MWh/a"},{"$f":"'D-Zielszenario'!$C$50","v":2030},{"$f":"IF('D-Zielszenario'!I68=\"\",\"-\",'D-Zielszenario'!I68)","v":"-"}]
[{"$f":"'D-Zielszenario'!$B$40","v":"D.9"},{"$f":"'B-Bestandsanalyse'!$C$45","v":"Endenergieverbrauch Wärme"},{"$f":"'B-Bestandsanalyse'!X65","v":"Deponiegas"},{"$f":"'B-Bestandsanalyse'!$I$45","v":"Sektoren insgesamt"},{"$f":"'B-Bestandsanalyse'!$C$47","v":"MWh/a"},{"$f":"'D-Zielszenario'!$C$50","v":2030},{"$f":"IF('D-Zielszenario'!I69=\"\",\"-\",'D-Zielszenario'!I69)","v":"-"}]
[{"$f":"'D-Zielszenario'!$B$40","v":"D.9"},{"$f":"'B-Bestandsanalyse'!$C$45","v":"Endenergieverbrauch Wärme"},{"$f":"'B-Bestandsanalyse'!X66","v":"Klärgas"},{"$f":"'B-Bestandsanalyse'!$I$45","v":"Sektoren insgesamt"},{"$f":"'B-Bestandsanalyse'!$C$47","v":"MWh/a"},{"$f":"'D-Zielszenario'!$C$50","v":2030},{"$f":"IF('D-Zielszenario'!I70=\"\",\"-\",'D-Zielszenario'!I70)","v":"-"}]
[{"$f":"'D-Zielszenario'!$B$40","v":"D.9"},{"$f":"'B-Bestandsanalyse'!$C$45","v":"Endenergieverbrauch Wärme"},{"$f":"'B-Bestandsanalyse'!X67","v":"Flüssige Biomasse"},{"$f":"'B-Bestandsanalyse'!$I$45","v":"Sektoren insgesamt"},{"$f":"'B-Bestandsanalyse'!$C$47","v":"MWh/a"},{"$f":"'D-Zielszenario'!$C$50","v":2030},{"$f":"IF('D-Zielszenario'!I71=\"\",\"-\",'D-Zielszenario'!I71)","v":"-"}]
[{"$f":"'D-Zielszenario'!$B$40","v":"D.9"},{"$f":"'B-Bestandsanalyse'!$C$45","v":"Endenergieverbrauch Wärme"},{"$f":"'B-Bestandsanalyse'!X68","v":"Strom Wärmepumpe"},{"$f":"'B-Bestandsanalyse'!$I$45","v":"Sektoren insgesamt"},{"$f":"'B-Bestandsanalyse'!$C$47","v":"MWh/a"},{"$f":"'D-Zielszenario'!$C$50","v":2030},{"$f":"IF('D-Zielszenario'!I72=\"\",\"-\",'D-Zielszenario'!I72)","v":"-"}]
[{"$f":"'D-Zielszenario'!$B$40","v":"D.9"},{"$f":"'B-Bestandsanalyse'!$C$45","v":"Endenergieverbrauch Wärme"},{"$f":"'B-Bestandsanalyse'!X69","v":"Strom Direktheizung"},{"$f":"'B-Bestandsanalyse'!$I$45","v":"Sektoren insgesamt"},{"$f":"'B-Bestandsanalyse'!$C$47","v":"MWh/a"},{"$f":"'D-Zielszenario'!$C$50","v":2030},{"$f":"IF('D-Zielszenario'!I73=\"\",\"-\",'D-Zielszenario'!I73)","v":"-"}]
[{"$f":"'D-Zielszenario'!$B$40","v":"D.9"},{"$f":"'B-Bestandsanalyse'!$C$45","v":"Endenergieverbrauch Wärme"},{"$f":"'B-Bestandsanalyse'!X70","v":"Solarthermie Dach-Anlagen"},{"$f":"'B-Bestandsanalyse'!$I$45","v":"Sektoren insgesamt"},{"$f":"'B-Bestandsanalyse'!$C$47","v":"MWh/a"},{"$f":"'D-Zielszenario'!$C$50","v":2030},{"$f":"IF('D-Zielszenario'!I74=\"\",\"-\",'D-Zielszenario'!I74)","v":"-"}]
[{"$f":"'D-Zielszenario'!$B$40","v":"D.9"},{"$f":"'B-Bestandsanalyse'!$C$45","v":"Endenergieverbrauch Wärme"},{"$f":"'B-Bestandsanalyse'!X71","v":"Solarthermie Freiflächenanlagen"},{"$f":"'B-Bestandsanalyse'!$I$45","v":"Sektoren insgesamt"},{"$f":"'B-Bestandsanalyse'!$C$47","v":"MWh/a"},{"$f":"'D-Zielszenario'!$C$50","v":2030},{"$f":"IF('D-Zielszenario'!I75=\"\",\"-\",'D-Zielszenario'!I75)","v":"-"}]
[{"$f":"'D-Zielszenario'!$B$40","v":"D.9"},{"$f":"'B-Bestandsanalyse'!$C$45","v":"Endenergieverbrauch Wärme"},{"$f":"'B-Bestandsanalyse'!X72","v":"Oberflächennahe Geothermie"},{"$f":"'B-Bestandsanalyse'!$I$45","v":"Sektoren insgesamt"},{"$f":"'B-Bestandsanalyse'!$C$47","v":"MWh/a"},{"$f":"'D-Zielszenario'!$C$50","v":2030},{"$f":"IF('D-Zielszenario'!I76=\"\",\"-\",'D-Zielszenario'!I76)","v":"-"}]
[{"$f":"'D-Zielszenario'!$B$40","v":"D.9"},{"$f":"'B-Bestandsanalyse'!$C$45","v":"Endenergieverbrauch Wärme"},{"$f":"'B-Bestandsanalyse'!X73","v":"Tiefe Geothermie"},{"$f":"'B-Bestandsanalyse'!$I$45","v":"Sektoren insgesamt"},{"$f":"'B-Bestandsanalyse'!$C$47","v":"MWh/a"},{"$f":"'D-Zielszenario'!$C$50","v":2030},{"$f":"IF('D-Zielszenario'!I77=\"\",\"-\",'D-Zielszenario'!I77)","v":"-"}]
[{"$f":"'D-Zielszenario'!$B$40","v":"D.9"},{"$f":"'B-Bestandsanalyse'!$C$45","v":"Endenergieverbrauch Wärme"},{"$f":"'B-Bestandsanalyse'!X74","v":"Oberflächengewässern"},{"$f":"'B-Bestandsanalyse'!$I$45","v":"Sektoren insgesamt"},{"$f":"'B-Bestandsanalyse'!$C$47","v":"MWh/a"},{"$f":"'D-Zielszenario'!$C$50","v":2030},{"$f":"IF('D-Zielszenario'!I78=\"\",\"-\",'D-Zielszenario'!I78)","v":"-"}]
[{"$f":"'D-Zielszenario'!$B$40","v":"D.9"},{"$f":"'B-Bestandsanalyse'!$C$45","v":"Endenergieverbrauch Wärme"},{"$f":"'B-Bestandsanalyse'!X75","v":"Grubenwasser"},{"$f":"'B-Bestandsanalyse'!$I$45","v":"Sektoren insgesamt"},{"$f":"'B-Bestandsanalyse'!$C$47","v":"MWh/a"},{"$f":"'D-Zielszenario'!$C$50","v":2030},{"$f":"IF('D-Zielszenario'!I79=\"\",\"-\",'D-Zielszenario'!I79)","v":"-"}]
[{"$f":"'D-Zielszenario'!$B$40","v":"D.9"},{"$f":"'B-Bestandsanalyse'!$C$45","v":"Endenergieverbrauch Wärme"},{"$f":"'B-Bestandsanalyse'!X76","v":"Luft"},{"$f":"'B-Bestandsanalyse'!$I$45","v":"Sektoren insgesamt"},{"$f":"'B-Bestandsanalyse'!$C$47","v":"MWh/a"},{"$f":"'D-Zielszenario'!$C$50","v":2030},{"$f":"IF('D-Zielszenario'!I80=\"\",\"-\",'D-Zielszenario'!I80)","v":"-"}]
[{"$f":"'D-Zielszenario'!$B$40","v":"D.9"},{"$f":"'B-Bestandsanalyse'!$C$45","v":"Endenergieverbrauch Wärme"},{"$f":"'B-Bestandsanalyse'!X77","v":"Abwasser"},{"$f":"'B-Bestandsanalyse'!$I$45","v":"Sektoren insgesamt"},{"$f":"'B-Bestandsanalyse'!$C$47","v":"MWh/a"},{"$f":"'D-Zielszenario'!$C$50","v":2030},{"$f":"IF('D-Zielszenario'!I81=\"\",\"-\",'D-Zielszenario'!I81)","v":"-"}]
[{"$f":"'D-Zielszenario'!$B$40","v":"D.9"},{"$f":"'B-Bestandsanalyse'!$C$45","v":"Endenergieverbrauch Wärme"},{"$f":"'B-Bestandsanalyse'!X78","v":"Sonstige fossile Brennstoffe"},{"$f":"'B-Bestandsanalyse'!$I$45","v":"Sektoren insgesamt"},{"$f":"'B-Bestandsanalyse'!$C$47","v":"MWh/a"},{"$f":"'D-Zielszenario'!$C$50","v":2030},{"$f":"IF('D-Zielszenario'!I82=\"\",\"-\",'D-Zielszenario'!I82)","v":"-"}]
[{"$f":"'D-Zielszenario'!$B$40","v":"D.9"},{"$f":"'B-Bestandsanalyse'!$C$45","v":"Endenergieverbrauch Wärme"},{"$f":"'B-Bestandsanalyse'!X79","v":"Sonstige erneuerbare Energien"},{"$f":"'B-Bestandsanalyse'!$I$45","v":"Sektoren insgesamt"},{"$f":"'B-Bestandsanalyse'!$C$47","v":"MWh/a"},{"$f":"'D-Zielszenario'!$C$50","v":2030},{"$f":"IF('D-Zielszenario'!I83=\"\",\"-\",'D-Zielszenario'!I83)","v":"-"}]
[{"$f":"'D-Zielszenario'!$B$40","v":"D.9"},{"$f":"'B-Bestandsanalyse'!$C$45","v":"Endenergieverbrauch Wärme"},null,{"$f":"'B-Bestandsanalyse'!$I$45","v":"Sektoren insgesamt"},{"$f":"'B-Bestandsanalyse'!$C$47","v":"MWh/a"},{"$f":"'D-Zielszenario'!$C$50","v":2030},{"$f":"IF('D-Zielszenario'!I84=\"\",\"-\",'D-Zielszenario'!I84)","v":0}]
[{"$f":"'D-Zielszenario'!$B$40","v":"D.9"},{"$f":"'B-Bestandsanalyse'!$C$45","v":"Endenergieverbrauch Wärme"},{"$f":"C474","v":"Braunkohle"},{"$f":"'B-Bestandsanalyse'!$D$47","v":"Haushalte"},{"$f":"'B-Bestandsanalyse'!$C$47","v":"MWh/a"},{"$f":"'D-Zielszenario'!$C$88","v":2035},{"$f":"IF('D-Zielszenario'!D90=\"\",\"-\",'D-Zielszenario'!D90)","v":"-"}]
[{"$f":"'D-Zielszenario'!$B$40","v":"D.9"},{"$f":"'B-Bestandsanalyse'!$C$45","v":"Endenergieverbrauch Wärme"},"Steinkohle",{"$f":"'B-Bestandsanalyse'!$D$47","v":"Haushalte"},{"$f":"'B-Bestandsanalyse'!$C$47","v":"MWh/a"},{"$f":"'D-Zielszenario'!$C$88","v":2035},{"$f":"IF('D-Zielszenario'!D91=\"\",\"-\",'D-Zielszenario'!D91)","v":"-"}]
[{"$f":"'D-Zielszenario'!$B$40","v":"D.9"},{"$f":"'B-Bestandsanalyse'!$C$45","v":"Endenergieverbrauch Wärme"},"Erdgas",{"$f":"'B-Bestandsanalyse'!$D$47","v":"Haushalte"},{"$f":"'B-Bestandsanalyse'!$C$47","v":"MWh/a"},{"$f":"'D-Zielszenario'!$C$88","v":2035},{"$f":"IF('D-Zielszenario'!D92=\"\",\"-\",'D-Zielszenario'!D92)","v":"-"}]
[{"$f":"'D-Zielszenario'!$B$40","v":"D.9"},{"$f":"'B-Bestandsanalyse'!$C$45","v":"Endenergieverbrauch Wärme"},"Flüssiggas",{"$f":"'B-Bestandsanalyse'!$D$47","v":"Haushalte"},{"$f":"'B-Bestandsanalyse'!$C$47","v":"MWh/a"},{"$f":"'D-Zielszenario'!$C$88","v":2035},{"$f":"IF('D-Zielszenario'!D93=\"\",\"-\",'D-Zielszenario'!D93)","v":"-"}]
[{"$f":"'D-Zielszenario'!$B$40","v":"D.9"},{"$f":"'B-Bestandsanalyse'!$C$45","v":"Endenergieverbrauch Wärme"},"Heizöl",{"$f":"'B-Bestandsanalyse'!$D$47","v":"Haushalte"},{"$f":"'B-Bestandsanalyse'!$C$47","v":"MWh/a"},{"$f":"'D-Zielszenario'!$C$88","v":2035},{"$f":"IF('D-Zielszenario'!D94=\"\",\"-\",'D-Zielszenario'!D94)","v":"-"}]
[{"$f":"'D-Zielszenario'!$B$40","v":"D.9"},{"$f":"'B-Bestandsanalyse'!$C$45","v":"Endenergieverbrauch Wärme"},"Wasserstoff",{"$f":"'B-Bestandsanalyse'!$D$47","v":"Haushalte"},{"$f":"'B-Bestandsanalyse'!$C$47","v":"MWh/a"},{"$f":"'D-Zielszenario'!$C$88","v":2035},{"$f":"IF('D-Zielszenario'!D95=\"\",\"-\",'D-Zielszenario'!D95)","v":"-"}]
[{"$f":"'D-Zielszenario'!$B$40","v":"D.9"},{"$f":"'B-Bestandsanalyse'!$C$45","v":"Endenergieverbrauch Wärme"},"Wasserstoffderivate",{"$f":"'B-Bestandsanalyse'!$D$47","v":"Haushalte"},{"$f":"'B-Bestandsanalyse'!$C$47","v":"MWh/a"},{"$f":"'D-Zielszenario'!$C$88","v":2035},{"$f":"IF('D-Zielszenario'!D96=\"\",\"-\",'D-Zielszenario'!D96)","v":"-"}]
[{"$f":"'D-Zielszenario'!$B$40","v":"D.9"},{"$f":"'B-Bestandsanalyse'!$C$45","v":"Endenergieverbrauch Wärme"},"Grubengas",{"$f":"'B-Bestandsanalyse'!$D$47","v":"Haushalte"},{"$f":"'B-Bestandsanalyse'!$C$47","v":"MWh/a"},{"$f":"'D-Zielszenario'!$C$88","v":2035},{"$f":"IF('D-Zielszenario'!D97=\"\",\"-\",'D-Zielszenario'!D97)","v":"-"}]
[{"$f":"'D-Zielszenario'!$B$40","v":"D.9"},{"$f":"'B-Bestandsanalyse'!$C$45","v":"Endenergieverbrauch Wärme"},"Nicht biogener Abfall",{"$f":"'B-Bestandsanalyse'!$D$47","v":"Haushalte"},{"$f":"'B-Bestandsanalyse'!$C$47","v":"MWh/a"},{"$f":"'D-Zielszenario'!$C$88","v":2035},{"$f":"IF('D-Zielszenario'!D98=\"\",\"-\",'D-Zielszenario'!D98)","v":"-"}]
[{"$f":"'D-Zielszenario'!$B$40","v":"D.9"},{"$f":"'B-Bestandsanalyse'!$C$45","v":"Endenergieverbrauch Wärme"},"Biogener Abfall",{"$f":"'B-Bestandsanalyse'!$D$47","v":"Haushalte"},{"$f":"'B-Bestandsanalyse'!$C$47","v":"MWh/a"},{"$f":"'D-Zielszenario'!$C$88","v":2035},{"$f":"IF('D-Zielszenario'!D99=\"\",\"-\",'D-Zielszenario'!D99)","v":"-"}]
[{"$f":"'D-Zielszenario'!$B$40","v":"D.9"},{"$f":"'B-Bestandsanalyse'!$C$45","v":"Endenergieverbrauch Wärme"},"Abwärme < 60 °C",{"$f":"'B-Bestandsanalyse'!$D$47","v":"Haushalte"},{"$f":"'B-Bestandsanalyse'!$C$47","v":"MWh/a"},{"$f":"'D-Zielszenario'!$C$88","v":2035},{"$f":"IF('D-Zielszenario'!D100=\"\",\"-\",'D-Zielszenario'!D100)","v":"-"}]
[{"$f":"'D-Zielszenario'!$B$40","v":"D.9"},{"$f":"'B-Bestandsanalyse'!$C$45","v":"Endenergieverbrauch Wärme"},"Abwärme 60 bis 110 °C",{"$f":"'B-Bestandsanalyse'!$D$47","v":"Haushalte"},{"$f":"'B-Bestandsanalyse'!$C$47","v":"MWh/a"},{"$f":"'D-Zielszenario'!$C$88","v":2035},{"$f":"IF('D-Zielszenario'!D101=\"\",\"-\",'D-Zielszenario'!D101)","v":"-"}]
[{"$f":"'D-Zielszenario'!$B$40","v":"D.9"},{"$f":"'B-Bestandsanalyse'!$C$45","v":"Endenergieverbrauch Wärme"},"Abwärme >= 110 °C",{"$f":"'B-Bestandsanalyse'!$D$47","v":"Haushalte"},{"$f":"'B-Bestandsanalyse'!$C$47","v":"MWh/a"},{"$f":"'D-Zielszenario'!$C$88","v":2035},{"$f":"IF('D-Zielszenario'!D102=\"\",\"-\",'D-Zielszenario'!D102)","v":"-"}]
[{"$f":"'D-Zielszenario'!$B$40","v":"D.9"},{"$f":"'B-Bestandsanalyse'!$C$45","v":"Endenergieverbrauch Wärme"},"feste Biomasse (ohne Altholz)",{"$f":"'B-Bestandsanalyse'!$D$47","v":"Haushalte"},{"$f":"'B-Bestandsanalyse'!$C$47","v":"MWh/a"},{"$f":"'D-Zielszenario'!$C$88","v":2035},{"$f":"IF('D-Zielszenario'!D103=\"\",\"-\",'D-Zielszenario'!D103)","v":"-"}]
[{"$f":"'D-Zielszenario'!$B$40","v":"D.9"},{"$f":"'B-Bestandsanalyse'!$C$45","v":"Endenergieverbrauch Wärme"},"Altholz",{"$f":"'B-Bestandsanalyse'!$D$47","v":"Haushalte"},{"$f":"'B-Bestandsanalyse'!$C$47","v":"MWh/a"},{"$f":"'D-Zielszenario'!$C$88","v":2035},{"$f":"IF('D-Zielszenario'!D104=\"\",\"-\",'D-Zielszenario'!D104)","v":"-"}]
[{"$f":"'D-Zielszenario'!$B$40","v":"D.9"},{"$f":"'B-Bestandsanalyse'!$C$45","v":"Endenergieverbrauch Wärme"},"Biogas",{"$f":"'B-Bestandsanalyse'!$D$47","v":"Haushalte"},{"$f":"'B-Bestandsanalyse'!$C$47","v":"MWh/a"},{"$f":"'D-Zielszenario'!$C$88","v":2035},{"$f":"IF('D-Zielszenario'!D105=\"\",\"-\",'D-Zielszenario'!D105)","v":"-"}]
[{"$f":"'D-Zielszenario'!$B$40","v":"D.9"},{"$f":"'B-Bestandsanalyse'!$C$45","v":"Endenergieverbrauch Wärme"},"Biomethan",{"$f":"'B-Bestandsanalyse'!$D$47","v":"Haushalte"},{"$f":"'B-Bestandsanalyse'!$C$47","v":"MWh/a"},{"$f":"'D-Zielszenario'!$C$88","v":2035},{"$f":"IF('D-Zielszenario'!D106=\"\",\"-\",'D-Zielszenario'!D106)","v":"-"}]
[{"$f":"'D-Zielszenario'!$B$40","v":"D.9"},{"$f":"'B-Bestandsanalyse'!$C$45","v":"Endenergieverbrauch Wärme"},"Deponiegas",{"$f":"'B-Bestandsanalyse'!$D$47","v":"Haushalte"},{"$f":"'B-Bestandsanalyse'!$C$47","v":"MWh/a"},{"$f":"'D-Zielszenario'!$C$88","v":2035},{"$f":"IF('D-Zielszenario'!D107=\"\",\"-\",'D-Zielszenario'!D107)","v":"-"}]
[{"$f":"'D-Zielszenario'!$B$40","v":"D.9"},{"$f":"'B-Bestandsanalyse'!$C$45","v":"Endenergieverbrauch Wärme"},"Klärgas",{"$f":"'B-Bestandsanalyse'!$D$47","v":"Haushalte"},{"$f":"'B-Bestandsanalyse'!$C$47","v":"MWh/a"},{"$f":"'D-Zielszenario'!$C$88","v":2035},{"$f":"IF('D-Zielszenario'!D108=\"\",\"-\",'D-Zielszenario'!D108)","v":"-"}]
[{"$f":"'D-Zielszenario'!$B$40","v":"D.9"},{"$f":"'B-Bestandsanalyse'!$C$45","v":"Endenergieverbrauch Wärme"},"Flüssige Biomasse",{"$f":"'B-Bestandsanalyse'!$D$47","v":"Haushalte"},{"$f":"'B-Bestandsanalyse'!$C$47","v":"MWh/a"},{"$f":"'D-Zielszenario'!$C$88","v":2035},{"$f":"IF('D-Zielszenario'!D109=\"\",\"-\",'D-Zielszenario'!D109)","v":"-"}]
[{"$f":"'D-Zielszenario'!$B$40","v":"D.9"},{"$f":"'B-Bestandsanalyse'!$C$45","v":"Endenergieverbrauch Wärme"},"Strom Wärmepumpe",{"$f":"'B-Bestandsanalyse'!$D$47","v":"Haushalte"},{"$f":"'B-Bestandsanalyse'!$C$47","v":"MWh/a"},{"$f":"'D-Zielszenario'!$C$88","v":2035},{"$f":"IF('D-Zielszenario'!D110=\"\",\"-\",'D-Zielszenario'!D110)","v":"-"}]
[{"$f":"'D-Zielszenario'!$B$40","v":"D.9"},{"$f":"'B-Bestandsanalyse'!$C$45","v":"Endenergieverbrauch Wärme"},"Strom Direktheizung",{"$f":"'B-Bestandsanalyse'!$D$47","v":"Haushalte"},{"$f":"'B-Bestandsanalyse'!$C$47","v":"MWh/a"},{"$f":"'D-Zielszenario'!$C$88","v":2035},{"$f":"IF('D-Zielszenario'!D111=\"\",\"-\",'D-Zielszenario'!D111)","v":"-"}]
[{"$f":"'D-Zielszenario'!$B$40","v":"D.9"},{"$f":"'B-Bestandsanalyse'!$C$45","v":"Endenergieverbrauch Wärme"},"Solarthermie Dach-Anlagen",{"$f":"'B-Bestandsanalyse'!$D$47","v":"Haushalte"},{"$f":"'B-Bestandsanalyse'!$C$47","v":"MWh/a"},{"$f":"'D-Zielszenario'!$C$88","v":2035},{"$f":"IF('D-Zielszenario'!D112=\"\",\"-\",'D-Zielszenario'!D112)","v":"-"}]
[{"$f":"'D-Zielszenario'!$B$40","v":"D.9"},{"$f":"'B-Bestandsanalyse'!$C$45","v":"Endenergieverbrauch Wärme"},"Solarthermie Freiflächenanlagen",{"$f":"'B-Bestandsanalyse'!$D$47","v":"Haushalte"},{"$f":"'B-Bestandsanalyse'!$C$47","v":"MWh/a"},{"$f":"'D-Zielszenario'!$C$88","v":2035},{"$f":"IF('D-Zielszenario'!D113=\"\",\"-\",'D-Zielszenario'!D113)","v":"-"}]
[{"$f":"'D-Zielszenario'!$B$40","v":"D.9"},{"$f":"'B-Bestandsanalyse'!$C$45","v":"Endenergieverbrauch Wärme"},"Oberflächennahe Geothermie",{"$f":"'B-Bestandsanalyse'!$D$47","v":"Haushalte"},{"$f":"'B-Bestandsanalyse'!$C$47","v":"MWh/a"},{"$f":"'D-Zielszenario'!$C$88","v":2035},{"$f":"IF('D-Zielszenario'!D114=\"\",\"-\",'D-Zielszenario'!D114)","v":"-"}]
[{"$f":"'D-Zielszenario'!$B$40","v":"D.9"},{"$f":"'B-Bestandsanalyse'!$C$45","v":"Endenergieverbrauch Wärme"},"Tiefe Geothermie",{"$f":"'B-Bestandsanalyse'!$D$47","v":"Haushalte"},{"$f":"'B-Bestandsanalyse'!$C$47","v":"MWh/a"},{"$f":"'D-Zielszenario'!$C$88","v":2035},{"$f":"IF('D-Zielszenario'!D115=\"\",\"-\",'D-Zielszenario'!D115)","v":"-"}]
[{"$f":"'D-Zielszenario'!$B$40","v":"D.9"},{"$f":"'B-Bestandsanalyse'!$C$45","v":"Endenergieverbrauch Wärme"},"Oberflächengewässern",{"$f":"'B-Bestandsanalyse'!$D$47","v":"Haushalte"},{"$f":"'B-Bestandsanalyse'!$C$47","v":"MWh/a"},{"$f":"'D-Zielszenario'!$C$88","v":2035},{"$f":"IF('D-Zielszenario'!D116=\"\",\"-\",'D-Zielszenario'!D116)","v":"-"}]
[{"$f":"'D-Zielszenario'!$B$40","v":"D.9"},{"$f":"'B-Bestandsanalyse'!$C$45","v":"Endenergieverbrauch Wärme"},"Grubenwasser",{"$f":"'B-Bestandsanalyse'!$D$47","v":"Haushalte"},{"$f":"'B-Bestandsanalyse'!$C$47","v":"MWh/a"},{"$f":"'D-Zielszenario'!$C$88","v":2035},{"$f":"IF('D-Zielszenario'!D117=\"\",\"-\",'D-Zielszenario'!D117)","v":"-"}]
[{"$f":"'D-Zielszenario'!$B$40","v":"D.9"},{"$f":"'B-Bestandsanalyse'!$C$45","v":"Endenergieverbrauch Wärme"},"Luft",{"$f":"'B-Bestandsanalyse'!$D$47","v":"Haushalte"},{"$f":"'B-Bestandsanalyse'!$C$47","v":"MWh/a"},{"$f":"'D-Zielszenario'!$C$88","v":2035},{"$f":"IF('D-Zielszenario'!D118=\"\",\"-\",'D-Zielszenario'!D118)","v":"-"}]
[{"$f":"'D-Zielszenario'!$B$40","v":"D.9"},{"$f":"'B-Bestandsanalyse'!$C$45","v":"Endenergieverbrauch Wärme"},"Abwasser",{"$f":"'B-Bestandsanalyse'!$D$47","v":"Haushalte"},{"$f":"'B-Bestandsanalyse'!$C$47","v":"MWh/a"},{"$f":"'D-Zielszenario'!$C$88","v":2035},{"$f":"IF('D-Zielszenario'!D119=\"\",\"-\",'D-Zielszenario'!D119)","v":"-"}]
[{"$f":"'D-Zielszenario'!$B$40","v":"D.9"},{"$f":"'B-Bestandsanalyse'!$C$45","v":"Endenergieverbrauch Wärme"},"Sonstige fossile Brennstoffe",{"$f":"'B-Bestandsanalyse'!$D$47","v":"Haushalte"},{"$f":"'B-Bestandsanalyse'!$C$47","v":"MWh/a"},{"$f":"'D-Zielszenario'!$C$88","v":2035},{"$f":"IF('D-Zielszenario'!D120=\"\",\"-\",'D-Zielszenario'!D120)","v":"-"}]
[{"$f":"'D-Zielszenario'!$B$40","v":"D.9"},{"$f":"'B-Bestandsanalyse'!$C$45","v":"Endenergieverbrauch Wärme"},"Sonstige erneuerbare Energien",{"$f":"'B-Bestandsanalyse'!$D$47","v":"Haushalte"},{"$f":"'B-Bestandsanalyse'!$C$47","v":"MWh/a"},{"$f":"'D-Zielszenario'!$C$88","v":2035},{"$f":"IF('D-Zielszenario'!D121=\"\",\"-\",'D-Zielszenario'!D121)","v":"-"}]
[{"$f":"'D-Zielszenario'!$B$40","v":"D.9"},{"$f":"'B-Bestandsanalyse'!$C$45","v":"Endenergieverbrauch Wärme"},null,{"$f":"'B-Bestandsanalyse'!$D$47","v":"Haushalte"},{"$f":"'B-Bestandsanalyse'!$C$47","v":"MWh/a"},{"$f":"'D-Zielszenario'!$C$88","v":2035},{"$f":"IF('D-Zielszenario'!D122=\"\",\"-\",'D-Zielszenario'!D122)","v":0}]
[{"$f":"'D-Zielszenario'!$B$40","v":"D.9"},{"$f":"'B-Bestandsanalyse'!$C$45","v":"Endenergieverbrauch Wärme"},{"$f":"C507","v":"Braunkohle"},{"$f":"'B-Bestandsanalyse'!$E$47","v":"GHD"},{"$f":"'B-Bestandsanalyse'!$C$47","v":"MWh/a"},{"$f":"'D-Zielszenario'!$C$88","v":2035},{"$f":"IF('D-Zielszenario'!E90=\"\",\"-\",'D-Zielszenario'!E90)","v":"-"}]
[{"$f":"'D-Zielszenario'!$B$40","v":"D.9"},{"$f":"'B-Bestandsanalyse'!$C$45","v":"Endenergieverbrauch Wärme"},"Steinkohle",{"$f":"'B-Bestandsanalyse'!$E$47","v":"GHD"},{"$f":"'B-Bestandsanalyse'!$C$47","v":"MWh/a"},{"$f":"'D-Zielszenario'!$C$88","v":2035},{"$f":"IF('D-Zielszenario'!E91=\"\",\"-\",'D-Zielszenario'!E91)","v":"-"}]
[{"$f":"'D-Zielszenario'!$B$40","v":"D.9"},{"$f":"'B-Bestandsanalyse'!$C$45","v":"Endenergieverbrauch Wärme"},"Erdgas",{"$f":"'B-Bestandsanalyse'!$E$47","v":"GHD"},{"$f":"'B-Bestandsanalyse'!$C$47","v":"MWh/a"},{"$f":"'D-Zielszenario'!$C$88","v":2035},{"$f":"IF('D-Zielszenario'!E92=\"\",\"-\",'D-Zielszenario'!E92)","v":"-"}]
[{"$f":"'D-Zielszenario'!$B$40","v":"D.9"},{"$f":"'B-Bestandsanalyse'!$C$45","v":"Endenergieverbrauch Wärme"},"Flüssiggas",{"$f":"'B-Bestandsanalyse'!$E$47","v":"GHD"},{"$f":"'B-Bestandsanalyse'!$C$47","v":"MWh/a"},{"$f":"'D-Zielszenario'!$C$88","v":2035},{"$f":"IF('D-Zielszenario'!E93=\"\",\"-\",'D-Zielszenario'!E93)","v":"-"}]
[{"$f":"'D-Zielszenario'!$B$40","v":"D.9"},{"$f":"'B-Bestandsanalyse'!$C$45","v":"Endenergieverbrauch Wärme"},"Heizöl",{"$f":"'B-Bestandsanalyse'!$E$47","v":"GHD"},{"$f":"'B-Bestandsanalyse'!$C$47","v":"MWh/a"},{"$f":"'D-Zielszenario'!$C$88","v":2035},{"$f":"IF('D-Zielszenario'!E94=\"\",\"-\",'D-Zielszenario'!E94)","v":"-"}]
[{"$f":"'D-Zielszenario'!$B$40","v":"D.9"},{"$f":"'B-Bestandsanalyse'!$C$45","v":"Endenergieverbrauch Wärme"},"Wasserstoff",{"$f":"'B-Bestandsanalyse'!$E$47","v":"GHD"},{"$f":"'B-Bestandsanalyse'!$C$47","v":"MWh/a"},{"$f":"'D-Zielszenario'!$C$88","v":2035},{"$f":"IF('D-Zielszenario'!E95=\"\",\"-\",'D-Zielszenario'!E95)","v":"-"}]
[{"$f":"'D-Zielszenario'!$B$40","v":"D.9"},{"$f":"'B-Bestandsanalyse'!$C$45","v":"Endenergieverbrauch Wärme"},"Wasserstoffderivate",{"$f":"'B-Bestandsanalyse'!$E$47","v":"GHD"},{"$f":"'B-Bestandsanalyse'!$C$47","v":"MWh/a"},{"$f":"'D-Zielszenario'!$C$88","v":2035},{"$f":"IF('D-Zielszenario'!E96=\"\",\"-\",'D-Zielszenario'!E96)","v":"-"}]
[{"$f":"'D-Zielszenario'!$B$40","v":"D.9"},{"$f":"'B-Bestandsanalyse'!$C$45","v":"Endenergieverbrauch Wärme"},"Grubengas",{"$f":"'B-Bestandsanalyse'!$E$47","v":"GHD"},{"$f":"'B-Bestandsanalyse'!$C$47","v":"MWh/a"},{"$f":"'D-Zielszenario'!$C$88","v":2035},{"$f":"IF('D-Zielszenario'!E97=\"\",\"-\",'D-Zielszenario'!E97)","v":"-"}]
[{"$f":"'D-Zielszenario'!$B$40","v":"D.9"},{"$f":"'B-Bestandsanalyse'!$C$45","v":"Endenergieverbrauch Wärme"},"Nicht biogener Abfall",{"$f":"'B-Bestandsanalyse'!$E$47","v":"GHD"},{"$f":"'B-Bestandsanalyse'!$C$47","v":"MWh/a"},{"$f":"'D-Zielszenario'!$C$88","v":2035},{"$f":"IF('D-Zielszenario'!E98=\"\",\"-\",'D-Zielszenario'!E98)","v":"-"}]
[{"$f":"'D-Zielszenario'!$B$40","v":"D.9"},{"$f":"'B-Bestandsanalyse'!$C$45","v":"Endenergieverbrauch Wärme"},"Biogener Abfall",{"$f":"'B-Bestandsanalyse'!$E$47","v":"GHD"},{"$f":"'B-Bestandsanalyse'!$C$47","v":"MWh/a"},{"$f":"'D-Zielszenario'!$C$88","v":2035},{"$f":"IF('D-Zielszenario'!E99=\"\",\"-\",'D-Zielszenario'!E99)","v":"-"}]
[{"$f":"'D-Zielszenario'!$B$40","v":"D.9"},{"$f":"'B-Bestandsanalyse'!$C$45","v":"Endenergieverbrauch Wärme"},"Abwärme < 60 °C",{"$f":"'B-Bestandsanalyse'!$E$47","v":"GHD"},{"$f":"'B-Bestandsanalyse'!$C$47","v":"MWh/a"},{"$f":"'D-Zielszenario'!$C$88","v":2035},{"$f":"IF('D-Zielszenario'!E100=\"\",\"-\",'D-Zielszenario'!E100)","v":"-"}]
[{"$f":"'D-Zielszenario'!$B$40","v":"D.9"},{"$f":"'B-Bestandsanalyse'!$C$45","v":"Endenergieverbrauch Wärme"},"Abwärme 60 bis 110 °C",{"$f":"'B-Bestandsanalyse'!$E$47","v":"GHD"},{"$f":"'B-Bestandsanalyse'!$C$47","v":"MWh/a"},{"$f":"'D-Zielszenario'!$C$88","v":2035},{"$f":"IF('D-Zielszenario'!E101=\"\",\"-\",'D-Zielszenario'!E101)","v":"-"}]
[{"$f":"'D-Zielszenario'!$B$40","v":"D.9"},{"$f":"'B-Bestandsanalyse'!$C$45","v":"Endenergieverbrauch Wärme"},"Abwärme >= 110 °C",{"$f":"'B-Bestandsanalyse'!$E$47","v":"GHD"},{"$f":"'B-Bestandsanalyse'!$C$47","v":"MWh/a"},{"$f":"'D-Zielszenario'!$C$88","v":2035},{"$f":"IF('D-Zielszenario'!E102=\"\",\"-\",'D-Zielszenario'!E102)","v":"-"}]
[{"$f":"'D-Zielszenario'!$B$40","v":"D.9"},{"$f":"'B-Bestandsanalyse'!$C$45","v":"Endenergieverbrauch Wärme"},"feste Biomasse (ohne Altholz)",{"$f":"'B-Bestandsanalyse'!$E$47","v":"GHD"},{"$f":"'B-Bestandsanalyse'!$C$47","v":"MWh/a"},{"$f":"'D-Zielszenario'!$C$88","v":2035},{"$f":"IF('D-Zielszenario'!E103=\"\",\"-\",'D-Zielszenario'!E103)","v":"-"}]
[{"$f":"'D-Zielszenario'!$B$40","v":"D.9"},{"$f":"'B-Bestandsanalyse'!$C$45","v":"Endenergieverbrauch Wärme"},"Altholz",{"$f":"'B-Bestandsanalyse'!$E$47","v":"GHD"},{"$f":"'B-Bestandsanalyse'!$C$47","v":"MWh/a"},{"$f":"'D-Zielszenario'!$C$88","v":2035},{"$f":"IF('D-Zielszenario'!E104=\"\",\"-\",'D-Zielszenario'!E104)","v":"-"}]
[{"$f":"'D-Zielszenario'!$B$40","v":"D.9"},{"$f":"'B-Bestandsanalyse'!$C$45","v":"Endenergieverbrauch Wärme"},"Biogas",{"$f":"'B-Bestandsanalyse'!$E$47","v":"GHD"},{"$f":"'B-Bestandsanalyse'!$C$47","v":"MWh/a"},{"$f":"'D-Zielszenario'!$C$88","v":2035},{"$f":"IF('D-Zielszenario'!E105=\"\",\"-\",'D-Zielszenario'!E105)","v":"-"}]
[{"$f":"'D-Zielszenario'!$B$40","v":"D.9"},{"$f":"'B-Bestandsanalyse'!$C$45","v":"Endenergieverbrauch Wärme"},"Biomethan",{"$f":"'B-Bestandsanalyse'!$E$47","v":"GHD"},{"$f":"'B-Bestandsanalyse'!$C$47","v":"MWh/a"},{"$f":"'D-Zielszenario'!$C$88","v":2035},{"$f":"IF('D-Zielszenario'!E106=\"\",\"-\",'D-Zielszenario'!E106)","v":"-"}]
[{"$f":"'D-Zielszenario'!$B$40","v":"D.9"},{"$f":"'B-Bestandsanalyse'!$C$45","v":"Endenergieverbrauch Wärme"},"Deponiegas",{"$f":"'B-Bestandsanalyse'!$E$47","v":"GHD"},{"$f":"'B-Bestandsanalyse'!$C$47","v":"MWh/a"},{"$f":"'D-Zielszenario'!$C$88","v":2035},{"$f":"IF('D-Zielszenario'!E107=\"\",\"-\",'D-Zielszenario'!E107)","v":"-"}]
[{"$f":"'D-Zielszenario'!$B$40","v":"D.9"},{"$f":"'B-Bestandsanalyse'!$C$45","v":"Endenergieverbrauch Wärme"},"Klärgas",{"$f":"'B-Bestandsanalyse'!$E$47","v":"GHD"},{"$f":"'B-Bestandsanalyse'!$C$47","v":"MWh/a"},{"$f":"'D-Zielszenario'!$C$88","v":2035},{"$f":"IF('D-Zielszenario'!E108=\"\",\"-\",'D-Zielszenario'!E108)","v":"-"}]
[{"$f":"'D-Zielszenario'!$B$40","v":"D.9"},{"$f":"'B-Bestandsanalyse'!$C$45","v":"Endenergieverbrauch Wärme"},"Flüssige Biomasse",{"$f":"'B-Bestandsanalyse'!$E$47","v":"GHD"},{"$f":"'B-Bestandsanalyse'!$C$47","v":"MWh/a"},{"$f":"'D-Zielszenario'!$C$88","v":2035},{"$f":"IF('D-Zielszenario'!E109=\"\",\"-\",'D-Zielszenario'!E109)","v":"-"}]
[{"$f":"'D-Zielszenario'!$B$40","v":"D.9"},{"$f":"'B-Bestandsanalyse'!$C$45","v":"Endenergieverbrauch Wärme"},"Strom Wärmepumpe",{"$f":"'B-Bestandsanalyse'!$E$47","v":"GHD"},{"$f":"'B-Bestandsanalyse'!$C$47","v":"MWh/a"},{"$f":"'D-Zielszenario'!$C$88","v":2035},{"$f":"IF('D-Zielszenario'!E110=\"\",\"-\",'D-Zielszenario'!E110)","v":"-"}]
[{"$f":"'D-Zielszenario'!$B$40","v":"D.9"},{"$f":"'B-Bestandsanalyse'!$C$45","v":"Endenergieverbrauch Wärme"},"Strom Direktheizung",{"$f":"'B-Bestandsanalyse'!$E$47","v":"GHD"},{"$f":"'B-Bestandsanalyse'!$C$47","v":"MWh/a"},{"$f":"'D-Zielszenario'!$C$88","v":2035},{"$f":"IF('D-Zielszenario'!E111=\"\",\"-\",'D-Zielszenario'!E111)","v":"-"}]
[{"$f":"'D-Zielszenario'!$B$40","v":"D.9"},{"$f":"'B-Bestandsanalyse'!$C$45","v":"Endenergieverbrauch Wärme"},"Solarthermie Dach-Anlagen",{"$f":"'B-Bestandsanalyse'!$E$47","v":"GHD"},{"$f":"'B-Bestandsanalyse'!$C$47","v":"MWh/a"},{"$f":"'D-Zielszenario'!$C$88","v":2035},{"$f":"IF('D-Zielszenario'!E112=\"\",\"-\",'D-Zielszenario'!E112)","v":"-"}]
[{"$f":"'D-Zielszenario'!$B$40","v":"D.9"},{"$f":"'B-Bestandsanalyse'!$C$45","v":"Endenergieverbrauch Wärme"},"Solarthermie Freiflächenanlagen",{"$f":"'B-Bestandsanalyse'!$E$47","v":"GHD"},{"$f":"'B-Bestandsanalyse'!$C$47","v":"MWh/a"},{"$f":"'D-Zielszenario'!$C$88","v":2035},{"$f":"IF('D-Zielszenario'!E113=\"\",\"-\",'D-Zielszenario'!E113)","v":"-"}]
[{"$f":"'D-Zielszenario'!$B$40","v":"D.9"},{"$f":"'B-Bestandsanalyse'!$C$45","v":"Endenergieverbrauch Wärme"},"Oberflächennahe Geothermie",{"$f":"'B-Bestandsanalyse'!$E$47","v":"GHD"},{"$f":"'B-Bestandsanalyse'!$C$47","v":"MWh/a"},{"$f":"'D-Zielszenario'!$C$88","v":2035},{"$f":"IF('D-Zielszenario'!E114=\"\",\"-\",'D-Zielszenario'!E114)","v":"-"}]
[{"$f":"'D-Zielszenario'!$B$40","v":"D.9"},{"$f":"'B-Bestandsanalyse'!$C$45","v":"Endenergieverbrauch Wärme"},"Tiefe Geothermie",{"$f":"'B-Bestandsanalyse'!$E$47","v":"GHD"},{"$f":"'B-Bestandsanalyse'!$C$47","v":"MWh/a"},{"$f":"'D-Zielszenario'!$C$88","v":2035},{"$f":"IF('D-Zielszenario'!E115=\"\",\"-\",'D-Zielszenario'!E115)","v":"-"}]
[{"$f":"'D-Zielszenario'!$B$40","v":"D.9"},{"$f":"'B-Bestandsanalyse'!$C$45","v":"Endenergieverbrauch Wärme"},"Oberflächengewässern",{"$f":"'B-Bestandsanalyse'!$E$47","v":"GHD"},{"$f":"'B-Bestandsanalyse'!$C$47","v":"MWh/a"},{"$f":"'D-Zielszenario'!$C$88","v":2035},{"$f":"IF('D-Zielszenario'!E116=\"\",\"-\",'D-Zielszenario'!E116)","v":"-"}]
[{"$f":"'D-Zielszenario'!$B$40","v":"D.9"},{"$f":"'B-Bestandsanalyse'!$C$45","v":"Endenergieverbrauch Wärme"},"Grubenwasser",{"$f":"'B-Bestandsanalyse'!$E$47","v":"GHD"},{"$f":"'B-Bestandsanalyse'!$C$47","v":"MWh/a"},{"$f":"'D-Zielszenario'!$C$88","v":2035},{"$f":"IF('D-Zielszenario'!E117=\"\",\"-\",'D-Zielszenario'!E117)","v":"-"}]
[{"$f":"'D-Zielszenario'!$B$40","v":"D.9"},{"$f":"'B-Bestandsanalyse'!$C$45","v":"Endenergieverbrauch Wärme"},"Luft",{"$f":"'B-Bestandsanalyse'!$E$47","v":"GHD"},{"$f":"'B-Bestandsanalyse'!$C$47","v":"MWh/a"},{"$f":"'D-Zielszenario'!$C$88","v":2035},{"$f":"IF('D-Zielszenario'!E118=\"\",\"-\",'D-Zielszenario'!E118)","v":"-"}]
[{"$f":"'D-Zielszenario'!$B$40","v":"D.9"},{"$f":"'B-Bestandsanalyse'!$C$45","v":"Endenergieverbrauch Wärme"},"Abwasser",{"$f":"'B-Bestandsanalyse'!$E$47","v":"GHD"},{"$f":"'B-Bestandsanalyse'!$C$47","v":"MWh/a"},{"$f":"'D-Zielszenario'!$C$88","v":2035},{"$f":"IF('D-Zielszenario'!E119=\"\",\"-\",'D-Zielszenario'!E119)","v":"-"}]
[{"$f":"'D-Zielszenario'!$B$40","v":"D.9"},{"$f":"'B-Bestandsanalyse'!$C$45","v":"Endenergieverbrauch Wärme"},"Sonstige fossile Brennstoffe",{"$f":"'B-Bestandsanalyse'!$E$47","v":"GHD"},{"$f":"'B-Bestandsanalyse'!$C$47","v":"MWh/a"},{"$f":"'D-Zielszenario'!$C$88","v":2035},{"$f":"IF('D-Zielszenario'!E120=\"\",\"-\",'D-Zielszenario'!E120)","v":"-"}]
[{"$f":"'D-Zielszenario'!$B$40","v":"D.9"},{"$f":"'B-Bestandsanalyse'!$C$45","v":"Endenergieverbrauch Wärme"},"Sonstige erneuerbare Energien",{"$f":"'B-Bestandsanalyse'!$E$47","v":"GHD"},{"$f":"'B-Bestandsanalyse'!$C$47","v":"MWh/a"},{"$f":"'D-Zielszenario'!$C$88","v":2035},{"$f":"IF('D-Zielszenario'!E121=\"\",\"-\",'D-Zielszenario'!E121)","v":"-"}]
[{"$f":"'D-Zielszenario'!$B$40","v":"D.9"},{"$f":"'B-Bestandsanalyse'!$C$45","v":"Endenergieverbrauch Wärme"},null,{"$f":"'B-Bestandsanalyse'!$E$47","v":"GHD"},{"$f":"'B-Bestandsanalyse'!$C$47","v":"MWh/a"},{"$f":"'D-Zielszenario'!$C$88","v":2035},{"$f":"IF('D-Zielszenario'!E122=\"\",\"-\",'D-Zielszenario'!E122)","v":0}]
[{"$f":"'D-Zielszenario'!$B$40","v":"D.9"},{"$f":"'B-Bestandsanalyse'!$C$45","v":"Endenergieverbrauch Wärme"},{"$f":"C540","v":"Braunkohle"},{"$f":"'B-Bestandsanalyse'!$F$47","v":"öffentliche Liegenschaften"},{"$f":"'B-Bestandsanalyse'!$C$47","v":"MWh/a"},{"$f":"'D-Zielszenario'!$C$88","v":2035},{"$f":"IF('D-Zielszenario'!F90=\"\",\"-\",'D-Zielszenario'!F90)","v":"-"}]
[{"$f":"'D-Zielszenario'!$B$40","v":"D.9"},{"$f":"'B-Bestandsanalyse'!$C$45","v":"Endenergieverbrauch Wärme"},"Steinkohle",{"$f":"'B-Bestandsanalyse'!$F$47","v":"öffentliche Liegenschaften"},{"$f":"'B-Bestandsanalyse'!$C$47","v":"MWh/a"},{"$f":"'D-Zielszenario'!$C$88","v":2035},{"$f":"IF('D-Zielszenario'!F91=\"\",\"-\",'D-Zielszenario'!F91)","v":"-"}]
[{"$f":"'D-Zielszenario'!$B$40","v":"D.9"},{"$f":"'B-Bestandsanalyse'!$C$45","v":"Endenergieverbrauch Wärme"},"Erdgas",{"$f":"'B-Bestandsanalyse'!$F$47","v":"öffentliche Liegenschaften"},{"$f":"'B-Bestandsanalyse'!$C$47","v":"MWh/a"},{"$f":"'D-Zielszenario'!$C$88","v":2035},{"$f":"IF('D-Zielszenario'!F92=\"\",\"-\",'D-Zielszenario'!F92)","v":"-"}]
[{"$f":"'D-Zielszenario'!$B$40","v":"D.9"},{"$f":"'B-Bestandsanalyse'!$C$45","v":"Endenergieverbrauch Wärme"},"Flüssiggas",{"$f":"'B-Bestandsanalyse'!$F$47","v":"öffentliche Liegenschaften"},{"$f":"'B-Bestandsanalyse'!$C$47","v":"MWh/a"},{"$f":"'D-Zielszenario'!$C$88","v":2035},{"$f":"IF('D-Zielszenario'!F93=\"\",\"-\",'D-Zielszenario'!F93)","v":"-"}]
[{"$f":"'D-Zielszenario'!$B$40","v":"D.9"},{"$f":"'B-Bestandsanalyse'!$C$45","v":"Endenergieverbrauch Wärme"},"Heizöl",{"$f":"'B-Bestandsanalyse'!$F$47","v":"öffentliche Liegenschaften"},{"$f":"'B-Bestandsanalyse'!$C$47","v":"MWh/a"},{"$f":"'D-Zielszenario'!$C$88","v":2035},{"$f":"IF('D-Zielszenario'!F94=\"\",\"-\",'D-Zielszenario'!F94)","v":"-"}]
[{"$f":"'D-Zielszenario'!$B$40","v":"D.9"},{"$f":"'B-Bestandsanalyse'!$C$45","v":"Endenergieverbrauch Wärme"},"Wasserstoff",{"$f":"'B-Bestandsanalyse'!$F$47","v":"öffentliche Liegenschaften"},{"$f":"'B-Bestandsanalyse'!$C$47","v":"MWh/a"},{"$f":"'D-Zielszenario'!$C$88","v":2035},{"$f":"IF('D-Zielszenario'!F95=\"\",\"-\",'D-Zielszenario'!F95)","v":"-"}]
[{"$f":"'D-Zielszenario'!$B$40","v":"D.9"},{"$f":"'B-Bestandsanalyse'!$C$45","v":"Endenergieverbrauch Wärme"},"Wasserstoffderivate",{"$f":"'B-Bestandsanalyse'!$F$47","v":"öffentliche Liegenschaften"},{"$f":"'B-Bestandsanalyse'!$C$47","v":"MWh/a"},{"$f":"'D-Zielszenario'!$C$88","v":2035},{"$f":"IF('D-Zielszenario'!F96=\"\",\"-\",'D-Zielszenario'!F96)","v":"-"}]
[{"$f":"'D-Zielszenario'!$B$40","v":"D.9"},{"$f":"'B-Bestandsanalyse'!$C$45","v":"Endenergieverbrauch Wärme"},"Grubengas",{"$f":"'B-Bestandsanalyse'!$F$47","v":"öffentliche Liegenschaften"},{"$f":"'B-Bestandsanalyse'!$C$47","v":"MWh/a"},{"$f":"'D-Zielszenario'!$C$88","v":2035},{"$f":"IF('D-Zielszenario'!F97=\"\",\"-\",'D-Zielszenario'!F97)","v":"-"}]
[{"$f":"'D-Zielszenario'!$B$40","v":"D.9"},{"$f":"'B-Bestandsanalyse'!$C$45","v":"Endenergieverbrauch Wärme"},"Nicht biogener Abfall",{"$f":"'B-Bestandsanalyse'!$F$47","v":"öffentliche Liegenschaften"},{"$f":"'B-Bestandsanalyse'!$C$47","v":"MWh/a"},{"$f":"'D-Zielszenario'!$C$88","v":2035},{"$f":"IF('D-Zielszenario'!F98=\"\",\"-\",'D-Zielszenario'!F98)","v":"-"}]
[{"$f":"'D-Zielszenario'!$B$40","v":"D.9"},{"$f":"'B-Bestandsanalyse'!$C$45","v":"Endenergieverbrauch Wärme"},"Biogener Abfall",{"$f":"'B-Bestandsanalyse'!$F$47","v":"öffentliche Liegenschaften"},{"$f":"'B-Bestandsanalyse'!$C$47","v":"MWh/a"},{"$f":"'D-Zielszenario'!$C$88","v":2035},{"$f":"IF('D-Zielszenario'!F99=\"\",\"-\",'D-Zielszenario'!F99)","v":"-"}]
[{"$f":"'D-Zielszenario'!$B$40","v":"D.9"},{"$f":"'B-Bestandsanalyse'!$C$45","v":"Endenergieverbrauch Wärme"},"Abwärme < 60 °C",{"$f":"'B-Bestandsanalyse'!$F$47","v":"öffentliche Liegenschaften"},{"$f":"'B-Bestandsanalyse'!$C$47","v":"MWh/a"},{"$f":"'D-Zielszenario'!$C$88","v":2035},{"$f":"IF('D-Zielszenario'!F100=\"\",\"-\",'D-Zielszenario'!F100)","v":"-"}]
[{"$f":"'D-Zielszenario'!$B$40","v":"D.9"},{"$f":"'B-Bestandsanalyse'!$C$45","v":"Endenergieverbrauch Wärme"},"Abwärme 60 bis 110 °C",{"$f":"'B-Bestandsanalyse'!$F$47","v":"öffentliche Liegenschaften"},{"$f":"'B-Bestandsanalyse'!$C$47","v":"MWh/a"},{"$f":"'D-Zielszenario'!$C$88","v":2035},{"$f":"IF('D-Zielszenario'!F101=\"\",\"-\",'D-Zielszenario'!F101)","v":"-"}]
[{"$f":"'D-Zielszenario'!$B$40","v":"D.9"},{"$f":"'B-Bestandsanalyse'!$C$45","v":"Endenergieverbrauch Wärme"},"Abwärme >= 110 °C",{"$f":"'B-Bestandsanalyse'!$F$47","v":"öffentliche Liegenschaften"},{"$f":"'B-Bestandsanalyse'!$C$47","v":"MWh/a"},{"$f":"'D-Zielszenario'!$C$88","v":2035},{"$f":"IF('D-Zielszenario'!F102=\"\",\"-\",'D-Zielszenario'!F102)","v":"-"}]
[{"$f":"'D-Zielszenario'!$B$40","v":"D.9"},{"$f":"'B-Bestandsanalyse'!$C$45","v":"Endenergieverbrauch Wärme"},"feste Biomasse (ohne Altholz)",{"$f":"'B-Bestandsanalyse'!$F$47","v":"öffentliche Liegenschaften"},{"$f":"'B-Bestandsanalyse'!$C$47","v":"MWh/a"},{"$f":"'D-Zielszenario'!$C$88","v":2035},{"$f":"IF('D-Zielszenario'!F103=\"\",\"-\",'D-Zielszenario'!F103)","v":"-"}]
[{"$f":"'D-Zielszenario'!$B$40","v":"D.9"},{"$f":"'B-Bestandsanalyse'!$C$45","v":"Endenergieverbrauch Wärme"},"Altholz",{"$f":"'B-Bestandsanalyse'!$F$47","v":"öffentliche Liegenschaften"},{"$f":"'B-Bestandsanalyse'!$C$47","v":"MWh/a"},{"$f":"'D-Zielszenario'!$C$88","v":2035},{"$f":"IF('D-Zielszenario'!F104=\"\",\"-\",'D-Zielszenario'!F104)","v":"-"}]
[{"$f":"'D-Zielszenario'!$B$40","v":"D.9"},{"$f":"'B-Bestandsanalyse'!$C$45","v":"Endenergieverbrauch Wärme"},"Biogas",{"$f":"'B-Bestandsanalyse'!$F$47","v":"öffentliche Liegenschaften"},{"$f":"'B-Bestandsanalyse'!$C$47","v":"MWh/a"},{"$f":"'D-Zielszenario'!$C$88","v":2035},{"$f":"IF('D-Zielszenario'!F105=\"\",\"-\",'D-Zielszenario'!F105)","v":"-"}]
[{"$f":"'D-Zielszenario'!$B$40","v":"D.9"},{"$f":"'B-Bestandsanalyse'!$C$45","v":"Endenergieverbrauch Wärme"},"Biomethan",{"$f":"'B-Bestandsanalyse'!$F$47","v":"öffentliche Liegenschaften"},{"$f":"'B-Bestandsanalyse'!$C$47","v":"MWh/a"},{"$f":"'D-Zielszenario'!$C$88","v":2035},{"$f":"IF('D-Zielszenario'!F106=\"\",\"-\",'D-Zielszenario'!F106)","v":"-"}]
[{"$f":"'D-Zielszenario'!$B$40","v":"D.9"},{"$f":"'B-Bestandsanalyse'!$C$45","v":"Endenergieverbrauch Wärme"},"Deponiegas",{"$f":"'B-Bestandsanalyse'!$F$47","v":"öffentliche Liegenschaften"},{"$f":"'B-Bestandsanalyse'!$C$47","v":"MWh/a"},{"$f":"'D-Zielszenario'!$C$88","v":2035},{"$f":"IF('D-Zielszenario'!F107=\"\",\"-\",'D-Zielszenario'!F107)","v":"-"}]
[{"$f":"'D-Zielszenario'!$B$40","v":"D.9"},{"$f":"'B-Bestandsanalyse'!$C$45","v":"Endenergieverbrauch Wärme"},"Klärgas",{"$f":"'B-Bestandsanalyse'!$F$47","v":"öffentliche Liegenschaften"},{"$f":"'B-Bestandsanalyse'!$C$47","v":"MWh/a"},{"$f":"'D-Zielszenario'!$C$88","v":2035},{"$f":"IF('D-Zielszenario'!F108=\"\",\"-\",'D-Zielszenario'!F108)","v":"-"}]
[{"$f":"'D-Zielszenario'!$B$40","v":"D.9"},{"$f":"'B-Bestandsanalyse'!$C$45","v":"Endenergieverbrauch Wärme"},"Flüssige Biomasse",{"$f":"'B-Bestandsanalyse'!$F$47","v":"öffentliche Liegenschaften"},{"$f":"'B-Bestandsanalyse'!$C$47","v":"MWh/a"},{"$f":"'D-Zielszenario'!$C$88","v":2035},{"$f":"IF('D-Zielszenario'!F109=\"\",\"-\",'D-Zielszenario'!F109)","v":"-"}]
[{"$f":"'D-Zielszenario'!$B$40","v":"D.9"},{"$f":"'B-Bestandsanalyse'!$C$45","v":"Endenergieverbrauch Wärme"},"Strom Wärmepumpe",{"$f":"'B-Bestandsanalyse'!$F$47","v":"öffentliche Liegenschaften"},{"$f":"'B-Bestandsanalyse'!$C$47","v":"MWh/a"},{"$f":"'D-Zielszenario'!$C$88","v":2035},{"$f":"IF('D-Zielszenario'!F110=\"\",\"-\",'D-Zielszenario'!F110)","v":"-"}]
[{"$f":"'D-Zielszenario'!$B$40","v":"D.9"},{"$f":"'B-Bestandsanalyse'!$C$45","v":"Endenergieverbrauch Wärme"},"Strom Direktheizung",{"$f":"'B-Bestandsanalyse'!$F$47","v":"öffentliche Liegenschaften"},{"$f":"'B-Bestandsanalyse'!$C$47","v":"MWh/a"},{"$f":"'D-Zielszenario'!$C$88","v":2035},{"$f":"IF('D-Zielszenario'!F111=\"\",\"-\",'D-Zielszenario'!F111)","v":"-"}]
[{"$f":"'D-Zielszenario'!$B$40","v":"D.9"},{"$f":"'B-Bestandsanalyse'!$C$45","v":"Endenergieverbrauch Wärme"},"Solarthermie Dach-Anlagen",{"$f":"'B-Bestandsanalyse'!$F$47","v":"öffentliche Liegenschaften"},{"$f":"'B-Bestandsanalyse'!$C$47","v":"MWh/a"},{"$f":"'D-Zielszenario'!$C$88","v":2035},{"$f":"IF('D-Zielszenario'!F112=\"\",\"-\",'D-Zielszenario'!F112)","v":"-"}]
[{"$f":"'D-Zielszenario'!$B$40","v":"D.9"},{"$f":"'B-Bestandsanalyse'!$C$45","v":"Endenergieverbrauch Wärme"},"Solarthermie Freiflächenanlagen",{"$f":"'B-Bestandsanalyse'!$F$47","v":"öffentliche Liegenschaften"},{"$f":"'B-Bestandsanalyse'!$C$47","v":"MWh/a"},{"$f":"'D-Zielszenario'!$C$88","v":2035},{"$f":"IF('D-Zielszenario'!F113=\"\",\"-\",'D-Zielszenario'!F113)","v":"-"}]
[{"$f":"'D-Zielszenario'!$B$40","v":"D.9"},{"$f":"'B-Bestandsanalyse'!$C$45","v":"Endenergieverbrauch Wärme"},"Oberflächennahe Geothermie",{"$f":"'B-Bestandsanalyse'!$F$47","v":"öffentliche Liegenschaften"},{"$f":"'B-Bestandsanalyse'!$C$47","v":"MWh/a"},{"$f":"'D-Zielszenario'!$C$88","v":2035},{"$f":"IF('D-Zielszenario'!F114=\"\",\"-\",'D-Zielszenario'!F114)","v":"-"}]
[{"$f":"'D-Zielszenario'!$B$40","v":"D.9"},{"$f":"'B-Bestandsanalyse'!$C$45","v":"Endenergieverbrauch Wärme"},"Tiefe Geothermie",{"$f":"'B-Bestandsanalyse'!$F$47","v":"öffentliche Liegenschaften"},{"$f":"'B-Bestandsanalyse'!$C$47","v":"MWh/a"},{"$f":"'D-Zielszenario'!$C$88","v":2035},{"$f":"IF('D-Zielszenario'!F115=\"\",\"-\",'D-Zielszenario'!F115)","v":"-"}]
[{"$f":"'D-Zielszenario'!$B$40","v":"D.9"},{"$f":"'B-Bestandsanalyse'!$C$45","v":"Endenergieverbrauch Wärme"},"Oberflächengewässern",{"$f":"'B-Bestandsanalyse'!$F$47","v":"öffentliche Liegenschaften"},{"$f":"'B-Bestandsanalyse'!$C$47","v":"MWh/a"},{"$f":"'D-Zielszenario'!$C$88","v":2035},{"$f":"IF('D-Zielszenario'!F116=\"\",\"-\",'D-Zielszenario'!F116)","v":"-"}]
[{"$f":"'D-Zielszenario'!$B$40","v":"D.9"},{"$f":"'B-Bestandsanalyse'!$C$45","v":"Endenergieverbrauch Wärme"},"Grubenwasser",{"$f":"'B-Bestandsanalyse'!$F$47","v":"öffentliche Liegenschaften"},{"$f":"'B-Bestandsanalyse'!$C$47","v":"MWh/a"},{"$f":"'D-Zielszenario'!$C$88","v":2035},{"$f":"IF('D-Zielszenario'!F117=\"\",\"-\",'D-Zielszenario'!F117)","v":"-"}]
[{"$f":"'D-Zielszenario'!$B$40","v":"D.9"},{"$f":"'B-Bestandsanalyse'!$C$45","v":"Endenergieverbrauch Wärme"},"Luft",{"$f":"'B-Bestandsanalyse'!$F$47","v":"öffentliche Liegenschaften"},{"$f":"'B-Bestandsanalyse'!$C$47","v":"MWh/a"},{"$f":"'D-Zielszenario'!$C$88","v":2035},{"$f":"IF('D-Zielszenario'!F118=\"\",\"-\",'D-Zielszenario'!F118)","v":"-"}]
[{"$f":"'D-Zielszenario'!$B$40","v":"D.9"},{"$f":"'B-Bestandsanalyse'!$C$45","v":"Endenergieverbrauch Wärme"},"Abwasser",{"$f":"'B-Bestandsanalyse'!$F$47","v":"öffentliche Liegenschaften"},{"$f":"'B-Bestandsanalyse'!$C$47","v":"MWh/a"},{"$f":"'D-Zielszenario'!$C$88","v":2035},{"$f":"IF('D-Zielszenario'!F119=\"\",\"-\",'D-Zielszenario'!F119)","v":"-"}]
[{"$f":"'D-Zielszenario'!$B$40","v":"D.9"},{"$f":"'B-Bestandsanalyse'!$C$45","v":"Endenergieverbrauch Wärme"},"Sonstige fossile Brennstoffe",{"$f":"'B-Bestandsanalyse'!$F$47","v":"öffentliche Liegenschaften"},{"$f":"'B-Bestandsanalyse'!$C$47","v":"MWh/a"},{"$f":"'D-Zielszenario'!$C$88","v":2035},{"$f":"IF('D-Zielszenario'!F120=\"\",\"-\",'D-Zielszenario'!F120)","v":"-"}]
[{"$f":"'D-Zielszenario'!$B$40","v":"D.9"},{"$f":"'B-Bestandsanalyse'!$C$45","v":"Endenergieverbrauch Wärme"},"Sonstige erneuerbare Energien",{"$f":"'B-Bestandsanalyse'!$F$47","v":"öffentliche Liegenschaften"},{"$f":"'B-Bestandsanalyse'!$C$47","v":"MWh/a"},{"$f":"'D-Zielszenario'!$C$88","v":2035},{"$f":"IF('D-Zielszenario'!F121=\"\",\"-\",'D-Zielszenario'!F121)","v":"-"}]
[{"$f":"'D-Zielszenario'!$B$40","v":"D.9"},{"$f":"'B-Bestandsanalyse'!$C$45","v":"Endenergieverbrauch Wärme"},null,{"$f":"'B-Bestandsanalyse'!$F$47","v":"öffentliche Liegenschaften"},{"$f":"'B-Bestandsanalyse'!$C$47","v":"MWh/a"},{"$f":"'D-Zielszenario'!$C$88","v":2035},{"$f":"IF('D-Zielszenario'!F122=\"\",\"-\",'D-Zielszenario'!F122)","v":0}]
[{"$f":"'D-Zielszenario'!$B$40","v":"D.9"},{"$f":"'B-Bestandsanalyse'!$C$45","v":"Endenergieverbrauch Wärme"},{"$f":"C573","v":"Braunkohle"},{"$f":"'B-Bestandsanalyse'!$G$47","v":"Industrie"},{"$f":"'B-Bestandsanalyse'!$C$47","v":"MWh/a"},{"$f":"'D-Zielszenario'!$C$88","v":2035},{"$f":"IF('D-Zielszenario'!G90=\"\",\"-\",'D-Zielszenario'!G90)","v":"-"}]
[{"$f":"'D-Zielszenario'!$B$40","v":"D.9"},{"$f":"'B-Bestandsanalyse'!$C$45","v":"Endenergieverbrauch Wärme"},"Steinkohle",{"$f":"'B-Bestandsanalyse'!$G$47","v":"Industrie"},{"$f":"'B-Bestandsanalyse'!$C$47","v":"MWh/a"},{"$f":"'D-Zielszenario'!$C$88","v":2035},{"$f":"IF('D-Zielszenario'!G91=\"\",\"-\",'D-Zielszenario'!G91)","v":"-"}]
[{"$f":"'D-Zielszenario'!$B$40","v":"D.9"},{"$f":"'B-Bestandsanalyse'!$C$45","v":"Endenergieverbrauch Wärme"},"Erdgas",{"$f":"'B-Bestandsanalyse'!$G$47","v":"Industrie"},{"$f":"'B-Bestandsanalyse'!$C$47","v":"MWh/a"},{"$f":"'D-Zielszenario'!$C$88","v":2035},{"$f":"IF('D-Zielszenario'!G92=\"\",\"-\",'D-Zielszenario'!G92)","v":"-"}]
[{"$f":"'D-Zielszenario'!$B$40","v":"D.9"},{"$f":"'B-Bestandsanalyse'!$C$45","v":"Endenergieverbrauch Wärme"},"Flüssiggas",{"$f":"'B-Bestandsanalyse'!$G$47","v":"Industrie"},{"$f":"'B-Bestandsanalyse'!$C$47","v":"MWh/a"},{"$f":"'D-Zielszenario'!$C$88","v":2035},{"$f":"IF('D-Zielszenario'!G93=\"\",\"-\",'D-Zielszenario'!G93)","v":"-"}]
[{"$f":"'D-Zielszenario'!$B$40","v":"D.9"},{"$f":"'B-Bestandsanalyse'!$C$45","v":"Endenergieverbrauch Wärme"},"Heizöl",{"$f":"'B-Bestandsanalyse'!$G$47","v":"Industrie"},{"$f":"'B-Bestandsanalyse'!$C$47","v":"MWh/a"},{"$f":"'D-Zielszenario'!$C$88","v":2035},{"$f":"IF('D-Zielszenario'!G94=\"\",\"-\",'D-Zielszenario'!G94)","v":"-"}]
[{"$f":"'D-Zielszenario'!$B$40","v":"D.9"},{"$f":"'B-Bestandsanalyse'!$C$45","v":"Endenergieverbrauch Wärme"},"Wasserstoff",{"$f":"'B-Bestandsanalyse'!$G$47","v":"Industrie"},{"$f":"'B-Bestandsanalyse'!$C$47","v":"MWh/a"},{"$f":"'D-Zielszenario'!$C$88","v":2035},{"$f":"IF('D-Zielszenario'!G95=\"\",\"-\",'D-Zielszenario'!G95)","v":"-"}]
[{"$f":"'D-Zielszenario'!$B$40","v":"D.9"},{"$f":"'B-Bestandsanalyse'!$C$45","v":"Endenergieverbrauch Wärme"},"Wasserstoffderivate",{"$f":"'B-Bestandsanalyse'!$G$47","v":"Industrie"},{"$f":"'B-Bestandsanalyse'!$C$47","v":"MWh/a"},{"$f":"'D-Zielszenario'!$C$88","v":2035},{"$f":"IF('D-Zielszenario'!G96=\"\",\"-\",'D-Zielszenario'!G96)","v":"-"}]
[{"$f":"'D-Zielszenario'!$B$40","v":"D.9"},{"$f":"'B-Bestandsanalyse'!$C$45","v":"Endenergieverbrauch Wärme"},"Grubengas",{"$f":"'B-Bestandsanalyse'!$G$47","v":"Industrie"},{"$f":"'B-Bestandsanalyse'!$C$47","v":"MWh/a"},{"$f":"'D-Zielszenario'!$C$88","v":2035},{"$f":"IF('D-Zielszenario'!G97=\"\",\"-\",'D-Zielszenario'!G97)","v":"-"}]
[{"$f":"'D-Zielszenario'!$B$40","v":"D.9"},{"$f":"'B-Bestandsanalyse'!$C$45","v":"Endenergieverbrauch Wärme"},"Nicht biogener Abfall",{"$f":"'B-Bestandsanalyse'!$G$47","v":"Industrie"},{"$f":"'B-Bestandsanalyse'!$C$47","v":"MWh/a"},{"$f":"'D-Zielszenario'!$C$88","v":2035},{"$f":"IF('D-Zielszenario'!G98=\"\",\"-\",'D-Zielszenario'!G98)","v":"-"}]
[{"$f":"'D-Zielszenario'!$B$40","v":"D.9"},{"$f":"'B-Bestandsanalyse'!$C$45","v":"Endenergieverbrauch Wärme"},"Biogener Abfall",{"$f":"'B-Bestandsanalyse'!$G$47","v":"Industrie"},{"$f":"'B-Bestandsanalyse'!$C$47","v":"MWh/a"},{"$f":"'D-Zielszenario'!$C$88","v":2035},{"$f":"IF('D-Zielszenario'!G99=\"\",\"-\",'D-Zielszenario'!G99)","v":"-"}]
[{"$f":"'D-Zielszenario'!$B$40","v":"D.9"},{"$f":"'B-Bestandsanalyse'!$C$45","v":"Endenergieverbrauch Wärme"},"Abwärme < 60 °C",{"$f":"'B-Bestandsanalyse'!$G$47","v":"Industrie"},{"$f":"'B-Bestandsanalyse'!$C$47","v":"MWh/a"},{"$f":"'D-Zielszenario'!$C$88","v":2035},{"$f":"IF('D-Zielszenario'!G100=\"\",\"-\",'D-Zielszenario'!G100)","v":"-"}]
[{"$f":"'D-Zielszenario'!$B$40","v":"D.9"},{"$f":"'B-Bestandsanalyse'!$C$45","v":"Endenergieverbrauch Wärme"},"Abwärme 60 bis 110 °C",{"$f":"'B-Bestandsanalyse'!$G$47","v":"Industrie"},{"$f":"'B-Bestandsanalyse'!$C$47","v":"MWh/a"},{"$f":"'D-Zielszenario'!$C$88","v":2035},{"$f":"IF('D-Zielszenario'!G101=\"\",\"-\",'D-Zielszenario'!G101)","v":"-"}]
[{"$f":"'D-Zielszenario'!$B$40","v":"D.9"},{"$f":"'B-Bestandsanalyse'!$C$45","v":"Endenergieverbrauch Wärme"},"Abwärme >= 110 °C",{"$f":"'B-Bestandsanalyse'!$G$47","v":"Industrie"},{"$f":"'B-Bestandsanalyse'!$C$47","v":"MWh/a"},{"$f":"'D-Zielszenario'!$C$88","v":2035},{"$f":"IF('D-Zielszenario'!G102=\"\",\"-\",'D-Zielszenario'!G102)","v":"-"}]
[{"$f":"'D-Zielszenario'!$B$40","v":"D.9"},{"$f":"'B-Bestandsanalyse'!$C$45","v":"Endenergieverbrauch Wärme"},"feste Biomasse (ohne Altholz)",{"$f":"'B-Bestandsanalyse'!$G$47","v":"Industrie"},{"$f":"'B-Bestandsanalyse'!$C$47","v":"MWh/a"},{"$f":"'D-Zielszenario'!$C$88","v":2035},{"$f":"IF('D-Zielszenario'!G103=\"\",\"-\",'D-Zielszenario'!G103)","v":"-"}]
[{"$f":"'D-Zielszenario'!$B$40","v":"D.9"},{"$f":"'B-Bestandsanalyse'!$C$45","v":"Endenergieverbrauch Wärme"},"Altholz",{"$f":"'B-Bestandsanalyse'!$G$47","v":"Industrie"},{"$f":"'B-Bestandsanalyse'!$C$47","v":"MWh/a"},{"$f":"'D-Zielszenario'!$C$88","v":2035},{"$f":"IF('D-Zielszenario'!G104=\"\",\"-\",'D-Zielszenario'!G104)","v":"-"}]
[{"$f":"'D-Zielszenario'!$B$40","v":"D.9"},{"$f":"'B-Bestandsanalyse'!$C$45","v":"Endenergieverbrauch Wärme"},"Biogas",{"$f":"'B-Bestandsanalyse'!$G$47","v":"Industrie"},{"$f":"'B-Bestandsanalyse'!$C$47","v":"MWh/a"},{"$f":"'D-Zielszenario'!$C$88","v":2035},{"$f":"IF('D-Zielszenario'!G105=\"\",\"-\",'D-Zielszenario'!G105)","v":"-"}]
[{"$f":"'D-Zielszenario'!$B$40","v":"D.9"},{"$f":"'B-Bestandsanalyse'!$C$45","v":"Endenergieverbrauch Wärme"},"Biomethan",{"$f":"'B-Bestandsanalyse'!$G$47","v":"Industrie"},{"$f":"'B-Bestandsanalyse'!$C$47","v":"MWh/a"},{"$f":"'D-Zielszenario'!$C$88","v":2035},{"$f":"IF('D-Zielszenario'!G106=\"\",\"-\",'D-Zielszenario'!G106)","v":"-"}]
[{"$f":"'D-Zielszenario'!$B$40","v":"D.9"},{"$f":"'B-Bestandsanalyse'!$C$45","v":"Endenergieverbrauch Wärme"},"Deponiegas",{"$f":"'B-Bestandsanalyse'!$G$47","v":"Industrie"},{"$f":"'B-Bestandsanalyse'!$C$47","v":"MWh/a"},{"$f":"'D-Zielszenario'!$C$88","v":2035},{"$f":"IF('D-Zielszenario'!G107=\"\",\"-\",'D-Zielszenario'!G107)","v":"-"}]
[{"$f":"'D-Zielszenario'!$B$40","v":"D.9"},{"$f":"'B-Bestandsanalyse'!$C$45","v":"Endenergieverbrauch Wärme"},"Klärgas",{"$f":"'B-Bestandsanalyse'!$G$47","v":"Industrie"},{"$f":"'B-Bestandsanalyse'!$C$47","v":"MWh/a"},{"$f":"'D-Zielszenario'!$C$88","v":2035},{"$f":"IF('D-Zielszenario'!G108=\"\",\"-\",'D-Zielszenario'!G108)","v":"-"}]
[{"$f":"'D-Zielszenario'!$B$40","v":"D.9"},{"$f":"'B-Bestandsanalyse'!$C$45","v":"Endenergieverbrauch Wärme"},"Flüssige Biomasse",{"$f":"'B-Bestandsanalyse'!$G$47","v":"Industrie"},{"$f":"'B-Bestandsanalyse'!$C$47","v":"MWh/a"},{"$f":"'D-Zielszenario'!$C$88","v":2035},{"$f":"IF('D-Zielszenario'!G109=\"\",\"-\",'D-Zielszenario'!G109)","v":"-"}]
[{"$f":"'D-Zielszenario'!$B$40","v":"D.9"},{"$f":"'B-Bestandsanalyse'!$C$45","v":"Endenergieverbrauch Wärme"},"Strom Wärmepumpe",{"$f":"'B-Bestandsanalyse'!$G$47","v":"Industrie"},{"$f":"'B-Bestandsanalyse'!$C$47","v":"MWh/a"},{"$f":"'D-Zielszenario'!$C$88","v":2035},{"$f":"IF('D-Zielszenario'!G110=\"\",\"-\",'D-Zielszenario'!G110)","v":"-"}]
[{"$f":"'D-Zielszenario'!$B$40","v":"D.9"},{"$f":"'B-Bestandsanalyse'!$C$45","v":"Endenergieverbrauch Wärme"},"Strom Direktheizung",{"$f":"'B-Bestandsanalyse'!$G$47","v":"Industrie"},{"$f":"'B-Bestandsanalyse'!$C$47","v":"MWh/a"},{"$f":"'D-Zielszenario'!$C$88","v":2035},{"$f":"IF('D-Zielszenario'!G111=\"\",\"-\",'D-Zielszenario'!G111)","v":"-"}]
[{"$f":"'D-Zielszenario'!$B$40","v":"D.9"},{"$f":"'B-Bestandsanalyse'!$C$45","v":"Endenergieverbrauch Wärme"},"Solarthermie Dach-Anlagen",{"$f":"'B-Bestandsanalyse'!$G$47","v":"Industrie"},{"$f":"'B-Bestandsanalyse'!$C$47","v":"MWh/a"},{"$f":"'D-Zielszenario'!$C$88","v":2035},{"$f":"IF('D-Zielszenario'!G112=\"\",\"-\",'D-Zielszenario'!G112)","v":"-"}]
[{"$f":"'D-Zielszenario'!$B$40","v":"D.9"},{"$f":"'B-Bestandsanalyse'!$C$45","v":"Endenergieverbrauch Wärme"},"Solarthermie Freiflächenanlagen",{"$f":"'B-Bestandsanalyse'!$G$47","v":"Industrie"},{"$f":"'B-Bestandsanalyse'!$C$47","v":"MWh/a"},{"$f":"'D-Zielszenario'!$C$88","v":2035},{"$f":"IF('D-Zielszenario'!G113=\"\",\"-\",'D-Zielszenario'!G113)","v":"-"}]
[{"$f":"'D-Zielszenario'!$B$40","v":"D.9"},{"$f":"'B-Bestandsanalyse'!$C$45","v":"Endenergieverbrauch Wärme"},"Oberflächennahe Geothermie",{"$f":"'B-Bestandsanalyse'!$G$47","v":"Industrie"},{"$f":"'B-Bestandsanalyse'!$C$47","v":"MWh/a"},{"$f":"'D-Zielszenario'!$C$88","v":2035},{"$f":"IF('D-Zielszenario'!G114=\"\",\"-\",'D-Zielszenario'!G114)","v":"-"}]
[{"$f":"'D-Zielszenario'!$B$40","v":"D.9"},{"$f":"'B-Bestandsanalyse'!$C$45","v":"Endenergieverbrauch Wärme"},"Tiefe Geothermie",{"$f":"'B-Bestandsanalyse'!$G$47","v":"Industrie"},{"$f":"'B-Bestandsanalyse'!$C$47","v":"MWh/a"},{"$f":"'D-Zielszenario'!$C$88","v":2035},{"$f":"IF('D-Zielszenario'!G115=\"\",\"-\",'D-Zielszenario'!G115)","v":"-"}]
[{"$f":"'D-Zielszenario'!$B$40","v":"D.9"},{"$f":"'B-Bestandsanalyse'!$C$45","v":"Endenergieverbrauch Wärme"},"Oberflächengewässern",{"$f":"'B-Bestandsanalyse'!$G$47","v":"Industrie"},{"$f":"'B-Bestandsanalyse'!$C$47","v":"MWh/a"},{"$f":"'D-Zielszenario'!$C$88","v":2035},{"$f":"IF('D-Zielszenario'!G116=\"\",\"-\",'D-Zielszenario'!G116)","v":"-"}]
[{"$f":"'D-Zielszenario'!$B$40","v":"D.9"},{"$f":"'B-Bestandsanalyse'!$C$45","v":"Endenergieverbrauch Wärme"},"Grubenwasser",{"$f":"'B-Bestandsanalyse'!$G$47","v":"Industrie"},{"$f":"'B-Bestandsanalyse'!$C$47","v":"MWh/a"},{"$f":"'D-Zielszenario'!$C$88","v":2035},{"$f":"IF('D-Zielszenario'!G117=\"\",\"-\",'D-Zielszenario'!G117)","v":"-"}]
[{"$f":"'D-Zielszenario'!$B$40","v":"D.9"},{"$f":"'B-Bestandsanalyse'!$C$45","v":"Endenergieverbrauch Wärme"},"Luft",{"$f":"'B-Bestandsanalyse'!$G$47","v":"Industrie"},{"$f":"'B-Bestandsanalyse'!$C$47","v":"MWh/a"},{"$f":"'D-Zielszenario'!$C$88","v":2035},{"$f":"IF('D-Zielszenario'!G118=\"\",\"-\",'D-Zielszenario'!G118)","v":"-"}]
[{"$f":"'D-Zielszenario'!$B$40","v":"D.9"},{"$f":"'B-Bestandsanalyse'!$C$45","v":"Endenergieverbrauch Wärme"},"Abwasser",{"$f":"'B-Bestandsanalyse'!$G$47","v":"Industrie"},{"$f":"'B-Bestandsanalyse'!$C$47","v":"MWh/a"},{"$f":"'D-Zielszenario'!$C$88","v":2035},{"$f":"IF('D-Zielszenario'!G119=\"\",\"-\",'D-Zielszenario'!G119)","v":"-"}]
[{"$f":"'D-Zielszenario'!$B$40","v":"D.9"},{"$f":"'B-Bestandsanalyse'!$C$45","v":"Endenergieverbrauch Wärme"},"Sonstige fossile Brennstoffe",{"$f":"'B-Bestandsanalyse'!$G$47","v":"Industrie"},{"$f":"'B-Bestandsanalyse'!$C$47","v":"MWh/a"},{"$f":"'D-Zielszenario'!$C$88","v":2035},{"$f":"IF('D-Zielszenario'!G120=\"\",\"-\",'D-Zielszenario'!G120)","v":"-"}]
[{"$f":"'D-Zielszenario'!$B$40","v":"D.9"},{"$f":"'B-Bestandsanalyse'!$C$45","v":"Endenergieverbrauch Wärme"},"Sonstige erneuerbare Energien",{"$f":"'B-Bestandsanalyse'!$G$47","v":"Industrie"},{"$f":"'B-Bestandsanalyse'!$C$47","v":"MWh/a"},{"$f":"'D-Zielszenario'!$C$88","v":2035},{"$f":"IF('D-Zielszenario'!G121=\"\",\"-\",'D-Zielszenario'!G121)","v":"-"}]
[{"$f":"'D-Zielszenario'!$B$40","v":"D.9"},{"$f":"'B-Bestandsanalyse'!$C$45","v":"Endenergieverbrauch Wärme"},null,{"$f":"'B-Bestandsanalyse'!$G$47","v":"Industrie"},{"$f":"'B-Bestandsanalyse'!$C$47","v":"MWh/a"},{"$f":"'D-Zielszenario'!$C$88","v":2035},{"$f":"IF('D-Zielszenario'!G122=\"\",\"-\",'D-Zielszenario'!G122)","v":0}]
[{"$f":"'D-Zielszenario'!$B$40","v":"D.9"},{"$f":"'B-Bestandsanalyse'!$C$45","v":"Endenergieverbrauch Wärme"},{"$f":"C606","v":"Braunkohle"},{"$f":"'B-Bestandsanalyse'!$I$45","v":"Sektoren insgesamt"},{"$f":"'B-Bestandsanalyse'!$C$47","v":"MWh/a"},{"$f":"'D-Zielszenario'!$C$88","v":2035},{"$f":"IF('D-Zielszenario'!I90=\"\",\"-\",'D-Zielszenario'!I90)","v":"-"}]
[{"$f":"'D-Zielszenario'!$B$40","v":"D.9"},{"$f":"'B-Bestandsanalyse'!$C$45","v":"Endenergieverbrauch Wärme"},"Steinkohle",{"$f":"'B-Bestandsanalyse'!$I$45","v":"Sektoren insgesamt"},{"$f":"'B-Bestandsanalyse'!$C$47","v":"MWh/a"},{"$f":"'D-Zielszenario'!$C$88","v":2035},{"$f":"IF('D-Zielszenario'!I91=\"\",\"-\",'D-Zielszenario'!I91)","v":"-"}]
[{"$f":"'D-Zielszenario'!$B$40","v":"D.9"},{"$f":"'B-Bestandsanalyse'!$C$45","v":"Endenergieverbrauch Wärme"},"Erdgas",{"$f":"'B-Bestandsanalyse'!$I$45","v":"Sektoren insgesamt"},{"$f":"'B-Bestandsanalyse'!$C$47","v":"MWh/a"},{"$f":"'D-Zielszenario'!$C$88","v":2035},{"$f":"IF('D-Zielszenario'!I92=\"\",\"-\",'D-Zielszenario'!I92)","v":"-"}]
[{"$f":"'D-Zielszenario'!$B$40","v":"D.9"},{"$f":"'B-Bestandsanalyse'!$C$45","v":"Endenergieverbrauch Wärme"},"Flüssiggas",{"$f":"'B-Bestandsanalyse'!$I$45","v":"Sektoren insgesamt"},{"$f":"'B-Bestandsanalyse'!$C$47","v":"MWh/a"},{"$f":"'D-Zielszenario'!$C$88","v":2035},{"$f":"IF('D-Zielszenario'!I93=\"\",\"-\",'D-Zielszenario'!I93)","v":"-"}]
[{"$f":"'D-Zielszenario'!$B$40","v":"D.9"},{"$f":"'B-Bestandsanalyse'!$C$45","v":"Endenergieverbrauch Wärme"},"Heizöl",{"$f":"'B-Bestandsanalyse'!$I$45","v":"Sektoren insgesamt"},{"$f":"'B-Bestandsanalyse'!$C$47","v":"MWh/a"},{"$f":"'D-Zielszenario'!$C$88","v":2035},{"$f":"IF('D-Zielszenario'!I94=\"\",\"-\",'D-Zielszenario'!I94)","v":"-"}]
[{"$f":"'D-Zielszenario'!$B$40","v":"D.9"},{"$f":"'B-Bestandsanalyse'!$C$45","v":"Endenergieverbrauch Wärme"},"Wasserstoff",{"$f":"'B-Bestandsanalyse'!$I$45","v":"Sektoren insgesamt"},{"$f":"'B-Bestandsanalyse'!$C$47","v":"MWh/a"},{"$f":"'D-Zielszenario'!$C$88","v":2035},{"$f":"IF('D-Zielszenario'!I95=\"\",\"-\",'D-Zielszenario'!I95)","v":"-"}]
[{"$f":"'D-Zielszenario'!$B$40","v":"D.9"},{"$f":"'B-Bestandsanalyse'!$C$45","v":"Endenergieverbrauch Wärme"},"Wasserstoffderivate",{"$f":"'B-Bestandsanalyse'!$I$45","v":"Sektoren insgesamt"},{"$f":"'B-Bestandsanalyse'!$C$47","v":"MWh/a"},{"$f":"'D-Zielszenario'!$C$88","v":2035},{"$f":"IF('D-Zielszenario'!I96=\"\",\"-\",'D-Zielszenario'!I96)","v":"-"}]
[{"$f":"'D-Zielszenario'!$B$40","v":"D.9"},{"$f":"'B-Bestandsanalyse'!$C$45","v":"Endenergieverbrauch Wärme"},"Grubengas",{"$f":"'B-Bestandsanalyse'!$I$45","v":"Sektoren insgesamt"},{"$f":"'B-Bestandsanalyse'!$C$47","v":"MWh/a"},{"$f":"'D-Zielszenario'!$C$88","v":2035},{"$f":"IF('D-Zielszenario'!I97=\"\",\"-\",'D-Zielszenario'!I97)","v":"-"}]
[{"$f":"'D-Zielszenario'!$B$40","v":"D.9"},{"$f":"'B-Bestandsanalyse'!$C$45","v":"Endenergieverbrauch Wärme"},"Nicht biogener Abfall",{"$f":"'B-Bestandsanalyse'!$I$45","v":"Sektoren insgesamt"},{"$f":"'B-Bestandsanalyse'!$C$47","v":"MWh/a"},{"$f":"'D-Zielszenario'!$C$88","v":2035},{"$f":"IF('D-Zielszenario'!I98=\"\",\"-\",'D-Zielszenario'!I98)","v":"-"}]
[{"$f":"'D-Zielszenario'!$B$40","v":"D.9"},{"$f":"'B-Bestandsanalyse'!$C$45","v":"Endenergieverbrauch Wärme"},"Biogener Abfall",{"$f":"'B-Bestandsanalyse'!$I$45","v":"Sektoren insgesamt"},{"$f":"'B-Bestandsanalyse'!$C$47","v":"MWh/a"},{"$f":"'D-Zielszenario'!$C$88","v":2035},{"$f":"IF('D-Zielszenario'!I99=\"\",\"-\",'D-Zielszenario'!I99)","v":"-"}]
[{"$f":"'D-Zielszenario'!$B$40","v":"D.9"},{"$f":"'B-Bestandsanalyse'!$C$45","v":"Endenergieverbrauch Wärme"},"Abwärme < 60 °C",{"$f":"'B-Bestandsanalyse'!$I$45","v":"Sektoren insgesamt"},{"$f":"'B-Bestandsanalyse'!$C$47","v":"MWh/a"},{"$f":"'D-Zielszenario'!$C$88","v":2035},{"$f":"IF('D-Zielszenario'!I100=\"\",\"-\",'D-Zielszenario'!I100)","v":"-"}]
[{"$f":"'D-Zielszenario'!$B$40","v":"D.9"},{"$f":"'B-Bestandsanalyse'!$C$45","v":"Endenergieverbrauch Wärme"},"Abwärme 60 bis 110 °C",{"$f":"'B-Bestandsanalyse'!$I$45","v":"Sektoren insgesamt"},{"$f":"'B-Bestandsanalyse'!$C$47","v":"MWh/a"},{"$f":"'D-Zielszenario'!$C$88","v":2035},{"$f":"IF('D-Zielszenario'!I101=\"\",\"-\",'D-Zielszenario'!I101)","v":"-"}]
[{"$f":"'D-Zielszenario'!$B$40","v":"D.9"},{"$f":"'B-Bestandsanalyse'!$C$45","v":"Endenergieverbrauch Wärme"},"Abwärme >= 110 °C",{"$f":"'B-Bestandsanalyse'!$I$45","v":"Sektoren insgesamt"},{"$f":"'B-Bestandsanalyse'!$C$47","v":"MWh/a"},{"$f":"'D-Zielszenario'!$C$88","v":2035},{"$f":"IF('D-Zielszenario'!I102=\"\",\"-\",'D-Zielszenario'!I102)","v":"-"}]
[{"$f":"'D-Zielszenario'!$B$40","v":"D.9"},{"$f":"'B-Bestandsanalyse'!$C$45","v":"Endenergieverbrauch Wärme"},"feste Biomasse (ohne Altholz)",{"$f":"'B-Bestandsanalyse'!$I$45","v":"Sektoren insgesamt"},{"$f":"'B-Bestandsanalyse'!$C$47","v":"MWh/a"},{"$f":"'D-Zielszenario'!$C$88","v":2035},{"$f":"IF('D-Zielszenario'!I103=\"\",\"-\",'D-Zielszenario'!I103)","v":"-"}]
[{"$f":"'D-Zielszenario'!$B$40","v":"D.9"},{"$f":"'B-Bestandsanalyse'!$C$45","v":"Endenergieverbrauch Wärme"},"Altholz",{"$f":"'B-Bestandsanalyse'!$I$45","v":"Sektoren insgesamt"},{"$f":"'B-Bestandsanalyse'!$C$47","v":"MWh/a"},{"$f":"'D-Zielszenario'!$C$88","v":2035},{"$f":"IF('D-Zielszenario'!I104=\"\",\"-\",'D-Zielszenario'!I104)","v":"-"}]
[{"$f":"'D-Zielszenario'!$B$40","v":"D.9"},{"$f":"'B-Bestandsanalyse'!$C$45","v":"Endenergieverbrauch Wärme"},"Biogas",{"$f":"'B-Bestandsanalyse'!$I$45","v":"Sektoren insgesamt"},{"$f":"'B-Bestandsanalyse'!$C$47","v":"MWh/a"},{"$f":"'D-Zielszenario'!$C$88","v":2035},{"$f":"IF('D-Zielszenario'!I105=\"\",\"-\",'D-Zielszenario'!I105)","v":"-"}]
[{"$f":"'D-Zielszenario'!$B$40","v":"D.9"},{"$f":"'B-Bestandsanalyse'!$C$45","v":"Endenergieverbrauch Wärme"},"Biomethan",{"$f":"'B-Bestandsanalyse'!$I$45","v":"Sektoren insgesamt"},{"$f":"'B-Bestandsanalyse'!$C$47","v":"MWh/a"},{"$f":"'D-Zielszenario'!$C$88","v":2035},{"$f":"IF('D-Zielszenario'!I106=\"\",\"-\",'D-Zielszenario'!I106)","v":"-"}]
[{"$f":"'D-Zielszenario'!$B$40","v":"D.9"},{"$f":"'B-Bestandsanalyse'!$C$45","v":"Endenergieverbrauch Wärme"},"Deponiegas",{"$f":"'B-Bestandsanalyse'!$I$45","v":"Sektoren insgesamt"},{"$f":"'B-Bestandsanalyse'!$C$47","v":"MWh/a"},{"$f":"'D-Zielszenario'!$C$88","v":2035},{"$f":"IF('D-Zielszenario'!I107=\"\",\"-\",'D-Zielszenario'!I107)","v":"-"}]
[{"$f":"'D-Zielszenario'!$B$40","v":"D.9"},{"$f":"'B-Bestandsanalyse'!$C$45","v":"Endenergieverbrauch Wärme"},"Klärgas",{"$f":"'B-Bestandsanalyse'!$I$45","v":"Sektoren insgesamt"},{"$f":"'B-Bestandsanalyse'!$C$47","v":"MWh/a"},{"$f":"'D-Zielszenario'!$C$88","v":2035},{"$f":"IF('D-Zielszenario'!I108=\"\",\"-\",'D-Zielszenario'!I108)","v":"-"}]
[{"$f":"'D-Zielszenario'!$B$40","v":"D.9"},{"$f":"'B-Bestandsanalyse'!$C$45","v":"Endenergieverbrauch Wärme"},"Flüssige Biomasse",{"$f":"'B-Bestandsanalyse'!$I$45","v":"Sektoren insgesamt"},{"$f":"'B-Bestandsanalyse'!$C$47","v":"MWh/a"},{"$f":"'D-Zielszenario'!$C$88","v":2035},{"$f":"IF('D-Zielszenario'!I109=\"\",\"-\",'D-Zielszenario'!I109)","v":"-"}]
[{"$f":"'D-Zielszenario'!$B$40","v":"D.9"},{"$f":"'B-Bestandsanalyse'!$C$45","v":"Endenergieverbrauch Wärme"},"Strom Wärmepumpe",{"$f":"'B-Bestandsanalyse'!$I$45","v":"Sektoren insgesamt"},{"$f":"'B-Bestandsanalyse'!$C$47","v":"MWh/a"},{"$f":"'D-Zielszenario'!$C$88","v":2035},{"$f":"IF('D-Zielszenario'!I110=\"\",\"-\",'D-Zielszenario'!I110)","v":"-"}]
[{"$f":"'D-Zielszenario'!$B$40","v":"D.9"},{"$f":"'B-Bestandsanalyse'!$C$45","v":"Endenergieverbrauch Wärme"},"Strom Direktheizung",{"$f":"'B-Bestandsanalyse'!$I$45","v":"Sektoren insgesamt"},{"$f":"'B-Bestandsanalyse'!$C$47","v":"MWh/a"},{"$f":"'D-Zielszenario'!$C$88","v":2035},{"$f":"IF('D-Zielszenario'!I111=\"\",\"-\",'D-Zielszenario'!I111)","v":"-"}]
[{"$f":"'D-Zielszenario'!$B$40","v":"D.9"},{"$f":"'B-Bestandsanalyse'!$C$45","v":"Endenergieverbrauch Wärme"},"Solarthermie Dach-Anlagen",{"$f":"'B-Bestandsanalyse'!$I$45","v":"Sektoren insgesamt"},{"$f":"'B-Bestandsanalyse'!$C$47","v":"MWh/a"},{"$f":"'D-Zielszenario'!$C$88","v":2035},{"$f":"IF('D-Zielszenario'!I112=\"\",\"-\",'D-Zielszenario'!I112)","v":"-"}]
[{"$f":"'D-Zielszenario'!$B$40","v":"D.9"},{"$f":"'B-Bestandsanalyse'!$C$45","v":"Endenergieverbrauch Wärme"},"Solarthermie Freiflächenanlagen",{"$f":"'B-Bestandsanalyse'!$I$45","v":"Sektoren insgesamt"},{"$f":"'B-Bestandsanalyse'!$C$47","v":"MWh/a"},{"$f":"'D-Zielszenario'!$C$88","v":2035},{"$f":"IF('D-Zielszenario'!I113=\"\",\"-\",'D-Zielszenario'!I113)","v":"-"}]
[{"$f":"'D-Zielszenario'!$B$40","v":"D.9"},{"$f":"'B-Bestandsanalyse'!$C$45","v":"Endenergieverbrauch Wärme"},"Oberflächennahe Geothermie",{"$f":"'B-Bestandsanalyse'!$I$45","v":"Sektoren insgesamt"},{"$f":"'B-Bestandsanalyse'!$C$47","v":"MWh/a"},{"$f":"'D-Zielszenario'!$C$88","v":2035},{"$f":"IF('D-Zielszenario'!I114=\"\",\"-\",'D-Zielszenario'!I114)","v":"-"}]
[{"$f":"'D-Zielszenario'!$B$40","v":"D.9"},{"$f":"'B-Bestandsanalyse'!$C$45","v":"Endenergieverbrauch Wärme"},"Tiefe Geothermie",{"$f":"'B-Bestandsanalyse'!$I$45","v":"Sektoren insgesamt"},{"$f":"'B-Bestandsanalyse'!$C$47","v":"MWh/a"},{"$f":"'D-Zielszenario'!$C$88","v":2035},{"$f":"IF('D-Zielszenario'!I115=\"\",\"-\",'D-Zielszenario'!I115)","v":"-"}]
[{"$f":"'D-Zielszenario'!$B$40","v":"D.9"},{"$f":"'B-Bestandsanalyse'!$C$45","v":"Endenergieverbrauch Wärme"},"Oberflächengewässern",{"$f":"'B-Bestandsanalyse'!$I$45","v":"Sektoren insgesamt"},{"$f":"'B-Bestandsanalyse'!$C$47","v":"MWh/a"},{"$f":"'D-Zielszenario'!$C$88","v":2035},{"$f":"IF('D-Zielszenario'!I116=\"\",\"-\",'D-Zielszenario'!I116)","v":"-"}]
[{"$f":"'D-Zielszenario'!$B$40","v":"D.9"},{"$f":"'B-Bestandsanalyse'!$C$45","v":"Endenergieverbrauch Wärme"},"Grubenwasser",{"$f":"'B-Bestandsanalyse'!$I$45","v":"Sektoren insgesamt"},{"$f":"'B-Bestandsanalyse'!$C$47","v":"MWh/a"},{"$f":"'D-Zielszenario'!$C$88","v":2035},{"$f":"IF('D-Zielszenario'!I117=\"\",\"-\",'D-Zielszenario'!I117)","v":"-"}]
[{"$f":"'D-Zielszenario'!$B$40","v":"D.9"},{"$f":"'B-Bestandsanalyse'!$C$45","v":"Endenergieverbrauch Wärme"},"Luft",{"$f":"'B-Bestandsanalyse'!$I$45","v":"Sektoren insgesamt"},{"$f":"'B-Bestandsanalyse'!$C$47","v":"MWh/a"},{"$f":"'D-Zielszenario'!$C$88","v":2035},{"$f":"IF('D-Zielszenario'!I118=\"\",\"-\",'D-Zielszenario'!I118)","v":"-"}]
[{"$f":"'D-Zielszenario'!$B$40","v":"D.9"},{"$f":"'B-Bestandsanalyse'!$C$45","v":"Endenergieverbrauch Wärme"},"Abwasser",{"$f":"'B-Bestandsanalyse'!$I$45","v":"Sektoren insgesamt"},{"$f":"'B-Bestandsanalyse'!$C$47","v":"MWh/a"},{"$f":"'D-Zielszenario'!$C$88","v":2035},{"$f":"IF('D-Zielszenario'!I119=\"\",\"-\",'D-Zielszenario'!I119)","v":"-"}]
[{"$f":"'D-Zielszenario'!$B$40","v":"D.9"},{"$f":"'B-Bestandsanalyse'!$C$45","v":"Endenergieverbrauch Wärme"},"Sonstige fossile Brennstoffe",{"$f":"'B-Bestandsanalyse'!$I$45","v":"Sektoren insgesamt"},{"$f":"'B-Bestandsanalyse'!$C$47","v":"MWh/a"},{"$f":"'D-Zielszenario'!$C$88","v":2035},{"$f":"IF('D-Zielszenario'!I120=\"\",\"-\",'D-Zielszenario'!I120)","v":"-"}]
[{"$f":"'D-Zielszenario'!$B$40","v":"D.9"},{"$f":"'B-Bestandsanalyse'!$C$45","v":"Endenergieverbrauch Wärme"},"Sonstige erneuerbare Energien",{"$f":"'B-Bestandsanalyse'!$I$45","v":"Sektoren insgesamt"},{"$f":"'B-Bestandsanalyse'!$C$47","v":"MWh/a"},{"$f":"'D-Zielszenario'!$C$88","v":2035},{"$f":"IF('D-Zielszenario'!I121=\"\",\"-\",'D-Zielszenario'!I121)","v":"-"}]
[{"$f":"'D-Zielszenario'!$B$40","v":"D.9"},{"$f":"'B-Bestandsanalyse'!$C$45","v":"Endenergieverbrauch Wärme"},null,{"$f":"'B-Bestandsanalyse'!$I$45","v":"Sektoren insgesamt"},{"$f":"'B-Bestandsanalyse'!$C$47","v":"MWh/a"},{"$f":"'D-Zielszenario'!$C$88","v":2035},{"$f":"IF('D-Zielszenario'!I122=\"\",\"-\",'D-Zielszenario'!I122)","v":0}]
[{"$f":"'D-Zielszenario'!$B$40","v":"D.9"},{"$f":"'B-Bestandsanalyse'!$C$45","v":"Endenergieverbrauch Wärme"},{"$f":"C474","v":"Braunkohle"},{"$f":"'B-Bestandsanalyse'!$D$47","v":"Haushalte"},{"$f":"'B-Bestandsanalyse'!$C$47","v":"MWh/a"},{"$f":"'D-Zielszenario'!$C$126","v":2040},{"$f":"IF('D-Zielszenario'!D128=\"\",\"-\",'D-Zielszenario'!D128)","v":"-"}]
[{"$f":"'D-Zielszenario'!$B$40","v":"D.9"},{"$f":"'B-Bestandsanalyse'!$C$45","v":"Endenergieverbrauch Wärme"},"Steinkohle",{"$f":"'B-Bestandsanalyse'!$D$47","v":"Haushalte"},{"$f":"'B-Bestandsanalyse'!$C$47","v":"MWh/a"},{"$f":"'D-Zielszenario'!$C$126","v":2040},{"$f":"IF('D-Zielszenario'!D129=\"\",\"-\",'D-Zielszenario'!D129)","v":"-"}]
[{"$f":"'D-Zielszenario'!$B$40","v":"D.9"},{"$f":"'B-Bestandsanalyse'!$C$45","v":"Endenergieverbrauch Wärme"},"Erdgas",{"$f":"'B-Bestandsanalyse'!$D$47","v":"Haushalte"},{"$f":"'B-Bestandsanalyse'!$C$47","v":"MWh/a"},{"$f":"'D-Zielszenario'!$C$126","v":2040},{"$f":"IF('D-Zielszenario'!D130=\"\",\"-\",'D-Zielszenario'!D130)","v":"-"}]
[{"$f":"'D-Zielszenario'!$B$40","v":"D.9"},{"$f":"'B-Bestandsanalyse'!$C$45","v":"Endenergieverbrauch Wärme"},"Flüssiggas",{"$f":"'B-Bestandsanalyse'!$D$47","v":"Haushalte"},{"$f":"'B-Bestandsanalyse'!$C$47","v":"MWh/a"},{"$f":"'D-Zielszenario'!$C$126","v":2040},{"$f":"IF('D-Zielszenario'!D131=\"\",\"-\",'D-Zielszenario'!D131)","v":"-"}]
[{"$f":"'D-Zielszenario'!$B$40","v":"D.9"},{"$f":"'B-Bestandsanalyse'!$C$45","v":"Endenergieverbrauch Wärme"},"Heizöl",{"$f":"'B-Bestandsanalyse'!$D$47","v":"Haushalte"},{"$f":"'B-Bestandsanalyse'!$C$47","v":"MWh/a"},{"$f":"'D-Zielszenario'!$C$126","v":2040},{"$f":"IF('D-Zielszenario'!D132=\"\",\"-\",'D-Zielszenario'!D132)","v":"-"}]
[{"$f":"'D-Zielszenario'!$B$40","v":"D.9"},{"$f":"'B-Bestandsanalyse'!$C$45","v":"Endenergieverbrauch Wärme"},"Wasserstoff",{"$f":"'B-Bestandsanalyse'!$D$47","v":"Haushalte"},{"$f":"'B-Bestandsanalyse'!$C$47","v":"MWh/a"},{"$f":"'D-Zielszenario'!$C$126","v":2040},{"$f":"IF('D-Zielszenario'!D133=\"\",\"-\",'D-Zielszenario'!D133)","v":"-"}]
[{"$f":"'D-Zielszenario'!$B$40","v":"D.9"},{"$f":"'B-Bestandsanalyse'!$C$45","v":"Endenergieverbrauch Wärme"},"Wasserstoffderivate",{"$f":"'B-Bestandsanalyse'!$D$47","v":"Haushalte"},{"$f":"'B-Bestandsanalyse'!$C$47","v":"MWh/a"},{"$f":"'D-Zielszenario'!$C$126","v":2040},{"$f":"IF('D-Zielszenario'!D134=\"\",\"-\",'D-Zielszenario'!D134)","v":"-"}]
[{"$f":"'D-Zielszenario'!$B$40","v":"D.9"},{"$f":"'B-Bestandsanalyse'!$C$45","v":"Endenergieverbrauch Wärme"},"Grubengas",{"$f":"'B-Bestandsanalyse'!$D$47","v":"Haushalte"},{"$f":"'B-Bestandsanalyse'!$C$47","v":"MWh/a"},{"$f":"'D-Zielszenario'!$C$126","v":2040},{"$f":"IF('D-Zielszenario'!D135=\"\",\"-\",'D-Zielszenario'!D135)","v":"-"}]
[{"$f":"'D-Zielszenario'!$B$40","v":"D.9"},{"$f":"'B-Bestandsanalyse'!$C$45","v":"Endenergieverbrauch Wärme"},"Nicht biogener Abfall",{"$f":"'B-Bestandsanalyse'!$D$47","v":"Haushalte"},{"$f":"'B-Bestandsanalyse'!$C$47","v":"MWh/a"},{"$f":"'D-Zielszenario'!$C$126","v":2040},{"$f":"IF('D-Zielszenario'!D136=\"\",\"-\",'D-Zielszenario'!D136)","v":"-"}]
[{"$f":"'D-Zielszenario'!$B$40","v":"D.9"},{"$f":"'B-Bestandsanalyse'!$C$45","v":"Endenergieverbrauch Wärme"},"Biogener Abfall",{"$f":"'B-Bestandsanalyse'!$D$47","v":"Haushalte"},{"$f":"'B-Bestandsanalyse'!$C$47","v":"MWh/a"},{"$f":"'D-Zielszenario'!$C$126","v":2040},{"$f":"IF('D-Zielszenario'!D137=\"\",\"-\",'D-Zielszenario'!D137)","v":"-"}]
[{"$f":"'D-Zielszenario'!$B$40","v":"D.9"},{"$f":"'B-Bestandsanalyse'!$C$45","v":"Endenergieverbrauch Wärme"},"Abwärme < 60 °C",{"$f":"'B-Bestandsanalyse'!$D$47","v":"Haushalte"},{"$f":"'B-Bestandsanalyse'!$C$47","v":"MWh/a"},{"$f":"'D-Zielszenario'!$C$126","v":2040},{"$f":"IF('D-Zielszenario'!D138=\"\",\"-\",'D-Zielszenario'!D138)","v":"-"}]
[{"$f":"'D-Zielszenario'!$B$40","v":"D.9"},{"$f":"'B-Bestandsanalyse'!$C$45","v":"Endenergieverbrauch Wärme"},"Abwärme 60 bis 110 °C",{"$f":"'B-Bestandsanalyse'!$D$47","v":"Haushalte"},{"$f":"'B-Bestandsanalyse'!$C$47","v":"MWh/a"},{"$f":"'D-Zielszenario'!$C$126","v":2040},{"$f":"IF('D-Zielszenario'!D139=\"\",\"-\",'D-Zielszenario'!D139)","v":"-"}]
[{"$f":"'D-Zielszenario'!$B$40","v":"D.9"},{"$f":"'B-Bestandsanalyse'!$C$45","v":"Endenergieverbrauch Wärme"},"Abwärme >= 110 °C",{"$f":"'B-Bestandsanalyse'!$D$47","v":"Haushalte"},{"$f":"'B-Bestandsanalyse'!$C$47","v":"MWh/a"},{"$f":"'D-Zielszenario'!$C$126","v":2040},{"$f":"IF('D-Zielszenario'!D140=\"\",\"-\",'D-Zielszenario'!D140)","v":"-"}]
[{"$f":"'D-Zielszenario'!$B$40","v":"D.9"},{"$f":"'B-Bestandsanalyse'!$C$45","v":"Endenergieverbrauch Wärme"},"feste Biomasse (ohne Altholz)",{"$f":"'B-Bestandsanalyse'!$D$47","v":"Haushalte"},{"$f":"'B-Bestandsanalyse'!$C$47","v":"MWh/a"},{"$f":"'D-Zielszenario'!$C$126","v":2040},{"$f":"IF('D-Zielszenario'!D141=\"\",\"-\",'D-Zielszenario'!D141)","v":"-"}]
[{"$f":"'D-Zielszenario'!$B$40","v":"D.9"},{"$f":"'B-Bestandsanalyse'!$C$45","v":"Endenergieverbrauch Wärme"},"Altholz",{"$f":"'B-Bestandsanalyse'!$D$47","v":"Haushalte"},{"$f":"'B-Bestandsanalyse'!$C$47","v":"MWh/a"},{"$f":"'D-Zielszenario'!$C$126","v":2040},{"$f":"IF('D-Zielszenario'!D142=\"\",\"-\",'D-Zielszenario'!D142)","v":"-"}]
[{"$f":"'D-Zielszenario'!$B$40","v":"D.9"},{"$f":"'B-Bestandsanalyse'!$C$45","v":"Endenergieverbrauch Wärme"},"Biogas",{"$f":"'B-Bestandsanalyse'!$D$47","v":"Haushalte"},{"$f":"'B-Bestandsanalyse'!$C$47","v":"MWh/a"},{"$f":"'D-Zielszenario'!$C$126","v":2040},{"$f":"IF('D-Zielszenario'!D143=\"\",\"-\",'D-Zielszenario'!D143)","v":"-"}]
[{"$f":"'D-Zielszenario'!$B$40","v":"D.9"},{"$f":"'B-Bestandsanalyse'!$C$45","v":"Endenergieverbrauch Wärme"},"Biomethan",{"$f":"'B-Bestandsanalyse'!$D$47","v":"Haushalte"},{"$f":"'B-Bestandsanalyse'!$C$47","v":"MWh/a"},{"$f":"'D-Zielszenario'!$C$126","v":2040},{"$f":"IF('D-Zielszenario'!D144=\"\",\"-\",'D-Zielszenario'!D144)","v":"-"}]
[{"$f":"'D-Zielszenario'!$B$40","v":"D.9"},{"$f":"'B-Bestandsanalyse'!$C$45","v":"Endenergieverbrauch Wärme"},"Deponiegas",{"$f":"'B-Bestandsanalyse'!$D$47","v":"Haushalte"},{"$f":"'B-Bestandsanalyse'!$C$47","v":"MWh/a"},{"$f":"'D-Zielszenario'!$C$126","v":2040},{"$f":"IF('D-Zielszenario'!D145=\"\",\"-\",'D-Zielszenario'!D145)","v":"-"}]
[{"$f":"'D-Zielszenario'!$B$40","v":"D.9"},{"$f":"'B-Bestandsanalyse'!$C$45","v":"Endenergieverbrauch Wärme"},"Klärgas",{"$f":"'B-Bestandsanalyse'!$D$47","v":"Haushalte"},{"$f":"'B-Bestandsanalyse'!$C$47","v":"MWh/a"},{"$f":"'D-Zielszenario'!$C$126","v":2040},{"$f":"IF('D-Zielszenario'!D146=\"\",\"-\",'D-Zielszenario'!D146)","v":"-"}]
[{"$f":"'D-Zielszenario'!$B$40","v":"D.9"},{"$f":"'B-Bestandsanalyse'!$C$45","v":"Endenergieverbrauch Wärme"},"Flüssige Biomasse",{"$f":"'B-Bestandsanalyse'!$D$47","v":"Haushalte"},{"$f":"'B-Bestandsanalyse'!$C$47","v":"MWh/a"},{"$f":"'D-Zielszenario'!$C$126","v":2040},{"$f":"IF('D-Zielszenario'!D147=\"\",\"-\",'D-Zielszenario'!D147)","v":"-"}]
[{"$f":"'D-Zielszenario'!$B$40","v":"D.9"},{"$f":"'B-Bestandsanalyse'!$C$45","v":"Endenergieverbrauch Wärme"},"Strom Wärmepumpe",{"$f":"'B-Bestandsanalyse'!$D$47","v":"Haushalte"},{"$f":"'B-Bestandsanalyse'!$C$47","v":"MWh/a"},{"$f":"'D-Zielszenario'!$C$126","v":2040},{"$f":"IF('D-Zielszenario'!D148=\"\",\"-\",'D-Zielszenario'!D148)","v":"-"}]
[{"$f":"'D-Zielszenario'!$B$40","v":"D.9"},{"$f":"'B-Bestandsanalyse'!$C$45","v":"Endenergieverbrauch Wärme"},"Strom Direktheizung",{"$f":"'B-Bestandsanalyse'!$D$47","v":"Haushalte"},{"$f":"'B-Bestandsanalyse'!$C$47","v":"MWh/a"},{"$f":"'D-Zielszenario'!$C$126","v":2040},{"$f":"IF('D-Zielszenario'!D149=\"\",\"-\",'D-Zielszenario'!D149)","v":"-"}]
[{"$f":"'D-Zielszenario'!$B$40","v":"D.9"},{"$f":"'B-Bestandsanalyse'!$C$45","v":"Endenergieverbrauch Wärme"},"Solarthermie Dach-Anlagen",{"$f":"'B-Bestandsanalyse'!$D$47","v":"Haushalte"},{"$f":"'B-Bestandsanalyse'!$C$47","v":"MWh/a"},{"$f":"'D-Zielszenario'!$C$126","v":2040},{"$f":"IF('D-Zielszenario'!D150=\"\",\"-\",'D-Zielszenario'!D150)","v":"-"}]
[{"$f":"'D-Zielszenario'!$B$40","v":"D.9"},{"$f":"'B-Bestandsanalyse'!$C$45","v":"Endenergieverbrauch Wärme"},"Solarthermie Freiflächenanlagen",{"$f":"'B-Bestandsanalyse'!$D$47","v":"Haushalte"},{"$f":"'B-Bestandsanalyse'!$C$47","v":"MWh/a"},{"$f":"'D-Zielszenario'!$C$126","v":2040},{"$f":"IF('D-Zielszenario'!D151=\"\",\"-\",'D-Zielszenario'!D151)","v":"-"}]
[{"$f":"'D-Zielszenario'!$B$40","v":"D.9"},{"$f":"'B-Bestandsanalyse'!$C$45","v":"Endenergieverbrauch Wärme"},"Oberflächennahe Geothermie",{"$f":"'B-Bestandsanalyse'!$D$47","v":"Haushalte"},{"$f":"'B-Bestandsanalyse'!$C$47","v":"MWh/a"},{"$f":"'D-Zielszenario'!$C$126","v":2040},{"$f":"IF('D-Zielszenario'!D152=\"\",\"-\",'D-Zielszenario'!D152)","v":"-"}]
[{"$f":"'D-Zielszenario'!$B$40","v":"D.9"},{"$f":"'B-Bestandsanalyse'!$C$45","v":"Endenergieverbrauch Wärme"},"Tiefe Geothermie",{"$f":"'B-Bestandsanalyse'!$D$47","v":"Haushalte"},{"$f":"'B-Bestandsanalyse'!$C$47","v":"MWh/a"},{"$f":"'D-Zielszenario'!$C$126","v":2040},{"$f":"IF('D-Zielszenario'!D153=\"\",\"-\",'D-Zielszenario'!D153)","v":"-"}]
[{"$f":"'D-Zielszenario'!$B$40","v":"D.9"},{"$f":"'B-Bestandsanalyse'!$C$45","v":"Endenergieverbrauch Wärme"},"Oberflächengewässern",{"$f":"'B-Bestandsanalyse'!$D$47","v":"Haushalte"},{"$f":"'B-Bestandsanalyse'!$C$47","v":"MWh/a"},{"$f":"'D-Zielszenario'!$C$126","v":2040},{"$f":"IF('D-Zielszenario'!D154=\"\",\"-\",'D-Zielszenario'!D154)","v":"-"}]
[{"$f":"'D-Zielszenario'!$B$40","v":"D.9"},{"$f":"'B-Bestandsanalyse'!$C$45","v":"Endenergieverbrauch Wärme"},"Grubenwasser",{"$f":"'B-Bestandsanalyse'!$D$47","v":"Haushalte"},{"$f":"'B-Bestandsanalyse'!$C$47","v":"MWh/a"},{"$f":"'D-Zielszenario'!$C$126","v":2040},{"$f":"IF('D-Zielszenario'!D155=\"\",\"-\",'D-Zielszenario'!D155)","v":"-"}]
[{"$f":"'D-Zielszenario'!$B$40","v":"D.9"},{"$f":"'B-Bestandsanalyse'!$C$45","v":"Endenergieverbrauch Wärme"},"Luft",{"$f":"'B-Bestandsanalyse'!$D$47","v":"Haushalte"},{"$f":"'B-Bestandsanalyse'!$C$47","v":"MWh/a"},{"$f":"'D-Zielszenario'!$C$126","v":2040},{"$f":"IF('D-Zielszenario'!D156=\"\",\"-\",'D-Zielszenario'!D156)","v":"-"}]
[{"$f":"'D-Zielszenario'!$B$40","v":"D.9"},{"$f":"'B-Bestandsanalyse'!$C$45","v":"Endenergieverbrauch Wärme"},"Abwasser",{"$f":"'B-Bestandsanalyse'!$D$47","v":"Haushalte"},{"$f":"'B-Bestandsanalyse'!$C$47","v":"MWh/a"},{"$f":"'D-Zielszenario'!$C$126","v":2040},{"$f":"IF('D-Zielszenario'!D157=\"\",\"-\",'D-Zielszenario'!D157)","v":"-"}]
[{"$f":"'D-Zielszenario'!$B$40","v":"D.9"},{"$f":"'B-Bestandsanalyse'!$C$45","v":"Endenergieverbrauch Wärme"},"Sonstige fossile Brennstoffe",{"$f":"'B-Bestandsanalyse'!$D$47","v":"Haushalte"},{"$f":"'B-Bestandsanalyse'!$C$47","v":"MWh/a"},{"$f":"'D-Zielszenario'!$C$126","v":2040},{"$f":"IF('D-Zielszenario'!D158=\"\",\"-\",'D-Zielszenario'!D158)","v":"-"}]
[{"$f":"'D-Zielszenario'!$B$40","v":"D.9"},{"$f":"'B-Bestandsanalyse'!$C$45","v":"Endenergieverbrauch Wärme"},"Sonstige erneuerbare Energien",{"$f":"'B-Bestandsanalyse'!$D$47","v":"Haushalte"},{"$f":"'B-Bestandsanalyse'!$C$47","v":"MWh/a"},{"$f":"'D-Zielszenario'!$C$126","v":2040},{"$f":"IF('D-Zielszenario'!D159=\"\",\"-\",'D-Zielszenario'!D159)","v":"-"}]
[{"$f":"'D-Zielszenario'!$B$40","v":"D.9"},{"$f":"'B-Bestandsanalyse'!$C$45","v":"Endenergieverbrauch Wärme"},null,{"$f":"'B-Bestandsanalyse'!$D$47","v":"Haushalte"},{"$f":"'B-Bestandsanalyse'!$C$47","v":"MWh/a"},{"$f":"'D-Zielszenario'!$C$126","v":2040},{"$f":"IF('D-Zielszenario'!D160=\"\",\"-\",'D-Zielszenario'!D160)","v":0}]
[{"$f":"'D-Zielszenario'!$B$40","v":"D.9"},{"$f":"'B-Bestandsanalyse'!$C$45","v":"Endenergieverbrauch Wärme"},{"$f":"C507","v":"Braunkohle"},{"$f":"'B-Bestandsanalyse'!$E$47","v":"GHD"},{"$f":"'B-Bestandsanalyse'!$C$47","v":"MWh/a"},{"$f":"'D-Zielszenario'!$C$126","v":2040},{"$f":"IF('D-Zielszenario'!E128=\"\",\"-\",'D-Zielszenario'!E128)","v":"-"}]
[{"$f":"'D-Zielszenario'!$B$40","v":"D.9"},{"$f":"'B-Bestandsanalyse'!$C$45","v":"Endenergieverbrauch Wärme"},"Steinkohle",{"$f":"'B-Bestandsanalyse'!$E$47","v":"GHD"},{"$f":"'B-Bestandsanalyse'!$C$47","v":"MWh/a"},{"$f":"'D-Zielszenario'!$C$126","v":2040},{"$f":"IF('D-Zielszenario'!E129=\"\",\"-\",'D-Zielszenario'!E129)","v":"-"}]
[{"$f":"'D-Zielszenario'!$B$40","v":"D.9"},{"$f":"'B-Bestandsanalyse'!$C$45","v":"Endenergieverbrauch Wärme"},"Erdgas",{"$f":"'B-Bestandsanalyse'!$E$47","v":"GHD"},{"$f":"'B-Bestandsanalyse'!$C$47","v":"MWh/a"},{"$f":"'D-Zielszenario'!$C$126","v":2040},{"$f":"IF('D-Zielszenario'!E130=\"\",\"-\",'D-Zielszenario'!E130)","v":"-"}]
[{"$f":"'D-Zielszenario'!$B$40","v":"D.9"},{"$f":"'B-Bestandsanalyse'!$C$45","v":"Endenergieverbrauch Wärme"},"Flüssiggas",{"$f":"'B-Bestandsanalyse'!$E$47","v":"GHD"},{"$f":"'B-Bestandsanalyse'!$C$47","v":"MWh/a"},{"$f":"'D-Zielszenario'!$C$126","v":2040},{"$f":"IF('D-Zielszenario'!E131=\"\",\"-\",'D-Zielszenario'!E131)","v":"-"}]
[{"$f":"'D-Zielszenario'!$B$40","v":"D.9"},{"$f":"'B-Bestandsanalyse'!$C$45","v":"Endenergieverbrauch Wärme"},"Heizöl",{"$f":"'B-Bestandsanalyse'!$E$47","v":"GHD"},{"$f":"'B-Bestandsanalyse'!$C$47","v":"MWh/a"},{"$f":"'D-Zielszenario'!$C$126","v":2040},{"$f":"IF('D-Zielszenario'!E132=\"\",\"-\",'D-Zielszenario'!E132)","v":"-"}]
[{"$f":"'D-Zielszenario'!$B$40","v":"D.9"},{"$f":"'B-Bestandsanalyse'!$C$45","v":"Endenergieverbrauch Wärme"},"Wasserstoff",{"$f":"'B-Bestandsanalyse'!$E$47","v":"GHD"},{"$f":"'B-Bestandsanalyse'!$C$47","v":"MWh/a"},{"$f":"'D-Zielszenario'!$C$126","v":2040},{"$f":"IF('D-Zielszenario'!E133=\"\",\"-\",'D-Zielszenario'!E133)","v":"-"}]
[{"$f":"'D-Zielszenario'!$B$40","v":"D.9"},{"$f":"'B-Bestandsanalyse'!$C$45","v":"Endenergieverbrauch Wärme"},"Wasserstoffderivate",{"$f":"'B-Bestandsanalyse'!$E$47","v":"GHD"},{"$f":"'B-Bestandsanalyse'!$C$47","v":"MWh/a"},{"$f":"'D-Zielszenario'!$C$126","v":2040},{"$f":"IF('D-Zielszenario'!E134=\"\",\"-\",'D-Zielszenario'!E134)","v":"-"}]
[{"$f":"'D-Zielszenario'!$B$40","v":"D.9"},{"$f":"'B-Bestandsanalyse'!$C$45","v":"Endenergieverbrauch Wärme"},"Grubengas",{"$f":"'B-Bestandsanalyse'!$E$47","v":"GHD"},{"$f":"'B-Bestandsanalyse'!$C$47","v":"MWh/a"},{"$f":"'D-Zielszenario'!$C$126","v":2040},{"$f":"IF('D-Zielszenario'!E135=\"\",\"-\",'D-Zielszenario'!E135)","v":"-"}]
[{"$f":"'D-Zielszenario'!$B$40","v":"D.9"},{"$f":"'B-Bestandsanalyse'!$C$45","v":"Endenergieverbrauch Wärme"},"Nicht biogener Abfall",{"$f":"'B-Bestandsanalyse'!$E$47","v":"GHD"},{"$f":"'B-Bestandsanalyse'!$C$47","v":"MWh/a"},{"$f":"'D-Zielszenario'!$C$126","v":2040},{"$f":"IF('D-Zielszenario'!E136=\"\",\"-\",'D-Zielszenario'!E136)","v":"-"}]
[{"$f":"'D-Zielszenario'!$B$40","v":"D.9"},{"$f":"'B-Bestandsanalyse'!$C$45","v":"Endenergieverbrauch Wärme"},"Biogener Abfall",{"$f":"'B-Bestandsanalyse'!$E$47","v":"GHD"},{"$f":"'B-Bestandsanalyse'!$C$47","v":"MWh/a"},{"$f":"'D-Zielszenario'!$C$126","v":2040},{"$f":"IF('D-Zielszenario'!E137=\"\",\"-\",'D-Zielszenario'!E137)","v":"-"}]
[{"$f":"'D-Zielszenario'!$B$40","v":"D.9"},{"$f":"'B-Bestandsanalyse'!$C$45","v":"Endenergieverbrauch Wärme"},"Abwärme < 60 °C",{"$f":"'B-Bestandsanalyse'!$E$47","v":"GHD"},{"$f":"'B-Bestandsanalyse'!$C$47","v":"MWh/a"},{"$f":"'D-Zielszenario'!$C$126","v":2040},{"$f":"IF('D-Zielszenario'!E138=\"\",\"-\",'D-Zielszenario'!E138)","v":"-"}]
[{"$f":"'D-Zielszenario'!$B$40","v":"D.9"},{"$f":"'B-Bestandsanalyse'!$C$45","v":"Endenergieverbrauch Wärme"},"Abwärme 60 bis 110 °C",{"$f":"'B-Bestandsanalyse'!$E$47","v":"GHD"},{"$f":"'B-Bestandsanalyse'!$C$47","v":"MWh/a"},{"$f":"'D-Zielszenario'!$C$126","v":2040},{"$f":"IF('D-Zielszenario'!E139=\"\",\"-\",'D-Zielszenario'!E139)","v":"-"}]
[{"$f":"'D-Zielszenario'!$B$40","v":"D.9"},{"$f":"'B-Bestandsanalyse'!$C$45","v":"Endenergieverbrauch Wärme"},"Abwärme >= 110 °C",{"$f":"'B-Bestandsanalyse'!$E$47","v":"GHD"},{"$f":"'B-Bestandsanalyse'!$C$47","v":"MWh/a"},{"$f":"'D-Zielszenario'!$C$126","v":2040},{"$f":"IF('D-Zielszenario'!E140=\"\",\"-\",'D-Zielszenario'!E140)","v":"-"}]
[{"$f":"'D-Zielszenario'!$B$40","v":"D.9"},{"$f":"'B-Bestandsanalyse'!$C$45","v":"Endenergieverbrauch Wärme"},"feste Biomasse (ohne Altholz)",{"$f":"'B-Bestandsanalyse'!$E$47","v":"GHD"},{"$f":"'B-Bestandsanalyse'!$C$47","v":"MWh/a"},{"$f":"'D-Zielszenario'!$C$126","v":2040},{"$f":"IF('D-Zielszenario'!E141=\"\",\"-\",'D-Zielszenario'!E141)","v":"-"}]
[{"$f":"'D-Zielszenario'!$B$40","v":"D.9"},{"$f":"'B-Bestandsanalyse'!$C$45","v":"Endenergieverbrauch Wärme"},"Altholz",{"$f":"'B-Bestandsanalyse'!$E$47","v":"GHD"},{"$f":"'B-Bestandsanalyse'!$C$47","v":"MWh/a"},{"$f":"'D-Zielszenario'!$C$126","v":2040},{"$f":"IF('D-Zielszenario'!E142=\"\",\"-\",'D-Zielszenario'!E142)","v":"-"}]
[{"$f":"'D-Zielszenario'!$B$40","v":"D.9"},{"$f":"'B-Bestandsanalyse'!$C$45","v":"Endenergieverbrauch Wärme"},"Biogas",{"$f":"'B-Bestandsanalyse'!$E$47","v":"GHD"},{"$f":"'B-Bestandsanalyse'!$C$47","v":"MWh/a"},{"$f":"'D-Zielszenario'!$C$126","v":2040},{"$f":"IF('D-Zielszenario'!E143=\"\",\"-\",'D-Zielszenario'!E143)","v":"-"}]
[{"$f":"'D-Zielszenario'!$B$40","v":"D.9"},{"$f":"'B-Bestandsanalyse'!$C$45","v":"Endenergieverbrauch Wärme"},"Biomethan",{"$f":"'B-Bestandsanalyse'!$E$47","v":"GHD"},{"$f":"'B-Bestandsanalyse'!$C$47","v":"MWh/a"},{"$f":"'D-Zielszenario'!$C$126","v":2040},{"$f":"IF('D-Zielszenario'!E144=\"\",\"-\",'D-Zielszenario'!E144)","v":"-"}]
[{"$f":"'D-Zielszenario'!$B$40","v":"D.9"},{"$f":"'B-Bestandsanalyse'!$C$45","v":"Endenergieverbrauch Wärme"},"Deponiegas",{"$f":"'B-Bestandsanalyse'!$E$47","v":"GHD"},{"$f":"'B-Bestandsanalyse'!$C$47","v":"MWh/a"},{"$f":"'D-Zielszenario'!$C$126","v":2040},{"$f":"IF('D-Zielszenario'!E145=\"\",\"-\",'D-Zielszenario'!E145)","v":"-"}]
[{"$f":"'D-Zielszenario'!$B$40","v":"D.9"},{"$f":"'B-Bestandsanalyse'!$C$45","v":"Endenergieverbrauch Wärme"},"Klärgas",{"$f":"'B-Bestandsanalyse'!$E$47","v":"GHD"},{"$f":"'B-Bestandsanalyse'!$C$47","v":"MWh/a"},{"$f":"'D-Zielszenario'!$C$126","v":2040},{"$f":"IF('D-Zielszenario'!E146=\"\",\"-\",'D-Zielszenario'!E146)","v":"-"}]
[{"$f":"'D-Zielszenario'!$B$40","v":"D.9"},{"$f":"'B-Bestandsanalyse'!$C$45","v":"Endenergieverbrauch Wärme"},"Flüssige Biomasse",{"$f":"'B-Bestandsanalyse'!$E$47","v":"GHD"},{"$f":"'B-Bestandsanalyse'!$C$47","v":"MWh/a"},{"$f":"'D-Zielszenario'!$C$126","v":2040},{"$f":"IF('D-Zielszenario'!E147=\"\",\"-\",'D-Zielszenario'!E147)","v":"-"}]
[{"$f":"'D-Zielszenario'!$B$40","v":"D.9"},{"$f":"'B-Bestandsanalyse'!$C$45","v":"Endenergieverbrauch Wärme"},"Strom Wärmepumpe",{"$f":"'B-Bestandsanalyse'!$E$47","v":"GHD"},{"$f":"'B-Bestandsanalyse'!$C$47","v":"MWh/a"},{"$f":"'D-Zielszenario'!$C$126","v":2040},{"$f":"IF('D-Zielszenario'!E148=\"\",\"-\",'D-Zielszenario'!E148)","v":"-"}]
[{"$f":"'D-Zielszenario'!$B$40","v":"D.9"},{"$f":"'B-Bestandsanalyse'!$C$45","v":"Endenergieverbrauch Wärme"},"Strom Direktheizung",{"$f":"'B-Bestandsanalyse'!$E$47","v":"GHD"},{"$f":"'B-Bestandsanalyse'!$C$47","v":"MWh/a"},{"$f":"'D-Zielszenario'!$C$126","v":2040},{"$f":"IF('D-Zielszenario'!E149=\"\",\"-\",'D-Zielszenario'!E149)","v":"-"}]
[{"$f":"'D-Zielszenario'!$B$40","v":"D.9"},{"$f":"'B-Bestandsanalyse'!$C$45","v":"Endenergieverbrauch Wärme"},"Solarthermie Dach-Anlagen",{"$f":"'B-Bestandsanalyse'!$E$47","v":"GHD"},{"$f":"'B-Bestandsanalyse'!$C$47","v":"MWh/a"},{"$f":"'D-Zielszenario'!$C$126","v":2040},{"$f":"IF('D-Zielszenario'!E150=\"\",\"-\",'D-Zielszenario'!E150)","v":"-"}]
[{"$f":"'D-Zielszenario'!$B$40","v":"D.9"},{"$f":"'B-Bestandsanalyse'!$C$45","v":"Endenergieverbrauch Wärme"},"Solarthermie Freiflächenanlagen",{"$f":"'B-Bestandsanalyse'!$E$47","v":"GHD"},{"$f":"'B-Bestandsanalyse'!$C$47","v":"MWh/a"},{"$f":"'D-Zielszenario'!$C$126","v":2040},{"$f":"IF('D-Zielszenario'!E151=\"\",\"-\",'D-Zielszenario'!E151)","v":"-"}]
[{"$f":"'D-Zielszenario'!$B$40","v":"D.9"},{"$f":"'B-Bestandsanalyse'!$C$45","v":"Endenergieverbrauch Wärme"},"Oberflächennahe Geothermie",{"$f":"'B-Bestandsanalyse'!$E$47","v":"GHD"},{"$f":"'B-Bestandsanalyse'!$C$47","v":"MWh/a"},{"$f":"'D-Zielszenario'!$C$126","v":2040},{"$f":"IF('D-Zielszenario'!E152=\"\",\"-\",'D-Zielszenario'!E152)","v":"-"}]
[{"$f":"'D-Zielszenario'!$B$40","v":"D.9"},{"$f":"'B-Bestandsanalyse'!$C$45","v":"Endenergieverbrauch Wärme"},"Tiefe Geothermie",{"$f":"'B-Bestandsanalyse'!$E$47","v":"GHD"},{"$f":"'B-Bestandsanalyse'!$C$47","v":"MWh/a"},{"$f":"'D-Zielszenario'!$C$126","v":2040},{"$f":"IF('D-Zielszenario'!E153=\"\",\"-\",'D-Zielszenario'!E153)","v":"-"}]
[{"$f":"'D-Zielszenario'!$B$40","v":"D.9"},{"$f":"'B-Bestandsanalyse'!$C$45","v":"Endenergieverbrauch Wärme"},"Oberflächengewässern",{"$f":"'B-Bestandsanalyse'!$E$47","v":"GHD"},{"$f":"'B-Bestandsanalyse'!$C$47","v":"MWh/a"},{"$f":"'D-Zielszenario'!$C$126","v":2040},{"$f":"IF('D-Zielszenario'!E154=\"\",\"-\",'D-Zielszenario'!E154)","v":"-"}]
[{"$f":"'D-Zielszenario'!$B$40","v":"D.9"},{"$f":"'B-Bestandsanalyse'!$C$45","v":"Endenergieverbrauch Wärme"},"Grubenwasser",{"$f":"'B-Bestandsanalyse'!$E$47","v":"GHD"},{"$f":"'B-Bestandsanalyse'!$C$47","v":"MWh/a"},{"$f":"'D-Zielszenario'!$C$126","v":2040},{"$f":"IF('D-Zielszenario'!E155=\"\",\"-\",'D-Zielszenario'!E155)","v":"-"}]
[{"$f":"'D-Zielszenario'!$B$40","v":"D.9"},{"$f":"'B-Bestandsanalyse'!$C$45","v":"Endenergieverbrauch Wärme"},"Luft",{"$f":"'B-Bestandsanalyse'!$E$47","v":"GHD"},{"$f":"'B-Bestandsanalyse'!$C$47","v":"MWh/a"},{"$f":"'D-Zielszenario'!$C$126","v":2040},{"$f":"IF('D-Zielszenario'!E156=\"\",\"-\",'D-Zielszenario'!E156)","v":"-"}]
[{"$f":"'D-Zielszenario'!$B$40","v":"D.9"},{"$f":"'B-Bestandsanalyse'!$C$45","v":"Endenergieverbrauch Wärme"},"Abwasser",{"$f":"'B-Bestandsanalyse'!$E$47","v":"GHD"},{"$f":"'B-Bestandsanalyse'!$C$47","v":"MWh/a"},{"$f":"'D-Zielszenario'!$C$126","v":2040},{"$f":"IF('D-Zielszenario'!E157=\"\",\"-\",'D-Zielszenario'!E157)","v":"-"}]
[{"$f":"'D-Zielszenario'!$B$40","v":"D.9"},{"$f":"'B-Bestandsanalyse'!$C$45","v":"Endenergieverbrauch Wärme"},"Sonstige fossile Brennstoffe",{"$f":"'B-Bestandsanalyse'!$E$47","v":"GHD"},{"$f":"'B-Bestandsanalyse'!$C$47","v":"MWh/a"},{"$f":"'D-Zielszenario'!$C$126","v":2040},{"$f":"IF('D-Zielszenario'!E158=\"\",\"-\",'D-Zielszenario'!E158)","v":"-"}]
[{"$f":"'D-Zielszenario'!$B$40","v":"D.9"},{"$f":"'B-Bestandsanalyse'!$C$45","v":"Endenergieverbrauch Wärme"},"Sonstige erneuerbare Energien",{"$f":"'B-Bestandsanalyse'!$E$47","v":"GHD"},{"$f":"'B-Bestandsanalyse'!$C$47","v":"MWh/a"},{"$f":"'D-Zielszenario'!$C$126","v":2040},{"$f":"IF('D-Zielszenario'!E159=\"\",\"-\",'D-Zielszenario'!E159)","v":"-"}]
[{"$f":"'D-Zielszenario'!$B$40","v":"D.9"},{"$f":"'B-Bestandsanalyse'!$C$45","v":"Endenergieverbrauch Wärme"},null,{"$f":"'B-Bestandsanalyse'!$E$47","v":"GHD"},{"$f":"'B-Bestandsanalyse'!$C$47","v":"MWh/a"},{"$f":"'D-Zielszenario'!$C$126","v":2040},{"$f":"IF('D-Zielszenario'!E160=\"\",\"-\",'D-Zielszenario'!E160)","v":0}]
[{"$f":"'D-Zielszenario'!$B$40","v":"D.9"},{"$f":"'B-Bestandsanalyse'!$C$45","v":"Endenergieverbrauch Wärme"},{"$f":"C540","v":"Braunkohle"},{"$f":"'B-Bestandsanalyse'!$F$47","v":"öffentliche Liegenschaften"},{"$f":"'B-Bestandsanalyse'!$C$47","v":"MWh/a"},{"$f":"'D-Zielszenario'!$C$126","v":2040},{"$f":"IF('D-Zielszenario'!F128=\"\",\"-\",'D-Zielszenario'!F128)","v":"-"}]
[{"$f":"'D-Zielszenario'!$B$40","v":"D.9"},{"$f":"'B-Bestandsanalyse'!$C$45","v":"Endenergieverbrauch Wärme"},"Steinkohle",{"$f":"'B-Bestandsanalyse'!$F$47","v":"öffentliche Liegenschaften"},{"$f":"'B-Bestandsanalyse'!$C$47","v":"MWh/a"},{"$f":"'D-Zielszenario'!$C$126","v":2040},{"$f":"IF('D-Zielszenario'!F129=\"\",\"-\",'D-Zielszenario'!F129)","v":"-"}]
[{"$f":"'D-Zielszenario'!$B$40","v":"D.9"},{"$f":"'B-Bestandsanalyse'!$C$45","v":"Endenergieverbrauch Wärme"},"Erdgas",{"$f":"'B-Bestandsanalyse'!$F$47","v":"öffentliche Liegenschaften"},{"$f":"'B-Bestandsanalyse'!$C$47","v":"MWh/a"},{"$f":"'D-Zielszenario'!$C$126","v":2040},{"$f":"IF('D-Zielszenario'!F130=\"\",\"-\",'D-Zielszenario'!F130)","v":"-"}]
[{"$f":"'D-Zielszenario'!$B$40","v":"D.9"},{"$f":"'B-Bestandsanalyse'!$C$45","v":"Endenergieverbrauch Wärme"},"Flüssiggas",{"$f":"'B-Bestandsanalyse'!$F$47","v":"öffentliche Liegenschaften"},{"$f":"'B-Bestandsanalyse'!$C$47","v":"MWh/a"},{"$f":"'D-Zielszenario'!$C$126","v":2040},{"$f":"IF('D-Zielszenario'!F131=\"\",\"-\",'D-Zielszenario'!F131)","v":"-"}]
[{"$f":"'D-Zielszenario'!$B$40","v":"D.9"},{"$f":"'B-Bestandsanalyse'!$C$45","v":"Endenergieverbrauch Wärme"},"Heizöl",{"$f":"'B-Bestandsanalyse'!$F$47","v":"öffentliche Liegenschaften"},{"$f":"'B-Bestandsanalyse'!$C$47","v":"MWh/a"},{"$f":"'D-Zielszenario'!$C$126","v":2040},{"$f":"IF('D-Zielszenario'!F132=\"\",\"-\",'D-Zielszenario'!F132)","v":"-"}]
[{"$f":"'D-Zielszenario'!$B$40","v":"D.9"},{"$f":"'B-Bestandsanalyse'!$C$45","v":"Endenergieverbrauch Wärme"},"Wasserstoff",{"$f":"'B-Bestandsanalyse'!$F$47","v":"öffentliche Liegenschaften"},{"$f":"'B-Bestandsanalyse'!$C$47","v":"MWh/a"},{"$f":"'D-Zielszenario'!$C$126","v":2040},{"$f":"IF('D-Zielszenario'!F133=\"\",\"-\",'D-Zielszenario'!F133)","v":"-"}]
[{"$f":"'D-Zielszenario'!$B$40","v":"D.9"},{"$f":"'B-Bestandsanalyse'!$C$45","v":"Endenergieverbrauch Wärme"},"Wasserstoffderivate",{"$f":"'B-Bestandsanalyse'!$F$47","v":"öffentliche Liegenschaften"},{"$f":"'B-Bestandsanalyse'!$C$47","v":"MWh/a"},{"$f":"'D-Zielszenario'!$C$126","v":2040},{"$f":"IF('D-Zielszenario'!F134=\"\",\"-\",'D-Zielszenario'!F134)","v":"-"}]
[{"$f":"'D-Zielszenario'!$B$40","v":"D.9"},{"$f":"'B-Bestandsanalyse'!$C$45","v":"Endenergieverbrauch Wärme"},"Grubengas",{"$f":"'B-Bestandsanalyse'!$F$47","v":"öffentliche Liegenschaften"},{"$f":"'B-Bestandsanalyse'!$C$47","v":"MWh/a"},{"$f":"'D-Zielszenario'!$C$126","v":2040},{"$f":"IF('D-Zielszenario'!F135=\"\",\"-\",'D-Zielszenario'!F135)","v":"-"}]
[{"$f":"'D-Zielszenario'!$B$40","v":"D.9"},{"$f":"'B-Bestandsanalyse'!$C$45","v":"Endenergieverbrauch Wärme"},"Nicht biogener Abfall",{"$f":"'B-Bestandsanalyse'!$F$47","v":"öffentliche Liegenschaften"},{"$f":"'B-Bestandsanalyse'!$C$47","v":"MWh/a"},{"$f":"'D-Zielszenario'!$C$126","v":2040},{"$f":"IF('D-Zielszenario'!F136=\"\",\"-\",'D-Zielszenario'!F136)","v":"-"}]
[{"$f":"'D-Zielszenario'!$B$40","v":"D.9"},{"$f":"'B-Bestandsanalyse'!$C$45","v":"Endenergieverbrauch Wärme"},"Biogener Abfall",{"$f":"'B-Bestandsanalyse'!$F$47","v":"öffentliche Liegenschaften"},{"$f":"'B-Bestandsanalyse'!$C$47","v":"MWh/a"},{"$f":"'D-Zielszenario'!$C$126","v":2040},{"$f":"IF('D-Zielszenario'!F137=\"\",\"-\",'D-Zielszenario'!F137)","v":"-"}]
[{"$f":"'D-Zielszenario'!$B$40","v":"D.9"},{"$f":"'B-Bestandsanalyse'!$C$45","v":"Endenergieverbrauch Wärme"},"Abwärme < 60 °C",{"$f":"'B-Bestandsanalyse'!$F$47","v":"öffentliche Liegenschaften"},{"$f":"'B-Bestandsanalyse'!$C$47","v":"MWh/a"},{"$f":"'D-Zielszenario'!$C$126","v":2040},{"$f":"IF('D-Zielszenario'!F138=\"\",\"-\",'D-Zielszenario'!F138)","v":"-"}]
[{"$f":"'D-Zielszenario'!$B$40","v":"D.9"},{"$f":"'B-Bestandsanalyse'!$C$45","v":"Endenergieverbrauch Wärme"},"Abwärme 60 bis 110 °C",{"$f":"'B-Bestandsanalyse'!$F$47","v":"öffentliche Liegenschaften"},{"$f":"'B-Bestandsanalyse'!$C$47","v":"MWh/a"},{"$f":"'D-Zielszenario'!$C$126","v":2040},{"$f":"IF('D-Zielszenario'!F139=\"\",\"-\",'D-Zielszenario'!F139)","v":"-"}]
[{"$f":"'D-Zielszenario'!$B$40","v":"D.9"},{"$f":"'B-Bestandsanalyse'!$C$45","v":"Endenergieverbrauch Wärme"},"Abwärme >= 110 °C",{"$f":"'B-Bestandsanalyse'!$F$47","v":"öffentliche Liegenschaften"},{"$f":"'B-Bestandsanalyse'!$C$47","v":"MWh/a"},{"$f":"'D-Zielszenario'!$C$126","v":2040},{"$f":"IF('D-Zielszenario'!F140=\"\",\"-\",'D-Zielszenario'!F140)","v":"-"}]
[{"$f":"'D-Zielszenario'!$B$40","v":"D.9"},{"$f":"'B-Bestandsanalyse'!$C$45","v":"Endenergieverbrauch Wärme"},"feste Biomasse (ohne Altholz)",{"$f":"'B-Bestandsanalyse'!$F$47","v":"öffentliche Liegenschaften"},{"$f":"'B-Bestandsanalyse'!$C$47","v":"MWh/a"},{"$f":"'D-Zielszenario'!$C$126","v":2040},{"$f":"IF('D-Zielszenario'!F141=\"\",\"-\",'D-Zielszenario'!F141)","v":"-"}]
[{"$f":"'D-Zielszenario'!$B$40","v":"D.9"},{"$f":"'B-Bestandsanalyse'!$C$45","v":"Endenergieverbrauch Wärme"},"Altholz",{"$f":"'B-Bestandsanalyse'!$F$47","v":"öffentliche Liegenschaften"},{"$f":"'B-Bestandsanalyse'!$C$47","v":"MWh/a"},{"$f":"'D-Zielszenario'!$C$126","v":2040},{"$f":"IF('D-Zielszenario'!F142=\"\",\"-\",'D-Zielszenario'!F142)","v":"-"}]
[{"$f":"'D-Zielszenario'!$B$40","v":"D.9"},{"$f":"'B-Bestandsanalyse'!$C$45","v":"Endenergieverbrauch Wärme"},"Biogas",{"$f":"'B-Bestandsanalyse'!$F$47","v":"öffentliche Liegenschaften"},{"$f":"'B-Bestandsanalyse'!$C$47","v":"MWh/a"},{"$f":"'D-Zielszenario'!$C$126","v":2040},{"$f":"IF('D-Zielszenario'!F143=\"\",\"-\",'D-Zielszenario'!F143)","v":"-"}]
[{"$f":"'D-Zielszenario'!$B$40","v":"D.9"},{"$f":"'B-Bestandsanalyse'!$C$45","v":"Endenergieverbrauch Wärme"},"Biomethan",{"$f":"'B-Bestandsanalyse'!$F$47","v":"öffentliche Liegenschaften"},{"$f":"'B-Bestandsanalyse'!$C$47","v":"MWh/a"},{"$f":"'D-Zielszenario'!$C$126","v":2040},{"$f":"IF('D-Zielszenario'!F144=\"\",\"-\",'D-Zielszenario'!F144)","v":"-"}]
[{"$f":"'D-Zielszenario'!$B$40","v":"D.9"},{"$f":"'B-Bestandsanalyse'!$C$45","v":"Endenergieverbrauch Wärme"},"Deponiegas",{"$f":"'B-Bestandsanalyse'!$F$47","v":"öffentliche Liegenschaften"},{"$f":"'B-Bestandsanalyse'!$C$47","v":"MWh/a"},{"$f":"'D-Zielszenario'!$C$126","v":2040},{"$f":"IF('D-Zielszenario'!F145=\"\",\"-\",'D-Zielszenario'!F145)","v":"-"}]
[{"$f":"'D-Zielszenario'!$B$40","v":"D.9"},{"$f":"'B-Bestandsanalyse'!$C$45","v":"Endenergieverbrauch Wärme"},"Klärgas",{"$f":"'B-Bestandsanalyse'!$F$47","v":"öffentliche Liegenschaften"},{"$f":"'B-Bestandsanalyse'!$C$47","v":"MWh/a"},{"$f":"'D-Zielszenario'!$C$126","v":2040},{"$f":"IF('D-Zielszenario'!F146=\"\",\"-\",'D-Zielszenario'!F146)","v":"-"}]
[{"$f":"'D-Zielszenario'!$B$40","v":"D.9"},{"$f":"'B-Bestandsanalyse'!$C$45","v":"Endenergieverbrauch Wärme"},"Flüssige Biomasse",{"$f":"'B-Bestandsanalyse'!$F$47","v":"öffentliche Liegenschaften"},{"$f":"'B-Bestandsanalyse'!$C$47","v":"MWh/a"},{"$f":"'D-Zielszenario'!$C$126","v":2040},{"$f":"IF('D-Zielszenario'!F147=\"\",\"-\",'D-Zielszenario'!F147)","v":"-"}]
[{"$f":"'D-Zielszenario'!$B$40","v":"D.9"},{"$f":"'B-Bestandsanalyse'!$C$45","v":"Endenergieverbrauch Wärme"},"Strom Wärmepumpe",{"$f":"'B-Bestandsanalyse'!$F$47","v":"öffentliche Liegenschaften"},{"$f":"'B-Bestandsanalyse'!$C$47","v":"MWh/a"},{"$f":"'D-Zielszenario'!$C$126","v":2040},{"$f":"IF('D-Zielszenario'!F148=\"\",\"-\",'D-Zielszenario'!F148)","v":"-"}]
[{"$f":"'D-Zielszenario'!$B$40","v":"D.9"},{"$f":"'B-Bestandsanalyse'!$C$45","v":"Endenergieverbrauch Wärme"},"Strom Direktheizung",{"$f":"'B-Bestandsanalyse'!$F$47","v":"öffentliche Liegenschaften"},{"$f":"'B-Bestandsanalyse'!$C$47","v":"MWh/a"},{"$f":"'D-Zielszenario'!$C$126","v":2040},{"$f":"IF('D-Zielszenario'!F149=\"\",\"-\",'D-Zielszenario'!F149)","v":"-"}]
[{"$f":"'D-Zielszenario'!$B$40","v":"D.9"},{"$f":"'B-Bestandsanalyse'!$C$45","v":"Endenergieverbrauch Wärme"},"Solarthermie Dach-Anlagen",{"$f":"'B-Bestandsanalyse'!$F$47","v":"öffentliche Liegenschaften"},{"$f":"'B-Bestandsanalyse'!$C$47","v":"MWh/a"},{"$f":"'D-Zielszenario'!$C$126","v":2040},{"$f":"IF('D-Zielszenario'!F150=\"\",\"-\",'D-Zielszenario'!F150)","v":"-"}]
[{"$f":"'D-Zielszenario'!$B$40","v":"D.9"},{"$f":"'B-Bestandsanalyse'!$C$45","v":"Endenergieverbrauch Wärme"},"Solarthermie Freiflächenanlagen",{"$f":"'B-Bestandsanalyse'!$F$47","v":"öffentliche Liegenschaften"},{"$f":"'B-Bestandsanalyse'!$C$47","v":"MWh/a"},{"$f":"'D-Zielszenario'!$C$126","v":2040},{"$f":"IF('D-Zielszenario'!F151=\"\",\"-\",'D-Zielszenario'!F151)","v":"-"}]
[{"$f":"'D-Zielszenario'!$B$40","v":"D.9"},{"$f":"'B-Bestandsanalyse'!$C$45","v":"Endenergieverbrauch Wärme"},"Oberflächennahe Geothermie",{"$f":"'B-Bestandsanalyse'!$F$47","v":"öffentliche Liegenschaften"},{"$f":"'B-Bestandsanalyse'!$C$47","v":"MWh/a"},{"$f":"'D-Zielszenario'!$C$126","v":2040},{"$f":"IF('D-Zielszenario'!F152=\"\",\"-\",'D-Zielszenario'!F152)","v":"-"}]
[{"$f":"'D-Zielszenario'!$B$40","v":"D.9"},{"$f":"'B-Bestandsanalyse'!$C$45","v":"Endenergieverbrauch Wärme"},"Tiefe Geothermie",{"$f":"'B-Bestandsanalyse'!$F$47","v":"öffentliche Liegenschaften"},{"$f":"'B-Bestandsanalyse'!$C$47","v":"MWh/a"},{"$f":"'D-Zielszenario'!$C$126","v":2040},{"$f":"IF('D-Zielszenario'!F153=\"\",\"-\",'D-Zielszenario'!F153)","v":"-"}]
[{"$f":"'D-Zielszenario'!$B$40","v":"D.9"},{"$f":"'B-Bestandsanalyse'!$C$45","v":"Endenergieverbrauch Wärme"},"Oberflächengewässern",{"$f":"'B-Bestandsanalyse'!$F$47","v":"öffentliche Liegenschaften"},{"$f":"'B-Bestandsanalyse'!$C$47","v":"MWh/a"},{"$f":"'D-Zielszenario'!$C$126","v":2040},{"$f":"IF('D-Zielszenario'!F154=\"\",\"-\",'D-Zielszenario'!F154)","v":"-"}]
[{"$f":"'D-Zielszenario'!$B$40","v":"D.9"},{"$f":"'B-Bestandsanalyse'!$C$45","v":"Endenergieverbrauch Wärme"},"Grubenwasser",{"$f":"'B-Bestandsanalyse'!$F$47","v":"öffentliche Liegenschaften"},{"$f":"'B-Bestandsanalyse'!$C$47","v":"MWh/a"},{"$f":"'D-Zielszenario'!$C$126","v":2040},{"$f":"IF('D-Zielszenario'!F155=\"\",\"-\",'D-Zielszenario'!F155)","v":"-"}]
[{"$f":"'D-Zielszenario'!$B$40","v":"D.9"},{"$f":"'B-Bestandsanalyse'!$C$45","v":"Endenergieverbrauch Wärme"},"Luft",{"$f":"'B-Bestandsanalyse'!$F$47","v":"öffentliche Liegenschaften"},{"$f":"'B-Bestandsanalyse'!$C$47","v":"MWh/a"},{"$f":"'D-Zielszenario'!$C$126","v":2040},{"$f":"IF('D-Zielszenario'!F156=\"\",\"-\",'D-Zielszenario'!F156)","v":"-"}]
[{"$f":"'D-Zielszenario'!$B$40","v":"D.9"},{"$f":"'B-Bestandsanalyse'!$C$45","v":"Endenergieverbrauch Wärme"},"Abwasser",{"$f":"'B-Bestandsanalyse'!$F$47","v":"öffentliche Liegenschaften"},{"$f":"'B-Bestandsanalyse'!$C$47","v":"MWh/a"},{"$f":"'D-Zielszenario'!$C$126","v":2040},{"$f":"IF('D-Zielszenario'!F157=\"\",\"-\",'D-Zielszenario'!F157)","v":"-"}]
[{"$f":"'D-Zielszenario'!$B$40","v":"D.9"},{"$f":"'B-Bestandsanalyse'!$C$45","v":"Endenergieverbrauch Wärme"},"Sonstige fossile Brennstoffe",{"$f":"'B-Bestandsanalyse'!$F$47","v":"öffentliche Liegenschaften"},{"$f":"'B-Bestandsanalyse'!$C$47","v":"MWh/a"},{"$f":"'D-Zielszenario'!$C$126","v":2040},{"$f":"IF('D-Zielszenario'!F158=\"\",\"-\",'D-Zielszenario'!F158)","v":"-"}]
[{"$f":"'D-Zielszenario'!$B$40","v":"D.9"},{"$f":"'B-Bestandsanalyse'!$C$45","v":"Endenergieverbrauch Wärme"},"Sonstige erneuerbare Energien",{"$f":"'B-Bestandsanalyse'!$F$47","v":"öffentliche Liegenschaften"},{"$f":"'B-Bestandsanalyse'!$C$47","v":"MWh/a"},{"$f":"'D-Zielszenario'!$C$126","v":2040},{"$f":"IF('D-Zielszenario'!F159=\"\",\"-\",'D-Zielszenario'!F159)","v":"-"}]
[{"$f":"'D-Zielszenario'!$B$40","v":"D.9"},{"$f":"'B-Bestandsanalyse'!$C$45","v":"Endenergieverbrauch Wärme"},null,{"$f":"'B-Bestandsanalyse'!$F$47","v":"öffentliche Liegenschaften"},{"$f":"'B-Bestandsanalyse'!$C$47","v":"MWh/a"},{"$f":"'D-Zielszenario'!$C$126","v":2040},{"$f":"IF('D-Zielszenario'!F160=\"\",\"-\",'D-Zielszenario'!F160)","v":0}]
[{"$f":"'D-Zielszenario'!$B$40","v":"D.9"},{"$f":"'B-Bestandsanalyse'!$C$45","v":"Endenergieverbrauch Wärme"},{"$f":"C573","v":"Braunkohle"},{"$f":"'B-Bestandsanalyse'!$G$47","v":"Industrie"},{"$f":"'B-Bestandsanalyse'!$C$47","v":"MWh/a"},{"$f":"'D-Zielszenario'!$C$126","v":2040},{"$f":"IF('D-Zielszenario'!G128=\"\",\"-\",'D-Zielszenario'!G128)","v":"-"}]
[{"$f":"'D-Zielszenario'!$B$40","v":"D.9"},{"$f":"'B-Bestandsanalyse'!$C$45","v":"Endenergieverbrauch Wärme"},"Steinkohle",{"$f":"'B-Bestandsanalyse'!$G$47","v":"Industrie"},{"$f":"'B-Bestandsanalyse'!$C$47","v":"MWh/a"},{"$f":"'D-Zielszenario'!$C$126","v":2040},{"$f":"IF('D-Zielszenario'!G129=\"\",\"-\",'D-Zielszenario'!G129)","v":"-"}]
[{"$f":"'D-Zielszenario'!$B$40","v":"D.9"},{"$f":"'B-Bestandsanalyse'!$C$45","v":"Endenergieverbrauch Wärme"},"Erdgas",{"$f":"'B-Bestandsanalyse'!$G$47","v":"Industrie"},{"$f":"'B-Bestandsanalyse'!$C$47","v":"MWh/a"},{"$f":"'D-Zielszenario'!$C$126","v":2040},{"$f":"IF('D-Zielszenario'!G130=\"\",\"-\",'D-Zielszenario'!G130)","v":"-"}]
[{"$f":"'D-Zielszenario'!$B$40","v":"D.9"},{"$f":"'B-Bestandsanalyse'!$C$45","v":"Endenergieverbrauch Wärme"},"Flüssiggas",{"$f":"'B-Bestandsanalyse'!$G$47","v":"Industrie"},{"$f":"'B-Bestandsanalyse'!$C$47","v":"MWh/a"},{"$f":"'D-Zielszenario'!$C$126","v":2040},{"$f":"IF('D-Zielszenario'!G131=\"\",\"-\",'D-Zielszenario'!G131)","v":"-"}]
[{"$f":"'D-Zielszenario'!$B$40","v":"D.9"},{"$f":"'B-Bestandsanalyse'!$C$45","v":"Endenergieverbrauch Wärme"},"Heizöl",{"$f":"'B-Bestandsanalyse'!$G$47","v":"Industrie"},{"$f":"'B-Bestandsanalyse'!$C$47","v":"MWh/a"},{"$f":"'D-Zielszenario'!$C$126","v":2040},{"$f":"IF('D-Zielszenario'!G132=\"\",\"-\",'D-Zielszenario'!G132)","v":"-"}]
[{"$f":"'D-Zielszenario'!$B$40","v":"D.9"},{"$f":"'B-Bestandsanalyse'!$C$45","v":"Endenergieverbrauch Wärme"},"Wasserstoff",{"$f":"'B-Bestandsanalyse'!$G$47","v":"Industrie"},{"$f":"'B-Bestandsanalyse'!$C$47","v":"MWh/a"},{"$f":"'D-Zielszenario'!$C$126","v":2040},{"$f":"IF('D-Zielszenario'!G133=\"\",\"-\",'D-Zielszenario'!G133)","v":"-"}]
[{"$f":"'D-Zielszenario'!$B$40","v":"D.9"},{"$f":"'B-Bestandsanalyse'!$C$45","v":"Endenergieverbrauch Wärme"},"Wasserstoffderivate",{"$f":"'B-Bestandsanalyse'!$G$47","v":"Industrie"},{"$f":"'B-Bestandsanalyse'!$C$47","v":"MWh/a"},{"$f":"'D-Zielszenario'!$C$126","v":2040},{"$f":"IF('D-Zielszenario'!G134=\"\",\"-\",'D-Zielszenario'!G134)","v":"-"}]
[{"$f":"'D-Zielszenario'!$B$40","v":"D.9"},{"$f":"'B-Bestandsanalyse'!$C$45","v":"Endenergieverbrauch Wärme"},"Grubengas",{"$f":"'B-Bestandsanalyse'!$G$47","v":"Industrie"},{"$f":"'B-Bestandsanalyse'!$C$47","v":"MWh/a"},{"$f":"'D-Zielszenario'!$C$126","v":2040},{"$f":"IF('D-Zielszenario'!G135=\"\",\"-\",'D-Zielszenario'!G135)","v":"-"}]
[{"$f":"'D-Zielszenario'!$B$40","v":"D.9"},{"$f":"'B-Bestandsanalyse'!$C$45","v":"Endenergieverbrauch Wärme"},"Nicht biogener Abfall",{"$f":"'B-Bestandsanalyse'!$G$47","v":"Industrie"},{"$f":"'B-Bestandsanalyse'!$C$47","v":"MWh/a"},{"$f":"'D-Zielszenario'!$C$126","v":2040},{"$f":"IF('D-Zielszenario'!G136=\"\",\"-\",'D-Zielszenario'!G136)","v":"-"}]
[{"$f":"'D-Zielszenario'!$B$40","v":"D.9"},{"$f":"'B-Bestandsanalyse'!$C$45","v":"Endenergieverbrauch Wärme"},"Biogener Abfall",{"$f":"'B-Bestandsanalyse'!$G$47","v":"Industrie"},{"$f":"'B-Bestandsanalyse'!$C$47","v":"MWh/a"},{"$f":"'D-Zielszenario'!$C$126","v":2040},{"$f":"IF('D-Zielszenario'!G137=\"\",\"-\",'D-Zielszenario'!G137)","v":"-"}]
[{"$f":"'D-Zielszenario'!$B$40","v":"D.9"},{"$f":"'B-Bestandsanalyse'!$C$45","v":"Endenergieverbrauch Wärme"},"Abwärme < 60 °C",{"$f":"'B-Bestandsanalyse'!$G$47","v":"Industrie"},{"$f":"'B-Bestandsanalyse'!$C$47","v":"MWh/a"},{"$f":"'D-Zielszenario'!$C$126","v":2040},{"$f":"IF('D-Zielszenario'!G138=\"\",\"-\",'D-Zielszenario'!G138)","v":"-"}]
[{"$f":"'D-Zielszenario'!$B$40","v":"D.9"},{"$f":"'B-Bestandsanalyse'!$C$45","v":"Endenergieverbrauch Wärme"},"Abwärme 60 bis 110 °C",{"$f":"'B-Bestandsanalyse'!$G$47","v":"Industrie"},{"$f":"'B-Bestandsanalyse'!$C$47","v":"MWh/a"},{"$f":"'D-Zielszenario'!$C$126","v":2040},{"$f":"IF('D-Zielszenario'!G139=\"\",\"-\",'D-Zielszenario'!G139)","v":"-"}]
[{"$f":"'D-Zielszenario'!$B$40","v":"D.9"},{"$f":"'B-Bestandsanalyse'!$C$45","v":"Endenergieverbrauch Wärme"},"Abwärme >= 110 °C",{"$f":"'B-Bestandsanalyse'!$G$47","v":"Industrie"},{"$f":"'B-Bestandsanalyse'!$C$47","v":"MWh/a"},{"$f":"'D-Zielszenario'!$C$126","v":2040},{"$f":"IF('D-Zielszenario'!G140=\"\",\"-\",'D-Zielszenario'!G140)","v":"-"}]
[{"$f":"'D-Zielszenario'!$B$40","v":"D.9"},{"$f":"'B-Bestandsanalyse'!$C$45","v":"Endenergieverbrauch Wärme"},"feste Biomasse (ohne Altholz)",{"$f":"'B-Bestandsanalyse'!$G$47","v":"Industrie"},{"$f":"'B-Bestandsanalyse'!$C$47","v":"MWh/a"},{"$f":"'D-Zielszenario'!$C$126","v":2040},{"$f":"IF('D-Zielszenario'!G141=\"\",\"-\",'D-Zielszenario'!G141)","v":"-"}]
[{"$f":"'D-Zielszenario'!$B$40","v":"D.9"},{"$f":"'B-Bestandsanalyse'!$C$45","v":"Endenergieverbrauch Wärme"},"Altholz",{"$f":"'B-Bestandsanalyse'!$G$47","v":"Industrie"},{"$f":"'B-Bestandsanalyse'!$C$47","v":"MWh/a"},{"$f":"'D-Zielszenario'!$C$126","v":2040},{"$f":"IF('D-Zielszenario'!G142=\"\",\"-\",'D-Zielszenario'!G142)","v":"-"}]
[{"$f":"'D-Zielszenario'!$B$40","v":"D.9"},{"$f":"'B-Bestandsanalyse'!$C$45","v":"Endenergieverbrauch Wärme"},"Biogas",{"$f":"'B-Bestandsanalyse'!$G$47","v":"Industrie"},{"$f":"'B-Bestandsanalyse'!$C$47","v":"MWh/a"},{"$f":"'D-Zielszenario'!$C$126","v":2040},{"$f":"IF('D-Zielszenario'!G143=\"\",\"-\",'D-Zielszenario'!G143)","v":"-"}]
[{"$f":"'D-Zielszenario'!$B$40","v":"D.9"},{"$f":"'B-Bestandsanalyse'!$C$45","v":"Endenergieverbrauch Wärme"},"Biomethan",{"$f":"'B-Bestandsanalyse'!$G$47","v":"Industrie"},{"$f":"'B-Bestandsanalyse'!$C$47","v":"MWh/a"},{"$f":"'D-Zielszenario'!$C$126","v":2040},{"$f":"IF('D-Zielszenario'!G144=\"\",\"-\",'D-Zielszenario'!G144)","v":"-"}]
[{"$f":"'D-Zielszenario'!$B$40","v":"D.9"},{"$f":"'B-Bestandsanalyse'!$C$45","v":"Endenergieverbrauch Wärme"},"Deponiegas",{"$f":"'B-Bestandsanalyse'!$G$47","v":"Industrie"},{"$f":"'B-Bestandsanalyse'!$C$47","v":"MWh/a"},{"$f":"'D-Zielszenario'!$C$126","v":2040},{"$f":"IF('D-Zielszenario'!G145=\"\",\"-\",'D-Zielszenario'!G145)","v":"-"}]
[{"$f":"'D-Zielszenario'!$B$40","v":"D.9"},{"$f":"'B-Bestandsanalyse'!$C$45","v":"Endenergieverbrauch Wärme"},"Klärgas",{"$f":"'B-Bestandsanalyse'!$G$47","v":"Industrie"},{"$f":"'B-Bestandsanalyse'!$C$47","v":"MWh/a"},{"$f":"'D-Zielszenario'!$C$126","v":2040},{"$f":"IF('D-Zielszenario'!G146=\"\",\"-\",'D-Zielszenario'!G146)","v":"-"}]
[{"$f":"'D-Zielszenario'!$B$40","v":"D.9"},{"$f":"'B-Bestandsanalyse'!$C$45","v":"Endenergieverbrauch Wärme"},"Flüssige Biomasse",{"$f":"'B-Bestandsanalyse'!$G$47","v":"Industrie"},{"$f":"'B-Bestandsanalyse'!$C$47","v":"MWh/a"},{"$f":"'D-Zielszenario'!$C$126","v":2040},{"$f":"IF('D-Zielszenario'!G147=\"\",\"-\",'D-Zielszenario'!G147)","v":"-"}]
[{"$f":"'D-Zielszenario'!$B$40","v":"D.9"},{"$f":"'B-Bestandsanalyse'!$C$45","v":"Endenergieverbrauch Wärme"},"Strom Wärmepumpe",{"$f":"'B-Bestandsanalyse'!$G$47","v":"Industrie"},{"$f":"'B-Bestandsanalyse'!$C$47","v":"MWh/a"},{"$f":"'D-Zielszenario'!$C$126","v":2040},{"$f":"IF('D-Zielszenario'!G148=\"\",\"-\",'D-Zielszenario'!G148)","v":"-"}]
[{"$f":"'D-Zielszenario'!$B$40","v":"D.9"},{"$f":"'B-Bestandsanalyse'!$C$45","v":"Endenergieverbrauch Wärme"},"Strom Direktheizung",{"$f":"'B-Bestandsanalyse'!$G$47","v":"Industrie"},{"$f":"'B-Bestandsanalyse'!$C$47","v":"MWh/a"},{"$f":"'D-Zielszenario'!$C$126","v":2040},{"$f":"IF('D-Zielszenario'!G149=\"\",\"-\",'D-Zielszenario'!G149)","v":"-"}]
[{"$f":"'D-Zielszenario'!$B$40","v":"D.9"},{"$f":"'B-Bestandsanalyse'!$C$45","v":"Endenergieverbrauch Wärme"},"Solarthermie Dach-Anlagen",{"$f":"'B-Bestandsanalyse'!$G$47","v":"Industrie"},{"$f":"'B-Bestandsanalyse'!$C$47","v":"MWh/a"},{"$f":"'D-Zielszenario'!$C$126","v":2040},{"$f":"IF('D-Zielszenario'!G150=\"\",\"-\",'D-Zielszenario'!G150)","v":"-"}]
[{"$f":"'D-Zielszenario'!$B$40","v":"D.9"},{"$f":"'B-Bestandsanalyse'!$C$45","v":"Endenergieverbrauch Wärme"},"Solarthermie Freiflächenanlagen",{"$f":"'B-Bestandsanalyse'!$G$47","v":"Industrie"},{"$f":"'B-Bestandsanalyse'!$C$47","v":"MWh/a"},{"$f":"'D-Zielszenario'!$C$126","v":2040},{"$f":"IF('D-Zielszenario'!G151=\"\",\"-\",'D-Zielszenario'!G151)","v":"-"}]
[{"$f":"'D-Zielszenario'!$B$40","v":"D.9"},{"$f":"'B-Bestandsanalyse'!$C$45","v":"Endenergieverbrauch Wärme"},"Oberflächennahe Geothermie",{"$f":"'B-Bestandsanalyse'!$G$47","v":"Industrie"},{"$f":"'B-Bestandsanalyse'!$C$47","v":"MWh/a"},{"$f":"'D-Zielszenario'!$C$126","v":2040},{"$f":"IF('D-Zielszenario'!G152=\"\",\"-\",'D-Zielszenario'!G152)","v":"-"}]
[{"$f":"'D-Zielszenario'!$B$40","v":"D.9"},{"$f":"'B-Bestandsanalyse'!$C$45","v":"Endenergieverbrauch Wärme"},"Tiefe Geothermie",{"$f":"'B-Bestandsanalyse'!$G$47","v":"Industrie"},{"$f":"'B-Bestandsanalyse'!$C$47","v":"MWh/a"},{"$f":"'D-Zielszenario'!$C$126","v":2040},{"$f":"IF('D-Zielszenario'!G153=\"\",\"-\",'D-Zielszenario'!G153)","v":"-"}]
[{"$f":"'D-Zielszenario'!$B$40","v":"D.9"},{"$f":"'B-Bestandsanalyse'!$C$45","v":"Endenergieverbrauch Wärme"},"Oberflächengewässern",{"$f":"'B-Bestandsanalyse'!$G$47","v":"Industrie"},{"$f":"'B-Bestandsanalyse'!$C$47","v":"MWh/a"},{"$f":"'D-Zielszenario'!$C$126","v":2040},{"$f":"IF('D-Zielszenario'!G154=\"\",\"-\",'D-Zielszenario'!G154)","v":"-"}]
[{"$f":"'D-Zielszenario'!$B$40","v":"D.9"},{"$f":"'B-Bestandsanalyse'!$C$45","v":"Endenergieverbrauch Wärme"},"Grubenwasser",{"$f":"'B-Bestandsanalyse'!$G$47","v":"Industrie"},{"$f":"'B-Bestandsanalyse'!$C$47","v":"MWh/a"},{"$f":"'D-Zielszenario'!$C$126","v":2040},{"$f":"IF('D-Zielszenario'!G155=\"\",\"-\",'D-Zielszenario'!G155)","v":"-"}]
[{"$f":"'D-Zielszenario'!$B$40","v":"D.9"},{"$f":"'B-Bestandsanalyse'!$C$45","v":"Endenergieverbrauch Wärme"},"Luft",{"$f":"'B-Bestandsanalyse'!$G$47","v":"Industrie"},{"$f":"'B-Bestandsanalyse'!$C$47","v":"MWh/a"},{"$f":"'D-Zielszenario'!$C$126","v":2040},{"$f":"IF('D-Zielszenario'!G156=\"\",\"-\",'D-Zielszenario'!G156)","v":"-"}]
[{"$f":"'D-Zielszenario'!$B$40","v":"D.9"},{"$f":"'B-Bestandsanalyse'!$C$45","v":"Endenergieverbrauch Wärme"},"Abwasser",{"$f":"'B-Bestandsanalyse'!$G$47","v":"Industrie"},{"$f":"'B-Bestandsanalyse'!$C$47","v":"MWh/a"},{"$f":"'D-Zielszenario'!$C$126","v":2040},{"$f":"IF('D-Zielszenario'!G157=\"\",\"-\",'D-Zielszenario'!G157)","v":"-"}]
[{"$f":"'D-Zielszenario'!$B$40","v":"D.9"},{"$f":"'B-Bestandsanalyse'!$C$45","v":"Endenergieverbrauch Wärme"},"Sonstige fossile Brennstoffe",{"$f":"'B-Bestandsanalyse'!$G$47","v":"Industrie"},{"$f":"'B-Bestandsanalyse'!$C$47","v":"MWh/a"},{"$f":"'D-Zielszenario'!$C$126","v":2040},{"$f":"IF('D-Zielszenario'!G158=\"\",\"-\",'D-Zielszenario'!G158)","v":"-"}]
[{"$f":"'D-Zielszenario'!$B$40","v":"D.9"},{"$f":"'B-Bestandsanalyse'!$C$45","v":"Endenergieverbrauch Wärme"},"Sonstige erneuerbare Energien",{"$f":"'B-Bestandsanalyse'!$G$47","v":"Industrie"},{"$f":"'B-Bestandsanalyse'!$C$47","v":"MWh/a"},{"$f":"'D-Zielszenario'!$C$126","v":2040},{"$f":"IF('D-Zielszenario'!G159=\"\",\"-\",'D-Zielszenario'!G159)","v":"-"}]
[{"$f":"'D-Zielszenario'!$B$40","v":"D.9"},{"$f":"'B-Bestandsanalyse'!$C$45","v":"Endenergieverbrauch Wärme"},null,{"$f":"'B-Bestandsanalyse'!$G$47","v":"Industrie"},{"$f":"'B-Bestandsanalyse'!$C$47","v":"MWh/a"},{"$f":"'D-Zielszenario'!$C$126","v":2040},{"$f":"IF('D-Zielszenario'!G160=\"\",\"-\",'D-Zielszenario'!G160)","v":0}]
[{"$f":"'D-Zielszenario'!$B$40","v":"D.9"},{"$f":"'B-Bestandsanalyse'!$C$45","v":"Endenergieverbrauch Wärme"},{"$f":"C606","v":"Braunkohle"},{"$f":"'B-Bestandsanalyse'!$I$45","v":"Sektoren insgesamt"},{"$f":"'B-Bestandsanalyse'!$C$47","v":"MWh/a"},{"$f":"'D-Zielszenario'!$C$126","v":2040},{"$f":"IF('D-Zielszenario'!I128=\"\",\"-\",'D-Zielszenario'!I128)","v":"-"}]
[{"$f":"'D-Zielszenario'!$B$40","v":"D.9"},{"$f":"'B-Bestandsanalyse'!$C$45","v":"Endenergieverbrauch Wärme"},"Steinkohle",{"$f":"'B-Bestandsanalyse'!$I$45","v":"Sektoren insgesamt"},{"$f":"'B-Bestandsanalyse'!$C$47","v":"MWh/a"},{"$f":"'D-Zielszenario'!$C$126","v":2040},{"$f":"IF('D-Zielszenario'!I129=\"\",\"-\",'D-Zielszenario'!I129)","v":"-"}]
[{"$f":"'D-Zielszenario'!$B$40","v":"D.9"},{"$f":"'B-Bestandsanalyse'!$C$45","v":"Endenergieverbrauch Wärme"},"Erdgas",{"$f":"'B-Bestandsanalyse'!$I$45","v":"Sektoren insgesamt"},{"$f":"'B-Bestandsanalyse'!$C$47","v":"MWh/a"},{"$f":"'D-Zielszenario'!$C$126","v":2040},{"$f":"IF('D-Zielszenario'!I130=\"\",\"-\",'D-Zielszenario'!I130)","v":"-"}]
[{"$f":"'D-Zielszenario'!$B$40","v":"D.9"},{"$f":"'B-Bestandsanalyse'!$C$45","v":"Endenergieverbrauch Wärme"},"Flüssiggas",{"$f":"'B-Bestandsanalyse'!$I$45","v":"Sektoren insgesamt"},{"$f":"'B-Bestandsanalyse'!$C$47","v":"MWh/a"},{"$f":"'D-Zielszenario'!$C$126","v":2040},{"$f":"IF('D-Zielszenario'!I131=\"\",\"-\",'D-Zielszenario'!I131)","v":"-"}]
[{"$f":"'D-Zielszenario'!$B$40","v":"D.9"},{"$f":"'B-Bestandsanalyse'!$C$45","v":"Endenergieverbrauch Wärme"},"Heizöl",{"$f":"'B-Bestandsanalyse'!$I$45","v":"Sektoren insgesamt"},{"$f":"'B-Bestandsanalyse'!$C$47","v":"MWh/a"},{"$f":"'D-Zielszenario'!$C$126","v":2040},{"$f":"IF('D-Zielszenario'!I132=\"\",\"-\",'D-Zielszenario'!I132)","v":"-"}]
[{"$f":"'D-Zielszenario'!$B$40","v":"D.9"},{"$f":"'B-Bestandsanalyse'!$C$45","v":"Endenergieverbrauch Wärme"},"Wasserstoff",{"$f":"'B-Bestandsanalyse'!$I$45","v":"Sektoren insgesamt"},{"$f":"'B-Bestandsanalyse'!$C$47","v":"MWh/a"},{"$f":"'D-Zielszenario'!$C$126","v":2040},{"$f":"IF('D-Zielszenario'!I133=\"\",\"-\",'D-Zielszenario'!I133)","v":"-"}]
[{"$f":"'D-Zielszenario'!$B$40","v":"D.9"},{"$f":"'B-Bestandsanalyse'!$C$45","v":"Endenergieverbrauch Wärme"},"Wasserstoffderivate",{"$f":"'B-Bestandsanalyse'!$I$45","v":"Sektoren insgesamt"},{"$f":"'B-Bestandsanalyse'!$C$47","v":"MWh/a"},{"$f":"'D-Zielszenario'!$C$126","v":2040},{"$f":"IF('D-Zielszenario'!I134=\"\",\"-\",'D-Zielszenario'!I134)","v":"-"}]
[{"$f":"'D-Zielszenario'!$B$40","v":"D.9"},{"$f":"'B-Bestandsanalyse'!$C$45","v":"Endenergieverbrauch Wärme"},"Grubengas",{"$f":"'B-Bestandsanalyse'!$I$45","v":"Sektoren insgesamt"},{"$f":"'B-Bestandsanalyse'!$C$47","v":"MWh/a"},{"$f":"'D-Zielszenario'!$C$126","v":2040},{"$f":"IF('D-Zielszenario'!I135=\"\",\"-\",'D-Zielszenario'!I135)","v":"-"}]
[{"$f":"'D-Zielszenario'!$B$40","v":"D.9"},{"$f":"'B-Bestandsanalyse'!$C$45","v":"Endenergieverbrauch Wärme"},"Nicht biogener Abfall",{"$f":"'B-Bestandsanalyse'!$I$45","v":"Sektoren insgesamt"},{"$f":"'B-Bestandsanalyse'!$C$47","v":"MWh/a"},{"$f":"'D-Zielszenario'!$C$126","v":2040},{"$f":"IF('D-Zielszenario'!I136=\"\",\"-\",'D-Zielszenario'!I136)","v":"-"}]
[{"$f":"'D-Zielszenario'!$B$40","v":"D.9"},{"$f":"'B-Bestandsanalyse'!$C$45","v":"Endenergieverbrauch Wärme"},"Biogener Abfall",{"$f":"'B-Bestandsanalyse'!$I$45","v":"Sektoren insgesamt"},{"$f":"'B-Bestandsanalyse'!$C$47","v":"MWh/a"},{"$f":"'D-Zielszenario'!$C$126","v":2040},{"$f":"IF('D-Zielszenario'!I137=\"\",\"-\",'D-Zielszenario'!I137)","v":"-"}]
[{"$f":"'D-Zielszenario'!$B$40","v":"D.9"},{"$f":"'B-Bestandsanalyse'!$C$45","v":"Endenergieverbrauch Wärme"},"Abwärme < 60 °C",{"$f":"'B-Bestandsanalyse'!$I$45","v":"Sektoren insgesamt"},{"$f":"'B-Bestandsanalyse'!$C$47","v":"MWh/a"},{"$f":"'D-Zielszenario'!$C$126","v":2040},{"$f":"IF('D-Zielszenario'!I138=\"\",\"-\",'D-Zielszenario'!I138)","v":"-"}]
[{"$f":"'D-Zielszenario'!$B$40","v":"D.9"},{"$f":"'B-Bestandsanalyse'!$C$45","v":"Endenergieverbrauch Wärme"},"Abwärme 60 bis 110 °C",{"$f":"'B-Bestandsanalyse'!$I$45","v":"Sektoren insgesamt"},{"$f":"'B-Bestandsanalyse'!$C$47","v":"MWh/a"},{"$f":"'D-Zielszenario'!$C$126","v":2040},{"$f":"IF('D-Zielszenario'!I139=\"\",\"-\",'D-Zielszenario'!I139)","v":"-"}]
[{"$f":"'D-Zielszenario'!$B$40","v":"D.9"},{"$f":"'B-Bestandsanalyse'!$C$45","v":"Endenergieverbrauch Wärme"},"Abwärme >= 110 °C",{"$f":"'B-Bestandsanalyse'!$I$45","v":"Sektoren insgesamt"},{"$f":"'B-Bestandsanalyse'!$C$47","v":"MWh/a"},{"$f":"'D-Zielszenario'!$C$126","v":2040},{"$f":"IF('D-Zielszenario'!I140=\"\",\"-\",'D-Zielszenario'!I140)","v":"-"}]
[{"$f":"'D-Zielszenario'!$B$40","v":"D.9"},{"$f":"'B-Bestandsanalyse'!$C$45","v":"Endenergieverbrauch Wärme"},"feste Biomasse (ohne Altholz)",{"$f":"'B-Bestandsanalyse'!$I$45","v":"Sektoren insgesamt"},{"$f":"'B-Bestandsanalyse'!$C$47","v":"MWh/a"},{"$f":"'D-Zielszenario'!$C$126","v":2040},{"$f":"IF('D-Zielszenario'!I141=\"\",\"-\",'D-Zielszenario'!I141)","v":"-"}]
[{"$f":"'D-Zielszenario'!$B$40","v":"D.9"},{"$f":"'B-Bestandsanalyse'!$C$45","v":"Endenergieverbrauch Wärme"},"Altholz",{"$f":"'B-Bestandsanalyse'!$I$45","v":"Sektoren insgesamt"},{"$f":"'B-Bestandsanalyse'!$C$47","v":"MWh/a"},{"$f":"'D-Zielszenario'!$C$126","v":2040},{"$f":"IF('D-Zielszenario'!I142=\"\",\"-\",'D-Zielszenario'!I142)","v":"-"}]
[{"$f":"'D-Zielszenario'!$B$40","v":"D.9"},{"$f":"'B-Bestandsanalyse'!$C$45","v":"Endenergieverbrauch Wärme"},"Biogas",{"$f":"'B-Bestandsanalyse'!$I$45","v":"Sektoren insgesamt"},{"$f":"'B-Bestandsanalyse'!$C$47","v":"MWh/a"},{"$f":"'D-Zielszenario'!$C$126","v":2040},{"$f":"IF('D-Zielszenario'!I143=\"\",\"-\",'D-Zielszenario'!I143)","v":"-"}]
[{"$f":"'D-Zielszenario'!$B$40","v":"D.9"},{"$f":"'B-Bestandsanalyse'!$C$45","v":"Endenergieverbrauch Wärme"},"Biomethan",{"$f":"'B-Bestandsanalyse'!$I$45","v":"Sektoren insgesamt"},{"$f":"'B-Bestandsanalyse'!$C$47","v":"MWh/a"},{"$f":"'D-Zielszenario'!$C$126","v":2040},{"$f":"IF('D-Zielszenario'!I144=\"\",\"-\",'D-Zielszenario'!I144)","v":"-"}]
[{"$f":"'D-Zielszenario'!$B$40","v":"D.9"},{"$f":"'B-Bestandsanalyse'!$C$45","v":"Endenergieverbrauch Wärme"},"Deponiegas",{"$f":"'B-Bestandsanalyse'!$I$45","v":"Sektoren insgesamt"},{"$f":"'B-Bestandsanalyse'!$C$47","v":"MWh/a"},{"$f":"'D-Zielszenario'!$C$126","v":2040},{"$f":"IF('D-Zielszenario'!I145=\"\",\"-\",'D-Zielszenario'!I145)","v":"-"}]
[{"$f":"'D-Zielszenario'!$B$40","v":"D.9"},{"$f":"'B-Bestandsanalyse'!$C$45","v":"Endenergieverbrauch Wärme"},"Klärgas",{"$f":"'B-Bestandsanalyse'!$I$45","v":"Sektoren insgesamt"},{"$f":"'B-Bestandsanalyse'!$C$47","v":"MWh/a"},{"$f":"'D-Zielszenario'!$C$126","v":2040},{"$f":"IF('D-Zielszenario'!I146=\"\",\"-\",'D-Zielszenario'!I146)","v":"-"}]
[{"$f":"'D-Zielszenario'!$B$40","v":"D.9"},{"$f":"'B-Bestandsanalyse'!$C$45","v":"Endenergieverbrauch Wärme"},"Flüssige Biomasse",{"$f":"'B-Bestandsanalyse'!$I$45","v":"Sektoren insgesamt"},{"$f":"'B-Bestandsanalyse'!$C$47","v":"MWh/a"},{"$f":"'D-Zielszenario'!$C$126","v":2040},{"$f":"IF('D-Zielszenario'!I147=\"\",\"-\",'D-Zielszenario'!I147)","v":"-"}]
[{"$f":"'D-Zielszenario'!$B$40","v":"D.9"},{"$f":"'B-Bestandsanalyse'!$C$45","v":"Endenergieverbrauch Wärme"},"Strom Wärmepumpe",{"$f":"'B-Bestandsanalyse'!$I$45","v":"Sektoren insgesamt"},{"$f":"'B-Bestandsanalyse'!$C$47","v":"MWh/a"},{"$f":"'D-Zielszenario'!$C$126","v":2040},{"$f":"IF('D-Zielszenario'!I148=\"\",\"-\",'D-Zielszenario'!I148)","v":"-"}]
[{"$f":"'D-Zielszenario'!$B$40","v":"D.9"},{"$f":"'B-Bestandsanalyse'!$C$45","v":"Endenergieverbrauch Wärme"},"Strom Direktheizung",{"$f":"'B-Bestandsanalyse'!$I$45","v":"Sektoren insgesamt"},{"$f":"'B-Bestandsanalyse'!$C$47","v":"MWh/a"},{"$f":"'D-Zielszenario'!$C$126","v":2040},{"$f":"IF('D-Zielszenario'!I149=\"\",\"-\",'D-Zielszenario'!I149)","v":"-"}]
[{"$f":"'D-Zielszenario'!$B$40","v":"D.9"},{"$f":"'B-Bestandsanalyse'!$C$45","v":"Endenergieverbrauch Wärme"},"Solarthermie Dach-Anlagen",{"$f":"'B-Bestandsanalyse'!$I$45","v":"Sektoren insgesamt"},{"$f":"'B-Bestandsanalyse'!$C$47","v":"MWh/a"},{"$f":"'D-Zielszenario'!$C$126","v":2040},{"$f":"IF('D-Zielszenario'!I150=\"\",\"-\",'D-Zielszenario'!I150)","v":"-"}]
[{"$f":"'D-Zielszenario'!$B$40","v":"D.9"},{"$f":"'B-Bestandsanalyse'!$C$45","v":"Endenergieverbrauch Wärme"},"Solarthermie Freiflächenanlagen",{"$f":"'B-Bestandsanalyse'!$I$45","v":"Sektoren insgesamt"},{"$f":"'B-Bestandsanalyse'!$C$47","v":"MWh/a"},{"$f":"'D-Zielszenario'!$C$126","v":2040},{"$f":"IF('D-Zielszenario'!I151=\"\",\"-\",'D-Zielszenario'!I151)","v":"-"}]
[{"$f":"'D-Zielszenario'!$B$40","v":"D.9"},{"$f":"'B-Bestandsanalyse'!$C$45","v":"Endenergieverbrauch Wärme"},"Oberflächennahe Geothermie",{"$f":"'B-Bestandsanalyse'!$I$45","v":"Sektoren insgesamt"},{"$f":"'B-Bestandsanalyse'!$C$47","v":"MWh/a"},{"$f":"'D-Zielszenario'!$C$126","v":2040},{"$f":"IF('D-Zielszenario'!I152=\"\",\"-\",'D-Zielszenario'!I152)","v":"-"}]
[{"$f":"'D-Zielszenario'!$B$40","v":"D.9"},{"$f":"'B-Bestandsanalyse'!$C$45","v":"Endenergieverbrauch Wärme"},"Tiefe Geothermie",{"$f":"'B-Bestandsanalyse'!$I$45","v":"Sektoren insgesamt"},{"$f":"'B-Bestandsanalyse'!$C$47","v":"MWh/a"},{"$f":"'D-Zielszenario'!$C$126","v":2040},{"$f":"IF('D-Zielszenario'!I153=\"\",\"-\",'D-Zielszenario'!I153)","v":"-"}]
[{"$f":"'D-Zielszenario'!$B$40","v":"D.9"},{"$f":"'B-Bestandsanalyse'!$C$45","v":"Endenergieverbrauch Wärme"},"Oberflächengewässern",{"$f":"'B-Bestandsanalyse'!$I$45","v":"Sektoren insgesamt"},{"$f":"'B-Bestandsanalyse'!$C$47","v":"MWh/a"},{"$f":"'D-Zielszenario'!$C$126","v":2040},{"$f":"IF('D-Zielszenario'!I154=\"\",\"-\",'D-Zielszenario'!I154)","v":"-"}]
[{"$f":"'D-Zielszenario'!$B$40","v":"D.9"},{"$f":"'B-Bestandsanalyse'!$C$45","v":"Endenergieverbrauch Wärme"},"Grubenwasser",{"$f":"'B-Bestandsanalyse'!$I$45","v":"Sektoren insgesamt"},{"$f":"'B-Bestandsanalyse'!$C$47","v":"MWh/a"},{"$f":"'D-Zielszenario'!$C$126","v":2040},{"$f":"IF('D-Zielszenario'!I155=\"\",\"-\",'D-Zielszenario'!I155)","v":"-"}]
[{"$f":"'D-Zielszenario'!$B$40","v":"D.9"},{"$f":"'B-Bestandsanalyse'!$C$45","v":"Endenergieverbrauch Wärme"},"Luft",{"$f":"'B-Bestandsanalyse'!$I$45","v":"Sektoren insgesamt"},{"$f":"'B-Bestandsanalyse'!$C$47","v":"MWh/a"},{"$f":"'D-Zielszenario'!$C$126","v":2040},{"$f":"IF('D-Zielszenario'!I156=\"\",\"-\",'D-Zielszenario'!I156)","v":"-"}]
[{"$f":"'D-Zielszenario'!$B$40","v":"D.9"},{"$f":"'B-Bestandsanalyse'!$C$45","v":"Endenergieverbrauch Wärme"},"Abwasser",{"$f":"'B-Bestandsanalyse'!$I$45","v":"Sektoren insgesamt"},{"$f":"'B-Bestandsanalyse'!$C$47","v":"MWh/a"},{"$f":"'D-Zielszenario'!$C$126","v":2040},{"$f":"IF('D-Zielszenario'!I157=\"\",\"-\",'D-Zielszenario'!I157)","v":"-"}]
[{"$f":"'D-Zielszenario'!$B$40","v":"D.9"},{"$f":"'B-Bestandsanalyse'!$C$45","v":"Endenergieverbrauch Wärme"},"Sonstige fossile Brennstoffe",{"$f":"'B-Bestandsanalyse'!$I$45","v":"Sektoren insgesamt"},{"$f":"'B-Bestandsanalyse'!$C$47","v":"MWh/a"},{"$f":"'D-Zielszenario'!$C$126","v":2040},{"$f":"IF('D-Zielszenario'!I158=\"\",\"-\",'D-Zielszenario'!I158)","v":"-"}]
[{"$f":"'D-Zielszenario'!$B$40","v":"D.9"},{"$f":"'B-Bestandsanalyse'!$C$45","v":"Endenergieverbrauch Wärme"},"Sonstige erneuerbare Energien",{"$f":"'B-Bestandsanalyse'!$I$45","v":"Sektoren insgesamt"},{"$f":"'B-Bestandsanalyse'!$C$47","v":"MWh/a"},{"$f":"'D-Zielszenario'!$C$126","v":2040},{"$f":"IF('D-Zielszenario'!I159=\"\",\"-\",'D-Zielszenario'!I159)","v":"-"}]
[{"$f":"'D-Zielszenario'!$B$40","v":"D.9"},{"$f":"'B-Bestandsanalyse'!$C$45","v":"Endenergieverbrauch Wärme"},null,{"$f":"'B-Bestandsanalyse'!$I$45","v":"Sektoren insgesamt"},{"$f":"'B-Bestandsanalyse'!$C$47","v":"MWh/a"},{"$f":"'D-Zielszenario'!$C$126","v":2040},{"$f":"IF('D-Zielszenario'!I160=\"\",\"-\",'D-Zielszenario'!I160)","v":0}]
[{"$f":"'D-Zielszenario'!$B$165","v":"D.10"},{"$f":"'B-Bestandsanalyse'!$C$173","v":"THG-Emissionen Wärmeversorgung"},null,{"$f":"'B-Bestandsanalyse'!$D$47","v":"Haushalte"},{"$f":"'B-Bestandsanalyse'!$C$175","v":"kt/a"},{"$f":"'D-Zielszenario'!C171","v":2030},{"$f":"'D-Zielszenario'!D171","v":{"v":0,"d":"0.0"}}]
[{"$f":"'D-Zielszenario'!$B$165","v":"D.10"},{"$f":"'B-Bestandsanalyse'!$C$173","v":"THG-Emissionen Wärmeversorgung"},null,{"$f":"'B-Bestandsanalyse'!$D$47","v":"Haushalte"},{"$f":"'B-Bestandsanalyse'!$C$175","v":"kt/a"},{"$f":"'D-Zielszenario'!C172","v":2035},{"$f":"'D-Zielszenario'!D172","v":{"v":0,"d":"0.0"}}]
[{"$f":"'D-Zielszenario'!$B$165","v":"D.10"},{"$f":"'B-Bestandsanalyse'!$C$173","v":"THG-Emissionen Wärmeversorgung"},null,{"$f":"'B-Bestandsanalyse'!$D$47","v":"Haushalte"},{"$f":"'B-Bestandsanalyse'!$C$175","v":"kt/a"},{"$f":"'D-Zielszenario'!C173","v":2040},{"$f":"'D-Zielszenario'!D173","v":{"v":0,"d":"0.0"}}]
[{"$f":"'D-Zielszenario'!$B$165","v":"D.10"},{"$f":"'B-Bestandsanalyse'!$C$173","v":"THG-Emissionen Wärmeversorgung"},null,{"$f":"'B-Bestandsanalyse'!$E$47","v":"GHD"},{"$f":"'B-Bestandsanalyse'!$C$175","v":"kt/a"},{"$f":"'D-Zielszenario'!C171","v":2030},{"$f":"'D-Zielszenario'!E171","v":{"v":0,"d":"0.0"}}]
[{"$f":"'D-Zielszenario'!$B$165","v":"D.10"},{"$f":"'B-Bestandsanalyse'!$C$173","v":"THG-Emissionen Wärmeversorgung"},null,{"$f":"'B-Bestandsanalyse'!$E$47","v":"GHD"},{"$f":"'B-Bestandsanalyse'!$C$175","v":"kt/a"},{"$f":"'D-Zielszenario'!C172","v":2035},{"$f":"'D-Zielszenario'!E172","v":{"v":0,"d":"0.0"}}]
[{"$f":"'D-Zielszenario'!$B$165","v":"D.10"},{"$f":"'B-Bestandsanalyse'!$C$173","v":"THG-Emissionen Wärmeversorgung"},null,{"$f":"'B-Bestandsanalyse'!$E$47","v":"GHD"},{"$f":"'B-Bestandsanalyse'!$C$175","v":"kt/a"},{"$f":"'D-Zielszenario'!C173","v":2040},{"$f":"'D-Zielszenario'!E173","v":{"v":0,"d":"0.0"}}]
[{"$f":"'D-Zielszenario'!$B$165","v":"D.10"},{"$f":"'B-Bestandsanalyse'!$C$173","v":"THG-Emissionen Wärmeversorgung"},null,{"$f":"'B-Bestandsanalyse'!$F$47","v":"öffentliche Liegenschaften"},{"$f":"'B-Bestandsanalyse'!$C$175","v":"kt/a"},{"$f":"'D-Zielszenario'!C171","v":2030},{"$f":"'D-Zielszenario'!F171","v":{"v":0,"d":"0.0"}}]
[{"$f":"'D-Zielszenario'!$B$165","v":"D.10"},{"$f":"'B-Bestandsanalyse'!$C$173","v":"THG-Emissionen Wärmeversorgung"},null,{"$f":"'B-Bestandsanalyse'!$F$47","v":"öffentliche Liegenschaften"},{"$f":"'B-Bestandsanalyse'!$C$175","v":"kt/a"},{"$f":"'D-Zielszenario'!C172","v":2035},{"$f":"'D-Zielszenario'!F172","v":{"v":0,"d":"0.0"}}]
[{"$f":"'D-Zielszenario'!$B$165","v":"D.10"},{"$f":"'B-Bestandsanalyse'!$C$173","v":"THG-Emissionen Wärmeversorgung"},null,{"$f":"'B-Bestandsanalyse'!$F$47","v":"öffentliche Liegenschaften"},{"$f":"'B-Bestandsanalyse'!$C$175","v":"kt/a"},{"$f":"'D-Zielszenario'!C173","v":2040},{"$f":"'D-Zielszenario'!F173","v":{"v":0,"d":"0.0"}}]
[{"$f":"'D-Zielszenario'!$B$165","v":"D.10"},{"$f":"'B-Bestandsanalyse'!$C$173","v":"THG-Emissionen Wärmeversorgung"},null,{"$f":"'B-Bestandsanalyse'!$G$47","v":"Industrie"},{"$f":"'B-Bestandsanalyse'!$C$175","v":"kt/a"},{"$f":"'D-Zielszenario'!C171","v":2030},{"$f":"'D-Zielszenario'!G171","v":{"v":0,"d":"0.0"}}]
[{"$f":"'D-Zielszenario'!$B$165","v":"D.10"},{"$f":"'B-Bestandsanalyse'!$C$173","v":"THG-Emissionen Wärmeversorgung"},null,{"$f":"'B-Bestandsanalyse'!$G$47","v":"Industrie"},{"$f":"'B-Bestandsanalyse'!$C$175","v":"kt/a"},{"$f":"'D-Zielszenario'!C172","v":2035},{"$f":"'D-Zielszenario'!G172","v":{"v":0,"d":"0.0"}}]
[{"$f":"'D-Zielszenario'!$B$165","v":"D.10"},{"$f":"'B-Bestandsanalyse'!$C$173","v":"THG-Emissionen Wärmeversorgung"},null,{"$f":"'B-Bestandsanalyse'!$G$47","v":"Industrie"},{"$f":"'B-Bestandsanalyse'!$C$175","v":"kt/a"},{"$f":"'D-Zielszenario'!C173","v":2040},{"$f":"'D-Zielszenario'!G173","v":{"v":0,"d":"0.0"}}]
[{"$f":"'D-Zielszenario'!$B$165","v":"D.10"},{"$f":"'B-Bestandsanalyse'!$C$173","v":"THG-Emissionen Wärmeversorgung"},null,{"$f":"'B-Bestandsanalyse'!$I$45","v":"Sektoren insgesamt"},{"$f":"'B-Bestandsanalyse'!$C$175","v":"kt/a"},{"$f":"'D-Zielszenario'!C171","v":2030},{"$f":"'D-Zielszenario'!H171","v":{"$error":"#VALUE!"}}]
[{"$f":"'D-Zielszenario'!$B$165","v":"D.10"},{"$f":"'B-Bestandsanalyse'!$C$173","v":"THG-Emissionen Wärmeversorgung"},null,{"$f":"'B-Bestandsanalyse'!$I$45","v":"Sektoren insgesamt"},{"$f":"'B-Bestandsanalyse'!$C$175","v":"kt/a"},{"$f":"'D-Zielszenario'!C172","v":2035},{"$f":"'D-Zielszenario'!H172","v":{"$error":"#VALUE!"}}]
[{"$f":"'D-Zielszenario'!$B$165","v":"D.10"},{"$f":"'B-Bestandsanalyse'!$C$173","v":"THG-Emissionen Wärmeversorgung"},null,{"$f":"'B-Bestandsanalyse'!$I$45","v":"Sektoren insgesamt"},{"$f":"'B-Bestandsanalyse'!$C$175","v":"kt/a"},{"$f":"'D-Zielszenario'!C173","v":2040},{"$f":"'D-Zielszenario'!H173","v":{"$error":"#VALUE!"}}]
[{"$f":"'D-Zielszenario'!$B$179","v":"D.11"},{"$f":"'B-Bestandsanalyse'!$C$92","v":"Endenergieverbrauch leitungsgebundene Wärme"},{"$f":"'B-Bestandsanalyse'!X48","v":"Braunkohle"},"Sektoren insgesamt",{"$f":"'B-Bestandsanalyse'!$C$47","v":"MWh/a"},{"$f":"'D-Zielszenario'!$D$182","v":"2030"},{"$f":"IF('D-Zielszenario'!D184=\"\",\"-\",'D-Zielszenario'!D184)","v":"-"}]
[{"$f":"'D-Zielszenario'!$B$179","v":"D.11"},{"$f":"'B-Bestandsanalyse'!$C$92","v":"Endenergieverbrauch leitungsgebundene Wärme"},{"$f":"'B-Bestandsanalyse'!X49","v":"Steinkohle"},"Sektoren insgesamt",{"$f":"'B-Bestandsanalyse'!$C$47","v":"MWh/a"},{"$f":"'D-Zielszenario'!$D$182","v":"2030"},{"$f":"IF('D-Zielszenario'!D185=\"\",\"-\",'D-Zielszenario'!D185)","v":"-"}]
[{"$f":"'D-Zielszenario'!$B$179","v":"D.11"},{"$f":"'B-Bestandsanalyse'!$C$92","v":"Endenergieverbrauch leitungsgebundene Wärme"},{"$f":"'B-Bestandsanalyse'!X50","v":"Erdgas"},"Sektoren insgesamt",{"$f":"'B-Bestandsanalyse'!$C$47","v":"MWh/a"},{"$f":"'D-Zielszenario'!$D$182","v":"2030"},{"$f":"IF('D-Zielszenario'!D186=\"\",\"-\",'D-Zielszenario'!D186)","v":"-"}]
[{"$f":"'D-Zielszenario'!$B$179","v":"D.11"},{"$f":"'B-Bestandsanalyse'!$C$92","v":"Endenergieverbrauch leitungsgebundene Wärme"},{"$f":"'B-Bestandsanalyse'!X51","v":"Flüssiggas"},"Sektoren insgesamt",{"$f":"'B-Bestandsanalyse'!$C$47","v":"MWh/a"},{"$f":"'D-Zielszenario'!$D$182","v":"2030"},{"$f":"IF('D-Zielszenario'!D187=\"\",\"-\",'D-Zielszenario'!D187)","v":"-"}]
[{"$f":"'D-Zielszenario'!$B$179","v":"D.11"},{"$f":"'B-Bestandsanalyse'!$C$92","v":"Endenergieverbrauch leitungsgebundene Wärme"},{"$f":"'B-Bestandsanalyse'!X52","v":"Heizöl"},"Sektoren insgesamt",{"$f":"'B-Bestandsanalyse'!$C$47","v":"MWh/a"},{"$f":"'D-Zielszenario'!$D$182","v":"2030"},{"$f":"IF('D-Zielszenario'!D188=\"\",\"-\",'D-Zielszenario'!D188)","v":"-"}]
[{"$f":"'D-Zielszenario'!$B$179","v":"D.11"},{"$f":"'B-Bestandsanalyse'!$C$92","v":"Endenergieverbrauch leitungsgebundene Wärme"},{"$f":"'B-Bestandsanalyse'!X53","v":"Wasserstoff"},"Sektoren insgesamt",{"$f":"'B-Bestandsanalyse'!$C$47","v":"MWh/a"},{"$f":"'D-Zielszenario'!$D$182","v":"2030"},{"$f":"IF('D-Zielszenario'!D189=\"\",\"-\",'D-Zielszenario'!D189)","v":"-"}]
[{"$f":"'D-Zielszenario'!$B$179","v":"D.11"},{"$f":"'B-Bestandsanalyse'!$C$92","v":"Endenergieverbrauch leitungsgebundene Wärme"},{"$f":"'B-Bestandsanalyse'!X54","v":"Wasserstoffderivate"},"Sektoren insgesamt",{"$f":"'B-Bestandsanalyse'!$C$47","v":"MWh/a"},{"$f":"'D-Zielszenario'!$D$182","v":"2030"},{"$f":"IF('D-Zielszenario'!D190=\"\",\"-\",'D-Zielszenario'!D190)","v":"-"}]
[{"$f":"'D-Zielszenario'!$B$179","v":"D.11"},{"$f":"'B-Bestandsanalyse'!$C$92","v":"Endenergieverbrauch leitungsgebundene Wärme"},{"$f":"'B-Bestandsanalyse'!X55","v":"Grubengas"},"Sektoren insgesamt",{"$f":"'B-Bestandsanalyse'!$C$47","v":"MWh/a"},{"$f":"'D-Zielszenario'!$D$182","v":"2030"},{"$f":"IF('D-Zielszenario'!D191=\"\",\"-\",'D-Zielszenario'!D191)","v":"-"}]
[{"$f":"'D-Zielszenario'!$B$179","v":"D.11"},{"$f":"'B-Bestandsanalyse'!$C$92","v":"Endenergieverbrauch leitungsgebundene Wärme"},{"$f":"'B-Bestandsanalyse'!X56","v":"Nicht biogener Abfall"},"Sektoren insgesamt",{"$f":"'B-Bestandsanalyse'!$C$47","v":"MWh/a"},{"$f":"'D-Zielszenario'!$D$182","v":"2030"},{"$f":"IF('D-Zielszenario'!D192=\"\",\"-\",'D-Zielszenario'!D192)","v":"-"}]
[{"$f":"'D-Zielszenario'!$B$179","v":"D.11"},{"$f":"'B-Bestandsanalyse'!$C$92","v":"Endenergieverbrauch leitungsgebundene Wärme"},{"$f":"'B-Bestandsanalyse'!X57","v":"Biogener Abfall"},"Sektoren insgesamt",{"$f":"'B-Bestandsanalyse'!$C$47","v":"MWh/a"},{"$f":"'D-Zielszenario'!$D$182","v":"2030"},{"$f":"IF('D-Zielszenario'!D193=\"\",\"-\",'D-Zielszenario'!D193)","v":"-"}]
[{"$f":"'D-Zielszenario'!$B$179","v":"D.11"},{"$f":"'B-Bestandsanalyse'!$C$92","v":"Endenergieverbrauch leitungsgebundene Wärme"},{"$f":"'B-Bestandsanalyse'!X58","v":"Abwärme < 60 °C"},"Sektoren insgesamt",{"$f":"'B-Bestandsanalyse'!$C$47","v":"MWh/a"},{"$f":"'D-Zielszenario'!$D$182","v":"2030"},{"$f":"IF('D-Zielszenario'!D194=\"\",\"-\",'D-Zielszenario'!D194)","v":"-"}]
[{"$f":"'D-Zielszenario'!$B$179","v":"D.11"},{"$f":"'B-Bestandsanalyse'!$C$92","v":"Endenergieverbrauch leitungsgebundene Wärme"},{"$f":"'B-Bestandsanalyse'!X59","v":"Abwärme 60 bis 110 °C"},"Sektoren insgesamt",{"$f":"'B-Bestandsanalyse'!$C$47","v":"MWh/a"},{"$f":"'D-Zielszenario'!$D$182","v":"2030"},{"$f":"IF('D-Zielszenario'!D195=\"\",\"-\",'D-Zielszenario'!D195)","v":"-"}]
[{"$f":"'D-Zielszenario'!$B$179","v":"D.11"},{"$f":"'B-Bestandsanalyse'!$C$92","v":"Endenergieverbrauch leitungsgebundene Wärme"},{"$f":"'B-Bestandsanalyse'!X60","v":"Abwärme >= 110 °C"},"Sektoren insgesamt",{"$f":"'B-Bestandsanalyse'!$C$47","v":"MWh/a"},{"$f":"'D-Zielszenario'!$D$182","v":"2030"},{"$f":"IF('D-Zielszenario'!D196=\"\",\"-\",'D-Zielszenario'!D196)","v":"-"}]
[{"$f":"'D-Zielszenario'!$B$179","v":"D.11"},{"$f":"'B-Bestandsanalyse'!$C$92","v":"Endenergieverbrauch leitungsgebundene Wärme"},{"$f":"'B-Bestandsanalyse'!X61","v":"feste Biomasse (ohne Altholz)"},"Sektoren insgesamt",{"$f":"'B-Bestandsanalyse'!$C$47","v":"MWh/a"},{"$f":"'D-Zielszenario'!$D$182","v":"2030"},{"$f":"IF('D-Zielszenario'!D197=\"\",\"-\",'D-Zielszenario'!D197)","v":"-"}]
[{"$f":"'D-Zielszenario'!$B$179","v":"D.11"},{"$f":"'B-Bestandsanalyse'!$C$92","v":"Endenergieverbrauch leitungsgebundene Wärme"},{"$f":"'B-Bestandsanalyse'!X62","v":"Altholz"},"Sektoren insgesamt",{"$f":"'B-Bestandsanalyse'!$C$47","v":"MWh/a"},{"$f":"'D-Zielszenario'!$D$182","v":"2030"},{"$f":"IF('D-Zielszenario'!D198=\"\",\"-\",'D-Zielszenario'!D198)","v":"-"}]
[{"$f":"'D-Zielszenario'!$B$179","v":"D.11"},{"$f":"'B-Bestandsanalyse'!$C$92","v":"Endenergieverbrauch leitungsgebundene Wärme"},{"$f":"'B-Bestandsanalyse'!X63","v":"Biogas"},"Sektoren insgesamt",{"$f":"'B-Bestandsanalyse'!$C$47","v":"MWh/a"},{"$f":"'D-Zielszenario'!$D$182","v":"2030"},{"$f":"IF('D-Zielszenario'!D199=\"\",\"-\",'D-Zielszenario'!D199)","v":"-"}]
[{"$f":"'D-Zielszenario'!$B$179","v":"D.11"},{"$f":"'B-Bestandsanalyse'!$C$92","v":"Endenergieverbrauch leitungsgebundene Wärme"},{"$f":"'B-Bestandsanalyse'!X64","v":"Biomethan"},"Sektoren insgesamt",{"$f":"'B-Bestandsanalyse'!$C$47","v":"MWh/a"},{"$f":"'D-Zielszenario'!$D$182","v":"2030"},{"$f":"IF('D-Zielszenario'!D200=\"\",\"-\",'D-Zielszenario'!D200)","v":"-"}]
[{"$f":"'D-Zielszenario'!$B$179","v":"D.11"},{"$f":"'B-Bestandsanalyse'!$C$92","v":"Endenergieverbrauch leitungsgebundene Wärme"},{"$f":"'B-Bestandsanalyse'!X65","v":"Deponiegas"},"Sektoren insgesamt",{"$f":"'B-Bestandsanalyse'!$C$47","v":"MWh/a"},{"$f":"'D-Zielszenario'!$D$182","v":"2030"},{"$f":"IF('D-Zielszenario'!D201=\"\",\"-\",'D-Zielszenario'!D201)","v":"-"}]
[{"$f":"'D-Zielszenario'!$B$179","v":"D.11"},{"$f":"'B-Bestandsanalyse'!$C$92","v":"Endenergieverbrauch leitungsgebundene Wärme"},{"$f":"'B-Bestandsanalyse'!X66","v":"Klärgas"},"Sektoren insgesamt",{"$f":"'B-Bestandsanalyse'!$C$47","v":"MWh/a"},{"$f":"'D-Zielszenario'!$D$182","v":"2030"},{"$f":"IF('D-Zielszenario'!D202=\"\",\"-\",'D-Zielszenario'!D202)","v":"-"}]
[{"$f":"'D-Zielszenario'!$B$179","v":"D.11"},{"$f":"'B-Bestandsanalyse'!$C$92","v":"Endenergieverbrauch leitungsgebundene Wärme"},{"$f":"'B-Bestandsanalyse'!X67","v":"Flüssige Biomasse"},"Sektoren insgesamt",{"$f":"'B-Bestandsanalyse'!$C$47","v":"MWh/a"},{"$f":"'D-Zielszenario'!$D$182","v":"2030"},{"$f":"IF('D-Zielszenario'!D203=\"\",\"-\",'D-Zielszenario'!D203)","v":"-"}]
[{"$f":"'D-Zielszenario'!$B$179","v":"D.11"},{"$f":"'B-Bestandsanalyse'!$C$92","v":"Endenergieverbrauch leitungsgebundene Wärme"},{"$f":"'B-Bestandsanalyse'!X68","v":"Strom Wärmepumpe"},"Sektoren insgesamt",{"$f":"'B-Bestandsanalyse'!$C$47","v":"MWh/a"},{"$f":"'D-Zielszenario'!$D$182","v":"2030"},{"$f":"IF('D-Zielszenario'!D204=\"\",\"-\",'D-Zielszenario'!D204)","v":"-"}]
[{"$f":"'D-Zielszenario'!$B$179","v":"D.11"},{"$f":"'B-Bestandsanalyse'!$C$92","v":"Endenergieverbrauch leitungsgebundene Wärme"},{"$f":"'B-Bestandsanalyse'!X69","v":"Strom Direktheizung"},"Sektoren insgesamt",{"$f":"'B-Bestandsanalyse'!$C$47","v":"MWh/a"},{"$f":"'D-Zielszenario'!$D$182","v":"2030"},{"$f":"IF('D-Zielszenario'!D205=\"\",\"-\",'D-Zielszenario'!D205)","v":"-"}]
[{"$f":"'D-Zielszenario'!$B$179","v":"D.11"},{"$f":"'B-Bestandsanalyse'!$C$92","v":"Endenergieverbrauch leitungsgebundene Wärme"},{"$f":"'B-Bestandsanalyse'!X70","v":"Solarthermie Dach-Anlagen"},"Sektoren insgesamt",{"$f":"'B-Bestandsanalyse'!$C$47","v":"MWh/a"},{"$f":"'D-Zielszenario'!$D$182","v":"2030"},{"$f":"IF('D-Zielszenario'!D206=\"\",\"-\",'D-Zielszenario'!D206)","v":"-"}]
[{"$f":"'D-Zielszenario'!$B$179","v":"D.11"},{"$f":"'B-Bestandsanalyse'!$C$92","v":"Endenergieverbrauch leitungsgebundene Wärme"},{"$f":"'B-Bestandsanalyse'!X71","v":"Solarthermie Freiflächenanlagen"},"Sektoren insgesamt",{"$f":"'B-Bestandsanalyse'!$C$47","v":"MWh/a"},{"$f":"'D-Zielszenario'!$D$182","v":"2030"},{"$f":"IF('D-Zielszenario'!D207=\"\",\"-\",'D-Zielszenario'!D207)","v":"-"}]
[{"$f":"'D-Zielszenario'!$B$179","v":"D.11"},{"$f":"'B-Bestandsanalyse'!$C$92","v":"Endenergieverbrauch leitungsgebundene Wärme"},{"$f":"'B-Bestandsanalyse'!X72","v":"Oberflächennahe Geothermie"},"Sektoren insgesamt",{"$f":"'B-Bestandsanalyse'!$C$47","v":"MWh/a"},{"$f":"'D-Zielszenario'!$D$182","v":"2030"},{"$f":"IF('D-Zielszenario'!D208=\"\",\"-\",'D-Zielszenario'!D208)","v":"-"}]
[{"$f":"'D-Zielszenario'!$B$179","v":"D.11"},{"$f":"'B-Bestandsanalyse'!$C$92","v":"Endenergieverbrauch leitungsgebundene Wärme"},{"$f":"'B-Bestandsanalyse'!X73","v":"Tiefe Geothermie"},"Sektoren insgesamt",{"$f":"'B-Bestandsanalyse'!$C$47","v":"MWh/a"},{"$f":"'D-Zielszenario'!$D$182","v":"2030"},{"$f":"IF('D-Zielszenario'!D209=\"\",\"-\",'D-Zielszenario'!D209)","v":"-"}]
[{"$f":"'D-Zielszenario'!$B$179","v":"D.11"},{"$f":"'B-Bestandsanalyse'!$C$92","v":"Endenergieverbrauch leitungsgebundene Wärme"},{"$f":"'B-Bestandsanalyse'!X74","v":"Oberflächengewässern"},"Sektoren insgesamt",{"$f":"'B-Bestandsanalyse'!$C$47","v":"MWh/a"},{"$f":"'D-Zielszenario'!$D$182","v":"2030"},{"$f":"IF('D-Zielszenario'!D210=\"\",\"-\",'D-Zielszenario'!D210)","v":"-"}]
[{"$f":"'D-Zielszenario'!$B$179","v":"D.11"},{"$f":"'B-Bestandsanalyse'!$C$92","v":"Endenergieverbrauch leitungsgebundene Wärme"},{"$f":"'B-Bestandsanalyse'!X75","v":"Grubenwasser"},"Sektoren insgesamt",{"$f":"'B-Bestandsanalyse'!$C$47","v":"MWh/a"},{"$f":"'D-Zielszenario'!$D$182","v":"2030"},{"$f":"IF('D-Zielszenario'!D211=\"\",\"-\",'D-Zielszenario'!D211)","v":"-"}]
[{"$f":"'D-Zielszenario'!$B$179","v":"D.11"},{"$f":"'B-Bestandsanalyse'!$C$92","v":"Endenergieverbrauch leitungsgebundene Wärme"},{"$f":"'B-Bestandsanalyse'!X76","v":"Luft"},"Sektoren insgesamt",{"$f":"'B-Bestandsanalyse'!$C$47","v":"MWh/a"},{"$f":"'D-Zielszenario'!$D$182","v":"2030"},{"$f":"IF('D-Zielszenario'!D212=\"\",\"-\",'D-Zielszenario'!D212)","v":"-"}]
[{"$f":"'D-Zielszenario'!$B$179","v":"D.11"},{"$f":"'B-Bestandsanalyse'!$C$92","v":"Endenergieverbrauch leitungsgebundene Wärme"},{"$f":"'B-Bestandsanalyse'!X77","v":"Abwasser"},"Sektoren insgesamt",{"$f":"'B-Bestandsanalyse'!$C$47","v":"MWh/a"},{"$f":"'D-Zielszenario'!$D$182","v":"2030"},{"$f":"IF('D-Zielszenario'!D213=\"\",\"-\",'D-Zielszenario'!D213)","v":"-"}]
[{"$f":"'D-Zielszenario'!$B$179","v":"D.11"},{"$f":"'B-Bestandsanalyse'!$C$92","v":"Endenergieverbrauch leitungsgebundene Wärme"},{"$f":"'B-Bestandsanalyse'!X78","v":"Sonstige fossile Brennstoffe"},"Sektoren insgesamt",{"$f":"'B-Bestandsanalyse'!$C$47","v":"MWh/a"},{"$f":"'D-Zielszenario'!$D$182","v":"2030"},{"$f":"IF('D-Zielszenario'!D214=\"\",\"-\",'D-Zielszenario'!D214)","v":"-"}]
[{"$f":"'D-Zielszenario'!$B$179","v":"D.11"},{"$f":"'B-Bestandsanalyse'!$C$92","v":"Endenergieverbrauch leitungsgebundene Wärme"},{"$f":"'B-Bestandsanalyse'!X79","v":"Sonstige erneuerbare Energien"},"Sektoren insgesamt",{"$f":"'B-Bestandsanalyse'!$C$47","v":"MWh/a"},{"$f":"'D-Zielszenario'!$D$182","v":"2030"},{"$f":"IF('D-Zielszenario'!D215=\"\",\"-\",'D-Zielszenario'!D215)","v":"-"}]
[{"$f":"'D-Zielszenario'!$B$179","v":"D.11"},{"$f":"'B-Bestandsanalyse'!$C$92","v":"Endenergieverbrauch leitungsgebundene Wärme"},null,"Sektoren insgesamt",{"$f":"'B-Bestandsanalyse'!$C$47","v":"MWh/a"},{"$f":"'D-Zielszenario'!$D$182","v":"2030"},{"$f":"IF('D-Zielszenario'!D216=\"\",\"-\",'D-Zielszenario'!D216)","v":0}]
[{"$f":"'D-Zielszenario'!$B$179","v":"D.11"},{"$f":"'B-Bestandsanalyse'!$C$92","v":"Endenergieverbrauch leitungsgebundene Wärme"},{"$f":"C984","v":"Braunkohle"},"Sektoren insgesamt",{"$f":"'B-Bestandsanalyse'!$C$47","v":"MWh/a"},{"$f":"'D-Zielszenario'!$E$182","v":"2035"},{"$f":"IF('D-Zielszenario'!E184=\"\",\"-\",'D-Zielszenario'!E184)","v":"-"}]
[{"$f":"'D-Zielszenario'!$B$179","v":"D.11"},{"$f":"'B-Bestandsanalyse'!$C$92","v":"Endenergieverbrauch leitungsgebundene Wärme"},"Steinkohle","Sektoren insgesamt",{"$f":"'B-Bestandsanalyse'!$C$47","v":"MWh/a"},{"$f":"'D-Zielszenario'!$E$182","v":"2035"},{"$f":"IF('D-Zielszenario'!E185=\"\",\"-\",'D-Zielszenario'!E185)","v":"-"}]
[{"$f":"'D-Zielszenario'!$B$179","v":"D.11"},{"$f":"'B-Bestandsanalyse'!$C$92","v":"Endenergieverbrauch leitungsgebundene Wärme"},"Erdgas","Sektoren insgesamt",{"$f":"'B-Bestandsanalyse'!$C$47","v":"MWh/a"},{"$f":"'D-Zielszenario'!$E$182","v":"2035"},{"$f":"IF('D-Zielszenario'!E186=\"\",\"-\",'D-Zielszenario'!E186)","v":"-"}]
[{"$f":"'D-Zielszenario'!$B$179","v":"D.11"},{"$f":"'B-Bestandsanalyse'!$C$92","v":"Endenergieverbrauch leitungsgebundene Wärme"},"Flüssiggas","Sektoren insgesamt",{"$f":"'B-Bestandsanalyse'!$C$47","v":"MWh/a"},{"$f":"'D-Zielszenario'!$E$182","v":"2035"},{"$f":"IF('D-Zielszenario'!E187=\"\",\"-\",'D-Zielszenario'!E187)","v":"-"}]
[{"$f":"'D-Zielszenario'!$B$179","v":"D.11"},{"$f":"'B-Bestandsanalyse'!$C$92","v":"Endenergieverbrauch leitungsgebundene Wärme"},"Heizöl","Sektoren insgesamt",{"$f":"'B-Bestandsanalyse'!$C$47","v":"MWh/a"},{"$f":"'D-Zielszenario'!$E$182","v":"2035"},{"$f":"IF('D-Zielszenario'!E188=\"\",\"-\",'D-Zielszenario'!E188)","v":"-"}]
[{"$f":"'D-Zielszenario'!$B$179","v":"D.11"},{"$f":"'B-Bestandsanalyse'!$C$92","v":"Endenergieverbrauch leitungsgebundene Wärme"},"Wasserstoff","Sektoren insgesamt",{"$f":"'B-Bestandsanalyse'!$C$47","v":"MWh/a"},{"$f":"'D-Zielszenario'!$E$182","v":"2035"},{"$f":"IF('D-Zielszenario'!E189=\"\",\"-\",'D-Zielszenario'!E189)","v":"-"}]
[{"$f":"'D-Zielszenario'!$B$179","v":"D.11"},{"$f":"'B-Bestandsanalyse'!$C$92","v":"Endenergieverbrauch leitungsgebundene Wärme"},"Wasserstoffderivate","Sektoren insgesamt",{"$f":"'B-Bestandsanalyse'!$C$47","v":"MWh/a"},{"$f":"'D-Zielszenario'!$E$182","v":"2035"},{"$f":"IF('D-Zielszenario'!E190=\"\",\"-\",'D-Zielszenario'!E190)","v":"-"}]
[{"$f":"'D-Zielszenario'!$B$179","v":"D.11"},{"$f":"'B-Bestandsanalyse'!$C$92","v":"Endenergieverbrauch leitungsgebundene Wärme"},"Grubengas","Sektoren insgesamt",{"$f":"'B-Bestandsanalyse'!$C$47","v":"MWh/a"},{"$f":"'D-Zielszenario'!$E$182","v":"2035"},{"$f":"IF('D-Zielszenario'!E191=\"\",\"-\",'D-Zielszenario'!E191)","v":"-"}]
[{"$f":"'D-Zielszenario'!$B$179","v":"D.11"},{"$f":"'B-Bestandsanalyse'!$C$92","v":"Endenergieverbrauch leitungsgebundene Wärme"},"Nicht biogener Abfall","Sektoren insgesamt",{"$f":"'B-Bestandsanalyse'!$C$47","v":"MWh/a"},{"$f":"'D-Zielszenario'!$E$182","v":"2035"},{"$f":"IF('D-Zielszenario'!E192=\"\",\"-\",'D-Zielszenario'!E192)","v":"-"}]
[{"$f":"'D-Zielszenario'!$B$179","v":"D.11"},{"$f":"'B-Bestandsanalyse'!$C$92","v":"Endenergieverbrauch leitungsgebundene Wärme"},"Biogener Abfall","Sektoren insgesamt",{"$f":"'B-Bestandsanalyse'!$C$47","v":"MWh/a"},{"$f":"'D-Zielszenario'!$E$182","v":"2035"},{"$f":"IF('D-Zielszenario'!E193=\"\",\"-\",'D-Zielszenario'!E193)","v":"-"}]
[{"$f":"'D-Zielszenario'!$B$179","v":"D.11"},{"$f":"'B-Bestandsanalyse'!$C$92","v":"Endenergieverbrauch leitungsgebundene Wärme"},"Abwärme < 60 °C","Sektoren insgesamt",{"$f":"'B-Bestandsanalyse'!$C$47","v":"MWh/a"},{"$f":"'D-Zielszenario'!$E$182","v":"2035"},{"$f":"IF('D-Zielszenario'!E194=\"\",\"-\",'D-Zielszenario'!E194)","v":"-"}]
[{"$f":"'D-Zielszenario'!$B$179","v":"D.11"},{"$f":"'B-Bestandsanalyse'!$C$92","v":"Endenergieverbrauch leitungsgebundene Wärme"},"Abwärme 60 bis 110 °C","Sektoren insgesamt",{"$f":"'B-Bestandsanalyse'!$C$47","v":"MWh/a"},{"$f":"'D-Zielszenario'!$E$182","v":"2035"},{"$f":"IF('D-Zielszenario'!E195=\"\",\"-\",'D-Zielszenario'!E195)","v":"-"}]
[{"$f":"'D-Zielszenario'!$B$179","v":"D.11"},{"$f":"'B-Bestandsanalyse'!$C$92","v":"Endenergieverbrauch leitungsgebundene Wärme"},"Abwärme >= 110 °C","Sektoren insgesamt",{"$f":"'B-Bestandsanalyse'!$C$47","v":"MWh/a"},{"$f":"'D-Zielszenario'!$E$182","v":"2035"},{"$f":"IF('D-Zielszenario'!E196=\"\",\"-\",'D-Zielszenario'!E196)","v":"-"}]
[{"$f":"'D-Zielszenario'!$B$179","v":"D.11"},{"$f":"'B-Bestandsanalyse'!$C$92","v":"Endenergieverbrauch leitungsgebundene Wärme"},"feste Biomasse (ohne Altholz)","Sektoren insgesamt",{"$f":"'B-Bestandsanalyse'!$C$47","v":"MWh/a"},{"$f":"'D-Zielszenario'!$E$182","v":"2035"},{"$f":"IF('D-Zielszenario'!E197=\"\",\"-\",'D-Zielszenario'!E197)","v":"-"}]
[{"$f":"'D-Zielszenario'!$B$179","v":"D.11"},{"$f":"'B-Bestandsanalyse'!$C$92","v":"Endenergieverbrauch leitungsgebundene Wärme"},"Altholz","Sektoren insgesamt",{"$f":"'B-Bestandsanalyse'!$C$47","v":"MWh/a"},{"$f":"'D-Zielszenario'!$E$182","v":"2035"},{"$f":"IF('D-Zielszenario'!E198=\"\",\"-\",'D-Zielszenario'!E198)","v":"-"}]
[{"$f":"'D-Zielszenario'!$B$179","v":"D.11"},{"$f":"'B-Bestandsanalyse'!$C$92","v":"Endenergieverbrauch leitungsgebundene Wärme"},"Biogas","Sektoren insgesamt",{"$f":"'B-Bestandsanalyse'!$C$47","v":"MWh/a"},{"$f":"'D-Zielszenario'!$E$182","v":"2035"},{"$f":"IF('D-Zielszenario'!E199=\"\",\"-\",'D-Zielszenario'!E199)","v":"-"}]
[{"$f":"'D-Zielszenario'!$B$179","v":"D.11"},{"$f":"'B-Bestandsanalyse'!$C$92","v":"Endenergieverbrauch leitungsgebundene Wärme"},"Biomethan","Sektoren insgesamt",{"$f":"'B-Bestandsanalyse'!$C$47","v":"MWh/a"},{"$f":"'D-Zielszenario'!$E$182","v":"2035"},{"$f":"IF('D-Zielszenario'!E200=\"\",\"-\",'D-Zielszenario'!E200)","v":"-"}]
[{"$f":"'D-Zielszenario'!$B$179","v":"D.11"},{"$f":"'B-Bestandsanalyse'!$C$92","v":"Endenergieverbrauch leitungsgebundene Wärme"},"Deponiegas","Sektoren insgesamt",{"$f":"'B-Bestandsanalyse'!$C$47","v":"MWh/a"},{"$f":"'D-Zielszenario'!$E$182","v":"2035"},{"$f":"IF('D-Zielszenario'!E201=\"\",\"-\",'D-Zielszenario'!E201)","v":"-"}]
[{"$f":"'D-Zielszenario'!$B$179","v":"D.11"},{"$f":"'B-Bestandsanalyse'!$C$92","v":"Endenergieverbrauch leitungsgebundene Wärme"},"Klärgas","Sektoren insgesamt",{"$f":"'B-Bestandsanalyse'!$C$47","v":"MWh/a"},{"$f":"'D-Zielszenario'!$E$182","v":"2035"},{"$f":"IF('D-Zielszenario'!E202=\"\",\"-\",'D-Zielszenario'!E202)","v":"-"}]
[{"$f":"'D-Zielszenario'!$B$179","v":"D.11"},{"$f":"'B-Bestandsanalyse'!$C$92","v":"Endenergieverbrauch leitungsgebundene Wärme"},"Flüssige Biomasse","Sektoren insgesamt",{"$f":"'B-Bestandsanalyse'!$C$47","v":"MWh/a"},{"$f":"'D-Zielszenario'!$E$182","v":"2035"},{"$f":"IF('D-Zielszenario'!E203=\"\",\"-\",'D-Zielszenario'!E203)","v":"-"}]
[{"$f":"'D-Zielszenario'!$B$179","v":"D.11"},{"$f":"'B-Bestandsanalyse'!$C$92","v":"Endenergieverbrauch leitungsgebundene Wärme"},"Strom Wärmepumpe","Sektoren insgesamt",{"$f":"'B-Bestandsanalyse'!$C$47","v":"MWh/a"},{"$f":"'D-Zielszenario'!$E$182","v":"2035"},{"$f":"IF('D-Zielszenario'!E204=\"\",\"-\",'D-Zielszenario'!E204)","v":"-"}]
[{"$f":"'D-Zielszenario'!$B$179","v":"D.11"},{"$f":"'B-Bestandsanalyse'!$C$92","v":"Endenergieverbrauch leitungsgebundene Wärme"},"Strom Direktheizung","Sektoren insgesamt",{"$f":"'B-Bestandsanalyse'!$C$47","v":"MWh/a"},{"$f":"'D-Zielszenario'!$E$182","v":"2035"},{"$f":"IF('D-Zielszenario'!E205=\"\",\"-\",'D-Zielszenario'!E205)","v":"-"}]
[{"$f":"'D-Zielszenario'!$B$179","v":"D.11"},{"$f":"'B-Bestandsanalyse'!$C$92","v":"Endenergieverbrauch leitungsgebundene Wärme"},"Solarthermie Dach-Anlagen","Sektoren insgesamt",{"$f":"'B-Bestandsanalyse'!$C$47","v":"MWh/a"},{"$f":"'D-Zielszenario'!$E$182","v":"2035"},{"$f":"IF('D-Zielszenario'!E206=\"\",\"-\",'D-Zielszenario'!E206)","v":"-"}]
[{"$f":"'D-Zielszenario'!$B$179","v":"D.11"},{"$f":"'B-Bestandsanalyse'!$C$92","v":"Endenergieverbrauch leitungsgebundene Wärme"},"Solarthermie Freiflächenanlagen","Sektoren insgesamt",{"$f":"'B-Bestandsanalyse'!$C$47","v":"MWh/a"},{"$f":"'D-Zielszenario'!$E$182","v":"2035"},{"$f":"IF('D-Zielszenario'!E207=\"\",\"-\",'D-Zielszenario'!E207)","v":"-"}]
[{"$f":"'D-Zielszenario'!$B$179","v":"D.11"},{"$f":"'B-Bestandsanalyse'!$C$92","v":"Endenergieverbrauch leitungsgebundene Wärme"},"Oberflächennahe Geothermie","Sektoren insgesamt",{"$f":"'B-Bestandsanalyse'!$C$47","v":"MWh/a"},{"$f":"'D-Zielszenario'!$E$182","v":"2035"},{"$f":"IF('D-Zielszenario'!E208=\"\",\"-\",'D-Zielszenario'!E208)","v":"-"}]
[{"$f":"'D-Zielszenario'!$B$179","v":"D.11"},{"$f":"'B-Bestandsanalyse'!$C$92","v":"Endenergieverbrauch leitungsgebundene Wärme"},"Tiefe Geothermie","Sektoren insgesamt",{"$f":"'B-Bestandsanalyse'!$C$47","v":"MWh/a"},{"$f":"'D-Zielszenario'!$E$182","v":"2035"},{"$f":"IF('D-Zielszenario'!E209=\"\",\"-\",'D-Zielszenario'!E209)","v":"-"}]
[{"$f":"'D-Zielszenario'!$B$179","v":"D.11"},{"$f":"'B-Bestandsanalyse'!$C$92","v":"Endenergieverbrauch leitungsgebundene Wärme"},"Oberflächengewässern","Sektoren insgesamt",{"$f":"'B-Bestandsanalyse'!$C$47","v":"MWh/a"},{"$f":"'D-Zielszenario'!$E$182","v":"2035"},{"$f":"IF('D-Zielszenario'!E210=\"\",\"-\",'D-Zielszenario'!E210)","v":"-"}]
[{"$f":"'D-Zielszenario'!$B$179","v":"D.11"},{"$f":"'B-Bestandsanalyse'!$C$92","v":"Endenergieverbrauch leitungsgebundene Wärme"},"Grubenwasser","Sektoren insgesamt",{"$f":"'B-Bestandsanalyse'!$C$47","v":"MWh/a"},{"$f":"'D-Zielszenario'!$E$182","v":"2035"},{"$f":"IF('D-Zielszenario'!E211=\"\",\"-\",'D-Zielszenario'!E211)","v":"-"}]
[{"$f":"'D-Zielszenario'!$B$179","v":"D.11"},{"$f":"'B-Bestandsanalyse'!$C$92","v":"Endenergieverbrauch leitungsgebundene Wärme"},"Luft","Sektoren insgesamt",{"$f":"'B-Bestandsanalyse'!$C$47","v":"MWh/a"},{"$f":"'D-Zielszenario'!$E$182","v":"2035"},{"$f":"IF('D-Zielszenario'!E212=\"\",\"-\",'D-Zielszenario'!E212)","v":"-"}]
[{"$f":"'D-Zielszenario'!$B$179","v":"D.11"},{"$f":"'B-Bestandsanalyse'!$C$92","v":"Endenergieverbrauch leitungsgebundene Wärme"},"Abwasser","Sektoren insgesamt",{"$f":"'B-Bestandsanalyse'!$C$47","v":"MWh/a"},{"$f":"'D-Zielszenario'!$E$182","v":"2035"},{"$f":"IF('D-Zielszenario'!E213=\"\",\"-\",'D-Zielszenario'!E213)","v":"-"}]
[{"$f":"'D-Zielszenario'!$B$179","v":"D.11"},{"$f":"'B-Bestandsanalyse'!$C$92","v":"Endenergieverbrauch leitungsgebundene Wärme"},"Sonstige fossile Brennstoffe","Sektoren insgesamt",{"$f":"'B-Bestandsanalyse'!$C$47","v":"MWh/a"},{"$f":"'D-Zielszenario'!$E$182","v":"2035"},{"$f":"IF('D-Zielszenario'!E214=\"\",\"-\",'D-Zielszenario'!E214)","v":"-"}]
[{"$f":"'D-Zielszenario'!$B$179","v":"D.11"},{"$f":"'B-Bestandsanalyse'!$C$92","v":"Endenergieverbrauch leitungsgebundene Wärme"},"Sonstige erneuerbare Energien","Sektoren insgesamt",{"$f":"'B-Bestandsanalyse'!$C$47","v":"MWh/a"},{"$f":"'D-Zielszenario'!$E$182","v":"2035"},{"$f":"IF('D-Zielszenario'!E215=\"\",\"-\",'D-Zielszenario'!E215)","v":"-"}]
[{"$f":"'D-Zielszenario'!$B$179","v":"D.11"},{"$f":"'B-Bestandsanalyse'!$C$92","v":"Endenergieverbrauch leitungsgebundene Wärme"},null,"Sektoren insgesamt",{"$f":"'B-Bestandsanalyse'!$C$47","v":"MWh/a"},{"$f":"'D-Zielszenario'!$E$182","v":"2035"},{"$f":"IF('D-Zielszenario'!E216=\"\",\"-\",'D-Zielszenario'!E216)","v":0}]
[{"$f":"'D-Zielszenario'!$B$179","v":"D.11"},{"$f":"'B-Bestandsanalyse'!$C$92","v":"Endenergieverbrauch leitungsgebundene Wärme"},{"$f":"C984","v":"Braunkohle"},"Sektoren insgesamt",{"$f":"'B-Bestandsanalyse'!$C$47","v":"MWh/a"},{"$f":"'D-Zielszenario'!$F$182","v":"2040"},{"$f":"IF('D-Zielszenario'!F184=\"\",\"-\",'D-Zielszenario'!F184)","v":"-"}]
[{"$f":"'D-Zielszenario'!$B$179","v":"D.11"},{"$f":"'B-Bestandsanalyse'!$C$92","v":"Endenergieverbrauch leitungsgebundene Wärme"},"Steinkohle","Sektoren insgesamt",{"$f":"'B-Bestandsanalyse'!$C$47","v":"MWh/a"},{"$f":"'D-Zielszenario'!$F$182","v":"2040"},{"$f":"IF('D-Zielszenario'!F185=\"\",\"-\",'D-Zielszenario'!F185)","v":"-"}]
[{"$f":"'D-Zielszenario'!$B$179","v":"D.11"},{"$f":"'B-Bestandsanalyse'!$C$92","v":"Endenergieverbrauch leitungsgebundene Wärme"},"Erdgas","Sektoren insgesamt",{"$f":"'B-Bestandsanalyse'!$C$47","v":"MWh/a"},{"$f":"'D-Zielszenario'!$F$182","v":"2040"},{"$f":"IF('D-Zielszenario'!F186=\"\",\"-\",'D-Zielszenario'!F186)","v":"-"}]
[{"$f":"'D-Zielszenario'!$B$179","v":"D.11"},{"$f":"'B-Bestandsanalyse'!$C$92","v":"Endenergieverbrauch leitungsgebundene Wärme"},"Flüssiggas","Sektoren insgesamt",{"$f":"'B-Bestandsanalyse'!$C$47","v":"MWh/a"},{"$f":"'D-Zielszenario'!$F$182","v":"2040"},{"$f":"IF('D-Zielszenario'!F187=\"\",\"-\",'D-Zielszenario'!F187)","v":"-"}]
[{"$f":"'D-Zielszenario'!$B$179","v":"D.11"},{"$f":"'B-Bestandsanalyse'!$C$92","v":"Endenergieverbrauch leitungsgebundene Wärme"},"Heizöl","Sektoren insgesamt",{"$f":"'B-Bestandsanalyse'!$C$47","v":"MWh/a"},{"$f":"'D-Zielszenario'!$F$182","v":"2040"},{"$f":"IF('D-Zielszenario'!F188=\"\",\"-\",'D-Zielszenario'!F188)","v":"-"}]
[{"$f":"'D-Zielszenario'!$B$179","v":"D.11"},{"$f":"'B-Bestandsanalyse'!$C$92","v":"Endenergieverbrauch leitungsgebundene Wärme"},"Wasserstoff","Sektoren insgesamt",{"$f":"'B-Bestandsanalyse'!$C$47","v":"MWh/a"},{"$f":"'D-Zielszenario'!$F$182","v":"2040"},{"$f":"IF('D-Zielszenario'!F189=\"\",\"-\",'D-Zielszenario'!F189)","v":"-"}]
[{"$f":"'D-Zielszenario'!$B$179","v":"D.11"},{"$f":"'B-Bestandsanalyse'!$C$92","v":"Endenergieverbrauch leitungsgebundene Wärme"},"Wasserstoffderivate","Sektoren insgesamt",{"$f":"'B-Bestandsanalyse'!$C$47","v":"MWh/a"},{"$f":"'D-Zielszenario'!$F$182","v":"2040"},{"$f":"IF('D-Zielszenario'!F190=\"\",\"-\",'D-Zielszenario'!F190)","v":"-"}]
[{"$f":"'D-Zielszenario'!$B$179","v":"D.11"},{"$f":"'B-Bestandsanalyse'!$C$92","v":"Endenergieverbrauch leitungsgebundene Wärme"},"Grubengas","Sektoren insgesamt",{"$f":"'B-Bestandsanalyse'!$C$47","v":"MWh/a"},{"$f":"'D-Zielszenario'!$F$182","v":"2040"},{"$f":"IF('D-Zielszenario'!F191=\"\",\"-\",'D-Zielszenario'!F191)","v":"-"}]
[{"$f":"'D-Zielszenario'!$B$179","v":"D.11"},{"$f":"'B-Bestandsanalyse'!$C$92","v":"Endenergieverbrauch leitungsgebundene Wärme"},"Nicht biogener Abfall","Sektoren insgesamt",{"$f":"'B-Bestandsanalyse'!$C$47","v":"MWh/a"},{"$f":"'D-Zielszenario'!$F$182","v":"2040"},{"$f":"IF('D-Zielszenario'!F192=\"\",\"-\",'D-Zielszenario'!F192)","v":"-"}]
[{"$f":"'D-Zielszenario'!$B$179","v":"D.11"},{"$f":"'B-Bestandsanalyse'!$C$92","v":"Endenergieverbrauch leitungsgebundene Wärme"},"Biogener Abfall","Sektoren insgesamt",{"$f":"'B-Bestandsanalyse'!$C$47","v":"MWh/a"},{"$f":"'D-Zielszenario'!$F$182","v":"2040"},{"$f":"IF('D-Zielszenario'!F193=\"\",\"-\",'D-Zielszenario'!F193)","v":"-"}]
[{"$f":"'D-Zielszenario'!$B$179","v":"D.11"},{"$f":"'B-Bestandsanalyse'!$C$92","v":"Endenergieverbrauch leitungsgebundene Wärme"},"Abwärme < 60 °C","Sektoren insgesamt",{"$f":"'B-Bestandsanalyse'!$C$47","v":"MWh/a"},{"$f":"'D-Zielszenario'!$F$182","v":"2040"},{"$f":"IF('D-Zielszenario'!F194=\"\",\"-\",'D-Zielszenario'!F194)","v":"-"}]
[{"$f":"'D-Zielszenario'!$B$179","v":"D.11"},{"$f":"'B-Bestandsanalyse'!$C$92","v":"Endenergieverbrauch leitungsgebundene Wärme"},"Abwärme 60 bis 110 °C","Sektoren insgesamt",{"$f":"'B-Bestandsanalyse'!$C$47","v":"MWh/a"},{"$f":"'D-Zielszenario'!$F$182","v":"2040"},{"$f":"IF('D-Zielszenario'!F195=\"\",\"-\",'D-Zielszenario'!F195)","v":"-"}]
[{"$f":"'D-Zielszenario'!$B$179","v":"D.11"},{"$f":"'B-Bestandsanalyse'!$C$92","v":"Endenergieverbrauch leitungsgebundene Wärme"},"Abwärme >= 110 °C","Sektoren insgesamt",{"$f":"'B-Bestandsanalyse'!$C$47","v":"MWh/a"},{"$f":"'D-Zielszenario'!$F$182","v":"2040"},{"$f":"IF('D-Zielszenario'!F196=\"\",\"-\",'D-Zielszenario'!F196)","v":"-"}]
[{"$f":"'D-Zielszenario'!$B$179","v":"D.11"},{"$f":"'B-Bestandsanalyse'!$C$92","v":"Endenergieverbrauch leitungsgebundene Wärme"},"feste Biomasse (ohne Altholz)","Sektoren insgesamt",{"$f":"'B-Bestandsanalyse'!$C$47","v":"MWh/a"},{"$f":"'D-Zielszenario'!$F$182","v":"2040"},{"$f":"IF('D-Zielszenario'!F197=\"\",\"-\",'D-Zielszenario'!F197)","v":"-"}]
[{"$f":"'D-Zielszenario'!$B$179","v":"D.11"},{"$f":"'B-Bestandsanalyse'!$C$92","v":"Endenergieverbrauch leitungsgebundene Wärme"},"Altholz","Sektoren insgesamt",{"$f":"'B-Bestandsanalyse'!$C$47","v":"MWh/a"},{"$f":"'D-Zielszenario'!$F$182","v":"2040"},{"$f":"IF('D-Zielszenario'!F198=\"\",\"-\",'D-Zielszenario'!F198)","v":"-"}]
[{"$f":"'D-Zielszenario'!$B$179","v":"D.11"},{"$f":"'B-Bestandsanalyse'!$C$92","v":"Endenergieverbrauch leitungsgebundene Wärme"},"Biogas","Sektoren insgesamt",{"$f":"'B-Bestandsanalyse'!$C$47","v":"MWh/a"},{"$f":"'D-Zielszenario'!$F$182","v":"2040"},{"$f":"IF('D-Zielszenario'!F199=\"\",\"-\",'D-Zielszenario'!F199)","v":"-"}]
[{"$f":"'D-Zielszenario'!$B$179","v":"D.11"},{"$f":"'B-Bestandsanalyse'!$C$92","v":"Endenergieverbrauch leitungsgebundene Wärme"},"Biomethan","Sektoren insgesamt",{"$f":"'B-Bestandsanalyse'!$C$47","v":"MWh/a"},{"$f":"'D-Zielszenario'!$F$182","v":"2040"},{"$f":"IF('D-Zielszenario'!F200=\"\",\"-\",'D-Zielszenario'!F200)","v":"-"}]
[{"$f":"'D-Zielszenario'!$B$179","v":"D.11"},{"$f":"'B-Bestandsanalyse'!$C$92","v":"Endenergieverbrauch leitungsgebundene Wärme"},"Deponiegas","Sektoren insgesamt",{"$f":"'B-Bestandsanalyse'!$C$47","v":"MWh/a"},{"$f":"'D-Zielszenario'!$F$182","v":"2040"},{"$f":"IF('D-Zielszenario'!F201=\"\",\"-\",'D-Zielszenario'!F201)","v":"-"}]
[{"$f":"'D-Zielszenario'!$B$179","v":"D.11"},{"$f":"'B-Bestandsanalyse'!$C$92","v":"Endenergieverbrauch leitungsgebundene Wärme"},"Klärgas","Sektoren insgesamt",{"$f":"'B-Bestandsanalyse'!$C$47","v":"MWh/a"},{"$f":"'D-Zielszenario'!$F$182","v":"2040"},{"$f":"IF('D-Zielszenario'!F202=\"\",\"-\",'D-Zielszenario'!F202)","v":"-"}]
[{"$f":"'D-Zielszenario'!$B$179","v":"D.11"},{"$f":"'B-Bestandsanalyse'!$C$92","v":"Endenergieverbrauch leitungsgebundene Wärme"},"Flüssige Biomasse","Sektoren insgesamt",{"$f":"'B-Bestandsanalyse'!$C$47","v":"MWh/a"},{"$f":"'D-Zielszenario'!$F$182","v":"2040"},{"$f":"IF('D-Zielszenario'!F203=\"\",\"-\",'D-Zielszenario'!F203)","v":"-"}]
[{"$f":"'D-Zielszenario'!$B$179","v":"D.11"},{"$f":"'B-Bestandsanalyse'!$C$92","v":"Endenergieverbrauch leitungsgebundene Wärme"},"Strom Wärmepumpe","Sektoren insgesamt",{"$f":"'B-Bestandsanalyse'!$C$47","v":"MWh/a"},{"$f":"'D-Zielszenario'!$F$182","v":"2040"},{"$f":"IF('D-Zielszenario'!F204=\"\",\"-\",'D-Zielszenario'!F204)","v":"-"}]
[{"$f":"'D-Zielszenario'!$B$179","v":"D.11"},{"$f":"'B-Bestandsanalyse'!$C$92","v":"Endenergieverbrauch leitungsgebundene Wärme"},"Strom Direktheizung","Sektoren insgesamt",{"$f":"'B-Bestandsanalyse'!$C$47","v":"MWh/a"},{"$f":"'D-Zielszenario'!$F$182","v":"2040"},{"$f":"IF('D-Zielszenario'!F205=\"\",\"-\",'D-Zielszenario'!F205)","v":"-"}]
[{"$f":"'D-Zielszenario'!$B$179","v":"D.11"},{"$f":"'B-Bestandsanalyse'!$C$92","v":"Endenergieverbrauch leitungsgebundene Wärme"},"Solarthermie Dach-Anlagen","Sektoren insgesamt",{"$f":"'B-Bestandsanalyse'!$C$47","v":"MWh/a"},{"$f":"'D-Zielszenario'!$F$182","v":"2040"},{"$f":"IF('D-Zielszenario'!F206=\"\",\"-\",'D-Zielszenario'!F206)","v":"-"}]
[{"$f":"'D-Zielszenario'!$B$179","v":"D.11"},{"$f":"'B-Bestandsanalyse'!$C$92","v":"Endenergieverbrauch leitungsgebundene Wärme"},"Solarthermie Freiflächenanlagen","Sektoren insgesamt",{"$f":"'B-Bestandsanalyse'!$C$47","v":"MWh/a"},{"$f":"'D-Zielszenario'!$F$182","v":"2040"},{"$f":"IF('D-Zielszenario'!F207=\"\",\"-\",'D-Zielszenario'!F207)","v":"-"}]
[{"$f":"'D-Zielszenario'!$B$179","v":"D.11"},{"$f":"'B-Bestandsanalyse'!$C$92","v":"Endenergieverbrauch leitungsgebundene Wärme"},"Oberflächennahe Geothermie","Sektoren insgesamt",{"$f":"'B-Bestandsanalyse'!$C$47","v":"MWh/a"},{"$f":"'D-Zielszenario'!$F$182","v":"2040"},{"$f":"IF('D-Zielszenario'!F208=\"\",\"-\",'D-Zielszenario'!F208)","v":"-"}]
[{"$f":"'D-Zielszenario'!$B$179","v":"D.11"},{"$f":"'B-Bestandsanalyse'!$C$92","v":"Endenergieverbrauch leitungsgebundene Wärme"},"Tiefe Geothermie","Sektoren insgesamt",{"$f":"'B-Bestandsanalyse'!$C$47","v":"MWh/a"},{"$f":"'D-Zielszenario'!$F$182","v":"2040"},{"$f":"IF('D-Zielszenario'!F209=\"\",\"-\",'D-Zielszenario'!F209)","v":"-"}]
[{"$f":"'D-Zielszenario'!$B$179","v":"D.11"},{"$f":"'B-Bestandsanalyse'!$C$92","v":"Endenergieverbrauch leitungsgebundene Wärme"},"Oberflächengewässern","Sektoren insgesamt",{"$f":"'B-Bestandsanalyse'!$C$47","v":"MWh/a"},{"$f":"'D-Zielszenario'!$F$182","v":"2040"},{"$f":"IF('D-Zielszenario'!F210=\"\",\"-\",'D-Zielszenario'!F210)","v":"-"}]
[{"$f":"'D-Zielszenario'!$B$179","v":"D.11"},{"$f":"'B-Bestandsanalyse'!$C$92","v":"Endenergieverbrauch leitungsgebundene Wärme"},"Grubenwasser","Sektoren insgesamt",{"$f":"'B-Bestandsanalyse'!$C$47","v":"MWh/a"},{"$f":"'D-Zielszenario'!$F$182","v":"2040"},{"$f":"IF('D-Zielszenario'!F211=\"\",\"-\",'D-Zielszenario'!F211)","v":"-"}]
[{"$f":"'D-Zielszenario'!$B$179","v":"D.11"},{"$f":"'B-Bestandsanalyse'!$C$92","v":"Endenergieverbrauch leitungsgebundene Wärme"},"Luft","Sektoren insgesamt",{"$f":"'B-Bestandsanalyse'!$C$47","v":"MWh/a"},{"$f":"'D-Zielszenario'!$F$182","v":"2040"},{"$f":"IF('D-Zielszenario'!F212=\"\",\"-\",'D-Zielszenario'!F212)","v":"-"}]
[{"$f":"'D-Zielszenario'!$B$179","v":"D.11"},{"$f":"'B-Bestandsanalyse'!$C$92","v":"Endenergieverbrauch leitungsgebundene Wärme"},"Abwasser","Sektoren insgesamt",{"$f":"'B-Bestandsanalyse'!$C$47","v":"MWh/a"},{"$f":"'D-Zielszenario'!$F$182","v":"2040"},{"$f":"IF('D-Zielszenario'!F213=\"\",\"-\",'D-Zielszenario'!F213)","v":"-"}]
[{"$f":"'D-Zielszenario'!$B$179","v":"D.11"},{"$f":"'B-Bestandsanalyse'!$C$92","v":"Endenergieverbrauch leitungsgebundene Wärme"},"Sonstige fossile Brennstoffe","Sektoren insgesamt",{"$f":"'B-Bestandsanalyse'!$C$47","v":"MWh/a"},{"$f":"'D-Zielszenario'!$F$182","v":"2040"},{"$f":"IF('D-Zielszenario'!F214=\"\",\"-\",'D-Zielszenario'!F214)","v":"-"}]
[{"$f":"'D-Zielszenario'!$B$179","v":"D.11"},{"$f":"'B-Bestandsanalyse'!$C$92","v":"Endenergieverbrauch leitungsgebundene Wärme"},"Sonstige erneuerbare Energien","Sektoren insgesamt",{"$f":"'B-Bestandsanalyse'!$C$47","v":"MWh/a"},{"$f":"'D-Zielszenario'!$F$182","v":"2040"},{"$f":"IF('D-Zielszenario'!F215=\"\",\"-\",'D-Zielszenario'!F215)","v":"-"}]
[{"$f":"'D-Zielszenario'!$B$179","v":"D.11"},{"$f":"'B-Bestandsanalyse'!$C$92","v":"Endenergieverbrauch leitungsgebundene Wärme"},null,"Sektoren insgesamt",{"$f":"'B-Bestandsanalyse'!$C$47","v":"MWh/a"},{"$f":"'D-Zielszenario'!$F$182","v":"2040"},{"$f":"IF('D-Zielszenario'!F216=\"\",\"-\",'D-Zielszenario'!F216)","v":0}]
[{"$f":"'D-Zielszenario'!$B$220","v":"D.12"},{"$f":"'B-Bestandsanalyse'!$C$132","v":"Endenergieverbrauch Gasnetze"},{"$f":"'D-Zielszenario'!X224","v":"Erdgas"},"Sektoren insgesamt",{"$f":"'D-Zielszenario'!$C$223","v":"MWh/a"},{"$f":"'D-Zielszenario'!$D$222","v":"2030"},{"$f":"IF('D-Zielszenario'!D224=\"\",\"-\",'D-Zielszenario'!D224)","v":"-"}]
[{"$f":"'D-Zielszenario'!$B$220","v":"D.12"},{"$f":"'B-Bestandsanalyse'!$C$132","v":"Endenergieverbrauch Gasnetze"},{"$f":"'D-Zielszenario'!X225","v":"Flüssiggas"},"Sektoren insgesamt",{"$f":"'D-Zielszenario'!$C$223","v":"MWh/a"},{"$f":"'D-Zielszenario'!$D$222","v":"2030"},{"$f":"IF('D-Zielszenario'!D225=\"\",\"-\",'D-Zielszenario'!D225)","v":"-"}]
[{"$f":"'D-Zielszenario'!$B$220","v":"D.12"},{"$f":"'B-Bestandsanalyse'!$C$132","v":"Endenergieverbrauch Gasnetze"},{"$f":"'D-Zielszenario'!X226","v":"Wasserstoff"},"Sektoren insgesamt",{"$f":"'D-Zielszenario'!$C$223","v":"MWh/a"},{"$f":"'D-Zielszenario'!$D$222","v":"2030"},{"$f":"IF('D-Zielszenario'!D226=\"\",\"-\",'D-Zielszenario'!D226)","v":"-"}]
[{"$f":"'D-Zielszenario'!$B$220","v":"D.12"},{"$f":"'B-Bestandsanalyse'!$C$132","v":"Endenergieverbrauch Gasnetze"},{"$f":"'D-Zielszenario'!X227","v":"Wasserstoffderivate"},"Sektoren insgesamt",{"$f":"'D-Zielszenario'!$C$223","v":"MWh/a"},{"$f":"'D-Zielszenario'!$D$222","v":"2030"},{"$f":"IF('D-Zielszenario'!D227=\"\",\"-\",'D-Zielszenario'!D227)","v":"-"}]
[{"$f":"'D-Zielszenario'!$B$220","v":"D.12"},{"$f":"'B-Bestandsanalyse'!$C$132","v":"Endenergieverbrauch Gasnetze"},{"$f":"'D-Zielszenario'!X228","v":"Grubengas"},"Sektoren insgesamt",{"$f":"'D-Zielszenario'!$C$223","v":"MWh/a"},{"$f":"'D-Zielszenario'!$D$222","v":"2030"},{"$f":"IF('D-Zielszenario'!D228=\"\",\"-\",'D-Zielszenario'!D228)","v":"-"}]
[{"$f":"'D-Zielszenario'!$B$220","v":"D.12"},{"$f":"'B-Bestandsanalyse'!$C$132","v":"Endenergieverbrauch Gasnetze"},{"$f":"'D-Zielszenario'!X229","v":"Biogas"},"Sektoren insgesamt",{"$f":"'D-Zielszenario'!$C$223","v":"MWh/a"},{"$f":"'D-Zielszenario'!$D$222","v":"2030"},{"$f":"IF('D-Zielszenario'!D229=\"\",\"-\",'D-Zielszenario'!D229)","v":"-"}]
[{"$f":"'D-Zielszenario'!$B$220","v":"D.12"},{"$f":"'B-Bestandsanalyse'!$C$132","v":"Endenergieverbrauch Gasnetze"},{"$f":"'D-Zielszenario'!X230","v":"Biomethan"},"Sektoren insgesamt",{"$f":"'D-Zielszenario'!$C$223","v":"MWh/a"},{"$f":"'D-Zielszenario'!$D$222","v":"2030"},{"$f":"IF('D-Zielszenario'!D230=\"\",\"-\",'D-Zielszenario'!D230)","v":"-"}]
[{"$f":"'D-Zielszenario'!$B$220","v":"D.12"},{"$f":"'B-Bestandsanalyse'!$C$132","v":"Endenergieverbrauch Gasnetze"},{"$f":"'D-Zielszenario'!X231","v":"Deponiegas"},"Sektoren insgesamt",{"$f":"'D-Zielszenario'!$C$223","v":"MWh/a"},{"$f":"'D-Zielszenario'!$D$222","v":"2030"},{"$f":"IF('D-Zielszenario'!D231=\"\",\"-\",'D-Zielszenario'!D231)","v":"-"}]
[{"$f":"'D-Zielszenario'!$B$220","v":"D.12"},{"$f":"'B-Bestandsanalyse'!$C$132","v":"Endenergieverbrauch Gasnetze"},{"$f":"'D-Zielszenario'!X232","v":"Klärgas"},"Sektoren insgesamt",{"$f":"'D-Zielszenario'!$C$223","v":"MWh/a"},{"$f":"'D-Zielszenario'!$D$222","v":"2030"},{"$f":"IF('D-Zielszenario'!D232=\"\",\"-\",'D-Zielszenario'!D232)","v":"-"}]
[{"$f":"'D-Zielszenario'!$B$220","v":"D.12"},{"$f":"'B-Bestandsanalyse'!$C$132","v":"Endenergieverbrauch Gasnetze"},null,"Sektoren insgesamt",{"$f":"'D-Zielszenario'!$C$223","v":"MWh/a"},{"$f":"'D-Zielszenario'!$D$222","v":"2030"},{"$f":"IF('D-Zielszenario'!D233=\"\",\"-\",'D-Zielszenario'!D233)","v":0}]
[{"$f":"'D-Zielszenario'!$B$220","v":"D.12"},{"$f":"'B-Bestandsanalyse'!$C$132","v":"Endenergieverbrauch Gasnetze"},{"$f":"C1083","v":"Erdgas"},"Sektoren insgesamt",{"$f":"'D-Zielszenario'!$C$223","v":"MWh/a"},{"$f":"'D-Zielszenario'!$E$222","v":"2035"},{"$f":"IF('D-Zielszenario'!E224=\"\",\"-\",'D-Zielszenario'!E224)","v":"-"}]
[{"$f":"'D-Zielszenario'!$B$220","v":"D.12"},{"$f":"'B-Bestandsanalyse'!$C$132","v":"Endenergieverbrauch Gasnetze"},{"$f":"C1084","v":"Flüssiggas"},"Sektoren insgesamt",{"$f":"'D-Zielszenario'!$C$223","v":"MWh/a"},{"$f":"'D-Zielszenario'!$E$222","v":"2035"},{"$f":"IF('D-Zielszenario'!E225=\"\",\"-\",'D-Zielszenario'!E225)","v":"-"}]
[{"$f":"'D-Zielszenario'!$B$220","v":"D.12"},{"$f":"'B-Bestandsanalyse'!$C$132","v":"Endenergieverbrauch Gasnetze"},"Wasserstoff","Sektoren insgesamt",{"$f":"'D-Zielszenario'!$C$223","v":"MWh/a"},{"$f":"'D-Zielszenario'!$E$222","v":"2035"},{"$f":"IF('D-Zielszenario'!E226=\"\",\"-\",'D-Zielszenario'!E226)","v":"-"}]
[{"$f":"'D-Zielszenario'!$B$220","v":"D.12"},{"$f":"'B-Bestandsanalyse'!$C$132","v":"Endenergieverbrauch Gasnetze"},"Wasserstoffderivate","Sektoren insgesamt",{"$f":"'D-Zielszenario'!$C$223","v":"MWh/a"},{"$f":"'D-Zielszenario'!$E$222","v":"2035"},{"$f":"IF('D-Zielszenario'!E227=\"\",\"-\",'D-Zielszenario'!E227)","v":"-"}]
[{"$f":"'D-Zielszenario'!$B$220","v":"D.12"},{"$f":"'B-Bestandsanalyse'!$C$132","v":"Endenergieverbrauch Gasnetze"},"Grubengas","Sektoren insgesamt",{"$f":"'D-Zielszenario'!$C$223","v":"MWh/a"},{"$f":"'D-Zielszenario'!$E$222","v":"2035"},{"$f":"IF('D-Zielszenario'!E228=\"\",\"-\",'D-Zielszenario'!E228)","v":"-"}]
[{"$f":"'D-Zielszenario'!$B$220","v":"D.12"},{"$f":"'B-Bestandsanalyse'!$C$132","v":"Endenergieverbrauch Gasnetze"},"Biogas","Sektoren insgesamt",{"$f":"'D-Zielszenario'!$C$223","v":"MWh/a"},{"$f":"'D-Zielszenario'!$E$222","v":"2035"},{"$f":"IF('D-Zielszenario'!E229=\"\",\"-\",'D-Zielszenario'!E229)","v":"-"}]
[{"$f":"'D-Zielszenario'!$B$220","v":"D.12"},{"$f":"'B-Bestandsanalyse'!$C$132","v":"Endenergieverbrauch Gasnetze"},"Biomethan","Sektoren insgesamt",{"$f":"'D-Zielszenario'!$C$223","v":"MWh/a"},{"$f":"'D-Zielszenario'!$E$222","v":"2035"},{"$f":"IF('D-Zielszenario'!E230=\"\",\"-\",'D-Zielszenario'!E230)","v":"-"}]
[{"$f":"'D-Zielszenario'!$B$220","v":"D.12"},{"$f":"'B-Bestandsanalyse'!$C$132","v":"Endenergieverbrauch Gasnetze"},"Deponiegas","Sektoren insgesamt",{"$f":"'D-Zielszenario'!$C$223","v":"MWh/a"},{"$f":"'D-Zielszenario'!$E$222","v":"2035"},{"$f":"IF('D-Zielszenario'!E231=\"\",\"-\",'D-Zielszenario'!E231)","v":"-"}]
[{"$f":"'D-Zielszenario'!$B$220","v":"D.12"},{"$f":"'B-Bestandsanalyse'!$C$132","v":"Endenergieverbrauch Gasnetze"},"Klärgas","Sektoren insgesamt",{"$f":"'D-Zielszenario'!$C$223","v":"MWh/a"},{"$f":"'D-Zielszenario'!$E$222","v":"2035"},{"$f":"IF('D-Zielszenario'!E232=\"\",\"-\",'D-Zielszenario'!E232)","v":"-"}]
[{"$f":"'D-Zielszenario'!$B$220","v":"D.12"},{"$f":"'B-Bestandsanalyse'!$C$132","v":"Endenergieverbrauch Gasnetze"},null,"Sektoren insgesamt",{"$f":"'D-Zielszenario'!$C$223","v":"MWh/a"},{"$f":"'D-Zielszenario'!$E$222","v":"2035"},{"$f":"IF('D-Zielszenario'!E233=\"\",\"-\",'D-Zielszenario'!E233)","v":0}]
[{"$f":"'D-Zielszenario'!$B$220","v":"D.12"},{"$f":"'B-Bestandsanalyse'!$C$132","v":"Endenergieverbrauch Gasnetze"},{"$f":"C1083","v":"Erdgas"},"Sektoren insgesamt",{"$f":"'D-Zielszenario'!$C$223","v":"MWh/a"},{"$f":"'D-Zielszenario'!$F$222","v":"2040"},{"$f":"IF('D-Zielszenario'!F224=\"\",\"-\",'D-Zielszenario'!F224)","v":"-"}]
[{"$f":"'D-Zielszenario'!$B$220","v":"D.12"},{"$f":"'B-Bestandsanalyse'!$C$132","v":"Endenergieverbrauch Gasnetze"},{"$f":"C1084","v":"Flüssiggas"},"Sektoren insgesamt",{"$f":"'D-Zielszenario'!$C$223","v":"MWh/a"},{"$f":"'D-Zielszenario'!$F$222","v":"2040"},{"$f":"IF('D-Zielszenario'!F225=\"\",\"-\",'D-Zielszenario'!F225)","v":"-"}]
[{"$f":"'D-Zielszenario'!$B$220","v":"D.12"},{"$f":"'B-Bestandsanalyse'!$C$132","v":"Endenergieverbrauch Gasnetze"},"Wasserstoff","Sektoren insgesamt",{"$f":"'D-Zielszenario'!$C$223","v":"MWh/a"},{"$f":"'D-Zielszenario'!$F$222","v":"2040"},{"$f":"IF('D-Zielszenario'!F226=\"\",\"-\",'D-Zielszenario'!F226)","v":"-"}]
[{"$f":"'D-Zielszenario'!$B$220","v":"D.12"},{"$f":"'B-Bestandsanalyse'!$C$132","v":"Endenergieverbrauch Gasnetze"},"Wasserstoffderivate","Sektoren insgesamt",{"$f":"'D-Zielszenario'!$C$223","v":"MWh/a"},{"$f":"'D-Zielszenario'!$F$222","v":"2040"},{"$f":"IF('D-Zielszenario'!F227=\"\",\"-\",'D-Zielszenario'!F227)","v":"-"}]
[{"$f":"'D-Zielszenario'!$B$220","v":"D.12"},{"$f":"'B-Bestandsanalyse'!$C$132","v":"Endenergieverbrauch Gasnetze"},"Grubengas","Sektoren insgesamt",{"$f":"'D-Zielszenario'!$C$223","v":"MWh/a"},{"$f":"'D-Zielszenario'!$F$222","v":"2040"},{"$f":"IF('D-Zielszenario'!F228=\"\",\"-\",'D-Zielszenario'!F228)","v":"-"}]
[{"$f":"'D-Zielszenario'!$B$220","v":"D.12"},{"$f":"'B-Bestandsanalyse'!$C$132","v":"Endenergieverbrauch Gasnetze"},"Biogas","Sektoren insgesamt",{"$f":"'D-Zielszenario'!$C$223","v":"MWh/a"},{"$f":"'D-Zielszenario'!$F$222","v":"2040"},{"$f":"IF('D-Zielszenario'!F229=\"\",\"-\",'D-Zielszenario'!F229)","v":"-"}]
[{"$f":"'D-Zielszenario'!$B$220","v":"D.12"},{"$f":"'B-Bestandsanalyse'!$C$132","v":"Endenergieverbrauch Gasnetze"},"Biomethan","Sektoren insgesamt",{"$f":"'D-Zielszenario'!$C$223","v":"MWh/a"},{"$f":"'D-Zielszenario'!$F$222","v":"2040"},{"$f":"IF('D-Zielszenario'!F230=\"\",\"-\",'D-Zielszenario'!F230)","v":"-"}]
[{"$f":"'D-Zielszenario'!$B$220","v":"D.12"},{"$f":"'B-Bestandsanalyse'!$C$132","v":"Endenergieverbrauch Gasnetze"},"Deponiegas","Sektoren insgesamt",{"$f":"'D-Zielszenario'!$C$223","v":"MWh/a"},{"$f":"'D-Zielszenario'!$F$222","v":"2040"},{"$f":"IF('D-Zielszenario'!F231=\"\",\"-\",'D-Zielszenario'!F231)","v":"-"}]
[{"$f":"'D-Zielszenario'!$B$220","v":"D.12"},{"$f":"'B-Bestandsanalyse'!$C$132","v":"Endenergieverbrauch Gasnetze"},"Klärgas","Sektoren insgesamt",{"$f":"'D-Zielszenario'!$C$223","v":"MWh/a"},{"$f":"'D-Zielszenario'!$F$222","v":"2040"},{"$f":"IF('D-Zielszenario'!F232=\"\",\"-\",'D-Zielszenario'!F232)","v":"-"}]
[{"$f":"'D-Zielszenario'!$B$220","v":"D.12"},{"$f":"'B-Bestandsanalyse'!$C$132","v":"Endenergieverbrauch Gasnetze"},null,"Sektoren insgesamt",{"$f":"'D-Zielszenario'!$C$223","v":"MWh/a"},{"$f":"'D-Zielszenario'!$F$222","v":"2040"},{"$f":"IF('D-Zielszenario'!F233=\"\",\"-\",'D-Zielszenario'!F233)","v":0}]
[{"$f":"'D-Zielszenario'!$B$236","v":"D.13"},{"$f":"'B-Bestandsanalyse'!$C$212","v":"THG Emissionen leitungsgebundene Wärme"},null,{"$f":"'B-Bestandsanalyse'!$I$45","v":"Sektoren insgesamt"},{"$f":"'D-Zielszenario'!$C$241","v":"kt/a"},{"$f":"'D-Zielszenario'!$D$240","v":"2030"},{"$f":"'D-Zielszenario'!D242","v":{"v":0,"d":"0.0"}}]
[{"$f":"'D-Zielszenario'!$B$236","v":"D.13"},{"$f":"'B-Bestandsanalyse'!$C$213","v":"THG Emissionen Gasnetze"},null,{"$f":"'B-Bestandsanalyse'!$I$45","v":"Sektoren insgesamt"},{"$f":"'D-Zielszenario'!$C$241","v":"kt/a"},{"$f":"'D-Zielszenario'!$D$240","v":"2030"},{"$f":"'D-Zielszenario'!D243","v":{"v":0,"d":"0.0"}}]
[{"$f":"'D-Zielszenario'!$B$236","v":"D.13"},{"$f":"'B-Bestandsanalyse'!$C$212","v":"THG Emissionen leitungsgebundene Wärme"},null,{"$f":"'B-Bestandsanalyse'!$I$45","v":"Sektoren insgesamt"},{"$f":"'D-Zielszenario'!$C$241","v":"kt/a"},{"$f":"'D-Zielszenario'!$E$240","v":"2035"},{"$f":"'D-Zielszenario'!E242","v":{"v":0,"d":"0.0"}}]
[{"$f":"'D-Zielszenario'!$B$236","v":"D.13"},{"$f":"'B-Bestandsanalyse'!$C$213","v":"THG Emissionen Gasnetze"},null,{"$f":"'B-Bestandsanalyse'!$I$45","v":"Sektoren insgesamt"},{"$f":"'D-Zielszenario'!$C$241","v":"kt/a"},{"$f":"'D-Zielszenario'!$E$240","v":"2035"},{"$f":"'D-Zielszenario'!E243","v":{"v":0,"d":"0.0"}}]
[{"$f":"'D-Zielszenario'!$B$236","v":"D.13"},{"$f":"'B-Bestandsanalyse'!$C$212","v":"THG Emissionen leitungsgebundene Wärme"},null,{"$f":"'B-Bestandsanalyse'!$I$45","v":"Sektoren insgesamt"},{"$f":"'D-Zielszenario'!$C$241","v":"kt/a"},{"$f":"'D-Zielszenario'!$F$222","v":"2040"},{"$f":"'D-Zielszenario'!F242","v":{"v":0,"d":"0.0"}}]
[{"$f":"'D-Zielszenario'!$B$236","v":"D.13"},{"$f":"'B-Bestandsanalyse'!$C$213","v":"THG Emissionen Gasnetze"},null,{"$f":"'B-Bestandsanalyse'!$I$45","v":"Sektoren insgesamt"},{"$f":"'D-Zielszenario'!$C$241","v":"kt/a"},{"$f":"'D-Zielszenario'!$F$222","v":"2040"},{"$f":"'D-Zielszenario'!F243","v":{"v":0,"d":"0.0"}}]
[{"$f":"'E-Maßnahmen'!$C$16","v":"E.1"},{"$f":"'E-Maßnahmen'!$C$17","v":"Kategorie"},null,"Maßnahme 1","Textfeld",{"$f":"'A-Allgemeine Angaben'!$D$20","v":0},{"$f":"'E-Maßnahmen'!C19","v":0}]
[{"$f":"'E-Maßnahmen'!$D$16","v":"E.2"},{"$f":"'E-Maßnahmen'!$D$17","v":"Bezeichnung der Maßnahmen"},null,"Maßnahme 1","Textfeld",{"$f":"'A-Allgemeine Angaben'!$D$20","v":0},{"$f":"'E-Maßnahmen'!D19","v":0}]
[{"$f":"'E-Maßnahmen'!$E$16","v":"E.2.1"},{"$f":"'E-Maßnahmen'!$E$17","v":"Anzahl der Maßnahmen in der Kategorie"},null,"Maßnahme 1",{"$f":"'E-Maßnahmen'!$E$18","v":"Anzahl"},{"$f":"'A-Allgemeine Angaben'!$D$20","v":0},{"$f":"'E-Maßnahmen'!E19","v":0}]
[{"$f":"'E-Maßnahmen'!$F$16","v":"E.3"},{"$f":"'E-Maßnahmen'!$F$17","v":"Zeitpunkt für den Beginn der Umsetzung"},null,"Maßnahme 1","Datum",{"$f":"'A-Allgemeine Angaben'!$D$20","v":0},{"$f":"'E-Maßnahmen'!F19","v":"00:00:00"}]
[{"$f":"'E-Maßnahmen'!$G$16","v":"E.4"},{"$f":"'E-Maßnahmen'!$G$17","v":"Anzahl der Wiederholungen"},null,"Maßnahme 1","Anzahl",{"$f":"'A-Allgemeine Angaben'!$D$20","v":0},{"$f":"'E-Maßnahmen'!G19","v":0}]
[{"$f":"'E-Maßnahmen'!$H$16","v":"E.5"},{"$f":"'E-Maßnahmen'!$H$17","v":"Zeitpunkt, zu dem die Umsetzung abgeschlossen sein soll"},null,"Maßnahme 1","Datum",{"$f":"'A-Allgemeine Angaben'!$D$20","v":0},{"$f":"'E-Maßnahmen'!H19","v":"00:00:00"}]
[{"$f":"'E-Maßnahmen'!$I$16","v":"E.6"},{"$f":"'E-Maßnahmen'!$I$17","v":"Erwartete Kosten (Planung & Umsetzung) der Maßnahme"},null,"Maßnahme 1",{"$f":"'E-Maßnahmen'!$I$18","v":"EUR"},{"$f":"'A-Allgemeine Angaben'!$D$20","v":0},{"$f":"'E-Maßnahmen'!I19","v":0}]
[{"$f":"'E-Maßnahmen'!$J$16","v":"E.7.1"},{"$f":"'E-Maßnahmen'!$J$17","v":"Kostentragender Sektor 1"},null,"Maßnahme 1","Textfeld",{"$f":"'A-Allgemeine Angaben'!$D$20","v":0},{"$f":"'E-Maßnahmen'!J19","v":0}]
[{"$f":"'E-Maßnahmen'!$K$16","v":"E.7.2"},{"$f":"'E-Maßnahmen'!$K$17","v":"Kostentragender Sektor 2"},null,"Maßnahme 1","Textfeld",{"$f":"'A-Allgemeine Angaben'!$D$20","v":0},{"$f":"'E-Maßnahmen'!K19","v":0}]
[{"$f":"'E-Maßnahmen'!$L$16","v":"E.8"},{"$f":"'E-Maßnahmen'!$L$17","v":"Endenergieeinsparung durch die Maßnahmen"},null,"Maßnahme 1",{"$f":"'E-Maßnahmen'!$L$18","v":"MWh/a"},{"$f":"'A-Allgemeine Angaben'!$D$20","v":0},{"$f":"IF('E-Maßnahmen'!$L$19=\"\",\"-\",'E-Maßnahmen'!$L$19)","v":"-"}]
[{"$f":"'E-Maßnahmen'!$M$16","v":"E.9"},{"$f":"'E-Maßnahmen'!$M$17","v":"THG-Emissionen Einsparung durch die Maßnahmen"},null,"Maßnahme 1",{"$f":"'E-Maßnahmen'!$M$18","v":"t/a"},{"$f":"'A-Allgemeine Angaben'!$D$20","v":0},{"$f":"IF('E-Maßnahmen'!$M$19=\"\",\"-\",'E-Maßnahmen'!$M$19)","v":"-"}]
[{"$f":"'E-Maßnahmen'!$N$16","v":"E.10.1"},{"$f":"'E-Maßnahmen'!$N$17","v":"Ermittelte Finanzierungsmechanismen 1 zur Umsetzung der Maßnahme"},null,"Maßnahme 1","Textfeld",{"$f":"'A-Allgemeine Angaben'!$D$20","v":0},{"$f":"'E-Maßnahmen'!N19","v":0}]
[{"$f":"'E-Maßnahmen'!$O$16","v":"E.10.2"},{"$f":"'E-Maßnahmen'!$O$17","v":"Ermittelte Finanzierungsmechanismen 2 zur Umsetzung der Maßnahme"},null,"Maßnahme 1","Textfeld",{"$f":"'A-Allgemeine Angaben'!$D$20","v":0},{"$f":"'E-Maßnahmen'!O19","v":0}]
[{"$f":"'E-Maßnahmen'!$C$16","v":"E.1"},{"$f":"'E-Maßnahmen'!$C$17","v":"Kategorie"},null,"Maßnahme 2","Textfeld",{"$f":"'A-Allgemeine Angaben'!$D$20","v":0},{"$f":"'E-Maßnahmen'!C20","v":0}]
[{"$f":"'E-Maßnahmen'!$D$16","v":"E.2"},{"$f":"'E-Maßnahmen'!$D$17","v":"Bezeichnung der Maßnahmen"},null,"Maßnahme 2","Textfeld",{"$f":"'A-Allgemeine Angaben'!$D$20","v":0},{"$f":"'E-Maßnahmen'!D20","v":0}]
[{"$f":"'E-Maßnahmen'!$E$16","v":"E.2.1"},{"$f":"'E-Maßnahmen'!$E$17","v":"Anzahl der Maßnahmen in der Kategorie"},null,"Maßnahme 2",{"$f":"'E-Maßnahmen'!$E$18","v":"Anzahl"},{"$f":"'A-Allgemeine Angaben'!$D$20","v":0},{"$f":"'E-Maßnahmen'!E20","v":0}]
[{"$f":"'E-Maßnahmen'!$F$16","v":"E.3"},{"$f":"'E-Maßnahmen'!$F$17","v":"Zeitpunkt für den Beginn der Umsetzung"},null,"Maßnahme 2","Datum",{"$f":"'A-Allgemeine Angaben'!$D$20","v":0},{"$f":"'E-Maßnahmen'!F20","v":"00:00:00"}]
[{"$f":"'E-Maßnahmen'!$G$16","v":"E.4"},{"$f":"'E-Maßnahmen'!$G$17","v":"Anzahl der Wiederholungen"},null,"Maßnahme 2","Anzahl",{"$f":"'A-Allgemeine Angaben'!$D$20","v":0},{"$f":"'E-Maßnahmen'!G20","v":0}]
[{"$f":"'E-Maßnahmen'!$H$16","v":"E.5"},{"$f":"'E-Maßnahmen'!$H$17","v":"Zeitpunkt, zu dem die Umsetzung abgeschlossen sein soll"},null,"Maßnahme 2","Datum",{"$f":"'A-Allgemeine Angaben'!$D$20","v":0},{"$f":"'E-Maßnahmen'!H20","v":"00:00:00"}]
[{"$f":"'E-Maßnahmen'!$I$16","v":"E.6"},{"$f":"'E-Maßnahmen'!$I$17","v":"Erwartete Kosten (Planung & Umsetzung) der Maßnahme"},null,"Maßnahme 2",{"$f":"'E-Maßnahmen'!$I$18","v":"EUR"},{"$f":"'A-Allgemeine Angaben'!$D$20","v":0},{"$f":"'E-Maßnahmen'!I20","v":0}]
[{"$f":"'E-Maßnahmen'!$J$16","v":"E.7.1"},{"$f":"'E-Maßnahmen'!$J$17","v":"Kostentragender Sektor 1"},null,"Maßnahme 2","Textfeld",{"$f":"'A-Allgemeine Angaben'!$D$20","v":0},{"$f":"'E-Maßnahmen'!J20","v":0}]
[{"$f":"'E-Maßnahmen'!$K$16","v":"E.7.2"},{"$f":"'E-Maßnahmen'!$K$17","v":"Kostentragender Sektor 2"},null,"Maßnahme 2","Textfeld",{"$f":"'A-Allgemeine Angaben'!$D$20","v":0},{"$f":"'E-Maßnahmen'!K20","v":0}]
[{"$f":"'E-Maßnahmen'!$L$16","v":"E.8"},{"$f":"'E-Maßnahmen'!$L$17","v":"Endenergieeinsparung durch die Maßnahmen"},null,"Maßnahme 2",{"$f":"'E-Maßnahmen'!$L$18","v":"MWh/a"},{"$f":"'A-Allgemeine Angaben'!$D$20","v":0},{"$f":"IF('E-Maßnahmen'!$L$20=\"\",\"-\",'E-Maßnahmen'!$L$20)","v":"-"}]
[{"$f":"'E-Maßnahmen'!$M$16","v":"E.9"},{"$f":"'E-Maßnahmen'!$M$17","v":"THG-Emissionen Einsparung durch die Maßnahmen"},null,"Maßnahme 2",{"$f":"'E-Maßnahmen'!$M$18","v":"t/a"},{"$f":"'A-Allgemeine Angaben'!$D$20","v":0},{"$f":"IF('E-Maßnahmen'!$M$20=\"\",\"-\",'E-Maßnahmen'!$M$20)","v":"-"}]
[{"$f":"'E-Maßnahmen'!$N$16","v":"E.10.1"},{"$f":"'E-Maßnahmen'!$N$17","v":"Ermittelte Finanzierungsmechanismen 1 zur Umsetzung der Maßnahme"},null,"Maßnahme 2","Textfeld",{"$f":"'A-Allgemeine Angaben'!$D$20","v":0},{"$f":"'E-Maßnahmen'!N20","v":0}]
[{"$f":"'E-Maßnahmen'!$O$16","v":"E.10.2"},{"$f":"'E-Maßnahmen'!$O$17","v":"Ermittelte Finanzierungsmechanismen 2 zur Umsetzung der Maßnahme"},null,"Maßnahme 2","Textfeld",{"$f":"'A-Allgemeine Angaben'!$D$20","v":0},{"$f":"'E-Maßnahmen'!O20","v":0}]
[{"$f":"'E-Maßnahmen'!$C$16","v":"E.1"},{"$f":"'E-Maßnahmen'!$C$17","v":"Kategorie"},null,"Maßnahme 3","Textfeld",{"$f":"'A-Allgemeine Angaben'!$D$20","v":0},{"$f":"'E-Maßnahmen'!C21","v":0}]
[{"$f":"'E-Maßnahmen'!$D$16","v":"E.2"},{"$f":"'E-Maßnahmen'!$D$17","v":"Bezeichnung der Maßnahmen"},null,"Maßnahme 3","Textfeld",{"$f":"'A-Allgemeine Angaben'!$D$20","v":0},{"$f":"'E-Maßnahmen'!D21","v":0}]
[{"$f":"'E-Maßnahmen'!$E$16","v":"E.2.1"},{"$f":"'E-Maßnahmen'!$E$17","v":"Anzahl der Maßnahmen in der Kategorie"},null,"Maßnahme 3",{"$f":"'E-Maßnahmen'!$E$18","v":"Anzahl"},{"$f":"'A-Allgemeine Angaben'!$D$20","v":0},{"$f":"'E-Maßnahmen'!E21","v":0}]
[{"$f":"'E-Maßnahmen'!$F$16","v":"E.3"},{"$f":"'E-Maßnahmen'!$F$17","v":"Zeitpunkt für den Beginn der Umsetzung"},null,"Maßnahme 3","Datum",{"$f":"'A-Allgemeine Angaben'!$D$20","v":0},{"$f":"'E-Maßnahmen'!F21","v":"00:00:00"}]
[{"$f":"'E-Maßnahmen'!$G$16","v":"E.4"},{"$f":"'E-Maßnahmen'!$G$17","v":"Anzahl der Wiederholungen"},null,"Maßnahme 3","Anzahl",{"$f":"'A-Allgemeine Angaben'!$D$20","v":0},{"$f":"'E-Maßnahmen'!G21","v":0}]
[{"$f":"'E-Maßnahmen'!$H$16","v":"E.5"},{"$f":"'E-Maßnahmen'!$H$17","v":"Zeitpunkt, zu dem die Umsetzung abgeschlossen sein soll"},null,"Maßnahme 3","Datum",{"$f":"'A-Allgemeine Angaben'!$D$20","v":0},{"$f":"'E-Maßnahmen'!H21","v":"00:00:00"}]
[{"$f":"'E-Maßnahmen'!$I$16","v":"E.6"},{"$f":"'E-Maßnahmen'!$I$17","v":"Erwartete Kosten (Planung & Umsetzung) der Maßnahme"},null,"Maßnahme 3",{"$f":"'E-Maßnahmen'!$I$18","v":"EUR"},{"$f":"'A-Allgemeine Angaben'!$D$20","v":0},{"$f":"'E-Maßnahmen'!I21","v":0}]
[{"$f":"'E-Maßnahmen'!$J$16","v":"E.7.1"},{"$f":"'E-Maßnahmen'!$J$17","v":"Kostentragender Sektor 1"},null,"Maßnahme 3","Textfeld",{"$f":"'A-Allgemeine Angaben'!$D$20","v":0},{"$f":"'E-Maßnahmen'!J21","v":0}]
[{"$f":"'E-Maßnahmen'!$K$16","v":"E.7.2"},{"$f":"'E-Maßnahmen'!$K$17","v":"Kostentragender Sektor 2"},null,"Maßnahme 3","Textfeld",{"$f":"'A-Allgemeine Angaben'!$D$20","v":0},{"$f":"'E-Maßnahmen'!K21","v":0}]
[{"$f":"'E-Maßnahmen'!$L$16","v":"E.8"},{"$f":"'E-Maßnahmen'!$L$17","v":"Endenergieeinsparung durch die Maßnahmen"},null,"Maßnahme 3",{"$f":"'E-Maßnahmen'!$L$18","v":"MWh/a"},{"$f":"'A-Allgemeine Angaben'!$D$20","v":0},{"$f":"IF('E-Maßnahmen'!$L$21=\"\",\"-\",'E-Maßnahmen'!$L$21)","v":"-"}]
[{"$f":"'E-Maßnahmen'!$M$16","v":"E.9"},{"$f":"'E-Maßnahmen'!$M$17","v":"THG-Emissionen Einsparung durch die Maßnahmen"},null,"Maßnahme 3",{"$f":"'E-Maßnahmen'!$M$18","v":"t/a"},{"$f":"'A-Allgemeine Angaben'!$D$20","v":0},{"$f":"IF('E-Maßnahmen'!$M$21=\"\",\"-\",'E-Maßnahmen'!$M$21)","v":"-"}]
[{"$f":"'E-Maßnahmen'!$N$16","v":"E.10.1"},{"$f":"'E-Maßnahmen'!$N$17","v":"Ermittelte Finanzierungsmechanismen 1 zur Umsetzung der Maßnahme"},null,"Maßnahme 3","Textfeld",{"$f":"'A-Allgemeine Angaben'!$D$20","v":0},{"$f":"'E-Maßnahmen'!N21","v":0}]
[{"$f":"'E-Maßnahmen'!$O$16","v":"E.10.2"},{"$f":"'E-Maßnahmen'!$O$17","v":"Ermittelte Finanzierungsmechanismen 2 zur Umsetzung der Maßnahme"},null,"Maßnahme 3","Textfeld",{"$f":"'A-Allgemeine Angaben'!$D$20","v":0},{"$f":"'E-Maßnahmen'!O21","v":0}]
[{"$f":"'E-Maßnahmen'!$C$16","v":"E.1"},{"$f":"'E-Maßnahmen'!$C$17","v":"Kategorie"},null,"Maßnahme 4","Textfeld",{"$f":"'A-Allgemeine Angaben'!$D$20","v":0},{"$f":"'E-Maßnahmen'!C22","v":0}]
[{"$f":"'E-Maßnahmen'!$D$16","v":"E.2"},{"$f":"'E-Maßnahmen'!$D$17","v":"Bezeichnung der Maßnahmen"},null,"Maßnahme 4","Textfeld",{"$f":"'A-Allgemeine Angaben'!$D$20","v":0},{"$f":"'E-Maßnahmen'!D22","v":0}]
[{"$f":"'E-Maßnahmen'!$E$16","v":"E.2.1"},{"$f":"'E-Maßnahmen'!$E$17","v":"Anzahl der Maßnahmen in der Kategorie"},null,"Maßnahme 4",{"$f":"'E-Maßnahmen'!$E$18","v":"Anzahl"},{"$f":"'A-Allgemeine Angaben'!$D$20","v":0},{"$f":"'E-Maßnahmen'!E22","v":0}]
[{"$f":"'E-Maßnahmen'!$F$16","v":"E.3"},{"$f":"'E-Maßnahmen'!$F$17","v":"Zeitpunkt für den Beginn der Umsetzung"},null,"Maßnahme 4","Datum",{"$f":"'A-Allgemeine Angaben'!$D$20","v":0},{"$f":"'E-Maßnahmen'!F22","v":"00:00:00"}]
[{"$f":"'E-Maßnahmen'!$G$16","v":"E.4"},{"$f":"'E-Maßnahmen'!$G$17","v":"Anzahl der Wiederholungen"},null,"Maßnahme 4","Anzahl",{"$f":"'A-Allgemeine Angaben'!$D$20","v":0},{"$f":"'E-Maßnahmen'!G22","v":0}]
[{"$f":"'E-Maßnahmen'!$H$16","v":"E.5"},{"$f":"'E-Maßnahmen'!$H$17","v":"Zeitpunkt, zu dem die Umsetzung abgeschlossen sein soll"},null,"Maßnahme 4","Datum",{"$f":"'A-Allgemeine Angaben'!$D$20","v":0},{"$f":"'E-Maßnahmen'!H22","v":"00:00:00"}]
[{"$f":"'E-Maßnahmen'!$I$16","v":"E.6"},{"$f":"'E-Maßnahmen'!$I$17","v":"Erwartete Kosten (Planung & Umsetzung) der Maßnahme"},null,"Maßnahme 4",{"$f":"'E-Maßnahmen'!$I$18","v":"EUR"},{"$f":"'A-Allgemeine Angaben'!$D$20","v":0},{"$f":"'E-Maßnahmen'!I22","v":0}]
[{"$f":"'E-Maßnahmen'!$J$16","v":"E.7.1"},{"$f":"'E-Maßnahmen'!$J$17","v":"Kostentragender Sektor 1"},null,"Maßnahme 4","Textfeld",{"$f":"'A-Allgemeine Angaben'!$D$20","v":0},{"$f":"'E-Maßnahmen'!J22","v":0}]
[{"$f":"'E-Maßnahmen'!$K$16","v":"E.7.2"},{"$f":"'E-Maßnahmen'!$K$17","v":"Kostentragender Sektor 2"},null,"Maßnahme 4","Textfeld",{"$f":"'A-Allgemeine Angaben'!$D$20","v":0},{"$f":"'E-Maßnahmen'!K22","v":0}]
[{"$f":"'E-Maßnahmen'!$L$16","v":"E.8"},{"$f":"'E-Maßnahmen'!$L$17","v":"Endenergieeinsparung durch die Maßnahmen"},null,"Maßnahme 4",{"$f":"'E-Maßnahmen'!$L$18","v":"MWh/a"},{"$f":"'A-Allgemeine Angaben'!$D$20","v":0},{"$f":"IF('E-Maßnahmen'!$L$22=\"\",\"-\",'E-Maßnahmen'!$L$22)","v":"-"}]
[{"$f":"'E-Maßnahmen'!$M$16","v":"E.9"},{"$f":"'E-Maßnahmen'!$M$17","v":"THG-Emissionen Einsparung durch die Maßnahmen"},null,"Maßnahme 4",{"$f":"'E-Maßnahmen'!$M$18","v":"t/a"},{"$f":"'A-Allgemeine Angaben'!$D$20","v":0},{"$f":"IF('E-Maßnahmen'!$M$22=\"\",\"-\",'E-Maßnahmen'!$M$22)","v":"-"}]
[{"$f":"'E-Maßnahmen'!$N$16","v":"E.10.1"},{"$f":"'E-Maßnahmen'!$N$17","v":"Ermittelte Finanzierungsmechanismen 1 zur Umsetzung der Maßnahme"},null,"Maßnahme 4","Textfeld",{"$f":"'A-Allgemeine Angaben'!$D$20","v":0},{"$f":"'E-Maßnahmen'!N22","v":0}]
[{"$f":"'E-Maßnahmen'!$O$16","v":"E.10.2"},{"$f":"'E-Maßnahmen'!$O$17","v":"Ermittelte Finanzierungsmechanismen 2 zur Umsetzung der Maßnahme"},null,"Maßnahme 4","Textfeld",{"$f":"'A-Allgemeine Angaben'!$D$20","v":0},{"$f":"'E-Maßnahmen'!O22","v":0}]
[{"$f":"'E-Maßnahmen'!$C$16","v":"E.1"},{"$f":"'E-Maßnahmen'!$C$17","v":"Kategorie"},null,"Maßnahme 5","Textfeld",{"$f":"'A-Allgemeine Angaben'!$D$20","v":0},{"$f":"'E-Maßnahmen'!C23","v":0}]
[{"$f":"'E-Maßnahmen'!$D$16","v":"E.2"},{"$f":"'E-Maßnahmen'!$D$17","v":"Bezeichnung der Maßnahmen"},null,"Maßnahme 5","Textfeld",{"$f":"'A-Allgemeine Angaben'!$D$20","v":0},{"$f":"'E-Maßnahmen'!D23","v":0}]
[{"$f":"'E-Maßnahmen'!$E$16","v":"E.2.1"},{"$f":"'E-Maßnahmen'!$E$17","v":"Anzahl der Maßnahmen in der Kategorie"},null,"Maßnahme 5",{"$f":"'E-Maßnahmen'!$E$18","v":"Anzahl"},{"$f":"'A-Allgemeine Angaben'!$D$20","v":0},{"$f":"'E-Maßnahmen'!E23","v":0}]
[{"$f":"'E-Maßnahmen'!$F$16","v":"E.3"},{"$f":"'E-Maßnahmen'!$F$17","v":"Zeitpunkt für den Beginn der Umsetzung"},null,"Maßnahme 5","Datum",{"$f":"'A-Allgemeine Angaben'!$D$20","v":0},{"$f":"'E-Maßnahmen'!F23","v":"00:00:00"}]
[{"$f":"'E-Maßnahmen'!$G$16","v":"E.4"},{"$f":"'E-Maßnahmen'!$G$17","v":"Anzahl der Wiederholungen"},null,"Maßnahme 5","Anzahl",{"$f":"'A-Allgemeine Angaben'!$D$20","v":0},{"$f":"'E-Maßnahmen'!G23","v":0}]
[{"$f":"'E-Maßnahmen'!$H$16","v":"E.5"},{"$f":"'E-Maßnahmen'!$H$17","v":"Zeitpunkt, zu dem die Umsetzung abgeschlossen sein soll"},null,"Maßnahme 5","Datum",{"$f":"'A-Allgemeine Angaben'!$D$20","v":0},{"$f":"'E-Maßnahmen'!H23","v":"00:00:00"}]
[{"$f":"'E-Maßnahmen'!$I$16","v":"E.6"},{"$f":"'E-Maßnahmen'!$I$17","v":"Erwartete Kosten (Planung & Umsetzung) der Maßnahme"},null,"Maßnahme 5",{"$f":"'E-Maßnahmen'!$I$18","v":"EUR"},{"$f":"'A-Allgemeine Angaben'!$D$20","v":0},{"$f":"'E-Maßnahmen'!I23","v":0}]
[{"$f":"'E-Maßnahmen'!$J$16","v":"E.7.1"},{"$f":"'E-Maßnahmen'!$J$17","v":"Kostentragender Sektor 1"},null,"Maßnahme 5","Textfeld",{"$f":"'A-Allgemeine Angaben'!$D$20","v":0},{"$f":"'E-Maßnahmen'!J23","v":0}]
[{"$f":"'E-Maßnahmen'!$K$16","v":"E.7.2"},{"$f":"'E-Maßnahmen'!$K$17","v":"Kostentragender Sektor 2"},null,"Maßnahme 5","Textfeld",{"$f":"'A-Allgemeine Angaben'!$D$20","v":0},{"$f":"'E-Maßnahmen'!K23","v":0}]
[{"$f":"'E-Maßnahmen'!$L$16","v":"E.8"},{"$f":"'E-Maßnahmen'!$L$17","v":"Endenergieeinsparung durch die Maßnahmen"},null,"Maßnahme 5",{"$f":"'E-Maßnahmen'!$L$18","v":"MWh/a"},{"$f":"'A-Allgemeine Angaben'!$D$20","v":0},{"$f":"IF('E-Maßnahmen'!$L$23=\"\",\"-\",'E-Maßnahmen'!$L$23)","v":"-"}]
[{"$f":"'E-Maßnahmen'!$M$16","v":"E.9"},{"$f":"'E-Maßnahmen'!$M$17","v":"THG-Emissionen Einsparung durch die Maßnahmen"},null,"Maßnahme 5",{"$f":"'E-Maßnahmen'!$M$18","v":"t/a"},{"$f":"'A-Allgemeine Angaben'!$D$20","v":0},{"$f":"IF('E-Maßnahmen'!$M$23=\"\",\"-\",'E-Maßnahmen'!$M$23)","v":"-"}]
[{"$f":"'E-Maßnahmen'!$N$16","v":"E.10.1"},{"$f":"'E-Maßnahmen'!$N$17","v":"Ermittelte Finanzierungsmechanismen 1 zur Umsetzung der Maßnahme"},null,"Maßnahme 5","Textfeld",{"$f":"'A-Allgemeine Angaben'!$D$20","v":0},{"$f":"'E-Maßnahmen'!N23","v":0}]
[{"$f":"'E-Maßnahmen'!$O$16","v":"E.10.2"},{"$f":"'E-Maßnahmen'!$O$17","v":"Ermittelte Finanzierungsmechanismen 2 zur Umsetzung der Maßnahme"},null,"Maßnahme 5","Textfeld",{"$f":"'A-Allgemeine Angaben'!$D$20","v":0},{"$f":"'E-Maßnahmen'!O23","v":0}]
[{"$f":"'E-Maßnahmen'!$C$16","v":"E.1"},{"$f":"'E-Maßnahmen'!$C$17","v":"Kategorie"},null,"Maßnahme 6","Textfeld",{"$f":"'A-Allgemeine Angaben'!$D$20","v":0},{"$f":"'E-Maßnahmen'!C24","v":0}]
[{"$f":"'E-Maßnahmen'!$D$16","v":"E.2"},{"$f":"'E-Maßnahmen'!$D$17","v":"Bezeichnung der Maßnahmen"},null,"Maßnahme 6","Textfeld",{"$f":"'A-Allgemeine Angaben'!$D$20","v":0},{"$f":"'E-Maßnahmen'!D24","v":0}]
[{"$f":"'E-Maßnahmen'!$E$16","v":"E.2.1"},{"$f":"'E-Maßnahmen'!$E$17","v":"Anzahl der Maßnahmen in der Kategorie"},null,"Maßnahme 6",{"$f":"'E-Maßnahmen'!$E$18","v":"Anzahl"},{"$f":"'A-Allgemeine Angaben'!$D$20","v":0},{"$f":"'E-Maßnahmen'!E24","v":0}]
[{"$f":"'E-Maßnahmen'!$F$16","v":"E.3"},{"$f":"'E-Maßnahmen'!$F$17","v":"Zeitpunkt für den Beginn der Umsetzung"},null,"Maßnahme 6","Datum",{"$f":"'A-Allgemeine Angaben'!$D$20","v":0},{"$f":"'E-Maßnahmen'!F24","v":"00:00:00"}]
[{"$f":"'E-Maßnahmen'!$G$16","v":"E.4"},{"$f":"'E-Maßnahmen'!$G$17","v":"Anzahl der Wiederholungen"},null,"Maßnahme 6","Anzahl",{"$f":"'A-Allgemeine Angaben'!$D$20","v":0},{"$f":"'E-Maßnahmen'!G24","v":0}]
[{"$f":"'E-Maßnahmen'!$H$16","v":"E.5"},{"$f":"'E-Maßnahmen'!$H$17","v":"Zeitpunkt, zu dem die Umsetzung abgeschlossen sein soll"},null,"Maßnahme 6","Datum",{"$f":"'A-Allgemeine Angaben'!$D$20","v":0},{"$f":"'E-Maßnahmen'!H24","v":"00:00:00"}]
[{"$f":"'E-Maßnahmen'!$I$16","v":"E.6"},{"$f":"'E-Maßnahmen'!$I$17","v":"Erwartete Kosten (Planung & Umsetzung) der Maßnahme"},null,"Maßnahme 6",{"$f":"'E-Maßnahmen'!$I$18","v":"EUR"},{"$f":"'A-Allgemeine Angaben'!$D$20","v":0},{"$f":"'E-Maßnahmen'!I24","v":0}]
[{"$f":"'E-Maßnahmen'!$J$16","v":"E.7.1"},{"$f":"'E-Maßnahmen'!$J$17","v":"Kostentragender Sektor 1"},null,"Maßnahme 6","Textfeld",{"$f":"'A-Allgemeine Angaben'!$D$20","v":0},{"$f":"'E-Maßnahmen'!J24","v":0}]
[{"$f":"'E-Maßnahmen'!$K$16","v":"E.7.2"},{"$f":"'E-Maßnahmen'!$K$17","v":"Kostentragender Sektor 2"},null,"Maßnahme 6","Textfeld",{"$f":"'A-Allgemeine Angaben'!$D$20","v":0},{"$f":"'E-Maßnahmen'!K24","v":0}]
[{"$f":"'E-Maßnahmen'!$L$16","v":"E.8"},{"$f":"'E-Maßnahmen'!$L$17","v":"Endenergieeinsparung durch die Maßnahmen"},null,"Maßnahme 6",{"$f":"'E-Maßnahmen'!$L$18","v":"MWh/a"},{"$f":"'A-Allgemeine Angaben'!$D$20","v":0},{"$f":"IF('E-Maßnahmen'!$L$24=\"\",\"-\",'E-Maßnahmen'!$L$24)","v":"-"}]
[{"$f":"'E-Maßnahmen'!$M$16","v":"E.9"},{"$f":"'E-Maßnahmen'!$M$17","v":"THG-Emissionen Einsparung durch die Maßnahmen"},null,"Maßnahme 6",{"$f":"'E-Maßnahmen'!$M$18","v":"t/a"},{"$f":"'A-Allgemeine Angaben'!$D$20","v":0},{"$f":"IF('E-Maßnahmen'!$M$24=\"\",\"-\",'E-Maßnahmen'!$M$24)","v":"-"}]
[{"$f":"'E-Maßnahmen'!$N$16","v":"E.10.1"},{"$f":"'E-Maßnahmen'!$N$17","v":"Ermittelte Finanzierungsmechanismen 1 zur Umsetzung der Maßnahme"},null,"Maßnahme 6","Textfeld",{"$f":"'A-Allgemeine Angaben'!$D$20","v":0},{"$f":"'E-Maßnahmen'!N24","v":0}]
[{"$f":"'E-Maßnahmen'!$O$16","v":"E.10.2"},{"$f":"'E-Maßnahmen'!$O$17","v":"Ermittelte Finanzierungsmechanismen 2 zur Umsetzung der Maßnahme"},null,"Maßnahme 6","Textfeld",{"$f":"'A-Allgemeine Angaben'!$D$20","v":0},{"$f":"'E-Maßnahmen'!O24","v":0}]
[{"$f":"'E-Maßnahmen'!$C$16","v":"E.1"},{"$f":"'E-Maßnahmen'!$C$17","v":"Kategorie"},null,"Maßnahme 7","Textfeld",{"$f":"'A-Allgemeine Angaben'!$D$20","v":0},{"$f":"'E-Maßnahmen'!C25","v":0}]
[{"$f":"'E-Maßnahmen'!$D$16","v":"E.2"},{"$f":"'E-Maßnahmen'!$D$17","v":"Bezeichnung der Maßnahmen"},null,"Maßnahme 7","Textfeld",{"$f":"'A-Allgemeine Angaben'!$D$20","v":0},{"$f":"'E-Maßnahmen'!D25","v":0}]
[{"$f":"'E-Maßnahmen'!$E$16","v":"E.2.1"},{"$f":"'E-Maßnahmen'!$E$17","v":"Anzahl der Maßnahmen in der Kategorie"},null,"Maßnahme 7",{"$f":"'E-Maßnahmen'!$E$18","v":"Anzahl"},{"$f":"'A-Allgemeine Angaben'!$D$20","v":0},{"$f":"'E-Maßnahmen'!E25","v":0}]
[{"$f":"'E-Maßnahmen'!$F$16","v":"E.3"},{"$f":"'E-Maßnahmen'!$F$17","v":"Zeitpunkt für den Beginn der Umsetzung"},null,"Maßnahme 7","Datum",{"$f":"'A-Allgemeine Angaben'!$D$20","v":0},{"$f":"'E-Maßnahmen'!F25","v":"00:00:00"}]
[{"$f":"'E-Maßnahmen'!$G$16","v":"E.4"},{"$f":"'E-Maßnahmen'!$G$17","v":"Anzahl der Wiederholungen"},null,"Maßnahme 7","Anzahl",{"$f":"'A-Allgemeine Angaben'!$D$20","v":0},{"$f":"'E-Maßnahmen'!G25","v":0}]
[{"$f":"'E-Maßnahmen'!$H$16","v":"E.5"},{"$f":"'E-Maßnahmen'!$H$17","v":"Zeitpunkt, zu dem die Umsetzung abgeschlossen sein soll"},null,"Maßnahme 7","Datum",{"$f":"'A-Allgemeine Angaben'!$D$20","v":0},{"$f":"'E-Maßnahmen'!H25","v":"00:00:00"}]
[{"$f":"'E-Maßnahmen'!$I$16","v":"E.6"},{"$f":"'E-Maßnahmen'!$I$17","v":"Erwartete Kosten (Planung & Umsetzung) der Maßnahme"},null,"Maßnahme 7",{"$f":"'E-Maßnahmen'!$I$18","v":"EUR"},{"$f":"'A-Allgemeine Angaben'!$D$20","v":0},{"$f":"'E-Maßnahmen'!I25","v":0}]
[{"$f":"'E-Maßnahmen'!$J$16","v":"E.7.1"},{"$f":"'E-Maßnahmen'!$J$17","v":"Kostentragender Sektor 1"},null,"Maßnahme 7","Textfeld",{"$f":"'A-Allgemeine Angaben'!$D$20","v":0},{"$f":"'E-Maßnahmen'!J25","v":0}]
[{"$f":"'E-Maßnahmen'!$K$16","v":"E.7.2"},{"$f":"'E-Maßnahmen'!$K$17","v":"Kostentragender Sektor 2"},null,"Maßnahme 7","Textfeld",{"$f":"'A-Allgemeine Angaben'!$D$20","v":0},{"$f":"'E-Maßnahmen'!K25","v":0}]
[{"$f":"'E-Maßnahmen'!$L$16","v":"E.8"},{"$f":"'E-Maßnahmen'!$L$17","v":"Endenergieeinsparung durch die Maßnahmen"},null,"Maßnahme 7",{"$f":"'E-Maßnahmen'!$L$18","v":"MWh/a"},{"$f":"'A-Allgemeine Angaben'!$D$20","v":0},{"$f":"IF('E-Maßnahmen'!$L$25=\"\",\"-\",'E-Maßnahmen'!$L$25)","v":"-"}]
[{"$f":"'E-Maßnahmen'!$M$16","v":"E.9"},{"$f":"'E-Maßnahmen'!$M$17","v":"THG-Emissionen Einsparung durch die Maßnahmen"},null,"Maßnahme 7",{"$f":"'E-Maßnahmen'!$M$18","v":"t/a"},{"$f":"'A-Allgemeine Angaben'!$D$20","v":0},{"$f":"IF('E-Maßnahmen'!$M$25=\"\",\"-\",'E-Maßnahmen'!$M$25)","v":"-"}]
[{"$f":"'E-Maßnahmen'!$N$16","v":"E.10.1"},{"$f":"'E-Maßnahmen'!$N$17","v":"Ermittelte Finanzierungsmechanismen 1 zur Umsetzung der Maßnahme"},null,"Maßnahme 7","Textfeld",{"$f":"'A-Allgemeine Angaben'!$D$20","v":0},{"$f":"'E-Maßnahmen'!N25","v":0}]
[{"$f":"'E-Maßnahmen'!$O$16","v":"E.10.2"},{"$f":"'E-Maßnahmen'!$O$17","v":"Ermittelte Finanzierungsmechanismen 2 zur Umsetzung der Maßnahme"},null,"Maßnahme 7","Textfeld",{"$f":"'A-Allgemeine Angaben'!$D$20","v":0},{"$f":"'E-Maßnahmen'!O25","v":0}]
[{"$f":"'E-Maßnahmen'!$C$16","v":"E.1"},{"$f":"'E-Maßnahmen'!$C$17","v":"Kategorie"},null,"Maßnahme 8","Textfeld",{"$f":"'A-Allgemeine Angaben'!$D$20","v":0},{"$f":"'E-Maßnahmen'!C26","v":0}]
[{"$f":"'E-Maßnahmen'!$D$16","v":"E.2"},{"$f":"'E-Maßnahmen'!$D$17","v":"Bezeichnung der Maßnahmen"},null,"Maßnahme 8","Textfeld",{"$f":"'A-Allgemeine Angaben'!$D$20","v":0},{"$f":"'E-Maßnahmen'!D26","v":0}]
[{"$f":"'E-Maßnahmen'!$E$16","v":"E.2.1"},{"$f":"'E-Maßnahmen'!$E$17","v":"Anzahl der Maßnahmen in der Kategorie"},null,"Maßnahme 8",{"$f":"'E-Maßnahmen'!$E$18","v":"Anzahl"},{"$f":"'A-Allgemeine Angaben'!$D$20","v":0},{"$f":"'E-Maßnahmen'!E26","v":0}]
[{"$f":"'E-Maßnahmen'!$F$16","v":"E.3"},{"$f":"'E-Maßnahmen'!$F$17","v":"Zeitpunkt für den Beginn der Umsetzung"},null,"Maßnahme 8","Datum",{"$f":"'A-Allgemeine Angaben'!$D$20","v":0},{"$f":"'E-Maßnahmen'!F26","v":"00:00:00"}]
[{"$f":"'E-Maßnahmen'!$G$16","v":"E.4"},{"$f":"'E-Maßnahmen'!$G$17","v":"Anzahl der Wiederholungen"},null,"Maßnahme 8","Anzahl",{"$f":"'A-Allgemeine Angaben'!$D$20","v":0},{"$f":"'E-Maßnahmen'!G26","v":0}]
[{"$f":"'E-Maßnahmen'!$H$16","v":"E.5"},{"$f":"'E-Maßnahmen'!$H$17","v":"Zeitpunkt, zu dem die Umsetzung abgeschlossen sein soll"},null,"Maßnahme 8","Datum",{"$f":"'A-Allgemeine Angaben'!$D$20","v":0},{"$f":"'E-Maßnahmen'!H26","v":"00:00:00"}]
[{"$f":"'E-Maßnahmen'!$I$16","v":"E.6"},{"$f":"'E-Maßnahmen'!$I$17","v":"Erwartete Kosten (Planung & Umsetzung) der Maßnahme"},null,"Maßnahme 8",{"$f":"'E-Maßnahmen'!$I$18","v":"EUR"},{"$f":"'A-Allgemeine Angaben'!$D$20","v":0},{"$f":"'E-Maßnahmen'!I26","v":0}]
[{"$f":"'E-Maßnahmen'!$J$16","v":"E.7.1"},{"$f":"'E-Maßnahmen'!$J$17","v":"Kostentragender Sektor 1"},null,"Maßnahme 8","Textfeld",{"$f":"'A-Allgemeine Angaben'!$D$20","v":0},{"$f":"'E-Maßnahmen'!J26","v":0}]
[{"$f":"'E-Maßnahmen'!$K$16","v":"E.7.2"},{"$f":"'E-Maßnahmen'!$K$17","v":"Kostentragender Sektor 2"},null,"Maßnahme 8","Textfeld",{"$f":"'A-Allgemeine Angaben'!$D$20","v":0},{"$f":"'E-Maßnahmen'!K26","v":0}]
[{"$f":"'E-Maßnahmen'!$L$16","v":"E.8"},{"$f":"'E-Maßnahmen'!$L$17","v":"Endenergieeinsparung durch die Maßnahmen"},null,"Maßnahme 8",{"$f":"'E-Maßnahmen'!$L$18","v":"MWh/a"},{"$f":"'A-Allgemeine Angaben'!$D$20","v":0},{"$f":"IF('E-Maßnahmen'!$L$26=\"\",\"-\",'E-Maßnahmen'!$L$26)","v":"-"}]
[{"$f":"'E-Maßnahmen'!$M$16","v":"E.9"},{"$f":"'E-Maßnahmen'!$M$17","v":"THG-Emissionen Einsparung durch die Maßnahmen"},null,"Maßnahme 8",{"$f":"'E-Maßnahmen'!$M$18","v":"t/a"},{"$f":"'A-Allgemeine Angaben'!$D$20","v":0},{"$f":"IF('E-Maßnahmen'!$M$26=\"\",\"-\",'E-Maßnahmen'!$M$26)","v":"-"}]
[{"$f":"'E-Maßnahmen'!$N$16","v":"E.10.1"},{"$f":"'E-Maßnahmen'!$N$17","v":"Ermittelte Finanzierungsmechanismen 1 zur Umsetzung der Maßnahme"},null,"Maßnahme 8","Textfeld",{"$f":"'A-Allgemeine Angaben'!$D$20","v":0},{"$f":"'E-Maßnahmen'!N26","v":0}]
[{"$f":"'E-Maßnahmen'!$O$16","v":"E.10.2"},{"$f":"'E-Maßnahmen'!$O$17","v":"Ermittelte Finanzierungsmechanismen 2 zur Umsetzung der Maßnahme"},null,"Maßnahme 8","Textfeld",{"$f":"'A-Allgemeine Angaben'!$D$20","v":0},{"$f":"'E-Maßnahmen'!O26","v":0}]
[{"$f":"'E-Maßnahmen'!$C$16","v":"E.1"},{"$f":"'E-Maßnahmen'!$C$17","v":"Kategorie"},null,"Maßnahme 9","Textfeld",{"$f":"'A-Allgemeine Angaben'!$D$20","v":0},{"$f":"'E-Maßnahmen'!C27","v":0}]
[{"$f":"'E-Maßnahmen'!$D$16","v":"E.2"},{"$f":"'E-Maßnahmen'!$D$17","v":"Bezeichnung der Maßnahmen"},null,"Maßnahme 9","Textfeld",{"$f":"'A-Allgemeine Angaben'!$D$20","v":0},{"$f":"'E-Maßnahmen'!D27","v":0}]
[{"$f":"'E-Maßnahmen'!$E$16","v":"E.2.1"},{"$f":"'E-Maßnahmen'!$E$17","v":"Anzahl der Maßnahmen in der Kategorie"},null,"Maßnahme 9",{"$f":"'E-Maßnahmen'!$E$18","v":"Anzahl"},{"$f":"'A-Allgemeine Angaben'!$D$20","v":0},{"$f":"'E-Maßnahmen'!E27","v":0}]
[{"$f":"'E-Maßnahmen'!$F$16","v":"E.3"},{"$f":"'E-Maßnahmen'!$F$17","v":"Zeitpunkt für den Beginn der Umsetzung"},null,"Maßnahme 9","Datum",{"$f":"'A-Allgemeine Angaben'!$D$20","v":0},{"$f":"'E-Maßnahmen'!F27","v":"00:00:00"}]
[{"$f":"'E-Maßnahmen'!$G$16","v":"E.4"},{"$f":"'E-Maßnahmen'!$G$17","v":"Anzahl der Wiederholungen"},null,"Maßnahme 9","Anzahl",{"$f":"'A-Allgemeine Angaben'!$D$20","v":0},{"$f":"'E-Maßnahmen'!G27","v":0}]
[{"$f":"'E-Maßnahmen'!$H$16","v":"E.5"},{"$f":"'E-Maßnahmen'!$H$17","v":"Zeitpunkt, zu dem die Umsetzung abgeschlossen sein soll"},null,"Maßnahme 9","Datum",{"$f":"'A-Allgemeine Angaben'!$D$20","v":0},{"$f":"'E-Maßnahmen'!H27","v":"00:00:00"}]
[{"$f":"'E-Maßnahmen'!$I$16","v":"E.6"},{"$f":"'E-Maßnahmen'!$I$17","v":"Erwartete Kosten (Planung & Umsetzung) der Maßnahme"},null,"Maßnahme 9",{"$f":"'E-Maßnahmen'!$I$18","v":"EUR"},{"$f":"'A-Allgemeine Angaben'!$D$20","v":0},{"$f":"'E-Maßnahmen'!I27","v":0}]
[{"$f":"'E-Maßnahmen'!$J$16","v":"E.7.1"},{"$f":"'E-Maßnahmen'!$J$17","v":"Kostentragender Sektor 1"},null,"Maßnahme 9","Textfeld",{"$f":"'A-Allgemeine Angaben'!$D$20","v":0},{"$f":"'E-Maßnahmen'!J27","v":0}]
[{"$f":"'E-Maßnahmen'!$K$16","v":"E.7.2"},{"$f":"'E-Maßnahmen'!$K$17","v":"Kostentragender Sektor 2"},null,"Maßnahme 9","Textfeld",{"$f":"'A-Allgemeine Angaben'!$D$20","v":0},{"$f":"'E-Maßnahmen'!K27","v":0}]
[{"$f":"'E-Maßnahmen'!$L$16","v":"E.8"},{"$f":"'E-Maßnahmen'!$L$17","v":"Endenergieeinsparung durch die Maßnahmen"},null,"Maßnahme 9",{"$f":"'E-Maßnahmen'!$L$18","v":"MWh/a"},{"$f":"'A-Allgemeine Angaben'!$D$20","v":0},{"$f":"IF('E-Maßnahmen'!$L$27=\"\",\"-\",'E-Maßnahmen'!$L$27)","v":"-"}]
[{"$f":"'E-Maßnahmen'!$M$16","v":"E.9"},{"$f":"'E-Maßnahmen'!$M$17","v":"THG-Emissionen Einsparung durch die Maßnahmen"},null,"Maßnahme 9",{"$f":"'E-Maßnahmen'!$M$18","v":"t/a"},{"$f":"'A-Allgemeine Angaben'!$D$20","v":0},{"$f":"IF('E-Maßnahmen'!$M$27=\"\",\"-\",'E-Maßnahmen'!$M$27)","v":"-"}]
[{"$f":"'E-Maßnahmen'!$N$16","v":"E.10.1"},{"$f":"'E-Maßnahmen'!$N$17","v":"Ermittelte Finanzierungsmechanismen 1 zur Umsetzung der Maßnahme"},null,"Maßnahme 9","Textfeld",{"$f":"'A-Allgemeine Angaben'!$D$20","v":0},{"$f":"'E-Maßnahmen'!N27","v":0}]
[{"$f":"'E-Maßnahmen'!$O$16","v":"E.10.2"},{"$f":"'E-Maßnahmen'!$O$17","v":"Ermittelte Finanzierungsmechanismen 2 zur Umsetzung der Maßnahme"},null,"Maßnahme 9","Textfeld",{"$f":"'A-Allgemeine Angaben'!$D$20","v":0},{"$f":"'E-Maßnahmen'!O27","v":0}]
[{"$f":"'E-Maßnahmen'!$C$16","v":"E.1"},{"$f":"'E-Maßnahmen'!$C$17","v":"Kategorie"},null,"Maßnahme 10","Textfeld",{"$f":"'A-Allgemeine Angaben'!$D$20","v":0},{"$f":"'E-Maßnahmen'!C28","v":0}]
[{"$f":"'E-Maßnahmen'!$D$16","v":"E.2"},{"$f":"'E-Maßnahmen'!$D$17","v":"Bezeichnung der Maßnahmen"},null,"Maßnahme 10","Textfeld",{"$f":"'A-Allgemeine Angaben'!$D$20","v":0},{"$f":"'E-Maßnahmen'!D28","v":0}]
[{"$f":"'E-Maßnahmen'!$E$16","v":"E.2.1"},{"$f":"'E-Maßnahmen'!$E$17","v":"Anzahl der Maßnahmen in der Kategorie"},null,"Maßnahme 10",{"$f":"'E-Maßnahmen'!$E$18","v":"Anzahl"},{"$f":"'A-Allgemeine Angaben'!$D$20","v":0},{"$f":"'E-Maßnahmen'!E28","v":0}]
[{"$f":"'E-Maßnahmen'!$F$16","v":"E.3"},{"$f":"'E-Maßnahmen'!$F$17","v":"Zeitpunkt für den Beginn der Umsetzung"},null,"Maßnahme 10","Datum",{"$f":"'A-Allgemeine Angaben'!$D$20","v":0},{"$f":"'E-Maßnahmen'!F28","v":"00:00:00"}]
[{"$f":"'E-Maßnahmen'!$G$16","v":"E.4"},{"$f":"'E-Maßnahmen'!$G$17","v":"Anzahl der Wiederholungen"},null,"Maßnahme 10","Anzahl",{"$f":"'A-Allgemeine Angaben'!$D$20","v":0},{"$f":"'E-Maßnahmen'!G28","v":0}]
[{"$f":"'E-Maßnahmen'!$H$16","v":"E.5"},{"$f":"'E-Maßnahmen'!$H$17","v":"Zeitpunkt, zu dem die Umsetzung abgeschlossen sein soll"},null,"Maßnahme 10","Datum",{"$f":"'A-Allgemeine Angaben'!$D$20","v":0},{"$f":"'E-Maßnahmen'!H28","v":"00:00:00"}]
[{"$f":"'E-Maßnahmen'!$I$16","v":"E.6"},{"$f":"'E-Maßnahmen'!$I$17","v":"Erwartete Kosten (Planung & Umsetzung) der Maßnahme"},null,"Maßnahme 10",{"$f":"'E-Maßnahmen'!$I$18","v":"EUR"},{"$f":"'A-Allgemeine Angaben'!$D$20","v":0},{"$f":"'E-Maßnahmen'!I28","v":0}]
[{"$f":"'E-Maßnahmen'!$J$16","v":"E.7.1"},{"$f":"'E-Maßnahmen'!$J$17","v":"Kostentragender Sektor 1"},null,"Maßnahme 10","Textfeld",{"$f":"'A-Allgemeine Angaben'!$D$20","v":0},{"$f":"'E-Maßnahmen'!J28","v":0}]
[{"$f":"'E-Maßnahmen'!$K$16","v":"E.7.2"},{"$f":"'E-Maßnahmen'!$K$17","v":"Kostentragender Sektor 2"},null,"Maßnahme 10","Textfeld",{"$f":"'A-Allgemeine Angaben'!$D$20","v":0},{"$f":"'E-Maßnahmen'!K28","v":0}]
[{"$f":"'E-Maßnahmen'!$L$16","v":"E.8"},{"$f":"'E-Maßnahmen'!$L$17","v":"Endenergieeinsparung durch die Maßnahmen"},null,"Maßnahme 10",{"$f":"'E-Maßnahmen'!$L$18","v":"MWh/a"},{"$f":"'A-Allgemeine Angaben'!$D$20","v":0},{"$f":"IF('E-Maßnahmen'!$L$28=\"\",\"-\",'E-Maßnahmen'!$L$28)","v":"-"}]
[{"$f":"'E-Maßnahmen'!$M$16","v":"E.9"},{"$f":"'E-Maßnahmen'!$M$17","v":"THG-Emissionen Einsparung durch die Maßnahmen"},null,"Maßnahme 10",{"$f":"'E-Maßnahmen'!$M$18","v":"t/a"},{"$f":"'A-Allgemeine Angaben'!$D$20","v":0},{"$f":"IF('E-Maßnahmen'!$M$28=\"\",\"-\",'E-Maßnahmen'!$M$28)","v":"-"}]
[{"$f":"'E-Maßnahmen'!$N$16","v":"E.10.1"},{"$f":"'E-Maßnahmen'!$N$17","v":"Ermittelte Finanzierungsmechanismen 1 zur Umsetzung der Maßnahme"},null,"Maßnahme 10","Textfeld",{"$f":"'A-Allgemeine Angaben'!$D$20","v":0},{"$f":"'E-Maßnahmen'!N28","v":0}]
[{"$f":"'E-Maßnahmen'!$O$16","v":"E.10.2"},{"$f":"'E-Maßnahmen'!$O$17","v":"Ermittelte Finanzierungsmechanismen 2 zur Umsetzung der Maßnahme"},null,"Maßnahme 10","Textfeld",{"$f":"'A-Allgemeine Angaben'!$D$20","v":0},{"$f":"'E-Maßnahmen'!O28","v":0}]

{"sheet":"Bevölkerung","index":7,"n_rows":1102,"n_cols":7,"rows_kept":1102,"hidden":true}
["Amtlicher Gemeindeschlüssel (AGS)","Regionalname","Stichtag","Bevölkerung insgesamt",null,2024,"Quelle StaLA"]
[8111000,"Stuttgart, Landeshauptstadt","2023-12-31",613111,null,{"v":612663,"d":"612,663"}]
[8115001,"Aidlingen","2023-12-31",9288,null,{"v":9302,"d":"9,302"}]
[8115002,"Altdorf","2023-12-31",4495,null,{"v":4529,"d":"4,529"}]
[8115003,"Böblingen, Stadt","2023-12-31",51405,null,{"v":51483,"d":"51,483"}]
[8115004,"Bondorf","2023-12-31",6236,null,{"v":6230,"d":"6,230"}]
[8115010,"Deckenpfronn","2023-12-31",3299,null,{"v":3274,"d":"3,274"}]
[8115013,"Ehningen","2023-12-31",9198,null,{"v":9277,"d":"9,277"}]
[8115015,"Gärtringen","2023-12-31",13015,null,{"v":12934,"d":"12,934"}]
[8115016,"Gäufelden","2023-12-31",9020,null,{"v":9181,"d":"9,181"}]
[8115021,"Herrenberg, Stadt","2023-12-31",34125,null,{"v":34192,"d":"34,192"}]
[8115022,"Hildrizhausen","2023-12-31",3557,null,{"v":3581,"d":"3,581"}]
[8115024,"Holzgerlingen, Stadt","2023-12-31",13975,null,{"v":14184,"d":"14,184"}]
[8115028,"Leonberg, Stadt","2023-12-31",49043,null,{"v":49480,"d":"49,480"}]
[8115029,"Magstadt","2023-12-31",9574,null,{"v":9513,"d":"9,513"}]
[8115034,"Mötzingen","2023-12-31",3744,null,{"v":3719,"d":"3,719"}]
[8115037,"Nufringen","2023-12-31",5802,null,{"v":5806,"d":"5,806"}]
[8115041,"Renningen, Stadt","2023-12-31",18603,null,{"v":18567,"d":"18,567"}]
[8115042,"Rutesheim, Stadt","2023-12-31",11285,null,{"v":11258,"d":"11,258"}]
[8115044,"Schönaich","2023-12-31",10469,null,{"v":10495,"d":"10,495"}]
[8115045,"Sindelfingen, Stadt","2023-12-31",61296,null,{"v":61422,"d":"61,422"}]
[8115046,"Steinenbronn","2023-12-31",6411,null,{"v":6332,"d":"6,332"}]
[8115048,"Waldenbuch, Stadt","2023-12-31",8684,null,{"v":8750,"d":"8,750"}]
[8115050,"Weil der Stadt, Stadt","2023-12-31",19463,null,{"v":19353,"d":"19,353"}]
[8115051,"Weil im Schönbuch","2023-12-31",9962,null,{"v":9970,"d":"9,970"}]
[8115052,"Weissach","2023-12-31",7658,null,{"v":7745,"d":"7,745"}]
[8115053,"Jettingen","2023-12-31",8095,null,{"v":8012,"d":"8,012"}]
[8115054,"Grafenau","2023-12-31",6559,null,{"v":6578,"d":"6,578"}]
[8116004,"Altbach","2023-12-31",6061,null,{"v":6047,"d":"6,047"}]
[8116005,"Altdorf","2023-12-31",1685,null,{"v":1713,"d":"1,713"}]
[8116006,"Altenriet","2023-12-31",1955,null,{"v":1942,"d":"1,942"}]
[8116007,"Baltmannsweiler","2023-12-31",5541,null,{"v":5525,"d":"5,525"}]
[8116008,"Bempflingen","2023-12-31",3332,null,{"v":3301,"d":"3,301"}]
[8116011,"Beuren","2023-12-31",3602,null,{"v":3591,"d":"3,591"}]
[8116012,"Bissingen an der Teck","2023-12-31",3377,null,{"v":3406,"d":"3,406"}]
[8116014,"Deizisau","2023-12-31",6709,null,{"v":6707,"d":"6,707"}]
[8116015,"Denkendorf","2023-12-31",11133,null,{"v":11092,"d":"11,092"}]
[8116016,"Dettingen unter Teck","2023-12-31",6147,null,{"v":6138,"d":"6,138"}]
[8116018,"Erkenbrechtsweiler","2023-12-31",2049,null,{"v":1992,"d":"1,992"}]
[8116019,"Esslingen am Neckar, Stadt","2023-12-31",96470,null,{"v":96182,"d":"96,182"}]
[8116020,"Frickenhausen","2023-12-31",9198,null,{"v":9201,"d":"9,201"}]
[8116022,"Großbettlingen","2023-12-31",4197,null,{"v":4225,"d":"4,225"}]
[8116027,"Hochdorf","2023-12-31",4863,null,{"v":4773,"d":"4,773"}]
[8116029,"Holzmaden","2023-12-31",2291,null,{"v":2284,"d":"2,284"}]
[8116033,"Kirchheim unter Teck, Stadt","2023-12-31",42412,null,{"v":42299,"d":"42,299"}]
[8116035,"Köngen","2023-12-31",9556,null,{"v":9716,"d":"9,716"}]
[8116036,"Kohlberg","2023-12-31",2281,null,{"v":2277,"d":"2,277"}]
[8116037,"Lichtenwald","2023-12-31",2543,null,{"v":2564,"d":"2,564"}]
[8116041,"Neckartailfingen","2023-12-31",3814,null,{"v":3841,"d":"3,841"}]
[8116042,"Neckartenzlingen","2023-12-31",6221,null,{"v":6223,"d":"6,223"}]
[8116043,"Neidlingen","2023-12-31",1702,null,{"v":1707,"d":"1,707"}]
[8116046,"Neuffen, Stadt","2023-12-31",6164,null,{"v":6104,"d":"6,104"}]
[8116047,"Neuhausen auf den Fildern","2023-12-31",12375,null,{"v":12506,"d":"12,506"}]
[8116048,"Notzingen","2023-12-31",3590,null,{"v":3684,"d":"3,684"}]
[8116049,"Nürtingen, Stadt","2023-12-31",40765,null,{"v":40773,"d":"40,773"}]
[8116050,"Oberboihingen","2023-12-31",5616,null,{"v":5644,"d":"5,644"}]
[8116053,"Ohmden","2023-12-31",1760,null,{"v":1739,"d":"1,739"}]
[8116054,"Owen, Stadt","2023-12-31",3436,null,{"v":3417,"d":"3,417"}]
[8116056,"Plochingen, Stadt","2023-12-31",14251,null,{"v":14487,"d":"14,487"}]
[8116058,"Reichenbach an der Fils","2023-12-31",8263,null,{"v":8362,"d":"8,362"}]
[8116063,"Schlaitdorf","2023-12-31",1881,null,{"v":1882,"d":"1,882"}]
[8116068,"Unterensingen","2023-12-31",4924,null,{"v":4933,"d":"4,933"}]
[8116070,"Weilheim an der Teck, Stadt","2023-12-31",9922,null,{"v":9887,"d":"9,887"}]
[8116071,"Wendlingen am Neckar, Stadt","2023-12-31",15877,null,{"v":15988,"d":"15,988"}]
[8116072,"Wernau (Neckar), Stadt","2023-12-31",12259,null,{"v":12200,"d":"12,200"}]
[8116073,"Wolfschlugen","2023-12-31",6239,null,{"v":6199,"d":"6,199"}]
[8116076,"Aichwald","2023-12-31",7282,null,{"v":7271,"d":"7,271"}]
[8116077,"Filderstadt, Stadt","2023-12-31",46010,null,{"v":46243,"d":"46,243"}]
[8116078,"Leinfelden-Echterdingen, Stadt","2023-12-31",41042,null,{"v":41185,"d":"41,185"}]
[8116079,"Lenningen","2023-12-31",8003,null,{"v":7974,"d":"7,974"}]
[8116080,"Ostfildern, Stadt","2023-12-31",39612,null,{"v":39778,"d":"39,778"}]
[8116081,"Aichtal, Stadt","2023-12-31",9617,null,{"v":9599,"d":"9,599"}]
[8117001,"Adelberg","2023-12-31",1968,null,{"v":1961,"d":"1,961"}]
[8117002,"Aichelberg","2023-12-31",1298,null,{"v":1287,"d":"1,287"}]
[8117003,"Albershausen","2023-12-31",4421,null,{"v":4408,"d":"4,408"}]
[8117006,"Bad Ditzenbach","2023-12-31",3846,null,{"v":3840,"d":"3,840"}]
[8117007,"Bad Überkingen","2023-12-31",3812,null,{"v":3788,"d":"3,788"}]
[8117009,"Birenbach","2023-12-31",1876,null,{"v":1905,"d":"1,905"}]
[8117010,"Böhmenkirch","2023-12-31",5628,null,{"v":5684,"d":"5,684"}]
[8117011,"Börtlingen","2023-12-31",1714,null,{"v":1709,"d":"1,709"}]
[8117012,"Bad Boll","2023-12-31",5162,null,{"v":5116,"d":"5,116"}]
[8117014,"Deggingen","2023-12-31",5109,null,{"v":5066,"d":"5,066"}]
[8117015,"Donzdorf, Stadt","2023-12-31",10625,null,{"v":10568,"d":"10,568"}]
[8117016,"Drackenstein","2023-12-31",450,null,441]
[8117017,"Dürnau","2023-12-31",2201,null,{"v":2194,"d":"2,194"}]
[8117018,"Ebersbach an der Fils, Stadt","2023-12-31",15358,null,{"v":15420,"d":"15,420"}]
[8117019,"Eislingen/Fils, Stadt","2023-12-31",22401,null,{"v":22325,"d":"22,325"}]
[8117020,"Eschenbach","2023-12-31",2108,null,{"v":2110,"d":"2,110"}]
[8117023,"Gammelshausen","2023-12-31",1495,null,{"v":1509,"d":"1,509"}]
[8117024,"Geislingen an der Steige, Stadt","2023-12-31",27872,null,{"v":27791,"d":"27,791"}]
[8117025,"Gingen an der Fils","2023-12-31",4462,null,{"v":4441,"d":"4,441"}]
[8117026,"Göppingen, Stadt","2023-12-31",58802,null,{"v":58937,"d":"58,937"}]
[8117028,"Gruibingen","2023-12-31",2270,null,{"v":2249,"d":"2,249"}]
[8117029,"Hattenhofen","2023-12-31",2940,null,{"v":2925,"d":"2,925"}]
[8117030,"Heiningen","2023-12-31",5077,null,{"v":5077,"d":"5,077"}]
[8117031,"Hohenstadt","2023-12-31",765,null,733]
[8117033,"Kuchen","2023-12-31",5580,null,{"v":5544,"d":"5,544"}]
[8117035,"Mühlhausen im Täle","2023-12-31",1104,null,{"v":1072,"d":"1,072"}]
[8117037,"Ottenbach","2023-12-31",2376,null,{"v":2364,"d":"2,364"}]
[8117038,"Rechberghausen","2023-12-31",5464,null,{"v":5491,"d":"5,491"}]
[8117042,"Salach","2023-12-31",8055,null,{"v":8042,"d":"8,042"}]
[8117043,"Schlat","2023-12-31",1655,null,{"v":1668,"d":"1,668"}]
[8117044,"Schlierbach","2023-12-31",3887,null,{"v":3940,"d":"3,940"}]
[8117049,"Süßen, Stadt","2023-12-31",10200,null,{"v":10185,"d":"10,185"}]
[8117051,"Uhingen, Stadt","2023-12-31",14505,null,{"v":14304,"d":"14,304"}]
[8117053,"Wäschenbeuren","2023-12-31",3924,null,{"v":3895,"d":"3,895"}]
[8117055,"Wangen","2023-12-31",3193,null,{"v":3183,"d":"3,183"}]
[8117058,"Wiesensteig, Stadt","2023-12-31",1983,null,{"v":2001,"d":"2,001"}]
[8117060,"Zell unter Aichelberg","2023-12-31",3132,null,{"v":3078,"d":"3,078"}]
[8117061,"Lauterstein, Stadt","2023-12-31",2514,null,{"v":2558,"d":"2,558"}]
[8118001,"Affalterbach","2023-12-31",4354,null,{"v":4364,"d":"4,364"}]
[8118003,"Asperg, Stadt","2023-12-31",13506,null,{"v":13650,"d":"13,650"}]
[8118006,"Benningen am Neckar","2023-12-31",6321,null,{"v":6323,"d":"6,323"}]
[8118007,"Besigheim, Stadt","2023-12-31",12258,null,{"v":12267,"d":"12,267"}]
[8118010,"Bönnigheim, Stadt","2023-12-31",8106,null,{"v":8123,"d":"8,123"}]
[8118011,"Ditzingen, Stadt","2023-12-31",22826,null,{"v":22666,"d":"22,666"}]
[8118012,"Eberdingen","2023-12-31",6803,null,{"v":6800,"d":"6,800"}]
[8118014,"Erdmannhausen","2023-12-31",5194,null,{"v":5261,"d":"5,261"}]
[8118015,"Erligheim","2023-12-31",3022,null,{"v":3071,"d":"3,071"}]
[8118016,"Freudental","2023-12-31",2466,null,{"v":2502,"d":"2,502"}]
[8118018,"Gemmrigheim","2023-12-31",4610,null,{"v":4620,"d":"4,620"}]
[8118019,"Gerlingen, Stadt","2023-12-31",18651,null,{"v":18392,"d":"18,392"}]
[8118021,"Großbottwar, Stadt","2023-12-31",8029,null,{"v":8005,"d":"8,005"}]
[8118027,"Hemmingen","2023-12-31",7919,null,{"v":7901,"d":"7,901"}]
[8118028,"Hessigheim","2023-12-31",2506,null,{"v":2502,"d":"2,502"}]
[8118040,"Kirchheim am Neckar","2023-12-31",5912,null,{"v":6004,"d":"6,004"}]
[8118046,"Kornwestheim, Stadt","2023-12-31",33891,null,{"v":33980,"d":"33,980"}]
[8118047,"Löchgau","2023-12-31",5778,null,{"v":5778,"d":"5,778"}]
[8118048,"Ludwigsburg, Stadt","2023-12-31",92952,null,{"v":92858,"d":"92,858"}]
[8118049,"Marbach am Neckar, Stadt","2023-12-31",15461,null,{"v":15474,"d":"15,474"}]
[8118050,"Markgröningen, Stadt","2023-12-31",14206,null,{"v":14138,"d":"14,138"}]
[8118051,"Möglingen","2023-12-31",10717,null,{"v":10784,"d":"10,784"}]
[8118053,"Mundelsheim","2023-12-31",3514,null,{"v":3531,"d":"3,531"}]
[8118054,"Murr","2023-12-31",6598,null,{"v":6578,"d":"6,578"}]
[8118059,"Oberriexingen, Stadt","2023-12-31",3285,null,{"v":3306,"d":"3,306"}]
[8118060,"Oberstenfeld","2023-12-31",7542,null,{"v":7537,"d":"7,537"}]
[8118063,"Pleidelsheim","2023-12-31",6133,null,{"v":6087,"d":"6,087"}]
[8118067,"Schwieberdingen","2023-12-31",11370,null,{"v":11318,"d":"11,318"}]
[8118068,"Sersheim","2023-12-31",5420,null,{"v":5448,"d":"5,448"}]
[8118070,"Steinheim an der Murr, Stadt","2023-12-31",11904,null,{"v":11908,"d":"11,908"}]
[8118071,"Tamm, Stadt","2023-12-31",12274,null,{"v":12305,"d":"12,305"}]
[8118073,"Vaihingen an der Enz, Stadt","2023-12-31",28772,null,{"v":28798,"d":"28,798"}]
[8118074,"Walheim","2023-12-31",3261,null,{"v":3316,"d":"3,316"}]
[8118076,"Sachsenheim, Stadt","2023-12-31",18539,null,{"v":18638,"d":"18,638"}]
[8118077,"Ingersheim","2023-12-31",6222,null,{"v":6223,"d":"6,223"}]
[8118078,"Freiberg am Neckar, Stadt","2023-12-31",15535,null,{"v":15520,"d":"15,520"}]
[8118079,"Bietigheim-Bissingen, Stadt","2023-12-31",43651,null,{"v":43556,"d":"43,556"}]
[8118080,"Korntal-Münchingen, Stadt","2023-12-31",19078,null,{"v":19654,"d":"19,654"}]
[8118081,"Remseck am Neckar, Stadt","2023-12-31",26222,null,{"v":26188,"d":"26,188"}]
[8119001,"Alfdorf","2023-12-31",7243,null,{"v":7260,"d":"7,260"}]
[8119003,"Allmersbach im Tal","2023-12-31",5049,null,{"v":4969,"d":"4,969"}]
[8119004,"Althütte","2023-12-31",4186,null,{"v":4184,"d":"4,184"}]
[8119006,"Auenwald","2023-12-31",6864,null,{"v":6833,"d":"6,833"}]
[8119008,"Backnang, Stadt","2023-12-31",38643,null,{"v":38818,"d":"38,818"}]
[8119018,"Burgstetten","2023-12-31",3730,null,{"v":3681,"d":"3,681"}]
[8119020,"Fellbach, Stadt","2023-12-31",47123,null,{"v":47120,"d":"47,120"}]
[8119024,"Großerlach","2023-12-31",2687,null,{"v":2752,"d":"2,752"}]
[8119037,"Kaisersbach","2023-12-31",2392,null,{"v":2381,"d":"2,381"}]
[8119038,"Kirchberg an der Murr","2023-12-31",4095,null,{"v":4144,"d":"4,144"}]
[8119041,"Korb","2023-12-31",11557,null,{"v":11607,"d":"11,607"}]
[8119042,"Leutenbach","2023-12-31",12171,null,{"v":12093,"d":"12,093"}]
[8119044,"Murrhardt, Stadt","2023-12-31",14550,null,{"v":14551,"d":"14,551"}]
[8119053,"Oppenweiler","2023-12-31",4445,null,{"v":4435,"d":"4,435"}]
[8119055,"Plüderhausen","2023-12-31",9817,null,{"v":9766,"d":"9,766"}]
[8119061,"Rudersberg","2023-12-31",11674,null,{"v":11555,"d":"11,555"}]
[8119067,"Schorndorf, Stadt","2023-12-31",41286,null,{"v":41647,"d":"41,647"}]
[8119068,"Schwaikheim","2023-12-31",9918,null,{"v":10028,"d":"10,028"}]
[8119069,"Spiegelberg","2023-12-31",2168,null,{"v":2152,"d":"2,152"}]
[8119075,"Sulzbach an der Murr","2023-12-31",5366,null,{"v":5421,"d":"5,421"}]
[8119076,"Urbach","2023-12-31",9254,null,{"v":9277,"d":"9,277"}]
[8119079,"Waiblingen, Stadt","2023-12-31",57268,null,{"v":57313,"d":"57,313"}]
[8119083,"Weissach im Tal","2023-12-31",7570,null,{"v":7576,"d":"7,576"}]
[8119084,"Welzheim, Stadt","2023-12-31",11267,null,{"v":11264,"d":"11,264"}]
[8119085,"Winnenden, Stadt","2023-12-31",29761,null,{"v":29876,"d":"29,876"}]
[8119086,"Winterbach","2023-12-31",7645,null,{"v":7638,"d":"7,638"}]
[8119087,"Aspach","2023-12-31",8322,null,{"v":8178,"d":"8,178"}]
[8119089,"Berglen","2023-12-31",6808,null,{"v":6860,"d":"6,860"}]
[8119090,"Remshalden","2023-12-31",14395,null,{"v":14337,"d":"14,337"}]
[8119091,"Weinstadt, Stadt","2023-12-31",27037,null,{"v":27074,"d":"27,074"}]
[8119093,"Kernen im Remstal","2023-12-31",15812,null,{"v":15906,"d":"15,906"}]
[8121000,"Heilbronn, Universitätsstadt","2023-12-31",131653,null,{"v":131986,"d":"131,986"}]
[8125001,"Abstatt","2023-12-31",4959,null,{"v":4975,"d":"4,975"}]
[8125005,"Bad Friedrichshall, Stadt","2023-12-31",19814,null,{"v":19853,"d":"19,853"}]
[8125006,"Bad Rappenau, Stadt","2023-12-31",22756,null,{"v":22703,"d":"22,703"}]
[8125007,"Bad Wimpfen, Stadt","2023-12-31",7578,null,{"v":7686,"d":"7,686"}]
[8125008,"Beilstein, Stadt","2023-12-31",6391,null,{"v":6412,"d":"6,412"}]
[8125013,"Brackenheim, Stadt","2023-12-31",16847,null,{"v":16774,"d":"16,774"}]
[8125017,"Cleebronn","2023-12-31",3186,null,{"v":3118,"d":"3,118"}]
[8125021,"Eberstadt","2023-12-31",3180,null,{"v":3209,"d":"3,209"}]
[8125024,"Ellhofen","2023-12-31",3986,null,{"v":3998,"d":"3,998"}]
[8125026,"Eppingen, Stadt","2023-12-31",22630,null,{"v":22666,"d":"22,666"}]
[8125027,"Erlenbach","2023-12-31",5143,null,{"v":5155,"d":"5,155"}]
[8125030,"Flein","2023-12-31",7384,null,{"v":7432,"d":"7,432"}]
[8125034,"Gemmingen","2023-12-31",5568,null,{"v":5593,"d":"5,593"}]
[8125038,"Güglingen, Stadt","2023-12-31",6351,null,{"v":6394,"d":"6,394"}]
[8125039,"Gundelsheim, Stadt","2023-12-31",7556,null,{"v":7449,"d":"7,449"}]
[8125046,"Ilsfeld","2023-12-31",9774,null,{"v":9826,"d":"9,826"}]
[8125047,"Ittlingen","2023-12-31",2637,null,{"v":2643,"d":"2,643"}]
[8125048,"Jagsthausen","2023-12-31",1795,null,{"v":1747,"d":"1,747"}]
[8125049,"Kirchardt","2023-12-31",5927,null,{"v":5939,"d":"5,939"}]
[8125056,"Lauffen am Neckar, Stadt","2023-12-31",12044,null,{"v":12189,"d":"12,189"}]
[8125057,"Lehrensteinsfeld","2023-12-31",2770,null,{"v":2758,"d":"2,758"}]
[8125058,"Leingarten, Stadt","2023-12-31",11705,null,{"v":11637,"d":"11,637"}]
[8125059,"Löwenstein, Stadt","2023-12-31",3432,null,{"v":3460,"d":"3,460"}]
[8125061,"Massenbachhausen","2023-12-31",3793,null,{"v":3760,"d":"3,760"}]
[8125063,"Möckmühl, Stadt","2023-12-31",8636,null,{"v":8680,"d":"8,680"}]
[8125065,"Neckarsulm, Stadt","2023-12-31",26368,null,{"v":26431,"d":"26,431"}]
[8125066,"Neckarwestheim","2023-12-31",4147,null,{"v":4059,"d":"4,059"}]
[8125068,"Neudenau, Stadt","2023-12-31",5561,null,{"v":5643,"d":"5,643"}]
[8125069,"Neuenstadt am Kocher, Stadt","2023-12-31",10279,null,{"v":10249,"d":"10,249"}]
[8125074,"Nordheim","2023-12-31",8453,null,{"v":8480,"d":"8,480"}]
[8125078,"Oedheim","2023-12-31",6594,null,{"v":6580,"d":"6,580"}]
[8125079,"Offenau","2023-12-31",2873,null,{"v":2848,"d":"2,848"}]
[8125081,"Pfaffenhofen","2023-12-31",2573,null,{"v":2593,"d":"2,593"}]
[8125084,"Roigheim","2023-12-31",1483,null,{"v":1497,"d":"1,497"}]
[8125086,"Schwaigern, Stadt","2023-12-31",11614,null,{"v":11661,"d":"11,661"}]
[8125087,"Siegelsbach","2023-12-31",1686,null,{"v":1643,"d":"1,643"}]
[8125094,"Talheim","2023-12-31",5023,null,{"v":5074,"d":"5,074"}]
[8125096,"Untereisesheim","2023-12-31",4386,null,{"v":4367,"d":"4,367"}]
[8125098,"Untergruppenbach","2023-12-31",8654,null,{"v":8670,"d":"8,670"}]
[8125102,"Weinsberg, Stadt","2023-12-31",13203,null,{"v":13268,"d":"13,268"}]
[8125103,"Widdern, Stadt","2023-12-31",1794,null,{"v":1782,"d":"1,782"}]
[8125107,"Wüstenrot","2023-12-31",6738,null,{"v":6692,"d":"6,692"}]
[8125108,"Zaberfeld","2023-12-31",4164,null,{"v":4156,"d":"4,156"}]
[8125110,"Obersulm","2023-12-31",13796,null,{"v":13756,"d":"13,756"}]
[8125111,"Hardthausen am Kocher","2023-12-31",4476,null,{"v":4478,"d":"4,478"}]
[8125113,"Langenbrettach","2023-12-31",3902,null,{"v":3894,"d":"3,894"}]
[8126011,"Bretzfeld","2023-12-31",12516,null,{"v":12713,"d":"12,713"}]
[8126020,"Dörzbach","2023-12-31",2562,null,{"v":2568,"d":"2,568"}]
[8126028,"Forchtenberg, Stadt","2023-12-31",5310,null,{"v":5405,"d":"5,405"}]
[8126039,"Ingelfingen, Stadt","2023-12-31",5469,null,{"v":5501,"d":"5,501"}]
[8126045,"Krautheim, Stadt","2023-12-31",4626,null,{"v":4561,"d":"4,561"}]
[8126046,"Künzelsau, Stadt","2023-12-31",16282,null,{"v":16348,"d":"16,348"}]
[8126047,"Kupferzell","2023-12-31",6575,null,{"v":6665,"d":"6,665"}]
[8126056,"Mulfingen","2023-12-31",3619,null,{"v":3604,"d":"3,604"}]
[8126058,"Neuenstein, Stadt","2023-12-31",6621,null,{"v":6618,"d":"6,618"}]
[8126060,"Niedernhall, Stadt","2023-12-31",4243,null,{"v":4185,"d":"4,185"}]
[8126066,"Öhringen, Stadt","2023-12-31",25582,null,{"v":25673,"d":"25,673"}]
[8126069,"Pfedelbach","2023-12-31",9471,null,{"v":9369,"d":"9,369"}]
[8126072,"Schöntal","2023-12-31",5601,null,{"v":5557,"d":"5,557"}]
[8126085,"Waldenburg, Stadt","2023-12-31",2966,null,{"v":2986,"d":"2,986"}]
[8126086,"Weißbach","2023-12-31",2063,null,{"v":2060,"d":"2,060"}]
[8126094,"Zweiflingen","2023-12-31",1829,null,{"v":1831,"d":"1,831"}]
[8127008,"Blaufelden","2023-12-31",5401,null,{"v":5439,"d":"5,439"}]
[8127009,"Braunsbach","2023-12-31",2522,null,{"v":2472,"d":"2,472"}]
[8127012,"Bühlertann","2023-12-31",3078,null,{"v":3075,"d":"3,075"}]
[8127013,"Bühlerzell","2023-12-31",2087,null,{"v":2090,"d":"2,090"}]
[8127014,"Crailsheim, Stadt","2023-12-31",35346,null,{"v":35755,"d":"35,755"}]
[8127023,"Fichtenberg","2023-12-31",2890,null,{"v":2895,"d":"2,895"}]
[8127025,"Gaildorf, Stadt","2023-12-31",12108,null,{"v":12005,"d":"12,005"}]
[8127032,"Gerabronn, Stadt","2023-12-31",4481,null,{"v":4451,"d":"4,451"}]
[8127043,"Ilshofen, Stadt","2023-12-31",6977,null,{"v":6990,"d":"6,990"}]
[8127046,"Kirchberg an der Jagst, Stadt","2023-12-31",4276,null,{"v":4221,"d":"4,221"}]
[8127047,"Langenburg, Stadt","2023-12-31",1776,null,{"v":1749,"d":"1,749"}]
[8127052,"Mainhardt","2023-12-31",5988,null,{"v":5973,"d":"5,973"}]
[8127056,"Michelbach an der Bilz","2023-12-31",3310,null,{"v":3325,"d":"3,325"}]
[8127059,"Michelfeld","2023-12-31",3785,null,{"v":3720,"d":"3,720"}]
[8127062,"Oberrot","2023-12-31",3434,null,{"v":3476,"d":"3,476"}]
[8127063,"Obersontheim","2023-12-31",5389,null,{"v":5355,"d":"5,355"}]
[8127071,"Rot am See","2023-12-31",5627,null,{"v":5531,"d":"5,531"}]
[8127073,"Satteldorf","2023-12-31",5717,null,{"v":5703,"d":"5,703"}]
[8127075,"Schrozberg, Stadt","2023-12-31",5797,null,{"v":5777,"d":"5,777"}]
[8127076,"Schwäbisch Hall, Stadt","2023-12-31",42363,null,{"v":42598,"d":"42,598"}]
[8127079,"Sulzbach-Laufen","2023-12-31",2550,null,{"v":2560,"d":"2,560"}]
[8127086,"Untermünkheim","2023-12-31",3031,null,{"v":3076,"d":"3,076"}]
[8127089,"Vellberg, Stadt","2023-12-31",4729,null,{"v":4747,"d":"4,747"}]
[8127091,"Wallhausen","2023-12-31",3736,null,{"v":3671,"d":"3,671"}]
[8127099,"Wolpertshausen","2023-12-31",2318,null,{"v":2365,"d":"2,365"}]
[8127100,"Rosengarten","2023-12-31",5250,null,{"v":5309,"d":"5,309"}]
[8127101,"Kreßberg","2023-12-31",4014,null,{"v":4008,"d":"4,008"}]
[8127102,"Fichtenau","2023-12-31",4606,null,{"v":4588,"d":"4,588"}]
[8127103,"Frankenhardt","2023-12-31",5011,null,{"v":5026,"d":"5,026"}]
[8127104,"Stimpfach","2023-12-31",3000,null,{"v":2952,"d":"2,952"}]
[8128006,"Assamstadt","2023-12-31",2217,null,{"v":2236,"d":"2,236"}]
[8128007,"Bad Mergentheim, Stadt","2023-12-31",24182,null,{"v":24023,"d":"24,023"}]
[8128014,"Boxberg, Stadt","2023-12-31",6663,null,{"v":6709,"d":"6,709"}]
[8128020,"Creglingen, Stadt","2023-12-31",4465,null,{"v":4453,"d":"4,453"}]
[8128039,"Freudenberg, Stadt","2023-12-31",3654,null,{"v":3615,"d":"3,615"}]
[8128045,"Großrinderfeld","2023-12-31",4073,null,{"v":4088,"d":"4,088"}]
[8128047,"Grünsfeld, Stadt","2023-12-31",3657,null,{"v":3640,"d":"3,640"}]
[8128058,"Igersheim","2023-12-31",5466,null,{"v":5517,"d":"5,517"}]
[8128061,"Königheim","2023-12-31",3010,null,{"v":3043,"d":"3,043"}]
[8128064,"Külsheim, Stadt","2023-12-31",5360,null,{"v":5360,"d":"5,360"}]
[8128082,"Niederstetten, Stadt","2023-12-31",4857,null,{"v":4906,"d":"4,906"}]
[8128115,"Tauberbischofsheim, Stadt","2023-12-31",13463,null,{"v":13445,"d":"13,445"}]
[8128126,"Weikersheim, Stadt","2023-12-31",7847,null,{"v":7902,"d":"7,902"}]
[8128128,"Werbach","2023-12-31",3197,null,{"v":3180,"d":"3,180"}]
[8128131,"Wertheim, Stadt","2023-12-31",23076,null,{"v":22874,"d":"22,874"}]
[8128137,"Wittighausen","2023-12-31",1743,null,{"v":1789,"d":"1,789"}]
[8128138,"Ahorn","2023-12-31",2216,null,{"v":2209,"d":"2,209"}]
[8128139,"Lauda-Königshofen, Stadt","2023-12-31",14313,null,{"v":14180,"d":"14,180"}]
[8135010,"Dischingen","2023-12-31",4433,null,{"v":4374,"d":"4,374"}]
[8135015,"Gerstetten","2023-12-31",11656,null,{"v":11551,"d":"11,551"}]
[8135016,"Giengen an der Brenz, Stadt","2023-12-31",19907,null,{"v":19967,"d":"19,967"}]
[8135019,"Heidenheim an der Brenz, Stadt","2023-12-31",50471,null,{"v":50618,"d":"50,618"}]
[8135020,"Herbrechtingen, Stadt","2023-12-31",13237,null,{"v":13238,"d":"13,238"}]
[8135021,"Hermaringen","2023-12-31",2334,null,{"v":2341,"d":"2,341"}]
[8135025,"Königsbronn","2023-12-31",7022,null,{"v":7028,"d":"7,028"}]
[8135026,"Nattheim","2023-12-31",6601,null,{"v":6555,"d":"6,555"}]
[8135027,"Niederstotzingen, Stadt","2023-12-31",4853,null,{"v":4916,"d":"4,916"}]
[8135031,"Sontheim an der Brenz","2023-12-31",5802,null,{"v":5771,"d":"5,771"}]
[8135032,"Steinheim am Albuch","2023-12-31",8925,null,{"v":8876,"d":"8,876"}]
[8136002,"Abtsgmünd","2023-12-31",7448,null,{"v":7501,"d":"7,501"}]
[8136003,"Adelmannsfelden","2023-12-31",1711,null,{"v":1732,"d":"1,732"}]
[8136007,"Bartholomä","2023-12-31",2041,null,{"v":2042,"d":"2,042"}]
[8136009,"Böbingen an der Rems","2023-12-31",4607,null,{"v":4539,"d":"4,539"}]
[8136010,"Bopfingen, Stadt","2023-12-31",11570,null,{"v":11560,"d":"11,560"}]
[8136015,"Durlangen","2023-12-31",2755,null,{"v":2730,"d":"2,730"}]
[8136018,"Ellenberg","2023-12-31",1830,null,{"v":1815,"d":"1,815"}]
[8136019,"Ellwangen (Jagst), Stadt","2023-12-31",24826,null,{"v":25001,"d":"25,001"}]
[8136020,"Eschach","2023-12-31",1883,null,{"v":1920,"d":"1,920"}]
[8136021,"Essingen","2023-12-31",6452,null,{"v":6444,"d":"6,444"}]
[8136024,"Göggingen","2023-12-31",2573,null,{"v":2545,"d":"2,545"}]
[8136027,"Gschwend","2023-12-31",4615,null,{"v":4581,"d":"4,581"}]
[8136028,"Heubach, Stadt","2023-12-31",10086,null,{"v":10145,"d":"10,145"}]
[8136029,"Heuchlingen","2023-12-31",1824,null,{"v":1864,"d":"1,864"}]
[8136033,"Hüttlingen","2023-12-31",6066,null,{"v":6060,"d":"6,060"}]
[8136034,"Iggingen","2023-12-31",2612,null,{"v":2613,"d":"2,613"}]
[8136035,"Jagstzell","2023-12-31",2346,null,{"v":2365,"d":"2,365"}]
[8136037,"Kirchheim am Ries","2023-12-31",1782,null,{"v":1750,"d":"1,750"}]
[8136038,"Lauchheim, Stadt","2023-12-31",4810,null,{"v":4857,"d":"4,857"}]
[8136040,"Leinzell","2023-12-31",2023,null,{"v":2018,"d":"2,018"}]
[8136042,"Lorch, Stadt","2023-12-31",10883,null,{"v":10806,"d":"10,806"}]
[8136043,"Mögglingen","2023-12-31",4272,null,{"v":4317,"d":"4,317"}]
[8136044,"Mutlangen","2023-12-31",6783,null,{"v":6786,"d":"6,786"}]
[8136045,"Neresheim, Stadt","2023-12-31",8003,null,{"v":7954,"d":"7,954"}]
[8136046,"Neuler","2023-12-31",3226,null,{"v":3270,"d":"3,270"}]
[8136049,"Obergröningen","2023-12-31",432,null,427]
[8136050,"Oberkochen, Stadt","2023-12-31",7922,null,{"v":7746,"d":"7,746"}]
[8136060,"Rosenberg","2023-12-31",2561,null,{"v":2575,"d":"2,575"}]
[8136061,"Ruppertshofen","2023-12-31",1919,null,{"v":1939,"d":"1,939"}]
[8136062,"Schechingen","2023-12-31",2234,null,{"v":2245,"d":"2,245"}]
[8136065,"Schwäbisch Gmünd, Stadt","2023-12-31",64116,null,{"v":64416,"d":"64,416"}]
[8136066,"Spraitbach","2023-12-31",3360,null,{"v":3335,"d":"3,335"}]
[8136068,"Stödtlen","2023-12-31",1836,null,{"v":1825,"d":"1,825"}]
[8136070,"Täferrot","2023-12-31",1017,null,{"v":1008,"d":"1,008"}]
[8136071,"Tannhausen","2023-12-31",1797,null,{"v":1809,"d":"1,809"}]
[8136075,"Unterschneidheim","2023-12-31",4934,null,{"v":4975,"d":"4,975"}]
[8136079,"Waldstetten","2023-12-31",7104,null,{"v":7067,"d":"7,067"}]
[8136082,"Westhausen","2023-12-31",6189,null,{"v":6136,"d":"6,136"}]
[8136084,"Wört","2023-12-31",1506,null,{"v":1500,"d":"1,500"}]
[8136087,"Riesbürg","2023-12-31",2205,null,{"v":2234,"d":"2,234"}]
[8136088,"Aalen, Stadt","2023-12-31",67724,null,{"v":67621,"d":"67,621"}]
[8136089,"Rainau","2023-12-31",3380,null,{"v":3354,"d":"3,354"}]
[8211000,"Baden-Baden, Stadt","2023-12-31",56526,null,{"v":56881,"d":"56,881"}]
[8212000,"Karlsruhe, Stadt","2023-12-31",308197,null,{"v":309050,"d":"309,050"}]
[8215007,"Bretten, Stadt","2023-12-31",30264,null,{"v":30274,"d":"30,274"}]
[8215009,"Bruchsal, Stadt","2023-12-31",47574,null,{"v":47784,"d":"47,784"}]
[8215017,"Ettlingen, Stadt","2023-12-31",38597,null,{"v":38578,"d":"38,578"}]
[8215021,"Forst","2023-12-31",8127,null,{"v":8083,"d":"8,083"}]
[8215025,"Gondelsheim","2023-12-31",4142,null,{"v":4172,"d":"4,172"}]
[8215029,"Hambrücken","2023-12-31",5567,null,{"v":5581,"d":"5,581"}]
[8215039,"Kronau","2023-12-31",5955,null,{"v":5969,"d":"5,969"}]
[8215040,"Kürnbach","2023-12-31",2369,null,{"v":2407,"d":"2,407"}]
[8215046,"Malsch","2023-12-31",15062,null,{"v":14880,"d":"14,880"}]
[8215047,"Marxzell","2023-12-31",5083,null,{"v":5040,"d":"5,040"}]
[8215059,"Oberderdingen, Stadt","2023-12-31",11721,null,{"v":11690,"d":"11,690"}]
[8215064,"Östringen, Stadt","2023-12-31",13443,null,{"v":13450,"d":"13,450"}]
[8215066,"Philippsburg, Stadt","2023-12-31",13670,null,{"v":13748,"d":"13,748"}]
[8215082,"Sulzfeld","2023-12-31",5127,null,{"v":5131,"d":"5,131"}]
[8215084,"Ubstadt-Weiher","2023-12-31",13302,null,{"v":13178,"d":"13,178"}]
[8215089,"Walzbachtal","2023-12-31",9919,null,{"v":9904,"d":"9,904"}]
[8215090,"Weingarten (Baden)","2023-12-31",10480,null,{"v":10534,"d":"10,534"}]
[8215094,"Zaisenhausen","2023-12-31",1848,null,{"v":1844,"d":"1,844"}]
[8215096,"Karlsbad","2023-12-31",16050,null,{"v":16049,"d":"16,049"}]
[8215097,"Kraichtal, Stadt","2023-12-31",14595,null,{"v":14602,"d":"14,602"}]
[8215099,"Graben-Neudorf","2023-12-31",12387,null,{"v":12453,"d":"12,453"}]
[8215100,"Bad Schönborn","2023-12-31",13342,null,{"v":13583,"d":"13,583"}]
[8215101,"Pfinztal","2023-12-31",18324,null,{"v":18178,"d":"18,178"}]
[8215102,"Eggenstein-Leopoldshafen","2023-12-31",16853,null,{"v":16798,"d":"16,798"}]
[8215103,"Karlsdorf-Neuthard","2023-12-31",10697,null,{"v":10693,"d":"10,693"}]
[8215105,"Linkenheim-Hochstetten","2023-12-31",12342,null,{"v":12484,"d":"12,484"}]
[8215106,"Waghäusel, Stadt","2023-12-31",22401,null,{"v":22466,"d":"22,466"}]
[8215107,"Oberhausen-Rheinhausen","2023-12-31",9563,null,{"v":9565,"d":"9,565"}]
[8215108,"Rheinstetten, Stadt","2023-12-31",21047,null,{"v":21267,"d":"21,267"}]
[8215109,"Stutensee, Stadt","2023-12-31",25070,null,{"v":25259,"d":"25,259"}]
[8215110,"Waldbronn","2023-12-31",13676,null,{"v":13838,"d":"13,838"}]
[8215111,"Dettenheim","2023-12-31",6753,null,{"v":6782,"d":"6,782"}]
[8216002,"Au am Rhein","2023-12-31",3428,null,{"v":3368,"d":"3,368"}]
[8216005,"Bietigheim","2023-12-31",6488,null,{"v":6468,"d":"6,468"}]
[8216006,"Bischweier","2023-12-31",2954,null,{"v":3003,"d":"3,003"}]
[8216007,"Bühl, Stadt","2023-12-31",28910,null,{"v":28608,"d":"28,608"}]
[8216008,"Bühlertal","2023-12-31",7848,null,{"v":7764,"d":"7,764"}]
[8216009,"Durmersheim","2023-12-31",11853,null,{"v":11780,"d":"11,780"}]
[8216012,"Elchesheim-Illingen","2023-12-31",3204,null,{"v":3262,"d":"3,262"}]
[8216013,"Forbach","2023-12-31",4466,null,{"v":4562,"d":"4,562"}]
[8216015,"Gaggenau, Stadt","2023-12-31",29571,null,{"v":29529,"d":"29,529"}]
[8216017,"Gernsbach, Stadt","2023-12-31",14286,null,{"v":14405,"d":"14,405"}]
[8216022,"Hügelsheim","2023-12-31",5030,null,{"v":4999,"d":"4,999"}]
[8216023,"Iffezheim","2023-12-31",5219,null,{"v":5219,"d":"5,219"}]
[8216024,"Kuppenheim, Stadt","2023-12-31",8303,null,{"v":8224,"d":"8,224"}]
[8216028,"Lichtenau, Stadt","2023-12-31",4997,null,{"v":5015,"d":"5,015"}]
[8216029,"Loffenau","2023-12-31",2483,null,{"v":2491,"d":"2,491"}]
[8216033,"Muggensturm","2023-12-31",6072,null,{"v":6103,"d":"6,103"}]
[8216039,"Ötigheim","2023-12-31",5114,null,{"v":5110,"d":"5,110"}]
[8216041,"Ottersweier","2023-12-31",6379,null,{"v":6350,"d":"6,350"}]
[8216043,"Rastatt, Stadt","2023-12-31",51073,null,{"v":50741,"d":"50,741"}]
[8216049,"Sinzheim","2023-12-31",11567,null,{"v":11608,"d":"11,608"}]
[8216052,"Steinmauern","2023-12-31",3186,null,{"v":3201,"d":"3,201"}]
[8216059,"Weisenbach","2023-12-31",2427,null,{"v":2400,"d":"2,400"}]
[8216063,"Rheinmünster","2023-12-31",6498,null,{"v":6527,"d":"6,527"}]
[8221000,"Heidelberg, Stadt","2023-12-31",155175,null,{"v":155756,"d":"155,756"}]
[8222000,"Mannheim, Universitätsstadt","2023-12-31",316256,null,{"v":318035,"d":"318,035"}]
[8225001,"Adelsheim, Stadt","2023-12-31",5127,null,{"v":5207,"d":"5,207"}]
[8225002,"Aglasterhausen","2023-12-31",4871,null,{"v":4825,"d":"4,825"}]
[8225009,"Billigheim","2023-12-31",6061,null,{"v":6063,"d":"6,063"}]
[8225010,"Binau","2023-12-31",1329,null,{"v":1323,"d":"1,323"}]
[8225014,"Buchen (Odenwald), Stadt","2023-12-31",18349,null,{"v":18226,"d":"18,226"}]
[8225024,"Fahrenbach","2023-12-31",2668,null,{"v":2636,"d":"2,636"}]
[8225032,"Hardheim","2023-12-31",6833,null,{"v":6802,"d":"6,802"}]
[8225033,"Haßmersheim","2023-12-31",5008,null,{"v":5052,"d":"5,052"}]
[8225039,"Höpfingen","2023-12-31",3060,null,{"v":3067,"d":"3,067"}]
[8225042,"Hüffenhardt","2023-12-31",2069,null,{"v":2077,"d":"2,077"}]
[8225052,"Limbach","2023-12-31",4478,null,{"v":4513,"d":"4,513"}]
[8225058,"Mosbach, Stadt","2023-12-31",24592,null,{"v":24459,"d":"24,459"}]
[8225060,"Mudau","2023-12-31",4935,null,{"v":4936,"d":"4,936"}]
[8225064,"Neckargerach","2023-12-31",2288,null,{"v":2266,"d":"2,266"}]
[8225067,"Neckarzimmern","2023-12-31",1418,null,{"v":1407,"d":"1,407"}]
[8225068,"Neunkirchen","2023-12-31",1858,null,{"v":1829,"d":"1,829"}]
[8225074,"Obrigheim","2023-12-31",5379,null,{"v":5357,"d":"5,357"}]
[8225075,"Osterburken, Stadt","2023-12-31",6570,null,{"v":6639,"d":"6,639"}]
[8225082,"Rosenberg","2023-12-31",2052,null,{"v":2021,"d":"2,021"}]
[8225091,"Seckach","2023-12-31",4037,null,{"v":3978,"d":"3,978"}]
[8225109,"Walldürn, Stadt","2023-12-31",11622,null,{"v":11614,"d":"11,614"}]
[8225113,"Zwingenberg","2023-12-31",637,null,625]
[8225114,"Ravenstein, Stadt","2023-12-31",3010,null,{"v":2999,"d":"2,999"}]
[8225115,"Schefflenz","2023-12-31",3915,null,{"v":3933,"d":"3,933"}]
[8225116,"Schwarzach","2023-12-31",2959,null,{"v":2925,"d":"2,925"}]
[8225117,"Elztal","2023-12-31",5857,null,{"v":5814,"d":"5,814"}]
[8225118,"Waldbrunn","2023-12-31",4699,null,{"v":4670,"d":"4,670"}]
[8226003,"Altlußheim","2023-12-31",6331,null,{"v":6317,"d":"6,317"}]
[8226006,"Bammental","2023-12-31",6358,null,{"v":6278,"d":"6,278"}]
[8226009,"Brühl","2023-12-31",14309,null,{"v":14328,"d":"14,328"}]
[8226010,"Dielheim","2023-12-31",9145,null,{"v":9094,"d":"9,094"}]
[8226012,"Dossenheim","2023-12-31",12632,null,{"v":12690,"d":"12,690"}]
[8226013,"Eberbach, Stadt","2023-12-31",14617,null,{"v":14727,"d":"14,727"}]
[8226017,"Epfenbach","2023-12-31",2410,null,{"v":2448,"d":"2,448"}]
[8226018,"Eppelheim, Stadt","2023-12-31",15757,null,{"v":15663,"d":"15,663"}]
[8226020,"Eschelbronn","2023-12-31",2788,null,{"v":2733,"d":"2,733"}]
[8226022,"Gaiberg","2023-12-31",2363,null,{"v":2480,"d":"2,480"}]
[8226027,"Heddesbach","2023-12-31",485,null,472]
[8226028,"Heddesheim","2023-12-31",12266,null,{"v":12294,"d":"12,294"}]
[8226029,"Heiligkreuzsteinach","2023-12-31",2574,null,{"v":2614,"d":"2,614"}]
[8226031,"Hemsbach, Stadt","2023-12-31",11994,null,{"v":11915,"d":"11,915"}]
[8226032,"Hockenheim, Stadt","2023-12-31",21523,null,{"v":21623,"d":"21,623"}]
[8226036,"Ilvesheim","2023-12-31",9191,null,{"v":9207,"d":"9,207"}]
[8226037,"Ketsch","2023-12-31",13187,null,{"v":13117,"d":"13,117"}]
[8226038,"Ladenburg, Stadt","2023-12-31",12838,null,{"v":12914,"d":"12,914"}]
[8226040,"Laudenbach","2023-12-31",6514,null,{"v":6573,"d":"6,573"}]
[8226041,"Leimen, Stadt","2023-12-31",26944,null,{"v":26873,"d":"26,873"}]
[8226046,"Malsch","2023-12-31",3404,null,{"v":3478,"d":"3,478"}]
[8226048,"Mauer","2023-12-31",4135,null,{"v":4073,"d":"4,073"}]
[8226049,"Meckesheim","2023-12-31",5279,null,{"v":5298,"d":"5,298"}]
[8226054,"Mühlhausen","2023-12-31",8803,null,{"v":8753,"d":"8,753"}]
[8226055,"Neckarbischofsheim, Stadt","2023-12-31",4169,null,{"v":4195,"d":"4,195"}]
[8226056,"Neckargemünd, Stadt","2023-12-31",13368,null,{"v":13335,"d":"13,335"}]
[8226058,"Neidenstein","2023-12-31",1777,null,{"v":1769,"d":"1,769"}]
[8226059,"Neulußheim","2023-12-31",7130,null,{"v":7162,"d":"7,162"}]
[8226060,"Nußloch","2023-12-31",11364,null,{"v":11418,"d":"11,418"}]
[8226062,"Oftersheim","2023-12-31",12253,null,{"v":12272,"d":"12,272"}]
[8226063,"Plankstadt","2023-12-31",10550,null,{"v":10644,"d":"10,644"}]
[8226065,"Rauenberg, Stadt","2023-12-31",8728,null,{"v":8675,"d":"8,675"}]
[8226066,"Reichartshausen","2023-12-31",2152,null,{"v":2154,"d":"2,154"}]
[8226068,"Reilingen","2023-12-31",8328,null,{"v":8404,"d":"8,404"}]
[8226076,"Sandhausen","2023-12-31",15340,null,{"v":15330,"d":"15,330"}]
[8226080,"Schönau, Stadt","2023-12-31",4351,null,{"v":4369,"d":"4,369"}]
[8226081,"Schönbrunn","2023-12-31",2916,null,{"v":2901,"d":"2,901"}]
[8226082,"Schriesheim, Stadt","2023-12-31",15368,null,{"v":15209,"d":"15,209"}]
[8226084,"Schwetzingen, Stadt","2023-12-31",21549,null,{"v":21767,"d":"21,767"}]
[8226085,"Sinsheim, Stadt","2023-12-31",37283,null,{"v":37036,"d":"37,036"}]
[8226086,"Spechbach","2023-12-31",1757,null,{"v":1761,"d":"1,761"}]
[8226091,"Waibstadt, Stadt","2023-12-31",5766,null,{"v":5794,"d":"5,794"}]
[8226095,"Walldorf, Stadt","2023-12-31",16174,null,{"v":16188,"d":"16,188"}]
[8226096,"Weinheim, Stadt","2023-12-31",45775,null,{"v":45852,"d":"45,852"}]
[8226097,"Wiesenbach","2023-12-31",3153,null,{"v":3181,"d":"3,181"}]
[8226098,"Wiesloch, Stadt","2023-12-31",27507,null,{"v":27731,"d":"27,731"}]
[8226099,"Wilhelmsfeld","2023-12-31",3328,null,{"v":3332,"d":"3,332"}]
[8226101,"Zuzenhausen","2023-12-31",2332,null,{"v":2343,"d":"2,343"}]
[8226102,"Angelbachtal","2023-12-31",5238,null,{"v":5299,"d":"5,299"}]
[8226103,"St. Leon-Rot","2023-12-31",14004,null,{"v":13979,"d":"13,979"}]
[8226104,"Lobbach","2023-12-31",2368,null,{"v":2353,"d":"2,353"}]
[8226105,"Edingen-Neckarhausen","2023-12-31",14432,null,{"v":14612,"d":"14,612"}]
[8226106,"Helmstadt-Bargen","2023-12-31",3868,null,{"v":3887,"d":"3,887"}]
[8226107,"Hirschberg an der Bergstraße","2023-12-31",9644,null,{"v":9647,"d":"9,647"}]
[8231000,"Pforzheim, Stadt","2023-12-31",135087,null,{"v":134912,"d":"134,912"}]
[8235006,"Altensteig, Stadt","2023-12-31",10917,null,{"v":10798,"d":"10,798"}]
[8235007,"Althengstett","2023-12-31",7935,null,{"v":7886,"d":"7,886"}]
[8235008,"Bad Liebenzell, Stadt","2023-12-31",9302,null,{"v":9301,"d":"9,301"}]
[8235018,"Dobel","2023-12-31",2290,null,{"v":2297,"d":"2,297"}]
[8235020,"Ebhausen","2023-12-31",4824,null,{"v":4890,"d":"4,890"}]
[8235022,"Egenhausen","2023-12-31",2077,null,{"v":2099,"d":"2,099"}]
[8235025,"Enzklösterle","2023-12-31",1319,null,{"v":1240,"d":"1,240"}]
[8235029,"Gechingen","2023-12-31",3659,null,{"v":3621,"d":"3,621"}]
[8235032,"Haiterbach, Stadt","2023-12-31",5884,null,{"v":5872,"d":"5,872"}]
[8235033,"Bad Herrenalb, Stadt","2023-12-31",7640,null,{"v":7694,"d":"7,694"}]
[8235035,"Höfen an der Enz","2023-12-31",1622,null,{"v":1620,"d":"1,620"}]
[8235046,"Nagold, Stadt","2023-12-31",23781,null,{"v":23864,"d":"23,864"}]
[8235047,"Neubulach, Stadt","2023-12-31",5726,null,{"v":5713,"d":"5,713"}]
[8235050,"Neuweiler","2023-12-31",3136,null,{"v":3133,"d":"3,133"}]
[8235055,"Oberreichenbach","2023-12-31",3028,null,{"v":3015,"d":"3,015"}]
[8235057,"Ostelsheim","2023-12-31",2515,null,{"v":2549,"d":"2,549"}]
[8235060,"Rohrdorf","2023-12-31",1939,null,{"v":1990,"d":"1,990"}]
[8235065,"Schömberg","2023-12-31",7667,null,{"v":7620,"d":"7,620"}]
[8235066,"Simmersfeld","2023-12-31",2207,null,{"v":2206,"d":"2,206"}]
[8235067,"Simmozheim","2023-12-31",2825,null,{"v":2848,"d":"2,848"}]
[8235073,"Unterreichenbach","2023-12-31",2374,null,{"v":2409,"d":"2,409"}]
[8235079,"Bad Wildbad, Stadt","2023-12-31",10430,null,{"v":10388,"d":"10,388"}]
[8235080,"Wildberg, Stadt","2023-12-31",10009,null,{"v":9977,"d":"9,977"}]
[8235084,"Bad Teinach-Zavelstein, Stadt","2023-12-31",3132,null,{"v":3220,"d":"3,220"}]
[8235085,"Calw, Stadt","2023-12-31",24943,null,{"v":25001,"d":"25,001"}]
[8236004,"Birkenfeld","2023-12-31",10255,null,{"v":10224,"d":"10,224"}]
[8236011,"Eisingen","2023-12-31",4640,null,{"v":4648,"d":"4,648"}]
[8236013,"Engelsbrand","2023-12-31",4423,null,{"v":4470,"d":"4,470"}]
[8236019,"Friolzheim","2023-12-31",4023,null,{"v":4062,"d":"4,062"}]
[8236025,"Heimsheim, Stadt","2023-12-31",5499,null,{"v":5530,"d":"5,530"}]
[8236028,"Illingen","2023-12-31",7823,null,{"v":7791,"d":"7,791"}]
[8236030,"Ispringen","2023-12-31",5900,null,{"v":5968,"d":"5,968"}]
[8236031,"Kieselbronn","2023-12-31",3000,null,{"v":2923,"d":"2,923"}]
[8236033,"Knittlingen, Stadt","2023-12-31",8059,null,{"v":8188,"d":"8,188"}]
[8236038,"Maulbronn, Stadt","2023-12-31",6471,null,{"v":6452,"d":"6,452"}]
[8236039,"Mönsheim","2023-12-31",2956,null,{"v":2924,"d":"2,924"}]
[8236040,"Mühlacker, Stadt","2023-12-31",26852,null,{"v":26787,"d":"26,787"}]
[8236043,"Neuenbürg, Stadt","2023-12-31",8248,null,{"v":8162,"d":"8,162"}]
[8236044,"Neuhausen","2023-12-31",5141,null,{"v":5095,"d":"5,095"}]
[8236046,"Niefern-Öschelbronn","2023-12-31",12492,null,{"v":12402,"d":"12,402"}]
[8236050,"Ötisheim","2023-12-31",4782,null,{"v":4761,"d":"4,761"}]
[8236061,"Sternenfels","2023-12-31",2800,null,{"v":2802,"d":"2,802"}]
[8236062,"Tiefenbronn","2023-12-31",5331,null,{"v":5315,"d":"5,315"}]
[8236065,"Wiernsheim","2023-12-31",6792,null,{"v":6778,"d":"6,778"}]
[8236067,"Wimsheim","2023-12-31",2789,null,{"v":2831,"d":"2,831"}]
[8236068,"Wurmberg","2023-12-31",3276,null,{"v":3264,"d":"3,264"}]
[8236070,"Keltern","2023-12-31",8738,null,{"v":8693,"d":"8,693"}]
[8236071,"Remchingen","2023-12-31",11823,null,{"v":11798,"d":"11,798"}]
[8236072,"Straubenhardt","2023-12-31",11331,null,{"v":11367,"d":"11,367"}]
[8236073,"Neulingen","2023-12-31",6601,null,{"v":6543,"d":"6,543"}]
[8236074,"Kämpfelbach","2023-12-31",6260,null,{"v":6283,"d":"6,283"}]
[8236075,"Ölbronn-Dürrn","2023-12-31",3468,null,{"v":3483,"d":"3,483"}]
[8236076,"Königsbach-Stein","2023-12-31",10105,null,{"v":10201,"d":"10,201"}]
[8237002,"Alpirsbach, Stadt","2023-12-31",6223,null,{"v":6114,"d":"6,114"}]
[8237004,"Baiersbronn","2023-12-31",15621,null,{"v":15465,"d":"15,465"}]
[8237019,"Dornstetten, Stadt","2023-12-31",8210,null,{"v":8194,"d":"8,194"}]
[8237024,"Empfingen","2023-12-31",4252,null,{"v":4269,"d":"4,269"}]
[8237027,"Eutingen im Gäu","2023-12-31",6085,null,{"v":6120,"d":"6,120"}]
[8237028,"Freudenstadt, Stadt","2023-12-31",24333,null,{"v":24464,"d":"24,464"}]
[8237030,"Glatten","2023-12-31",2549,null,{"v":2531,"d":"2,531"}]
[8237032,"Grömbach","2023-12-31",643,null,641]
[8237040,"Horb am Neckar, Stadt","2023-12-31",25662,null,{"v":25651,"d":"25,651"}]
[8237045,"Loßburg","2023-12-31",7790,null,{"v":7919,"d":"7,919"}]
[8237054,"Pfalzgrafenweiler","2023-12-31",7247,null,{"v":7286,"d":"7,286"}]
[8237061,"Schopfloch","2023-12-31",2596,null,{"v":2598,"d":"2,598"}]
[8237072,"Wörnersberg","2023-12-31",213,null,214]
[8237073,"Seewald","2023-12-31",2139,null,{"v":2111,"d":"2,111"}]
[8237074,"Waldachtal","2023-12-31",6297,null,{"v":6346,"d":"6,346"}]
[8237075,"Bad Rippoldsau-Schapbach","2023-12-31",2041,null,{"v":2035,"d":"2,035"}]
[8311000,"Freiburg im Breisgau, Stadt","2023-12-31",236236,null,{"v":237460,"d":"237,460"}]
[8315003,"Au","2023-12-31",1508,null,{"v":1501,"d":"1,501"}]
[8315004,"Auggen","2023-12-31",2826,null,{"v":2797,"d":"2,797"}]
[8315006,"Bad Krozingen, Stadt","2023-12-31",21791,null,{"v":21755,"d":"21,755"}]
[8315007,"Badenweiler","2023-12-31",4628,null,{"v":4629,"d":"4,629"}]
[8315008,"Ballrechten-Dottingen","2023-12-31",2435,null,{"v":2485,"d":"2,485"}]
[8315013,"Bötzingen","2023-12-31",5576,null,{"v":5544,"d":"5,544"}]
[8315014,"Bollschweil","2023-12-31",2318,null,{"v":2324,"d":"2,324"}]
[8315015,"Breisach am Rhein, Stadt","2023-12-31",16222,null,{"v":16487,"d":"16,487"}]
[8315016,"Breitnau","2023-12-31",1814,null,{"v":1850,"d":"1,850"}]
[8315020,"Buchenbach","2023-12-31",3156,null,{"v":3144,"d":"3,144"}]
[8315022,"Buggingen","2023-12-31",4428,null,{"v":4449,"d":"4,449"}]
[8315028,"Ebringen","2023-12-31",2834,null,{"v":2859,"d":"2,859"}]
[8315030,"Eichstetten am Kaiserstuhl","2023-12-31",3767,null,{"v":3780,"d":"3,780"}]
[8315031,"Eisenbach (Hochschwarzwald)","2023-12-31",2158,null,{"v":2138,"d":"2,138"}]
[8315033,"Eschbach","2023-12-31",2442,null,{"v":2464,"d":"2,464"}]
[8315037,"Feldberg (Schwarzwald)","2023-12-31",1959,null,{"v":1956,"d":"1,956"}]
[8315039,"Friedenweiler","2023-12-31",2038,null,{"v":2035,"d":"2,035"}]
[8315041,"Glottertal","2023-12-31",3222,null,{"v":3225,"d":"3,225"}]
[8315043,"Gottenheim","2023-12-31",3084,null,{"v":3156,"d":"3,156"}]
[8315047,"Gundelfingen","2023-12-31",12120,null,{"v":12168,"d":"12,168"}]
[8315048,"Hartheim am Rhein","2023-12-31",4940,null,{"v":4887,"d":"4,887"}]
[8315050,"Heitersheim, Stadt","2023-12-31",6452,null,{"v":6577,"d":"6,577"}]
[8315051,"Heuweiler","2023-12-31",1149,null,{"v":1159,"d":"1,159"}]
[8315052,"Hinterzarten","2023-12-31",2494,null,{"v":2510,"d":"2,510"}]
[8315056,"Horben","2023-12-31",1199,null,{"v":1204,"d":"1,204"}]
[8315059,"Ihringen","2023-12-31",6303,null,{"v":6308,"d":"6,308"}]
[8315064,"Kirchzarten","2023-12-31",10193,null,{"v":10266,"d":"10,266"}]
[8315068,"Lenzkirch","2023-12-31",5206,null,{"v":5201,"d":"5,201"}]
[8315070,"Löffingen, Stadt","2023-12-31",7769,null,{"v":7692,"d":"7,692"}]
[8315072,"Merdingen","2023-12-31",2660,null,{"v":2668,"d":"2,668"}]
[8315073,"Merzhausen","2023-12-31",5622,null,{"v":5584,"d":"5,584"}]
[8315074,"Müllheim im Markgräflerland, Stadt","2023-12-31",19988,null,{"v":20097,"d":"20,097"}]
[8315076,"Neuenburg am Rhein, Stadt","2023-12-31",12732,null,{"v":12690,"d":"12,690"}]
[8315084,"Oberried","2023-12-31",2832,null,{"v":2773,"d":"2,773"}]
[8315089,"Pfaffenweiler","2023-12-31",2557,null,{"v":2604,"d":"2,604"}]
[8315094,"St. Märgen","2023-12-31",1998,null,{"v":1993,"d":"1,993"}]
[8315095,"St. Peter","2023-12-31",2707,null,{"v":2727,"d":"2,727"}]
[8315098,"Schallstadt","2023-12-31",6800,null,{"v":6937,"d":"6,937"}]
[8315102,"Schluchsee","2023-12-31",2576,null,{"v":2577,"d":"2,577"}]
[8315107,"Sölden","2023-12-31",1270,null,{"v":1271,"d":"1,271"}]
[8315108,"Staufen im Breisgau, Stadt","2023-12-31",8500,null,{"v":8459,"d":"8,459"}]
[8315109,"Stegen","2023-12-31",4433,null,{"v":4413,"d":"4,413"}]
[8315111,"Sulzburg, Stadt","2023-12-31",2721,null,{"v":2794,"d":"2,794"}]
[8315113,"Titisee-Neustadt, Stadt","2023-12-31",12869,null,{"v":12797,"d":"12,797"}]
[8315115,"Umkirch","2023-12-31",5751,null,{"v":5755,"d":"5,755"}]
[8315125,"Wittnau","2023-12-31",1475,null,{"v":1470,"d":"1,470"}]
[8315130,"Münstertal/Schwarzwald","2023-12-31",5065,null,{"v":5043,"d":"5,043"}]
[8315131,"Ehrenkirchen","2023-12-31",7850,null,{"v":7813,"d":"7,813"}]
[8315132,"March","2023-12-31",9292,null,{"v":9309,"d":"9,309"}]
[8315133,"Vogtsburg im Kaiserstuhl, Stadt","2023-12-31",6248,null,{"v":6234,"d":"6,234"}]
[8316002,"Bahlingen am Kaiserstuhl","2023-12-31",4525,null,{"v":4538,"d":"4,538"}]
[8316003,"Biederbach","2023-12-31",1746,null,{"v":1751,"d":"1,751"}]
[8316009,"Denzlingen","2023-12-31",13682,null,{"v":13720,"d":"13,720"}]
[8316010,"Elzach, Stadt","2023-12-31",7546,null,{"v":7515,"d":"7,515"}]
[8316011,"Emmendingen, Stadt","2023-12-31",29516,null,{"v":29502,"d":"29,502"}]
[8316012,"Endingen am Kaiserstuhl, Stadt","2023-12-31",10351,null,{"v":10381,"d":"10,381"}]
[8316013,"Forchheim","2023-12-31",1401,null,{"v":1409,"d":"1,409"}]
[8316014,"Gutach im Breisgau","2023-12-31",4591,null,{"v":4599,"d":"4,599"}]
[8316017,"Herbolzheim, Stadt","2023-12-31",10786,null,{"v":10783,"d":"10,783"}]
[8316020,"Kenzingen, Stadt","2023-12-31",10804,null,{"v":10748,"d":"10,748"}]
[8316024,"Malterdingen","2023-12-31",3411,null,{"v":3467,"d":"3,467"}]
[8316036,"Reute","2023-12-31",2922,null,{"v":2986,"d":"2,986"}]
[8316037,"Riegel am Kaiserstuhl","2023-12-31",4041,null,{"v":4051,"d":"4,051"}]
[8316038,"Sasbach am Kaiserstuhl","2023-12-31",3461,null,{"v":3481,"d":"3,481"}]
[8316039,"Sexau","2023-12-31",3517,null,{"v":3568,"d":"3,568"}]
[8316042,"Simonswald","2023-12-31",2946,null,{"v":2936,"d":"2,936"}]
[8316043,"Teningen","2023-12-31",11800,null,{"v":11884,"d":"11,884"}]
[8316045,"Vörstetten","2023-12-31",3170,null,{"v":3196,"d":"3,196"}]
[8316049,"Weisweil","2023-12-31",2198,null,{"v":2243,"d":"2,243"}]
[8316051,"Wyhl am Kaiserstuhl","2023-12-31",4013,null,{"v":4050,"d":"4,050"}]
[8316053,"Rheinhausen","2023-12-31",4327,null,{"v":4333,"d":"4,333"}]
[8316054,"Freiamt","2023-12-31",4240,null,{"v":4243,"d":"4,243"}]
[8316055,"Winden im Elztal","2023-12-31",2971,null,{"v":2893,"d":"2,893"}]
[8316056,"Waldkirch, Stadt","2023-12-31",21505,null,{"v":21510,"d":"21,510"}]
[8317001,"Achern, Stadt","2023-12-31",26375,null,{"v":26733,"d":"26,733"}]
[8317005,"Appenweier","2023-12-31",10353,null,{"v":10374,"d":"10,374"}]
[8317008,"Bad Peterstal-Griesbach","2023-12-31",2590,null,{"v":2583,"d":"2,583"}]
[8317009,"Berghaupten","2023-12-31",2543,null,{"v":2539,"d":"2,539"}]
[8317011,"Biberach","2023-12-31",3778,null,{"v":3799,"d":"3,799"}]
[8317021,"Durbach","2023-12-31",4090,null,{"v":4123,"d":"4,123"}]
[8317026,"Ettenheim, Stadt","2023-12-31",13632,null,{"v":13722,"d":"13,722"}]
[8317029,"Fischerbach","2023-12-31",1691,null,{"v":1704,"d":"1,704"}]
[8317031,"Friesenheim","2023-12-31",13903,null,{"v":13858,"d":"13,858"}]
[8317034,"Gengenbach, Stadt","2023-12-31",11090,null,{"v":11081,"d":"11,081"}]
[8317039,"Gutach (Schwarzwaldbahn)","2023-12-31",2301,null,{"v":2279,"d":"2,279"}]
[8317040,"Haslach im Kinzigtal, Stadt","2023-12-31",7231,null,{"v":7190,"d":"7,190"}]
[8317041,"Hausach, Stadt","2023-12-31",5785,null,{"v":5851,"d":"5,851"}]
[8317046,"Hofstetten","2023-12-31",1791,null,{"v":1789,"d":"1,789"}]
[8317047,"Hohberg","2023-12-31",8212,null,{"v":8186,"d":"8,186"}]
[8317051,"Hornberg, Stadt","2023-12-31",4158,null,{"v":4154,"d":"4,154"}]
[8317056,"Kappelrodeck","2023-12-31",6334,null,{"v":6324,"d":"6,324"}]
[8317057,"Kehl, Stadt","2023-12-31",39458,null,{"v":39584,"d":"39,584"}]
[8317059,"Kippenheim","2023-12-31",5522,null,{"v":5559,"d":"5,559"}]
[8317065,"Lahr/Schwarzwald, Stadt","2023-12-31",50018,null,{"v":50775,"d":"50,775"}]
[8317067,"Lautenbach","2023-12-31",1980,null,{"v":1991,"d":"1,991"}]
[8317068,"Lauf","2023-12-31",4029,null,{"v":4021,"d":"4,021"}]
[8317073,"Mahlberg, Stadt","2023-12-31",5229,null,{"v":5254,"d":"5,254"}]
[8317075,"Meißenheim","2023-12-31",4132,null,{"v":4149,"d":"4,149"}]
[8317078,"Mühlenbach","2023-12-31",1650,null,{"v":1629,"d":"1,629"}]
[8317085,"Nordrach","2023-12-31",1976,null,{"v":1980,"d":"1,980"}]
[8317088,"Oberharmersbach","2023-12-31",2418,null,{"v":2397,"d":"2,397"}]
[8317089,"Oberkirch, Stadt","2023-12-31",19898,null,{"v":19847,"d":"19,847"}]
[8317093,"Oberwolfach","2023-12-31",2532,null,{"v":2527,"d":"2,527"}]
[8317096,"Offenburg, Stadt","2023-12-31",63110,null,{"v":62993,"d":"62,993"}]
[8317097,"Ohlsbach","2023-12-31",3354,null,{"v":3368,"d":"3,368"}]
[8317098,"Oppenau, Stadt","2023-12-31",4866,null,{"v":4815,"d":"4,815"}]
[8317100,"Ortenberg","2023-12-31",3478,null,{"v":3553,"d":"3,553"}]
[8317102,"Ottenhöfen im Schwarzwald","2023-12-31",3056,null,{"v":3082,"d":"3,082"}]
[8317110,"Renchen, Stadt","2023-12-31",7506,null,{"v":7582,"d":"7,582"}]
[8317113,"Ringsheim","2023-12-31",2590,null,{"v":2645,"d":"2,645"}]
[8317114,"Rust","2023-12-31",4964,null,{"v":4865,"d":"4,865"}]
[8317116,"Sasbach","2023-12-31",5371,null,{"v":5357,"d":"5,357"}]
[8317118,"Sasbachwalden","2023-12-31",2545,null,{"v":2538,"d":"2,538"}]
[8317121,"Schuttertal","2023-12-31",3194,null,{"v":3170,"d":"3,170"}]
[8317122,"Schutterwald","2023-12-31",7301,null,{"v":7320,"d":"7,320"}]
[8317126,"Seebach","2023-12-31",1420,null,{"v":1410,"d":"1,410"}]
[8317127,"Seelbach","2023-12-31",4797,null,{"v":4828,"d":"4,828"}]
[8317129,"Steinach","2023-12-31",3988,null,{"v":3941,"d":"3,941"}]
[8317141,"Willstätt","2023-12-31",9975,null,{"v":10124,"d":"10,124"}]
[8317145,"Wolfach, Stadt","2023-12-31",5633,null,{"v":5571,"d":"5,571"}]
[8317146,"Zell am Harmersbach, Stadt","2023-12-31",8186,null,{"v":8129,"d":"8,129"}]
[8317150,"Schwanau","2023-12-31",7063,null,{"v":7054,"d":"7,054"}]
[8317151,"Neuried","2023-12-31",9848,null,{"v":9919,"d":"9,919"}]
[8317152,"Kappel-Grafenhausen","2023-12-31",5228,null,{"v":5246,"d":"5,246"}]
[8317153,"Rheinau, Stadt","2023-12-31",11310,null,{"v":11346,"d":"11,346"}]
[8325001,"Aichhalden","2023-12-31",4219,null,{"v":4225,"d":"4,225"}]
[8325009,"Bösingen","2023-12-31",3408,null,{"v":3428,"d":"3,428"}]
[8325011,"Dietingen","2023-12-31",4189,null,{"v":4204,"d":"4,204"}]
[8325012,"Dornhan, Stadt","2023-12-31",6193,null,{"v":6219,"d":"6,219"}]
[8325014,"Dunningen","2023-12-31",6478,null,{"v":6448,"d":"6,448"}]
[8325015,"Epfendorf","2023-12-31",3160,null,{"v":3106,"d":"3,106"}]
[8325024,"Hardt","2023-12-31",2487,null,{"v":2484,"d":"2,484"}]
[8325036,"Lauterbach","2023-12-31",2767,null,{"v":2700,"d":"2,700"}]
[8325045,"Oberndorf am Neckar, Stadt","2023-12-31",14669,null,{"v":14853,"d":"14,853"}]
[8325049,"Rottweil, Stadt","2023-12-31",24977,null,{"v":24985,"d":"24,985"}]
[8325050,"Schenkenzell","2023-12-31",1882,null,{"v":1814,"d":"1,814"}]
[8325051,"Schiltach, Stadt","2023-12-31",3595,null,{"v":3517,"d":"3,517"}]
[8325053,"Schramberg, Stadt","2023-12-31",20613,null,{"v":20610,"d":"20,610"}]
[8325057,"Sulz am Neckar, Stadt","2023-12-31",12777,null,{"v":12847,"d":"12,847"}]
[8325060,"Villingendorf","2023-12-31",3335,null,{"v":3377,"d":"3,377"}]
[8325061,"Vöhringen","2023-12-31",4531,null,{"v":4462,"d":"4,462"}]
[8325064,"Wellendingen","2023-12-31",3298,null,{"v":3317,"d":"3,317"}]
[8325069,"Zimmern ob Rottweil","2023-12-31",6358,null,{"v":6296,"d":"6,296"}]
[8325070,"Fluorn-Winzeln","2023-12-31",3105,null,{"v":3052,"d":"3,052"}]
[8325071,"Eschbronn","2023-12-31",2098,null,{"v":2085,"d":"2,085"}]
[8325072,"Deißlingen","2023-12-31",6205,null,{"v":6208,"d":"6,208"}]
[8326003,"Bad Dürrheim, Stadt","2023-12-31",13216,null,{"v":13149,"d":"13,149"}]
[8326005,"Blumberg, Stadt","2023-12-31",10063,null,{"v":10003,"d":"10,003"}]
[8326006,"Bräunlingen, Stadt","2023-12-31",5782,null,{"v":5784,"d":"5,784"}]
[8326010,"Dauchingen","2023-12-31",3821,null,{"v":3800,"d":"3,800"}]
[8326012,"Donaueschingen, Stadt","2023-12-31",21786,null,{"v":21790,"d":"21,790"}]
[8326017,"Furtwangen im Schwarzwald, Stadt","2023-12-31",8469,null,{"v":8420,"d":"8,420"}]
[8326020,"Gütenbach","2023-12-31",1044,null,{"v":1025,"d":"1,025"}]
[8326027,"Hüfingen, Stadt","2023-12-31",7973,null,{"v":8060,"d":"8,060"}]
[8326031,"Königsfeld im Schwarzwald","2023-12-31",5906,null,{"v":5960,"d":"5,960"}]
[8326037,"Mönchweiler","2023-12-31",2792,null,{"v":2766,"d":"2,766"}]
[8326041,"Niedereschach","2023-12-31",5911,null,{"v":5857,"d":"5,857"}]
[8326052,"St. Georgen im Schwarzwald, Stadt","2023-12-31",12407,null,{"v":12301,"d":"12,301"}]
[8326054,"Schönwald im Schwarzwald","2023-12-31",2600,null,{"v":2566,"d":"2,566"}]
[8326055,"Schonach im Schwarzwald","2023-12-31",3879,null,{"v":3800,"d":"3,800"}]
[8326060,"Triberg im Schwarzwald, Stadt","2023-12-31",4658,null,{"v":4580,"d":"4,580"}]
[8326061,"Tuningen","2023-12-31",3142,null,{"v":3292,"d":"3,292"}]
[8326065,"Unterkirnach","2023-12-31",2502,null,{"v":2466,"d":"2,466"}]
[8326068,"Vöhrenbach, Stadt","2023-12-31",3621,null,{"v":3631,"d":"3,631"}]
[8326074,"Villingen-Schwenningen, Stadt","2023-12-31",89286,null,{"v":89756,"d":"89,756"}]
[8326075,"Brigachtal","2023-12-31",5064,null,{"v":5059,"d":"5,059"}]
[8327002,"Aldingen","2023-12-31",7761,null,{"v":7858,"d":"7,858"}]
[8327004,"Bärenthal","2023-12-31",485,null,487]
[8327005,"Balgheim","2023-12-31",1288,null,{"v":1317,"d":"1,317"}]
[8327006,"Böttingen","2023-12-31",1449,null,{"v":1438,"d":"1,438"}]
[8327007,"Bubsheim","2023-12-31",1443,null,{"v":1446,"d":"1,446"}]
[8327008,"Buchheim","2023-12-31",762,null,777]
[8327009,"Deilingen","2023-12-31",1898,null,{"v":1877,"d":"1,877"}]
[8327010,"Denkingen","2023-12-31",3003,null,{"v":2979,"d":"2,979"}]
[8327011,"Dürbheim","2023-12-31",1739,null,{"v":1735,"d":"1,735"}]
[8327012,"Durchhausen","2023-12-31",1049,null,{"v":1063,"d":"1,063"}]
[8327013,"Egesheim","2023-12-31",635,null,652]
[8327016,"Fridingen an der Donau, Stadt","2023-12-31",3201,null,{"v":3157,"d":"3,157"}]
[8327017,"Frittlingen","2023-12-31",2144,null,{"v":2127,"d":"2,127"}]
[8327018,"Geisingen, Stadt","2023-12-31",6215,null,{"v":6225,"d":"6,225"}]
[8327019,"Gosheim","2023-12-31",3745,null,{"v":3720,"d":"3,720"}]
[8327020,"Gunningen","2023-12-31",772,null,773]
[8327023,"Hausen ob Verena","2023-12-31",838,null,837]
[8327025,"Immendingen","2023-12-31",6429,null,{"v":6585,"d":"6,585"}]
[8327027,"Irndorf","2023-12-31",681,null,683]
[8327029,"Königsheim","2023-12-31",607,null,621]
[8327030,"Kolbingen","2023-12-31",1223,null,{"v":1225,"d":"1,225"}]
[8327033,"Mahlstetten","2023-12-31",834,null,812]
[8327036,"Mühlheim an der Donau, Stadt","2023-12-31",3645,null,{"v":3649,"d":"3,649"}]
[8327038,"Neuhausen ob Eck","2023-12-31",4211,null,{"v":4206,"d":"4,206"}]
[8327040,"Reichenbach am Heuberg","2023-12-31",450,null,453]
[8327041,"Renquishausen","2023-12-31",786,null,826]
[8327046,"Spaichingen, Stadt","2023-12-31",13728,null,{"v":13714,"d":"13,714"}]
[8327048,"Talheim","2023-12-31",1306,null,{"v":1334,"d":"1,334"}]
[8327049,"Trossingen, Stadt","2023-12-31",17463,null,{"v":17489,"d":"17,489"}]
[8327050,"Tuttlingen, Stadt","2023-12-31",37167,null,{"v":37109,"d":"37,109"}]
[8327051,"Wehingen","2023-12-31",3708,null,{"v":3703,"d":"3,703"}]
[8327054,"Wurmlingen","2023-12-31",3948,null,{"v":3949,"d":"3,949"}]
[8327055,"Seitingen-Oberflacht","2023-12-31",2624,null,{"v":2564,"d":"2,564"}]
[8327056,"Rietheim-Weilheim","2023-12-31",2935,null,{"v":2962,"d":"2,962"}]
[8327057,"Emmingen-Liptingen","2023-12-31",4783,null,{"v":4856,"d":"4,856"}]
[8335001,"Aach, Stadt","2023-12-31",2368,null,{"v":2377,"d":"2,377"}]
[8335002,"Allensbach","2023-12-31",7358,null,{"v":7353,"d":"7,353"}]
[8335015,"Büsingen am Hochrhein","2023-12-31",1444,null,{"v":1440,"d":"1,440"}]
[8335021,"Eigeltingen","2023-12-31",3920,null,{"v":3821,"d":"3,821"}]
[8335022,"Engen, Stadt","2023-12-31",11315,null,{"v":11311,"d":"11,311"}]
[8335025,"Gaienhofen","2023-12-31",3351,null,{"v":3334,"d":"3,334"}]
[8335026,"Gailingen am Hochrhein","2023-12-31",3002,null,{"v":3044,"d":"3,044"}]
[8335028,"Gottmadingen","2023-12-31",10871,null,{"v":10871,"d":"10,871"}]
[8335035,"Hilzingen","2023-12-31",9175,null,{"v":9196,"d":"9,196"}]
[8335043,"Konstanz, Universitätsstadt","2023-12-31",86898,null,{"v":86919,"d":"86,919"}]
[8335055,"Moos","2023-12-31",3439,null,{"v":3417,"d":"3,417"}]
[8335057,"Mühlingen","2023-12-31",2709,null,{"v":2720,"d":"2,720"}]
[8335061,"Öhningen","2023-12-31",3589,null,{"v":3559,"d":"3,559"}]
[8335063,"Radolfzell am Bodensee, Stadt","2023-12-31",31608,null,{"v":31734,"d":"31,734"}]
[8335066,"Reichenau","2023-12-31",5234,null,{"v":5189,"d":"5,189"}]
[8335075,"Singen (Hohentwiel), Stadt","2023-12-31",47263,null,{"v":47621,"d":"47,621"}]
[8335077,"Steißlingen","2023-12-31",5069,null,{"v":5133,"d":"5,133"}]
[8335079,"Stockach, Stadt","2023-12-31",17599,null,{"v":17646,"d":"17,646"}]
[8335080,"Tengen, Stadt","2023-12-31",4820,null,{"v":4818,"d":"4,818"}]
[8335081,"Volkertshausen","2023-12-31",3349,null,{"v":3354,"d":"3,354"}]
[8335096,"Hohenfels","2023-12-31",2229,null,{"v":2236,"d":"2,236"}]
[8335097,"Mühlhausen-Ehingen","2023-12-31",3985,null,{"v":4054,"d":"4,054"}]
[8335098,"Bodman-Ludwigshafen","2023-12-31",4823,null,{"v":4838,"d":"4,838"}]
[8335099,"Orsingen-Nenzingen","2023-12-31",3604,null,{"v":3588,"d":"3,588"}]
[8335100,"Rielasingen-Worblingen","2023-12-31",12375,null,{"v":12268,"d":"12,268"}]
[8336004,"Aitern","2023-12-31",494,null,487]
[8336006,"Bad Bellingen","2023-12-31",5043,null,{"v":5134,"d":"5,134"}]
[8336008,"Binzen","2023-12-31",2963,null,{"v":2988,"d":"2,988"}]
[8336010,"Böllen","2023-12-31",92,null,92]
[8336014,"Efringen-Kirchen","2023-12-31",8719,null,{"v":8683,"d":"8,683"}]
[8336019,"Eimeldingen","2023-12-31",2517,null,{"v":2529,"d":"2,529"}]
[8336024,"Fischingen","2023-12-31",775,null,778]
[8336025,"Fröhnd","2023-12-31",499,null,487]
[8336034,"Hasel","2023-12-31",1253,null,{"v":1237,"d":"1,237"}]
[8336036,"Hausen im Wiesental","2023-12-31",2368,null,{"v":2371,"d":"2,371"}]
[8336043,"Inzlingen","2023-12-31",2541,null,{"v":2555,"d":"2,555"}]
[8336045,"Kandern, Stadt","2023-12-31",8624,null,{"v":8710,"d":"8,710"}]
[8336050,"Lörrach, Stadt","2023-12-31",50512,null,{"v":51349,"d":"51,349"}]
[8336057,"Maulburg","2023-12-31",4364,null,{"v":4366,"d":"4,366"}]
[8336069,"Rheinfelden (Baden), Stadt","2023-12-31",34958,null,{"v":34674,"d":"34,674"}]
[8336073,"Rümmingen","2023-12-31",2008,null,{"v":1989,"d":"1,989"}]
[8336075,"Schallbach","2023-12-31",841,null,855]
[8336078,"Schliengen","2023-12-31",6179,null,{"v":6200,"d":"6,200"}]
[8336079,"Schönau im Schwarzwald, Stadt","2023-12-31",2448,null,{"v":2504,"d":"2,504"}]
[8336080,"Schönenberg","2023-12-31",336,null,330]
[8336081,"Schopfheim, Stadt","2023-12-31",20291,null,{"v":20332,"d":"20,332"}]
[8336082,"Schwörstadt","2023-12-31",2537,null,{"v":2531,"d":"2,531"}]
[8336084,"Steinen","2023-12-31",10425,null,{"v":10409,"d":"10,409"}]
[8336087,"Todtnau, Stadt","2023-12-31",5020,null,{"v":4960,"d":"4,960"}]
[8336089,"Tunau","2023-12-31",187,null,184]
[8336090,"Utzenfeld","2023-12-31",615,null,596]
[8336091,"Weil am Rhein, Stadt","2023-12-31",32002,null,{"v":32236,"d":"32,236"}]
[8336094,"Wembach","2023-12-31",322,null,304]
[8336096,"Wieden","2023-12-31",562,null,560]
[8336100,"Wittlingen","2023-12-31",936,null,930]
[8336103,"Zell im Wiesental, Stadt","2023-12-31",6248,null,{"v":6204,"d":"6,204"}]
[8336104,"Malsburg-Marzell","2023-12-31",1448,null,{"v":1443,"d":"1,443"}]
[8336105,"Grenzach-Wyhlen","2023-12-31",15308,null,{"v":15476,"d":"15,476"}]
[8336106,"Häg-Ehrsberg","2023-12-31",808,null,810]
[8336107,"Kleines Wiesental","2023-12-31",2969,null,{"v":2970,"d":"2,970"}]
[8337002,"Albbruck","2023-12-31",7351,null,{"v":7451,"d":"7,451"}]
[8337013,"Bernau im Schwarzwald","2023-12-31",1855,null,{"v":1806,"d":"1,806"}]
[8337022,"Bonndorf im Schwarzwald, Stadt","2023-12-31",6862,null,{"v":6802,"d":"6,802"}]
[8337027,"Dachsberg (Südschwarzwald)","2023-12-31",1376,null,{"v":1380,"d":"1,380"}]
[8337030,"Dettighofen","2023-12-31",1137,null,{"v":1131,"d":"1,131"}]
[8337032,"Dogern","2023-12-31",2280,null,{"v":2254,"d":"2,254"}]
[8337038,"Görwihl","2023-12-31",4150,null,{"v":4174,"d":"4,174"}]
[8337039,"Grafenhausen","2023-12-31",2271,null,{"v":2271,"d":"2,271"}]
[8337045,"Häusern","2023-12-31",1329,null,{"v":1304,"d":"1,304"}]
[8337049,"Herrischried","2023-12-31",2637,null,{"v":2648,"d":"2,648"}]
[8337051,"Höchenschwand","2023-12-31",2597,null,{"v":2563,"d":"2,563"}]
[8337053,"Hohentengen am Hochrhein","2023-12-31",3751,null,{"v":3633,"d":"3,633"}]
[8337059,"Ibach","2023-12-31",340,null,337]
[8337060,"Jestetten","2023-12-31",5284,null,{"v":5290,"d":"5,290"}]
[8337062,"Klettgau","2023-12-31",7519,null,{"v":7445,"d":"7,445"}]
[8337065,"Lauchringen","2023-12-31",8078,null,{"v":8137,"d":"8,137"}]
[8337066,"Laufenburg (Baden), Stadt","2023-12-31",9229,null,{"v":9335,"d":"9,335"}]
[8337070,"Lottstetten","2023-12-31",2305,null,{"v":2313,"d":"2,313"}]
[8337076,"Murg","2023-12-31",6903,null,{"v":6900,"d":"6,900"}]
[8337090,"Rickenbach","2023-12-31",3823,null,{"v":3764,"d":"3,764"}]
[8337096,"Bad Säckingen, Stadt","2023-12-31",17713,null,{"v":17767,"d":"17,767"}]
[8337097,"St. Blasien, Stadt","2023-12-31",3848,null,{"v":3818,"d":"3,818"}]
[8337106,"Stühlingen, Stadt","2023-12-31",5384,null,{"v":5351,"d":"5,351"}]
[8337108,"Todtmoos","2023-12-31",1992,null,{"v":1938,"d":"1,938"}]
[8337116,"Wehr, Stadt","2023-12-31",13022,null,{"v":13126,"d":"13,126"}]
[8337118,"Weilheim","2023-12-31",3132,null,{"v":3167,"d":"3,167"}]
[8337123,"Wutöschingen","2023-12-31",6738,null,{"v":6726,"d":"6,726"}]
[8337124,"Eggingen","2023-12-31",1757,null,{"v":1762,"d":"1,762"}]
[8337125,"Küssaberg","2023-12-31",5510,null,{"v":5520,"d":"5,520"}]
[8337126,"Waldshut-Tiengen, Stadt","2023-12-31",25137,null,{"v":25019,"d":"25,019"}]
[8337127,"Wutach","2023-12-31",1195,null,{"v":1192,"d":"1,192"}]
[8337128,"Ühlingen-Birkendorf","2023-12-31",5272,null,{"v":5255,"d":"5,255"}]
[8415014,"Dettingen an der Erms","2023-12-31",10076,null,{"v":9993,"d":"9,993"}]
[8415019,"Eningen unter Achalm","2023-12-31",11646,null,{"v":11506,"d":"11,506"}]
[8415027,"Gomadingen","2023-12-31",2213,null,{"v":2200,"d":"2,200"}]
[8415028,"Grabenstetten","2023-12-31",1713,null,{"v":1726,"d":"1,726"}]
[8415029,"Grafenberg","2023-12-31",2666,null,{"v":2632,"d":"2,632"}]
[8415034,"Hayingen, Stadt","2023-12-31",2229,null,{"v":2211,"d":"2,211"}]
[8415039,"Hülben","2023-12-31",3142,null,{"v":3135,"d":"3,135"}]
[8415048,"Mehrstetten","2023-12-31",1478,null,{"v":1502,"d":"1,502"}]
[8415050,"Metzingen, Stadt","2023-12-31",23118,null,{"v":23178,"d":"23,178"}]
[8415053,"Münsingen, Stadt","2023-12-31",14744,null,{"v":14772,"d":"14,772"}]
[8415058,"Pfronstetten","2023-12-31",1518,null,{"v":1523,"d":"1,523"}]
[8415059,"Pfullingen, Stadt","2023-12-31",19604,null,{"v":19759,"d":"19,759"}]
[8415060,"Pliezhausen","2023-12-31",9866,null,{"v":9821,"d":"9,821"}]
[8415061,"Reutlingen, Stadt","2023-12-31",118770,null,{"v":118852,"d":"118,852"}]
[8415062,"Riederich","2023-12-31",4231,null,{"v":4206,"d":"4,206"}]
[8415073,"Trochtelfingen, Stadt","2023-12-31",6246,null,{"v":6264,"d":"6,264"}]
[8415078,"Bad Urach, Stadt","2023-12-31",12774,null,{"v":12751,"d":"12,751"}]
[8415080,"Wannweil","2023-12-31",5313,null,{"v":5352,"d":"5,352"}]
[8415085,"Zwiefalten","2023-12-31",2309,null,{"v":2305,"d":"2,305"}]
[8415087,"Walddorfhäslach","2023-12-31",5459,null,{"v":5457,"d":"5,457"}]
[8415088,"Römerstein","2023-12-31",4067,null,{"v":4094,"d":"4,094"}]
[8415089,"Engstingen","2023-12-31",5079,null,{"v":5041,"d":"5,041"}]
[8415090,"Hohenstein","2023-12-31",3803,null,{"v":3788,"d":"3,788"}]
[8415091,"Sonnenbühl","2023-12-31",7023,null,{"v":7022,"d":"7,022"}]
[8415092,"Lichtenstein","2023-12-31",9131,null,{"v":9191,"d":"9,191"}]
[8415093,"St. Johann","2023-12-31",5167,null,{"v":5202,"d":"5,202"}]
[8416006,"Bodelshausen","2023-12-31",5796,null,{"v":5805,"d":"5,805"}]
[8416009,"Dettenhausen","2023-12-31",5570,null,{"v":5543,"d":"5,543"}]
[8416011,"Dußlingen","2023-12-31",6118,null,{"v":6153,"d":"6,153"}]
[8416015,"Gomaringen","2023-12-31",9093,null,{"v":9080,"d":"9,080"}]
[8416018,"Hirrlingen","2023-12-31",3151,null,{"v":3123,"d":"3,123"}]
[8416022,"Kirchentellinsfurt","2023-12-31",5563,null,{"v":5492,"d":"5,492"}]
[8416023,"Kusterdingen","2023-12-31",8890,null,{"v":9016,"d":"9,016"}]
[8416025,"Mössingen, Stadt","2023-12-31",21766,null,{"v":21751,"d":"21,751"}]
[8416026,"Nehren","2023-12-31",4439,null,{"v":4390,"d":"4,390"}]
[8416031,"Ofterdingen","2023-12-31",5506,null,{"v":5505,"d":"5,505"}]
[8416036,"Rottenburg am Neckar, Stadt","2023-12-31",45475,null,{"v":45677,"d":"45,677"}]
[8416041,"Tübingen, Universitätsstadt","2023-12-31",91763,null,{"v":92322,"d":"92,322"}]
[8416048,"Ammerbuch","2023-12-31",11552,null,{"v":11522,"d":"11,522"}]
[8416049,"Neustetten","2023-12-31",3846,null,{"v":3794,"d":"3,794"}]
[8416050,"Starzach","2023-12-31",4369,null,{"v":4373,"d":"4,373"}]
[8417002,"Balingen, Stadt","2023-12-31",35474,null,{"v":35623,"d":"35,623"}]
[8417008,"Bisingen","2023-12-31",9589,null,{"v":9506,"d":"9,506"}]
[8417010,"Bitz","2023-12-31",3812,null,{"v":3812,"d":"3,812"}]
[8417013,"Burladingen, Stadt","2023-12-31",12131,null,{"v":12124,"d":"12,124"}]
[8417014,"Dautmergen","2023-12-31",452,null,459]
[8417015,"Dormettingen","2023-12-31",1101,null,{"v":1076,"d":"1,076"}]
[8417016,"Dotternhausen","2023-12-31",1816,null,{"v":1840,"d":"1,840"}]
[8417022,"Geislingen, Stadt","2023-12-31",5903,null,{"v":5870,"d":"5,870"}]
[8417023,"Grosselfingen","2023-12-31",2189,null,{"v":2198,"d":"2,198"}]
[8417025,"Haigerloch, Stadt","2023-12-31",10914,null,{"v":10930,"d":"10,930"}]
[8417029,"Hausen am Tann","2023-12-31",493,null,491]
[8417031,"Hechingen, Stadt","2023-12-31",19692,null,{"v":19807,"d":"19,807"}]
[8417036,"Jungingen","2023-12-31",1403,null,{"v":1419,"d":"1,419"}]
[8417044,"Meßstetten, Stadt","2023-12-31",10822,null,{"v":10677,"d":"10,677"}]
[8417045,"Nusplingen","2023-12-31",1909,null,{"v":1910,"d":"1,910"}]
[8417047,"Obernheim","2023-12-31",1488,null,{"v":1458,"d":"1,458"}]
[8417051,"Rangendingen","2023-12-31",5343,null,{"v":5343,"d":"5,343"}]
[8417052,"Ratshausen","2023-12-31",771,null,793]
[8417054,"Rosenfeld, Stadt","2023-12-31",6454,null,{"v":6393,"d":"6,393"}]
[8417057,"Schömberg, Stadt","2023-12-31",4766,null,{"v":4814,"d":"4,814"}]
[8417063,"Straßberg","2023-12-31",2497,null,{"v":2474,"d":"2,474"}]
[8417071,"Weilen unter den Rinnen","2023-12-31",589,null,584]
[8417075,"Winterlingen","2023-12-31",6352,null,{"v":6339,"d":"6,339"}]
[8417078,"Zimmern unter der Burg","2023-12-31",460,null,436]
[8417079,"Albstadt, Stadt","2023-12-31",46919,null,{"v":46950,"d":"46,950"}]
[8421000,"Ulm, Universitätsstadt","2023-12-31",128998,null,{"v":129882,"d":"129,882"}]
[8425002,"Allmendingen","2023-12-31",4915,null,{"v":4927,"d":"4,927"}]
[8425004,"Altheim","2023-12-31",569,null,582]
[8425005,"Altheim (Alb)","2023-12-31",1692,null,{"v":1757,"d":"1,757"}]
[8425008,"Amstetten","2023-12-31",4190,null,{"v":4208,"d":"4,208"}]
[8425011,"Asselfingen","2023-12-31",1030,null,{"v":1030,"d":"1,030"}]
[8425013,"Ballendorf","2023-12-31",687,null,696]
[8425014,"Beimerstetten","2023-12-31",2467,null,{"v":2479,"d":"2,479"}]
[8425017,"Berghülen","2023-12-31",2062,null,{"v":2051,"d":"2,051"}]
[8425019,"Bernstadt","2023-12-31",2288,null,{"v":2318,"d":"2,318"}]
[8425020,"Blaubeuren, Stadt","2023-12-31",12665,null,{"v":12719,"d":"12,719"}]
[8425022,"Börslingen","2023-12-31",178,null,168]
[8425024,"Breitingen","2023-12-31",354,null,354]
[8425028,"Dietenheim, Stadt","2023-12-31",6832,null,{"v":6843,"d":"6,843"}]
[8425031,"Dornstadt","2023-12-31",9207,null,{"v":9241,"d":"9,241"}]
[8425033,"Ehingen (Donau), Stadt","2023-12-31",27751,null,{"v":27764,"d":"27,764"}]
[8425035,"Emeringen","2023-12-31",166,null,176]
[8425036,"Emerkingen","2023-12-31",823,null,816]
[8425039,"Erbach, Stadt","2023-12-31",14157,null,{"v":14140,"d":"14,140"}]
[8425050,"Griesingen","2023-12-31",1023,null,{"v":1015,"d":"1,015"}]
[8425052,"Grundsheim","2023-12-31",205,null,203]
[8425055,"Hausen am Bussen","2023-12-31",272,null,283]
[8425062,"Holzkirch","2023-12-31",273,null,283]
[8425064,"Hüttisheim","2023-12-31",1510,null,{"v":1524,"d":"1,524"}]
[8425066,"Illerrieden","2023-12-31",3376,null,{"v":3361,"d":"3,361"}]
[8425071,"Laichingen, Stadt","2023-12-31",12338,null,{"v":12425,"d":"12,425"}]
[8425072,"Langenau, Stadt","2023-12-31",15287,null,{"v":15274,"d":"15,274"}]
[8425073,"Lauterach","2023-12-31",581,null,586]
[8425075,"Lonsee","2023-12-31",5157,null,{"v":5170,"d":"5,170"}]
[8425079,"Merklingen","2023-12-31",2051,null,{"v":2098,"d":"2,098"}]
[8425081,"Munderkingen, Stadt","2023-12-31",5408,null,{"v":5408,"d":"5,408"}]
[8425083,"Neenstetten","2023-12-31",830,null,827]
[8425084,"Nellingen","2023-12-31",2040,null,{"v":2047,"d":"2,047"}]
[8425085,"Nerenstetten","2023-12-31",373,null,379]
[8425088,"Oberdischingen","2023-12-31",2300,null,{"v":2339,"d":"2,339"}]
[8425090,"Obermarchtal","2023-12-31",1328,null,{"v":1323,"d":"1,323"}]
[8425091,"Oberstadion","2023-12-31",1573,null,{"v":1598,"d":"1,598"}]
[8425092,"Öllingen","2023-12-31",541,null,542]
[8425093,"Öpfingen","2023-12-31",2269,null,{"v":2268,"d":"2,268"}]
[8425097,"Rammingen","2023-12-31",1288,null,{"v":1264,"d":"1,264"}]
[8425098,"Rechtenstein","2023-12-31",289,null,293]
[8425104,"Rottenacker","2023-12-31",2233,null,{"v":2278,"d":"2,278"}]
[8425108,"Schelklingen, Stadt","2023-12-31",6621,null,{"v":6616,"d":"6,616"}]
[8425110,"Schnürpflingen","2023-12-31",1439,null,{"v":1425,"d":"1,425"}]
[8425112,"Setzingen","2023-12-31",749,null,752]
[8425123,"Untermarchtal","2023-12-31",853,null,840]
[8425124,"Unterstadion","2023-12-31",910,null,909]
[8425125,"Unterwachingen","2023-12-31",198,null,195]
[8425130,"Weidenstetten","2023-12-31",1409,null,{"v":1409,"d":"1,409"}]
[8425134,"Westerheim","2023-12-31",3069,null,{"v":3074,"d":"3,074"}]
[8425135,"Westerstetten","2023-12-31",2124,null,{"v":2111,"d":"2,111"}]
[8425137,"Illerkirchberg","2023-12-31",4989,null,{"v":5036,"d":"5,036"}]
[8425138,"Staig","2023-12-31",3295,null,{"v":3281,"d":"3,281"}]
[8425139,"Heroldstatt","2023-12-31",2918,null,{"v":2931,"d":"2,931"}]
[8425140,"Balzheim","2023-12-31",2148,null,{"v":2137,"d":"2,137"}]
[8425141,"Blaustein, Stadt","2023-12-31",16469,null,{"v":16581,"d":"16,581"}]
[8426001,"Achstetten","2023-12-31",5021,null,{"v":5116,"d":"5,116"}]
[8426005,"Alleshausen","2023-12-31",541,null,531]
[8426006,"Allmannsweiler","2023-12-31",325,null,317]
[8426008,"Altheim","2023-12-31",2137,null,{"v":2160,"d":"2,160"}]
[8426011,"Attenweiler","2023-12-31",1908,null,{"v":1905,"d":"1,905"}]
[8426013,"Bad Buchau, Stadt","2023-12-31",4702,null,{"v":4651,"d":"4,651"}]
[8426014,"Bad Schussenried, Stadt","2023-12-31",8939,null,{"v":9044,"d":"9,044"}]
[8426019,"Berkheim","2023-12-31",3235,null,{"v":3275,"d":"3,275"}]
[8426020,"Betzenweiler","2023-12-31",738,null,747]
[8426021,"Biberach an der Riß, Stadt","2023-12-31",34425,null,{"v":34576,"d":"34,576"}]
[8426028,"Burgrieden","2023-12-31",4265,null,{"v":4291,"d":"4,291"}]
[8426031,"Dettingen an der Iller","2023-12-31",2736,null,{"v":2797,"d":"2,797"}]
[8426035,"Dürmentingen","2023-12-31",2645,null,{"v":2681,"d":"2,681"}]
[8426036,"Dürnau","2023-12-31",462,null,487]
[8426038,"Eberhardzell","2023-12-31",4541,null,{"v":4580,"d":"4,580"}]
[8426043,"Erlenmoos","2023-12-31",1802,null,{"v":1790,"d":"1,790"}]
[8426044,"Erolzheim","2023-12-31",3363,null,{"v":3360,"d":"3,360"}]
[8426045,"Ertingen","2023-12-31",5385,null,{"v":5381,"d":"5,381"}]
[8426058,"Hochdorf","2023-12-31",2384,null,{"v":2383,"d":"2,383"}]
[8426062,"Ingoldingen","2023-12-31",3174,null,{"v":3159,"d":"3,159"}]
[8426064,"Kanzach","2023-12-31",512,null,508]
[8426065,"Kirchberg an der Iller","2023-12-31",2171,null,{"v":2196,"d":"2,196"}]
[8426066,"Kirchdorf an der Iller","2023-12-31",4041,null,{"v":4024,"d":"4,024"}]
[8426067,"Langenenslingen","2023-12-31",3665,null,{"v":3649,"d":"3,649"}]
[8426070,"Laupheim, Stadt","2023-12-31",22946,null,{"v":22839,"d":"22,839"}]
[8426071,"Maselheim","2023-12-31",4734,null,{"v":4736,"d":"4,736"}]
[8426073,"Mietingen","2023-12-31",4677,null,{"v":4743,"d":"4,743"}]
[8426074,"Mittelbiberach","2023-12-31",4429,null,{"v":4433,"d":"4,433"}]
[8426078,"Moosburg","2023-12-31",231,null,231]
[8426087,"Ochsenhausen, Stadt","2023-12-31",9333,null,{"v":9358,"d":"9,358"}]
[8426090,"Oggelshausen","2023-12-31",919,null,902]
[8426097,"Riedlingen, Stadt","2023-12-31",11187,null,{"v":11176,"d":"11,176"}]
[8426100,"Rot an der Rot","2023-12-31",4517,null,{"v":4500,"d":"4,500"}]
[8426108,"Schwendi","2023-12-31",7196,null,{"v":7098,"d":"7,098"}]
[8426109,"Seekirch","2023-12-31",283,null,289]
[8426113,"Steinhausen an der Rottum","2023-12-31",2157,null,{"v":2182,"d":"2,182"}]
[8426117,"Tannheim","2023-12-31",2493,null,{"v":2533,"d":"2,533"}]
[8426118,"Tiefenbach","2023-12-31",546,null,546]
[8426120,"Ummendorf","2023-12-31",4429,null,{"v":4456,"d":"4,456"}]
[8426121,"Unlingen","2023-12-31",2401,null,{"v":2411,"d":"2,411"}]
[8426124,"Uttenweiler","2023-12-31",3772,null,{"v":3751,"d":"3,751"}]
[8426125,"Wain","2023-12-31",1676,null,{"v":1661,"d":"1,661"}]
[8426128,"Warthausen","2023-12-31",5203,null,{"v":5341,"d":"5,341"}]
[8426134,"Schemmerhofen","2023-12-31",8722,null,{"v":8807,"d":"8,807"}]
[8426135,"Gutenzell-Hürbel","2023-12-31",1815,null,{"v":1814,"d":"1,814"}]
[8435005,"Bermatingen","2023-12-31",4201,null,{"v":4160,"d":"4,160"}]
[8435010,"Daisendorf","2023-12-31",1512,null,{"v":1521,"d":"1,521"}]
[8435013,"Eriskirch","2023-12-31",4822,null,{"v":4834,"d":"4,834"}]
[8435015,"Frickingen","2023-12-31",3057,null,{"v":3111,"d":"3,111"}]
[8435016,"Friedrichshafen, Stadt","2023-12-31",62929,null,{"v":62796,"d":"62,796"}]
[8435018,"Hagnau am Bodensee","2023-12-31",1413,null,{"v":1402,"d":"1,402"}]
[8435020,"Heiligenberg","2023-12-31",2861,null,{"v":2836,"d":"2,836"}]
[8435024,"Immenstaad am Bodensee","2023-12-31",6523,null,{"v":6448,"d":"6,448"}]
[8435029,"Kressbronn am Bodensee","2023-12-31",8833,null,{"v":8727,"d":"8,727"}]
[8435030,"Langenargen","2023-12-31",7592,null,{"v":7525,"d":"7,525"}]
[8435034,"Markdorf, Stadt","2023-12-31",14342,null,{"v":14300,"d":"14,300"}]
[8435035,"Meckenbeuren","2023-12-31",13733,null,{"v":13735,"d":"13,735"}]
[8435036,"Meersburg, Stadt","2023-12-31",5929,null,{"v":5956,"d":"5,956"}]
[8435042,"Neukirch","2023-12-31",2694,null,{"v":2725,"d":"2,725"}]
[8435045,"Oberteuringen","2023-12-31",5014,null,{"v":5035,"d":"5,035"}]
[8435047,"Owingen","2023-12-31",4506,null,{"v":4492,"d":"4,492"}]
[8435052,"Salem","2023-12-31",12256,null,{"v":12243,"d":"12,243"}]
[8435053,"Sipplingen","2023-12-31",2147,null,{"v":2098,"d":"2,098"}]
[8435054,"Stetten","2023-12-31",987,null,965]
[8435057,"Tettnang, Stadt","2023-12-31",20350,null,{"v":20520,"d":"20,520"}]
[8435059,"Überlingen, Stadt","2023-12-31",22820,null,{"v":22735,"d":"22,735"}]
[8435066,"Uhldingen-Mühlhofen","2023-12-31",8277,null,{"v":8210,"d":"8,210"}]
[8435067,"Deggenhausertal","2023-12-31",4410,null,{"v":4430,"d":"4,430"}]
[8436001,"Achberg","2023-12-31",1706,null,{"v":1709,"d":"1,709"}]
[8436003,"Aichstetten","2023-12-31",2828,null,{"v":2874,"d":"2,874"}]
[8436004,"Aitrach","2023-12-31",3012,null,{"v":3028,"d":"3,028"}]
[8436005,"Altshausen","2023-12-31",4059,null,{"v":3999,"d":"3,999"}]
[8436006,"Amtzell","2023-12-31",4221,null,{"v":4223,"d":"4,223"}]
[8436008,"Aulendorf, Stadt","2023-12-31",10351,null,{"v":10417,"d":"10,417"}]
[8436009,"Bad Waldsee, Stadt","2023-12-31",20698,null,{"v":20838,"d":"20,838"}]
[8436010,"Bad Wurzach, Stadt","2023-12-31",15031,null,{"v":14942,"d":"14,942"}]
[8436011,"Baienfurt","2023-12-31",7298,null,{"v":7382,"d":"7,382"}]
[8436012,"Baindt","2023-12-31",5255,null,{"v":5269,"d":"5,269"}]
[8436013,"Berg","2023-12-31",4430,null,{"v":4408,"d":"4,408"}]
[8436014,"Bergatreute","2023-12-31",3200,null,{"v":3181,"d":"3,181"}]
[8436018,"Bodnegg","2023-12-31",3175,null,{"v":3235,"d":"3,235"}]
[8436019,"Boms","2023-12-31",733,null,717]
[8436024,"Ebenweiler","2023-12-31",1369,null,{"v":1359,"d":"1,359"}]
[8436027,"Eichstegen","2023-12-31",533,null,533]
[8436032,"Fleischwangen","2023-12-31",669,null,651]
[8436039,"Grünkraut","2023-12-31",3145,null,{"v":3105,"d":"3,105"}]
[8436040,"Guggenhausen","2023-12-31",187,null,193]
[8436047,"Hoßkirch","2023-12-31",720,null,736]
[8436049,"Isny im Allgäu, Stadt","2023-12-31",15062,null,{"v":15145,"d":"15,145"}]
[8436052,"Kißlegg","2023-12-31",9385,null,{"v":9530,"d":"9,530"}]
[8436053,"Königseggwald","2023-12-31",691,null,681]
[8436055,"Leutkirch im Allgäu, Stadt","2023-12-31",23986,null,{"v":24226,"d":"24,226"}]
[8436064,"Ravensburg, Stadt","2023-12-31",50660,null,{"v":50628,"d":"50,628"}]
[8436067,"Riedhausen","2023-12-31",812,null,838]
[8436069,"Schlier","2023-12-31",4037,null,{"v":4054,"d":"4,054"}]
[8436077,"Unterwaldhausen","2023-12-31",277,null,279]
[8436078,"Vogt","2023-12-31",4689,null,{"v":4717,"d":"4,717"}]
[8436079,"Waldburg","2023-12-31",3281,null,{"v":3267,"d":"3,267"}]
[8436081,"Wangen im Allgäu, Stadt","2023-12-31",28010,null,{"v":28412,"d":"28,412"}]
[8436082,"Weingarten, Stadt","2023-12-31",24926,null,{"v":24940,"d":"24,940"}]
[8436083,"Wilhelmsdorf","2023-12-31",4746,null,{"v":4813,"d":"4,813"}]
[8436085,"Wolfegg","2023-12-31",3868,null,{"v":3861,"d":"3,861"}]
[8436087,"Wolpertswende","2023-12-31",4039,null,{"v":4087,"d":"4,087"}]
[8436093,"Ebersbach-Musbach","2023-12-31",1719,null,{"v":1680,"d":"1,680"}]
[8436094,"Argenbühl","2023-12-31",6666,null,{"v":6726,"d":"6,726"}]
[8436095,"Horgenzell","2023-12-31",5331,null,{"v":5436,"d":"5,436"}]
[8436096,"Fronreute","2023-12-31",4920,null,{"v":4983,"d":"4,983"}]
[8437005,"Beuron","2023-12-31",663,null,657]
[8437008,"Bingen","2023-12-31",2722,null,{"v":2699,"d":"2,699"}]
[8437031,"Gammertingen, Stadt","2023-12-31",6233,null,{"v":6155,"d":"6,155"}]
[8437044,"Herbertingen","2023-12-31",4745,null,{"v":4738,"d":"4,738"}]
[8437047,"Hettingen, Stadt","2023-12-31",1849,null,{"v":1861,"d":"1,861"}]
[8437053,"Hohentengen","2023-12-31",4256,null,{"v":4147,"d":"4,147"}]
[8437056,"Illmensee","2023-12-31",2041,null,{"v":2026,"d":"2,026"}]
[8437059,"Inzigkofen","2023-12-31",2979,null,{"v":2958,"d":"2,958"}]
[8437065,"Krauchenwies","2023-12-31",5020,null,{"v":5023,"d":"5,023"}]
[8437072,"Leibertingen","2023-12-31",2183,null,{"v":2233,"d":"2,233"}]
[8437076,"Mengen, Stadt","2023-12-31",10159,null,{"v":10148,"d":"10,148"}]
[8437078,"Meßkirch, Stadt","2023-12-31",8631,null,{"v":8676,"d":"8,676"}]
[8437082,"Neufra","2023-12-31",1885,null,{"v":1899,"d":"1,899"}]
[8437086,"Ostrach","2023-12-31",7051,null,{"v":7066,"d":"7,066"}]
[8437088,"Pfullendorf, Stadt","2023-12-31",13333,null,{"v":13442,"d":"13,442"}]
[8437100,"Bad Saulgau, Stadt","2023-12-31",17997,null,{"v":17889,"d":"17,889"}]
[8437101,"Scheer, Stadt","2023-12-31",2505,null,{"v":2510,"d":"2,510"}]
[8437102,"Schwenningen","2023-12-31",1662,null,{"v":1667,"d":"1,667"}]
[8437104,"Sigmaringen, Stadt","2023-12-31",17402,null,{"v":16884,"d":"16,884"}]
[8437105,"Sigmaringendorf","2023-12-31",3767,null,{"v":3735,"d":"3,735"}]
[8437107,"Stetten am kalten Markt","2023-12-31",4833,null,{"v":4859,"d":"4,859"}]
[8437114,"Veringenstadt, Stadt","2023-12-31",2144,null,{"v":2149,"d":"2,149"}]
[8437118,"Wald","2023-12-31",2742,null,{"v":2754,"d":"2,754"}]
[8437123,"Sauldorf","2023-12-31",2582,null,{"v":2607,"d":"2,607"}]
[8437124,"Herdwangen-Schönach","2023-12-31",3374,null,{"v":3385,"d":"3,385"}]

{"sheet":"EM-Faktoren","index":8,"n_rows":28,"n_cols":16,"rows_kept":28,"hidden":true}
[null,"Emissionsfaktoren THG inkl. Vorketten"]
[]
["Quelle","Energieträger",null,2020,2021,2022,2023,2024,2025,2026,2027,2028,2029,2030,2035,2040]
["IkKA","Strom","t/MWh",0.438,0.472,0.505,0.453,{"$f":"0.138*3.6","v":{"v":0.4968000000000001,"d":"0.497"}},0.371,{"$f":"I4-($I4-$N4)/5","v":{"v":0.3308,"d":"0.331"}},{"v":0.29059999999999997,"d":"0.291"},{"v":0.25039999999999996,"d":"0.250"},{"v":0.21019999999999994,"d":"0.210"},{"v":0.17,"d":"0.170"},0.108,0.081]
["IkKA","Erdgas","t/MWh",{"$f":"+G5","v":0.257},{"$f":"+G5","v":0.257},{"$f":"+G5","v":0.257},0.257,0.257,0.257,0.257,0.257,0.257,0.257,0.257,0.257,0.257]
["IkKA","Heizöl","t/MWh",0.318,{"$f":"+G6","v":0.311},0.311,0.311,0.311,0.311,{"$f":"I6-($I6-$N6)/5","v":0.311},0.311,0.311,0.311,0.311,0.311,0.311]
[null,"Flüssiggas","t/MWh",{"$f":"+D5+0.038","v":0.295},0.295,0.295,0.295,0.295,0.295,{"$f":"I7-($I7-$N7)/5","v":0.295},{"$f":"J7-($I7-$N7)/5","v":0.295},{"$f":"K7-($I7-$N7)/5","v":0.295},{"$f":"L7-($I7-$N7)/5","v":0.295},{"$f":"+N5+0.038","v":0.295},0.295,0.295]
["IkKA","Holz","t/MWh",{"$f":"+G8","v":0.022},0.022,{"$f":"+G8","v":0.022},0.022,0.022,0.022,0.022,0.022,0.022,0.022,0.022,0.022,0.022]
["IkKA/BICO2BW","Kohlen (Steinkohle)","t/MWh",0.429,0.433,0.433,0.433,0.433,0.433,0.433,0.433,0.433,0.433,0.433,0.433,0.433]
["BICO2BW","Braunkohle","t/MWh",0.443,0.445,0.445,0.441,0.441,0.441,{"$f":"I10-($I10-$N10)/5","v":0.441},{"$f":"J10-($I10-$N10)/5","v":0.441},{"$f":"K10-($I10-$N10)/5","v":0.441},{"$f":"L10-($I10-$N10)/5","v":0.441},0.441,0.441,0.441]
["IkKA","Solarwärme","t/MWh",0.023,0.023,0.023,0.023,0.023,0.023,0.023,0.023,0.023,0.023,0.023,0.023,0.023]
[null,"Wasserstoff","t/MWh",{"v":0.05,"d":"0.050"},{"v":0.05,"d":"0.050"},{"v":0.05,"d":"0.050"},{"v":0.05,"d":"0.050"},{"v":0.05,"d":"0.050"},{"v":0.05,"d":"0.050"},{"v":0.05,"d":"0.050"},{"v":0.05,"d":"0.050"},{"v":0.05,"d":"0.050"},{"v":0.05,"d":"0.050"},{"v":0.05,"d":"0.050"},{"v":0.05,"d":"0.050"},{"v":0.05,"d":"0.050"}]
[null,"PtX","t/MWh",0.041,0.041,0.041,0.041,0.041,0.041,0.041,0.041,0.041,0.041,{"$f":"0.041","v":0.041},0.041,0.041]
["BICO2BW","Sonstige","t/MWh",{"$f":"G14","v":{"v":0.27,"d":"0.270"}},{"$f":"+G14","v":{"v":0.27,"d":"0.270"}},{"$f":"+G14","v":{"v":0.27,"d":"0.270"}},{"v":0.27,"d":"0.270"},{"v":0.27,"d":"0.270"},{"v":0.27,"d":"0.270"},0.256,0.242,{"v":0.22799999999999998,"d":"0.228"},{"v":0.21399999999999997,"d":"0.214"},{"v":0.2,"d":"0.200"},{"v":0.15,"d":"0.150"},{"v":0.15,"d":"0.150"}]
[]
[null,"Erneuerbare"]
["BICO2BW","PV-Anlage","t/MWh",{"$f":"+G17","v":0.056},{"$f":"+G17","v":0.056},{"$f":"+G17","v":0.056},0.056,{"$f":"+G17","v":0.056},{"$f":"+G17","v":0.056},{"$f":"I17-($I17-$N17)/5","v":0.056},0.056,0.056,0.056,0.056,0.056,0.056]
["IkKA","Klärgas","t/MWh",{"v":0.11,"d":"0.110"},{"v":0.11,"d":"0.110"},{"v":0.11,"d":"0.110"},{"v":0.11,"d":"0.110"},{"$f":"+G18","v":{"v":0.11,"d":"0.110"}},{"$f":"+G18","v":{"v":0.11,"d":"0.110"}},{"v":0.11,"d":"0.110"},{"v":0.11,"d":"0.110"},{"v":0.11,"d":"0.110"},{"v":0.11,"d":"0.110"},{"v":0.11,"d":"0.110"},{"v":0.11,"d":"0.110"},0.055]
["IkKA/BICO2BW","EE-Festbrennstoffe","t/MWh",0.069,0.069,0.069,0.069,{"$f":"+G19","v":0.069},{"$f":"+G19","v":0.069},0.068,0.067,0.066,0.065,0.064,0.064,0.064]
["IkKA","Flüssige Biomasse","t/MWh",{"v":0.3,"d":"0.300"},{"v":0.3,"d":"0.300"},{"v":0.3,"d":"0.300"},{"v":0.3,"d":"0.300"},{"v":0.3,"d":"0.300"},{"v":0.3,"d":"0.300"},{"v":0.3,"d":"0.300"},{"v":0.3,"d":"0.300"},{"v":0.3,"d":"0.300"},{"v":0.3,"d":"0.300"},{"v":0.3,"d":"0.300"},{"v":0.3,"d":"0.300"},{"v":0.3,"d":"0.300"}]
["BICO2BW","Biogas","t/MWh",0.124,0.124,0.124,0.124,0.124,0.124,{"$f":"I21-($I21-$N21)/5","v":0.124},0.124,0.124,0.124,0.124,0.124,0.124]
["IkKA/BICO2BW","Deponiegas/Grubengas","t/MWh",0.143,0.143,0.143,0.143,0.143,0.143,{"$f":"I22-($I22-$N22)/5","v":{"v":0.1414,"d":"0.141"}},{"v":0.1398,"d":"0.140"},{"v":0.13820000000000002,"d":"0.138"},{"v":0.13660000000000003,"d":"0.137"},0.135,0.135,0.135]
["BICO2BW","Abfall","t/MWh",0.121,0.121,0.121,0.121,0.121,0.121,0.121,0.121,0.121,0.121,0.121,0.121,0.121]
[null,"Wasserstoff (grün)","t/MWh",{"v":0.05,"d":"0.050"},{"v":0.05,"d":"0.050"},{"v":0.05,"d":"0.050"},{"v":0.05,"d":"0.050"},{"v":0.05,"d":"0.050"},{"v":0.05,"d":"0.050"},{"v":0.05,"d":"0.050"},{"v":0.05,"d":"0.050"},{"v":0.05,"d":"0.050"},{"v":0.05,"d":"0.050"},{"v":0.05,"d":"0.050"},{"v":0.05,"d":"0.050"},{"v":0.05,"d":"0.050"}]
[null,"Synth. Brennstoffe","t/MWh",0.041,0.041,0.041,0.041,0.041,0.041,0.041,0.041,0.041,0.041,0.041,0.041,0.041]
["BICO2BW","Tiefe Geothermie","t/MWh",0.149,0.149,0.149,0.149,0.149,0.149,{"$f":"I26-($I26-$N26)/5","v":0.149},0.149,0.149,0.149,0.149,0.149,0.149]
[null,"Umweltwärme","t/MWh",{"v":0.01,"d":"0.010"},{"v":0.01,"d":"0.010"},{"v":0.01,"d":"0.010"},{"v":0.01,"d":"0.010"},{"v":0.01,"d":"0.010"},{"v":0.01,"d":"0.010"},{"v":0.01,"d":"0.010"},{"v":0.01,"d":"0.010"},{"v":0.01,"d":"0.010"},{"v":0.01,"d":"0.010"},{"v":0.01,"d":"0.010"},{"v":0.01,"d":"0.010"},{"v":0.01,"d":"0.010"}]
[null,"sonstige Erneuerbare","t/MWh",{"v":0.05,"d":"0.050"},{"v":0.05,"d":"0.050"},{"v":0.05,"d":"0.050"},{"v":0.05,"d":"0.050"},{"v":0.05,"d":"0.050"},{"v":0.05,"d":"0.050"},{"v":0.05,"d":"0.050"},{"v":0.05,"d":"0.050"},{"v":0.05,"d":"0.050"},{"v":0.05,"d":"0.050"},{"v":0.05,"d":"0.050"},{"v":0.05,"d":"0.050"},{"v":0.05,"d":"0.050"}]